{"text_format":"1","workbook":"xlsx","n_sheets":9,"sheets":["Info","FY14NSLPandADE","NSLP 2013 March","ADE Schools 07-16-13","Sites","Sites - Certified","Sites - Likely","Sites - Potentially-Schools","Sites - Potentially-Non-Schools"],"not_rendered":{"charts":0,"images":4,"macros":1,"external_links":0,"defined_names":28,"comments":4,"pivot_tables":0},"unopened":[],"bounds":{"document_bytes":16777216,"sheet_cells":100000,"rows_first":2000,"rows_last":500,"rows_between":2000,"halvings":0,"cell_chars":16384,"cell_head_chars":4096},"cells_cut":0,"cells_raw":0,"read":"whole","date_system":"1900"}

{"sheet":"Info","index":0,"n_rows":23,"n_cols":5,"rows_kept":23,"cut":false,"hidden":true,"merged":[]}
["Site Type","Cost","Language","Share","FY14 Waiver - ver. 1"]
[null,"Yes",null,"Local"]
["A-Adult Education & Job Training Site","No","Akimel O'Odham","Federal"]
["B-Adult Rehabilitation Center",null,"Navajo","Split"]
["C-Church",null,"Picture Literacy"]
["D-Community Center",null,"Spanish"]
["E-Elderly Service Center",null,"Tohono O'Odham"]
["F-Emergency Food Assistance"]
["G-Extension Office"]
["H-Farmers Market"]
["I-SNAP Office"]
["J-Food Store"]
["K-Head Start Program"]
["L-Individual Home"]
["M-Library"]
["N-Other Youth Education Site (incl Parks and Rec)"]
["O-Public/Community Health Center "]
["P-Public Housing"]
["Q-Public School"]
["R-Shelter"]
["S-WIC Program"]
["T-Worksite"]
["U-Other (Specify)"]

{"sheet":"FY14NSLPandADE","index":1,"n_rows":1768,"n_cols":17,"rows_kept":1768,"cut":false,"hidden":true,"merged":[]}
["Site Name","County","Sponsor Entity ID","Sponsor CTDS","Sponsor Name","Site Entity ID","Site CTDS","Site Name","Pct. Elig. Free","Pct. Elig. Red.","Pct. Elig. Free/Red.","Enroll","Name","StreetNumber","City_State_Zip","Telephone","Fax"]
["A Casa de Paz - 112751003","Pinal",78768,"112751000","Against Abuse",78771,"112751003","A Casa de Paz",1,0,1,35]
["A J Mitchell Elementary School - 120201114","Santa Cruz",4457,"120201000","Nogales Unified District",5958,"120201114","A J Mitchell Elementary School",0.90466100000000005,3.6017E-2,0.94067800000000001,472]
["AAEC - SMCC Campus - 078993201","Maricopa",78845,"078904000","Mission Charter School Inc.",5503,"078993201","AAEC - SMCC Campus",0.51412400000000003,7.9096E-2,0.59321999999999997,354,"AAEC - SMCC CAMPUS","7050 S. 24TH STREET BUILDING AAEC","PHOENIX AZ 85042","(602) 243-8004","(602) 297-8540"]
["Abia Judd Elementary School - 130201016","Yavapai",4466,"130201000","Prescott Unified District",8132,"130201016","Abia Judd Elementary School",0.232432,5.2252E-2,0.28468500000000002,555]
["Abraham Lincoln Traditional School - 070406167","Maricopa",4260,"070406000","Washington Elementary School District",5274,"070406167","Abraham Lincoln Traditional School",0.384266,0.10136199999999999,0.485628,661,"ABRAHAM LINCOLN TRADITIONAL SCHOOL","10444 N 39TH AVENUE","PHOENIX AZ 85051 1179","() -","() -"]
["Acacia Elementary School - 100220711","Pima",4413,"100220000","Vail Unified District",91168,"100220711","Acacia Elementary School",0.30688599999999999,7.485E-2,0.38173699999999999,668]
["Acacia Elementary School - 070406114","Maricopa",4260,"070406000","Washington Elementary School District",5244,"070406114","Acacia Elementary School",0.71584700000000001,7.7868999999999994E-2,0.79371599999999998,732,"ACACIA ELEMENTARY SCHOOL","3021 W. EVANS DR.","PHOENIX AZ 85053 5799","() -","() -"]
["Academy Adventures Midtown - 108506101","Pima",90506,"108506000","Ed Ahead",90507,"108506101","Academy Adventures Midtown",0.86315799999999998,3.1579000000000003E-2,0.894737,95]
["Academy Adventures Primary School - 108717101","Pima",81123,"108717000","Educational Impact Inc.",81124,"108717101","Academy Adventures Primary School",0.80219799999999997,0.13186800000000001,0.93406599999999995,91]
["Academy Del Sol - 108734001","Pima",90199,"108734000","Academy Del Sol Inc.",90200,"108734001","Academy Del Sol",0.45945900000000001,8.1081E-2,0.54054100000000005,37]
["Academy Del Sol - Hope - 108734002","Pima",90199,"108734000","Academy Del Sol Inc.",90770,"108734002","Academy Del Sol - Hope",0.60975599999999996,0,0.60975599999999996,41]
["Academy Of Excellence - 078604101","Maricopa",4296,"078604000","Academy Of Excellence Inc.",5461,"078604101","Academy Of Excellence",0.98165100000000005,9.1739999999999999E-3,0.99082599999999998,109,"ACADEMY OF EXCELLENCE","425 NORTH 36TH STREET","PHOENIX AZ 85008","(602) 389-4271","(602) 389-4278"]
["Academy of Excellence - Central Arizona - 078604004","Maricopa",4296,"078604000","Academy Of Excellence Inc.",85863,"078604004","Academy of Excellence - Central Arizona",0.5,0.45454499999999998,0.95454499999999998,22,"ACADEMY OF EXCELLENCE - CENTRAL ARIZONA","1530 S. ARIZONA BLVD","COOLIDGE AZ 85228","(520) 723-4773","( ) -"]
["Academy of Math and Science - 108713101","Pima",79961,"108713000","Academy of Mathematics and Science Inc.",79094,"108713101","Academy of Math and Science",0.53783800000000004,0.108108,0.64594600000000002,370]
["ACCLAIM Academy - 078701101","Maricopa",4325,"078701000","Acclaim Charter School",5496,"078701101","ACCLAIM Academy",0.89647100000000002,8.9412000000000005E-2,0.98588200000000004,425,"ACCLAIM ACADEMY","7624 W. INDIAN SCHOOL ROAD","PHOENIX AZ 85033","(623) 691-0919","(623) 691-6091"]
["Acorn Montessori Charter School - 138760101","Yavapai",79437,"138760000","Acorn Montessori Charter School",79438,"138760101","Acorn Montessori Charter School",0.65660399999999997,0.128302,0.78490599999999999,265]
["Acorn Montessori Charter School Inc. - West - 138760102","Yavapai",79437,"138760000","Acorn Montessori Charter School",88180,"138760102","Acorn Montessori Charter School Inc. - West",0.48372100000000001,0.134884,0.61860499999999996,215]
["Adams Elementary School - 070204101","Maricopa",4235,"070204000","Mesa Unified District",4913,"070204101","Adams Elementary School",0.84557899999999997,6.4756999999999995E-2,0.91033600000000003,800,"ADAMS ELEMENTARY SCHOOL","738 S LONGMORE","MESA AZ 85202","() -","() -"]
["Adams Traditional Academy - 078549001","Maricopa",90138,"078549000","Choice Academies Inc.",90139,"078549001","Adams Traditional Academy",0.10288600000000001,2.2585000000000001E-2,0.125471,797,"ADAMS TRADITIONAL ACADEMY","2323 W. PARKSIDE LANE","PHOENIX AZ 85027","(602) 938-5517","(602) 938-1179"]
["Adobe Mountain School - 211001001",null,80381,"219101001","Adobe Mountain School",8327,"211001001","Adobe Mountain School",1,0,1,369]
["Adventure School - 108717102","Pima",81123,"108717000","Educational Impact Inc.",87415,"108717102","Adventure School",0.52222199999999996,0.14444399999999999,0.66666700000000001,90]
["Agua Caliente School - 100213105","Pima",4408,"100213000","Tanque Verde Unified District",5830,"100213105","Agua Caliente School",0.13011200000000001,2.2304999999999998E-2,0.152416,538]
["Agua Fria High School - 070516201","Maricopa",4289,"070516000","Agua Fria Union High School District",5454,"070516201","Agua Fria High School",0.52820500000000004,0.10320500000000001,0.63141000000000003,1560,"AGUA FRIA HIGH SCHOOL","530 E. RILEY DR.","AVONDALE AZ 85323","() -","() -"]
["Aguila Elementary School - 070363101","Maricopa",4249,"070363000","Aguila Elementary District",5187,"070363101","Aguila Elementary School",0.80219799999999997,0.120879,0.92307700000000004,182,"AGUILA ELEMENTARY SCHOOL","P.O. BOX 218","AGUILA AZ 85320","() -","() -"]
["Aguilar School - 070403128","Maricopa",4258,"070403000","Tempe School District",5226,"070403128","Aguilar School",0.77349000000000001,5.7047E-2,0.83053699999999997,596,"AGUILAR SCHOOL","5800 S. FOREST AVE.","TEMPE AZ 85283","() -","() -"]
["Aire Libre Elementary School - 070269157","Maricopa",4241,"070269000","Paradise Valley Unified District",5096,"070269157","Aire Libre Elementary School",0.65271999999999997,7.3221999999999995E-2,0.72594099999999995,421,"AIRE LIBRE ELEMENTARY SCHOOL","16428 NORTH 21ST STREET","PHOENIX AZ 85022","(602) 449-5400","( ) -"]
["Ajo Elementary School - 100215001","Pima",4409,"100215000","Ajo Unified District",5831,"100215001","Ajo Elementary School",0.71917799999999998,9.3606999999999996E-2,0.81278499999999998,438]
["Alchesay High School - 090220204","Navajo",4394,"090220000","Whiteriver Unified District",5637,"090220204","Alchesay High School",0.69329499999999999,0.149786,0.84308099999999997,455,"ALCHESAY HIGH SCHOOL","PO BOX 190","WHITERIVER AZ 85941","() -","() -"]
["Alfred F Garcia School - 070421104","Maricopa",4265,"070421000","Murphy Elementary District",5293,"070421104","Alfred F Garcia School",0.89322900000000005,3.3854000000000002E-2,0.92708299999999999,768,"ALFRED F GARCIA SCHOOL","1441 S. 27TH AVE","PHOENIX AZ 85009","() -","() -"]
["Alhambra High School - 070510210","Maricopa",4286,"070510000","Phoenix Union High School District",5436,"070510210","Alhambra High School",0.84467899999999996,4.6947999999999997E-2,0.89162799999999998,2556,"ALHAMBRA HIGH SCHOOL","3839 WEST CAMELBACK ROAD","PHOENIX AZ 85019","() -","() -"]
["Alhambra Traditional School - 070468101","Maricopa",4280,"070468000","Alhambra Elementary District",5381,"070468101","Alhambra Traditional School",0.36680600000000002,0.10320799999999999,0.47001399999999999,717,"ALHAMBRA TRADITIONAL SCHOOL","3736 W OSBORN RD","PHOENIX AZ 85019","(602) 484-8816","(602) 484-8952"]
["Alice Byrne Elementary School - 140401101","Yuma",4499,"140401000","Yuma Elementary District",6147,"140401101","Alice Byrne Elementary School",0.51358700000000002,8.4238999999999994E-2,0.59782599999999997,352]
["Alice Peterson Residence - 072122007","Maricopa",7320,"072122000","A New Leaf",80290,"072122007","Alice Peterson Residence",1,0,1,11]
["Alice Vail Middle School - 100201555","Pima",4403,"100201000","Tucson Unified District",5750,"100201555","Alice Vail Middle School",0.61561999999999995,4.2879E-2,0.65849899999999995,653]
["All Aboard Charter School - 078967101","Maricopa",79969,"078967000","All Aboard Charter School",79970,"078967101","All Aboard Charter School",0.67961199999999999,0.12621399999999999,0.80582500000000001,103,"ALL ABOARD CHARTER SCHOOL","5827 NORTH 35TH AVENUE","PHOENIX AZ 85017","() -","( ) -"]
["All My Children #1 a Satellite Home - 072769001","Maricopa",86569,"072769000","All My Children Inc.",86572,"072769001","All My Children #1 a Satellite Home",1,0,1,10]
["All My Children #2 a Satellite Home - 072769002","Maricopa",86569,"072769000","All My Children Inc.",86574,"072769002","All My Children #2 a Satellite Home",1,0,1,10]
["All My Children #3 a Satellite Home - 072769003","Maricopa",86569,"072769000","All My Children Inc.",86575,"072769003","All My Children #3 a Satellite Home",1,0,1,10]
["All My Children #4 a Satellite Home - 072769004","Maricopa",86569,"072769000","All My Children Inc.",86576,"072769004","All My Children #4 a Satellite Home",1,0,1,10]
["All My Children #5 a Satellite Home - 072769005","Maricopa",86569,"072769000","All My Children Inc.",86577,"072769005","All My Children #5 a Satellite Home",1,0,1,10]
["Allsport Academy - 108716001","Pima",81031,"108716000","Allsport Academy",79681,"108716001","Allsport Academy",0.85714299999999999,5.1020000000000003E-2,0.90816300000000005,98]
["Alta E Butler School - 070405103","Maricopa",4259,"070405000","Isaac Elementary District",5236,"070405103","Alta E Butler School",0.81214699999999995,0.129944,0.94208999999999998,783,"ALTA E BUTLER SCHOOL","3843 W ROOSEVELT","PHOENIX AZ 85009","() -","() -"]
["Alta Loma School - 070211106","Maricopa",4237,"070211000","Peoria Unified School District",4994,"070211106","Alta Loma School",0.58244399999999996,9.9643999999999996E-2,0.68208800000000003,843,"ALTA LOMA SCHOOL","9750 N 87TH AVE","PEORIA AZ 85345","() -","() -"]
["Alta Vista Elementary School - 070406116","Maricopa",4260,"070406000","Washington Elementary School District",5245,"070406116","Alta Vista Elementary School",0.74721800000000005,7.4721999999999997E-2,0.82194,645,"ALTA VISTA ELEMENTARY SCHOOL","8710 N 31ST AVE","PHOENIX AZ 85051 3998","() -","() -"]
["Alta Vista High School - 108794201","Pima",80995,"108794000","American Charter Schools Foundation d.b.a. Alta Vista High School",80996,"108794201","Alta Vista High School",0.79481599999999997,6.2634999999999996E-2,0.85745099999999996,463]
["Altar Valley Middle School - 100351103","Pima",4418,"100351000","Altar Valley Elementary District",5859,"100351103","Altar Valley Middle School",0.76946999999999999,8.7226999999999999E-2,0.85669799999999996,321]
["Amberlea Elementary School - 070492024","Maricopa",4283,"070492000","Pendergast Elementary District",80419,"070492024","Amberlea Elementary School",0.661111,0.11666700000000001,0.77777799999999997,698,"AMBERLEA ELEMENTARY SCHOOL","8455 WEST VIRGINIA AVENUE","PHOENIX AZ 85037","() -","( ) -"]
["AMCS at Anthem dba Caurus Academy - 078991101","Maricopa",85749,"078991000","Arizona Montessori Charter School at Anthem",85750,"078991101","AMCS at Anthem dba Caurus Academy",0.114007,4.2345000000000001E-2,0.15635199999999999,307,"AMCS AT ANTHEM DBA CAURUS ACADEMY","41900 N. 42ND AVE.","ANTHEM AZ 85086","(623) 551-5083","(623) 551-5679"]
["American Indian Christian Mission - 092001101","Navajo",9655,"092001000","American Indian Christian Mission",80313,"092001101","American Indian Christian Mission",0.83333299999999999,4.1667000000000003E-2,0.875,23]
["AmeriSchools Academy - Camelback - 108722001","Pima",6355,"108722000","The Charter Foundation Inc.",6063,"108722001","AmeriSchools Academy - Camelback",0.66497499999999998,0.121827,0.786802,197]
["Amparo - 102133010","Pima",7909,"102133000","LA PALOMA FAMILY SERVICES Inc.",80449,"102133010","Amparo",1,0,1,15]
["Amphitheater High School - 100210281","Pima",4406,"100210000","Amphitheater Unified District",6055,"100210281","Amphitheater High School",0.77395999999999998,5.6961999999999999E-2,0.83092200000000005,1106]
["Amphitheater Middle School - 100210166","Pima",4406,"100210000","Amphitheater Unified District",5805,"100210166","Amphitheater Middle School",0.87539900000000004,5.2715999999999999E-2,0.92811500000000002,626]
["Amy L. Houston Academy - 070466015","Maricopa",4279,"070466000","Roosevelt Elementary District",5375,"070466015","Amy L. Houston Academy",0.81481499999999996,3.7037E-2,0.85185200000000005,132,"AMY L. HOUSTON ACADEMY","7139 S 10TH ST","PHOENIX AZ 85042","() -","() -"]
["Anasazi Elementary - 070248128","Maricopa",4240,"070248000","Scottsdale Unified District",6009,"070248128","Anasazi Elementary",0.107143,1.7857000000000001E-2,0.125,672,"ANASAZI ELEMENTARY","12121 N 124TH STREET","SCOTTSDALE AZ 85259","() -","() -"]
["Andalucia Middle School - 070468102","Maricopa",4280,"070468000","Alhambra Elementary District",5382,"070468102","Andalucia Middle School",0.93085600000000002,3.8893999999999998E-2,0.96974899999999997,1157,"ANDALUCIA MIDDLE SCHOOL","4730 W. CAMPBELL","PHOENIX AZ 85031","(623) 848-8646","(623) 846-6044"]
["Andrada Polytechnic High School - 100220204","Pima",4413,"100220000","Vail Unified District",91292,"100220204","Andrada Polytechnic High School",0.263492,8.2540000000000002E-2,0.34603200000000001,630]
["Anna Henry Elementary School - 100201238","Pima",4403,"100201000","Tucson Unified District",5685,"100201238","Anna Henry Elementary School",0.55555600000000005,6.3492000000000007E-2,0.61904800000000004,315]
["Anna Lawrence Intermediate School - 100201277","Pima",4403,"100201000","Tucson Unified District",5694,"100201277","Anna Lawrence Intermediate School",0.81472100000000003,4.5685000000000003E-2,0.860406,394]
["Anna Marie Jacobson  Elementary School - 070280112","Maricopa",4242,"070280000","Chandler Unified District #80",5117,"070280112","Anna Marie Jacobson  Elementary School",0.10909099999999999,3.2086000000000003E-2,0.141176,935,"ANNA MARIE JACOBSON ELEMENTARY SCHOOL","1515 NW JACARANDA PARKWAY","CHANDLER AZ 85248","() -","( ) -"]
["Annie Kellond Elementary School - 100201275","Pima",4403,"100201000","Tucson Unified District",5693,"100201275","Annie Kellond Elementary School",0.57961799999999997,5.3079000000000001E-2,0.63269600000000004,471]
["Antelope Union High School - 140550201","Yuma",4506,"140550000","Antelope Union High School District",6188,"140550201","Antelope Union High School",0.669014,0.13380300000000001,0.802817,284]
["Anthem Elementary School - 110201105","Pinal",4437,"110201000","Florence Unified School District",88400,"110201105","Anthem Elementary School",0.45317499999999999,0.11948300000000001,0.57265900000000003,929]
["Anthem School - 070297137","Maricopa",4246,"070297000","Deer Valley Unified District",78922,"070297137","Anthem School",0.110345,6.4367999999999995E-2,0.17471300000000001,869,"ANTHEM SCHOOL","41020 N. FREEDOM WAY","ANTHEM AZ 85086","() -","() -"]
["Anza Trail - 100230106","Pima",4411,"100230000","Sahuarita Unified District",88387,"100230106","Anza Trail",0.29938300000000001,5.7098999999999997E-2,0.35648099999999999,1296]
["AOC-Apache County Juvenile Detention Center - 211011001",null,4153,"010201000","St Johns Unified District",79531,"211011001","AOC-Apache County Juvenile Detention Center",1,0,1,15]
["AOC-Cochise County Juvenile Dentention Centre - 211012001",null,79462,"211012000","Cochise County Juvenile Detention",79466,"211012001","AOC-Cochise County Juvenile Dentention Centre",1,0,1,15]
["AOC-Coconino County Juvenile Detention Center - 211013001",null,79464,"211013000","Coconino County Juvenile Detention",79526,"211013001","AOC-Coconino County Juvenile Detention Center",0.88888900000000004,0,0.88888900000000004,63]
["AOC-Graham County Juvenile Detention Center - 211015001",null,79539,"211015000","Graham County Juvenile Detention",79588,"211015001","AOC-Graham County Juvenile Detention Center",1,0,1,34]
["AOC-Yavapai County Juvenile Detention Center - 211024001",null,79533,"211024000","Yavapai County Juvenile Detention",79551,"211024001","AOC-Yavapai County Juvenile Detention Center",1,0,1,28]
["Apache Elementary School - 070211118","Maricopa",4237,"070211000","Peoria Unified School District",5006,"070211118","Apache Elementary School",0.26814300000000002,6.8880999999999998E-2,0.33702300000000002,813,"APACHE ELEMENTARY SCHOOL","8633 W. JOHN CABOT ROAD","PEORIA AZ 85382","(623) 412-4875","(623) 412-4885"]
["Apache Junction High School - 110243201","Pinal",4443,"110243000","Apache Junction Unified District",5925,"110243201","Apache Junction High School",0.33965000000000001,9.6938999999999997E-2,0.436589,1264]
["Apache Trail High School - 118703001","Pinal",79883,"118703000","American Charter Schools Foundation d.b.a. Apache Trail High School",6346,"118703001","Apache Trail High School",0.70175399999999999,6.4326999999999995E-2,0.76608200000000004,171]
["Apollo High School - 070505206","Maricopa",4285,"070505000","Glendale Union High School District",5431,"070505206","Apollo High School",0.550543,7.5542999999999999E-2,0.62608699999999995,1840,"APOLLO HIGH SCHOOL","8045 N. 47TH AVENUE","GLENDALE AZ 85302","() -","( ) -"]
["Apollo Middle School - 100212106","Pima",4407,"100212000","Sunnyside Unified District",5809,"100212106","Apollo Middle School",0.83395300000000006,6.8154000000000006E-2,0.90210699999999999,807]
["Arcadia High School - 070248292","Maricopa",4240,"070248000","Scottsdale Unified District",5066,"070248292","Arcadia High School",0.27956999999999999,4.9582000000000001E-2,0.329152,1671,"ARCADIA HIGH SCHOOL","4703 E INDIAN SCHOOL RD","PHOENIX AZ 85018","() -","() -"]
["Arcadia Neighborhood Learning Center - 070248108","Maricopa",4240,"070248000","Scottsdale Unified District",5046,"070248108","Arcadia Neighborhood Learning Center",0.393762,4.2885E-2,0.43664700000000001,511,"ARCADIA NEIGHBORHOOD LEARNING CENTER","4330 N. 62ND STREET","SCOTTSDALE AZ 85251","() -","() -"]
["Arizona Academy of Science and Technology - 078665001","Maricopa",6378,"078665000","Arizona Academy of Science And Technology Inc.",10755,"078665001","Arizona Academy of Science and Technology",0.69403000000000004,4.4776000000000003E-2,0.73880599999999996,134,"ARIZONA ACADEMY OF SCIENCE AND TECHNOLOGY","P.O. BOX 13606","PHOENIX AZ 85002","() -","( ) -"]
["Arizona Charter Academy - 078924001","Maricopa",79453,"078924000","Success School",79454,"078924001","Arizona Charter Academy",0.62249600000000005,0.13867499999999999,0.76117100000000004,633,"ARIZONA CHARTER ACADEMY","P.O. BOX 1929","SURPRISE AZ 85378","(623) 974-4959","(623) 974-4931"]
["Arizona College Prep Erie Campus - 070280243","Maricopa",4242,"070280000","Chandler Unified District #80",89591,"070280243","Arizona College Prep Erie Campus",6.9638000000000005E-2,3.3425999999999997E-2,0.103064,359,"ARIZONA COLLEGE PREP ERIE CAMPUS","1150 W. ERIE","CHANDLER AZ 85224","(480) 883-5270","( ) -"]
["Arizona College Prep Oakland Campus - 070280145","Maricopa",4242,"070280000","Chandler Unified District #80",90302,"070280145","Arizona College Prep Oakland Campus",4.6753000000000003E-2,1.5584000000000001E-2,6.2337999999999998E-2,385,"ARIZONA COLLEGE PREP OAKLAND CAMPUS","191 WEST OAKLAND","CHANDLER AZ 85225","(480) 224-3930","( ) -"]
["Arizona Collegiate High School - 108507001","Pima",90536,"108507000","Pima Prevention Partnership",90907,"108507001","Arizona Collegiate High School",0.95698899999999998,0,0.95698899999999998,186]
["Arizona Conservatory for Arts and Academics - 078971001","Maricopa",79981,"078971000","Edkey Inc. - Arizona Conservatory for Arts and Academics",79982,"078971001","Arizona Conservatory for Arts and Academics",0.34027800000000002,8.6805999999999994E-2,0.42708299999999999,214,"ARIZONA CONSERVATORY FOR ARTS AND ACADEMICS","1460 SOUTH HORNE","MESA AZ 85204","(602) 266-4278","(602) 978-2764"]
["Arizona Conservatory for Arts and Academics Middle School - 078971002","Maricopa",79981,"078971000","Edkey Inc. - Arizona Conservatory for Arts and Academics",90349,"078971002","Arizona Conservatory for Arts and Academics Middle School",0.26890799999999998,2.521E-2,0.29411799999999999,112,"ARIZONA CONSERVATORY FOR ARTS AND ACADEMICS MIDDLE SCHOOL","1460 SOUTH HORNE","MESA AZ 85204","() -","( ) -"]
["Arizona Desert Elementary School - 140432105","Yuma",4505,"140432000","Gadsden Elementary District",6187,"140432105","Arizona Desert Elementary School",0.93548399999999998,3.6465999999999998E-2,0.97194999999999998,761]
["Arizona Desert Elementary School - 070417102","Maricopa",4264,"070417000","Tolleson Elementary District",10869,"070417102","Arizona Desert Elementary School",0.75961500000000004,8.6538000000000004E-2,0.84615399999999996,416,"ARIZONA DESERT ELEMENTARY SCHOOL","8803 W. VAN BUREN STREET","TOLLESON AZ 85353","() -","( ) -"]
["Arlington Elementary School - 070447101","Maricopa",4274,"070447000","Arlington Elementary District",5354,"070447101","Arlington Elementary School",0.78210100000000005,7.3929999999999996E-2,0.85603099999999999,257,"ARLINGTON ELEMENTARY SCHOOL","9410 S. 355TH AVE","ARLINGTON AZ 85322","() -","() -"]
["Arredondo Elementary School - 070403123","Maricopa",4258,"070403000","Tempe School District",5222,"070403123","Arredondo Elementary School",0.71428599999999998,6.6667000000000004E-2,0.78095199999999998,308,"ARREDONDO ELEMENTARY SCHOOL","1330 E CARSON DR","TEMPE AZ 85282","() -","() -"]
["Arrowhead Elementary School - 070297127","Maricopa",4246,"070297000","Deer Valley Unified District",5154,"070297127","Arrowhead Elementary School",0.18821599999999999,5.7283000000000001E-2,0.245499,610,"ARROWHEAD ELEMENTARY SCHOOL","7490 W UNION HILLS DR.","GLENDALE AZ 85308","(623) 376-4100","(623) 376-4180"]
["Arrowhead Elementary School - 070269110","Maricopa",4241,"070269000","Paradise Valley Unified District",5073,"070269110","Arrowhead Elementary School",0.70879099999999995,8.9744000000000004E-2,0.79853499999999999,521,"ARROWHEAD ELEMENTARY SCHOOL","3820 E NISBET","PHOENIX AZ 85032","(602) 449-2700","( ) -"]
["Arroyo School - 070406118","Maricopa",4260,"070406000","Washington Elementary School District",5246,"070406118","Arroyo School",0.68460100000000002,7.9777000000000001E-2,0.764378,539,"ARROYO SCHOOL","4535 W CHOLLA","GLENDALE AZ 85304 3599","() -","() -"]
["Arthur M Hamilton School - 070421101","Maricopa",4265,"070421000","Murphy Elementary District",5290,"070421101","Arthur M Hamilton School",0.99512199999999995,2.4390000000000002E-3,0.99756100000000003,410,"ARTHUR M HAMILTON SCHOOL","2020 W. DURANGO STREET","PHOENIX AZ 85009","() -","() -"]
["Arts Academy at Estrella Mountain - 078907103","Maricopa",4281,"070479000","Litchfield Elementary District",87413,"078907103","Arts Academy at Estrella Mountain",0.66373400000000005,0.12512200000000001,0.788856,1023,"ARTS ACADEMY AT ESTRELLA MOUNTAIN","2504 SOUTH 91ST AVE.","TOLLESON AZ 85353","(623) 474-2120","(623) 936-5337"]
["ASDB/Child Nutrition Program - Closed - 001202058","Apache",6393,"001202000","Arizona State School for the Deaf and Blind",80462,"001202058","ASDB/Child Nutrition Program - Closed",0.589862,9.2165999999999998E-2,0.68202799999999997,217]
["Ash Creek Elementary - 020453101","Cochise",4187,"020453000","Ash Creek Elementary District",4797,"020453101","Ash Creek Elementary",0.7,0.05,0.75,20,"ASH CREEK ELEMENTARY","6460 E. HWY 181","PEARCE AZ 85625","() -","( ) -"]
["Ash Fork Elementary School - 130231101","Yavapai",4471,"130231000","Ash Fork Joint Unified District",6101,"130231101","Ash Fork Elementary School",0.45454499999999998,0.102273,0.55681800000000004,231]
["Ashland Elementary - 070241161","Maricopa",4239,"070241000","Gilbert Unified District",79181,"070241161","Ashland Elementary",0.139353,4.5707999999999999E-2,0.185061,897,"ASHLAND ELEMENTARY","1945 S. ASHLAND RANCH ROAD","GILBERT AZ 85295","(480) 917-9900","(480) 917-3400"]
["Ashton Ranch Elementary School - 070289111","Maricopa",4243,"070289000","Dysart Unified District",81111,"070289111","Ashton Ranch Elementary School",0.35250500000000001,9.6475000000000005E-2,0.44897999999999999,1078,"ASHTON RANCH ELEMENTARY SCHOOL","14898 W. ACOMA DRIVE","SURPRISE AZ 85379","() -","() -"]
["ASU Preparatory Academy- Phoenix Elementary - 078546102","Maricopa",4256,"070401000","Phoenix Elementary District",90271,"078546102","ASU Preparatory Academy- Phoenix Elementary",0.63269600000000004,9.5541000000000001E-2,0.72823800000000005,942,"ASU PREPARATORY ACADEMY- PHOENIX ELEMENTARY","112 N. CENTRAL AVENUE SUITE 700","PHOENIX AZ 85004","(602) 257-4843","(602) 257-4852"]
["Audrey & Robert Ryan Elementary - 070280135","Maricopa",4242,"070280000","Chandler Unified District #80",85838,"070280135","Audrey & Robert Ryan Elementary",5.1902999999999998E-2,2.6527999999999999E-2,7.8431000000000001E-2,867,"AUDREY & ROBERT RYAN ELEMENTARY","4600 S. BRIGHT ANGEL WAY","CHANDLER AZ 85249","() -","() -"]
["Augusta Ranch Elementary - 070241162","Maricopa",4239,"070241000","Gilbert Unified District",79630,"070241162","Augusta Ranch Elementary",0.180621,8.6548E-2,0.26716800000000002,1063,"AUGUSTA RANCH ELEMENTARY","9430 E. NEVILLE AVE","MESA AZ 85209","() -","( ) -"]
["Augustus H Shaw Jr School - 070401123","Maricopa",4256,"070401000","Phoenix Elementary District",5208,"070401123","Augustus H Shaw Jr School",0.73237200000000002,6.25E-2,0.79487200000000002,624,"AUGUSTUS H SHAW JR SCHOOL","123 NORTH 13TH STREET","PHOENIX AZ 85034","(602) 257-3898","(602) 257-2954"]
["Aurora Day School West - 072150002","Maricopa",4237,"070211000","Peoria Unified School District",90400,"072150002","Aurora Day School West",0.48571399999999998,5.7142999999999999E-2,0.54285700000000003,35]
["Avalon Elementary - 078901003","Maricopa",79214,"078901000","Excalibur Charter Schools Inc.",81173,"078901003","Avalon Elementary",0.81971799999999995,5.9154999999999999E-2,0.87887300000000002,355,"AVALON ELEMENTARY","1045 SOUTH SAN MARCOS","APACHE JUNCTION AZ 85120","(480) 671-4584","(480) 671-4586"]
["AZ Compass Prep School - 078542101","Maricopa",79084,"078914000","Skyline Schools Inc.",89870,"078542101","AZ Compass Prep School",0.68686899999999995,0.15151500000000001,0.83838400000000002,99,"AZ COMPASS PREP SCHOOL","2020 N. ARIZONA AVE SUITE G-62","CHANDLER AZ 85225","(480) 287-5588","(480) 287-5581"]
["AZTEC High School - 148757001","Yuma",4508,"148757000","Az-Tec High School",6192,"148757001","AZTEC High School",0.91139199999999998,2.5316000000000002E-2,0.93670900000000001,158]
["Baboquivari High School - 100240204","Pima",4412,"100240000","Baboquivari Unified School District #40",5847,"100240204","Baboquivari High School",0.67017499999999997,5.9649000000000001E-2,0.72982499999999995,285]
["Bagdad Elementary School - 130220101","Yavapai",4468,"130220000","Bagdad Unified District",6088,"130220101","Bagdad Elementary School",0.32807599999999998,0.23028399999999999,0.55835999999999997,317]
["Bagdad High School - 130220202","Yavapai",4468,"130220000","Bagdad Unified District",6089,"130220202","Bagdad High School",0.26086999999999999,0.2,0.46087,115]
["Bales Elementary School - 070433102","Maricopa",4269,"070433000","Buckeye Elementary District",81110,"070433102","Bales Elementary School",0.71052599999999999,0.10657899999999999,0.81710499999999997,760,"BALES ELEMENTARY SCHOOL","210 S. 6TH STREET","BUCKEYE AZ 85326","(623) 847-8503","(623) 386-6063"]
["Balsz School - 070431101","Maricopa",4268,"070431000","Balsz Elementary District",5319,"070431101","Balsz School",0.87738899999999997,4.1401E-2,0.91879,628,"BALSZ SCHOOL","4309 E BELLEVIEW ST.","PHOENIX AZ 85008","() -","() -"]
["Barbara B. Robey Elementary School - 070479111","Maricopa",4281,"070479000","Litchfield Elementary District",87522,"070479111","Barbara B. Robey Elementary School",0.55555600000000005,0.108497,0.66405199999999998,765,"BARBARA B. ROBEY ELEMENTARY SCHOOL","272 EAST SAGEBRUSH STREET","LITCHFIELD PARK AZ 85340","() -","( ) -"]
["Barcelona Middle School - 070468104","Maricopa",4280,"070468000","Alhambra Elementary District",5384,"070468104","Barcelona Middle School",0.90836700000000004,4.5152999999999999E-2,0.95351900000000001,753,"BARCELONA MIDDLE SCHOOL","6130 N. 44TH AVE.","GLENDALE AZ 85301","(623) 842-8616","(623) 842-1384"]
["Barry Goldwater High School - 070297224","Maricopa",4246,"070297000","Deer Valley Unified District",5162,"070297224","Barry Goldwater High School",0.42473100000000003,9.1397999999999993E-2,0.51612899999999995,1850,"BARRY GOLDWATER HIGH SCHOOL","2820 W, ROSE GARDEN LANE","PHOENIX AZ 85027","() -","() -"]
["Basha Elementary - 070280129","Maricopa",4242,"070280000","Chandler Unified District #80",79247,"070280129","Basha Elementary",0.12870300000000001,2.3493E-2,0.152196,979,"BASHA ELEMENTARY","3535 S. BASHA RD.","CHANDLER AZ 85248","(480) 883-4406","(480) 883-4420"]
["Basha High School - 070280203","Maricopa",4242,"070280000","Chandler Unified District #80",79633,"070280203","Basha High School",0.12548400000000001,4.1052999999999999E-2,0.16653799999999999,2582,"BASHA HIGH SCHOOL","5990 S. VAL VISTA DRIVE","CHANDLER AZ 85249","(480) 224-2100","(480) 224-2120"]
["Beaver Creek School - 130326101","Yavapai",4481,"130326000","Beaver Creek Elementary District",6116,"130326101","Beaver Creek School",0.87709499999999996,8.3798999999999998E-2,0.96089400000000003,358]
["Beaver Dam Elementary - 080209001","Mohave",4374,"080209000","Littlefield Unified District",5579,"080209001","Beaver Dam Elementary",0.74528300000000003,0.21226400000000001,0.95754700000000004,211,"BEAVER DAM ELEMENTARY","P.O. BOX 730","LITTLEFIELD AZ 86432","() -","() -"]
["Beaver Dam High School - 080209201","Mohave",4374,"080209000","Littlefield Unified District",85821,"080209201","Beaver Dam High School",0.80193199999999998,0.130435,0.93236699999999995,207,"BEAVER DAM HIGH SCHOOL","P.O. BOX 730","LITTLEFIELD AZ 86432","() -","() -"]
["Bella Vista Elementary School - 020268110","Cochise",4175,"020268000","Sierra Vista Unified District",4775,"020268110","Bella Vista Elementary School",0.377834,7.5566999999999995E-2,0.453401,397,"BELLA VISTA ELEMENTARY SCHOOL","3555 FRY BLVD","SIERRA VISTA AZ 85635","() -","() -"]
["Bellair Elementary School - 070297122","Maricopa",4246,"070297000","Deer Valley Unified District",5151,"070297122","Bellair Elementary School",0.39271299999999998,9.7166000000000002E-2,0.48987900000000001,489,"BELLAIR ELEMENTARY SCHOOL","4701 W. GROVERS AVE.","GLENDALE AZ 85308 3460","() -","() -"]
["Benjamin Franklin Charter School - Power - 078754104","Maricopa",4245,"070295000","Queen Creek Unified District",88341,"078754104","Benjamin Franklin Charter School - Power",0.119767,2.9069999999999999E-2,0.148837,860,"BENJAMIN FRANKLIN CHARTER SCHOOL - POWER","13732 E. WARNER RD.","GILBERT AZ 85296","(480) 632-0722","(480) 558-1197"]
["Benjamin Franklin Charter School - Queen Creek - 078754102","Maricopa",4245,"070295000","Queen Creek Unified District",5537,"078754102","Benjamin Franklin Charter School - Queen Creek",0.19720499999999999,8.5403999999999994E-2,0.282609,644,"BENJAMIN FRANKLIN CHARTER SCHOOL - QUEEN CREEK","21151 CRISMON ROAD","QUEEN CREEK AZ 85242","() -","() -"]
["Benson High School - 020209201","Cochise",79226,"020209000","Benson Unified School District",4799,"020209201","Benson High School",0.29213499999999998,9.8315E-2,0.39044899999999999,356,"BENSON HIGH SCHOOL","360 S. PATAGONIA","BENSON AZ 85602","() -","() -"]
["Benson Middle School - 020209102","Cochise",79226,"020209000","Benson Unified School District",4794,"020209102","Benson Middle School",0.46438699999999999,7.4074000000000001E-2,0.538462,351,"BENSON MIDDLE SCHOOL","360 S PATAGONIA STREET","BENSON AZ 85602","() -","() -"]
["Benson Primary School - 020209101","Cochise",79226,"020209000","Benson Unified School District",4793,"020209101","Benson Primary School",0.54359000000000002,9.2308000000000001E-2,0.63589700000000005,390,"BENSON PRIMARY SCHOOL","360 S PATAGONIA STREET","BENSON AZ 85602","() -","() -"]
["Bernard Black Elementary School - 070466024","Maricopa",4279,"070466000","Roosevelt Elementary District",87883,"070466024","Bernard Black Elementary School",0.78022000000000002,8.6813000000000001E-2,0.86703300000000005,898,"BERNARD BLACK ELEMENTARY SCHOOL","6550 S. 27TH AVENUE","PHOENIX AZ 85041","() -","() -"]
["Betty Fairfax High School - 070510290","Maricopa",4286,"070510000","Phoenix Union High School District",89571,"070510290","Betty Fairfax High School",0.55524600000000002,9.1518000000000002E-2,0.64676299999999998,1792,"BETTY FAIRFAX HIGH SCHOOL","8225 S. 59TH AVENUE","LAVEEN AZ 85339","() -","( ) -"]
["Bicentennial North School - 070440109","Maricopa",4271,"070440000","Glendale Elementary District",5340,"070440109","Bicentennial North School",0.82741699999999996,9.3022999999999995E-2,0.92044099999999995,811,"BICENTENNIAL NORTH SCHOOL","7237 W MISSOURI AVENUE","GLENDALE AZ 85303","() -","() -"]
["Bicentennial South School - 070440112","Maricopa",4271,"070440000","Glendale Elementary District",5343,"070440112","Bicentennial South School",0.80626799999999998,9.1167999999999999E-2,0.89743600000000001,697,"BICENTENNIAL SOUTH SCHOOL","7240 W COLTER ST","GLENDALE AZ 85303","() -","() -"]
["Big Park Community School - 130209130","Yavapai",4467,"130209000","Sedona-Oak Creek JUSD #9",6084,"130209130","Big Park Community School",0.40532499999999999,5.3254000000000003E-2,0.45857999999999999,338]
["Billy Lane Lauffer Middle School - 100212133","Pima",4407,"100212000","Sunnyside Unified District",87532,"100212133","Billy Lane Lauffer Middle School",0.63757600000000003,8.9696999999999999E-2,0.72727299999999995,825]
["Biltmore Preparatory Academy - 070414180","Maricopa",4263,"070414000","Creighton Elementary District",5289,"070414180","Biltmore Preparatory Academy",0.41646499999999997,6.5375000000000003E-2,0.48183999999999999,403,"BILTMORE PREPARATORY ACADEMY","4601 N. 34TH STREET","PHOENIX AZ 85018","() -","() -"]
["Bisbee High School - 020202201","Cochise",4169,"020202000","Bisbee Unified District",4754,"020202201","Bisbee High School",0.55084699999999998,8.4746000000000002E-2,0.63559299999999996,354,"BISBEE HIGH SCHOOL","100 OLD DOUGLAS ROAD","BISBEE AZ 85603","() -","() -"]
["Black Mesa Community School - 093901001","Navajo",9688,"093901000","Black Mesa Community School",80426,"093901001","Black Mesa Community School",0.95833299999999999,0,0.95833299999999999,48]
["Black Mountain Elementary School - 070293102","Maricopa",4244,"070293000","Cave Creek Unified District",5134,"070293102","Black Mountain Elementary School",9.3632999999999994E-2,2.4344999999999999E-2,0.117978,534,"BLACK MOUNTAIN ELEMENTARY SCHOOL","P O BOX 426","CAVE CREEK AZ 85327","() -","() -"]
["Black Mountain Elementary School - 080220116","Mohave",79598,"080220000","Kingman Unified School District",5577,"080220116","Black Mountain Elementary School",0.74380199999999996,6.6115999999999994E-2,0.809917,603,"BLACK MOUNTAIN ELEMENTARY SCHOOL","3404 N. SANTA MARIA ROAD","GOLDEN VALLEY AZ 86413","(928) 565-9111","(928) 565-9190"]
["Blackwater Community School - 114002001","Pinal",91760,"114002000","Blackwater Community School Inc.",91761,"114002001","Blackwater Community School",0.73115600000000003,0.140704,0.87185900000000005,398]
["Blake Primary School - 150227101","La Paz",4510,"150227000","Parker Unified School District",6194,"150227101","Blake Primary School",0.71282100000000004,6.8376000000000006E-2,0.78119700000000003,585]
["Blenman Elementary School - 100201125","Pima",4403,"100201000","Tucson Unified District",5659,"100201125","Blenman Elementary School",0.80516399999999999,5.1643000000000001E-2,0.85680800000000001,426]
["Bloom Elementary - 100201128","Pima",4403,"100201000","Tucson Unified District",5660,"100201128","Bloom Elementary",0.51546400000000003,5.8418999999999999E-2,0.57388300000000003,291]
["Blue Ridge Elementary School - 090232101","Navajo",4397,"090232000","Blue Ridge Unified District",5645,"090232101","Blue Ridge Elementary School",0.52180700000000002,6.5421000000000007E-2,0.58722700000000005,642,"BLUE RIDGE ELEMENTARY SCHOOL","1200 W WHITE MOUNTAIN BLVD","LAKESIDE AZ 85929","() -","() -"]
["Blue Ridge High School - 090232204","Navajo",4397,"090232000","Blue Ridge Unified District",5648,"090232204","Blue Ridge High School",0.367925,5.3907999999999998E-2,0.42183300000000001,742,"BLUE RIDGE HIGH SCHOOL","1200 W WHITE MOUNTAIN BLVD","LAKESIDE AZ 85929","() -","() -"]
["Blue Ridge Jr High School - 090232103","Navajo",4397,"090232000","Blue Ridge Unified District",5647,"090232103","Blue Ridge Jr High School",0.48051899999999997,6.7531999999999995E-2,0.54805199999999998,385,"BLUE RIDGE JR HIGH SCHOOL","1200 W WHITE MOUNTAIN BLVD","LAKESIDE AZ 85929","() -","( ) -"]
["Blue Ridge Middle School - 090232102","Navajo",4397,"090232000","Blue Ridge Unified District",5646,"090232102","Blue Ridge Middle School",0.498973,8.4189E-2,0.58316199999999996,487,"BLUE RIDGE MIDDLE SCHOOL","1200 W. WHITE MOUNTAIN BLVD.","LAKESIDE AZ 85929","() -","() -"]
["Blume House - 072711001","Maricopa",80200,"072711000","Therapeutic Residences for Youth Inc.",80201,"072711001","Blume House",1,0,1,7]
["Bogle Junior High School - 070280120","Maricopa",4242,"070280000","Chandler Unified District #80",5125,"070280120","Bogle Junior High School",0.24268799999999999,4.2687999999999997E-2,0.28537499999999999,1265,"BOGLE JUNIOR HIGH SCHOOL","1600 W. QUEEN CREEK ROAD","CHANDLER AZ 85248","() -","() -"]
["Bonillas Elementary Basic Curriculum Magnet School - 100201131","Pima",4403,"100201000","Tucson Unified District",5661,"100201131","Bonillas Elementary Basic Curriculum Magnet School",0.80805700000000003,4.0284E-2,0.84834100000000001,422]
["Bonita Elementary School - 050316101","Graham",4224,"050316000","Bonita Elementary District",4896,"050316101","Bonita Elementary School",0.35922300000000001,0.14563100000000001,0.50485400000000002,103,"BONITA ELEMENTARY SCHOOL","18008 S FT GRANT RD","WILLCOX AZ 85643","() -","() -"]
["Bonnie Brennan School - 090201102","Navajo",4387,"090201000","Winslow Unified District",5600,"090201102","Bonnie Brennan School",0.5,9.4469999999999998E-2,0.59447000000000005,337,"BONNIE BRENNAN SCHOOL","PO BOX 580","WINSLOW AZ 86047","() -","() -"]
["Booth-Fickett Math/Science Magnet School - 100201510","Pima",4403,"100201000","Tucson Unified District",5738,"100201510","Booth-Fickett Math/Science Magnet School",0.69352199999999997,6.8936999999999998E-2,0.76245799999999997,1204]
["Borman Elementary School - 100201140","Pima",4403,"100201000","Tucson Unified District",5663,"100201140","Borman Elementary School",0.14560999999999999,0.18415400000000001,0.329764,467]
["Borton Primary Magnet School - 100201143","Pima",4403,"100201000","Tucson Unified District",5664,"100201143","Borton Primary Magnet School",0.49767400000000001,4.1860000000000001E-2,0.53953499999999999,430]
["Bostrom Alternative Center - 070510214","Maricopa",4286,"070510000","Phoenix Union High School District",6249,"070510214","Bostrom Alternative Center",0.92281899999999994,3.3556999999999997E-2,0.956376,298,"BOSTROM ALTERNATIVE CENTER","3535 N. 27TH AVENUE","PHOENIX AZ 85017","() -","() -"]
["Boulder Creek Elementary - 070241160","Maricopa",4239,"070241000","Gilbert Unified District",79145,"070241160","Boulder Creek Elementary",0.33426600000000001,8.6712999999999998E-2,0.42097899999999999,715,"BOULDER CREEK ELEMENTARY","8045 E. PORTOBELLO AVE.","MESA AZ 85212","() -","( ) -"]
["Boulder Creek Elementary School - 070269144","Maricopa",4241,"070269000","Paradise Valley Unified District",5091,"070269144","Boulder Creek Elementary School",0.103268,3.1372999999999998E-2,0.13464100000000001,718,"BOULDER CREEK ELEMENTARY SCHOOL","22801 NORTH 22ND STREET","PHOENIX AZ 85024","(602) 449-4500","( ) -"]
["Boulder Creek High School - 070297245","Maricopa",4246,"070297000","Deer Valley Unified District",85850,"070297245","Boulder Creek High School",0.123058,4.3258999999999999E-2,0.16631699999999999,2377,"BOULDER CREEK HIGH SCHOOL","40404 GAVILAN PEAK PARKWAY","ANTHEM AZ 85086","() -","() -"]
["Bouse Elementary School - 150426101","La Paz",4513,"150426000","Bouse Elementary District",6201,"150426101","Bouse Elementary School",0.8125,0.125,0.9375,48]
["Bowie Elementary School - 020214100","Cochise",4171,"020214000","Bowie Unified District",4758,"020214100","Bowie Elementary School",0.84482800000000002,5.1723999999999999E-2,0.89655200000000002,58,"BOWIE ELEMENTARY SCHOOL","P.O. BOX 157","BOWIE AZ 85605","() -","() -"]
["Bowie High School - 020214200","Cochise",4171,"020214000","Bowie Unified District",4759,"020214200","Bowie High School",0.77777799999999997,5.5556000000000001E-2,0.83333299999999999,18,"BOWIE HIGH SCHOOL","P.O. BOX 157","BOWIE AZ 85605","() -","() -"]
["Bradley Academy of Excellence - 078746101","Maricopa",4281,"070479000","Litchfield Elementary District",81098,"078746101","Bradley Academy of Excellence",0.612371,9.4844999999999999E-2,0.70721599999999996,485,"BRADLEY ACADEMY OF EXCELLENCE","200 NORTH DYSART ROAD","AVONDALE AZ 85323","() -","() -"]
["Bradshaw Mountain High School - 130222230","Yavapai",4469,"130222000","Humboldt Unified District",6097,"130222230","Bradshaw Mountain High School",0.42787599999999998,8.8252999999999998E-2,0.51612899999999995,1589]
["Bradshaw Mountain Middle School - 130222120","Yavapai",4469,"130222000","Humboldt Unified District",6091,"130222120","Bradshaw Mountain Middle School",0.60714299999999999,7.7381000000000005E-2,0.68452400000000002,313]
["Bret R. Tarver - 070483122","Maricopa",4282,"070483000","Cartwright Elementary District",79283,"070483122","Bret R. Tarver",0.89416399999999996,3.8575999999999999E-2,0.93274000000000001,1011,"BRET R. TARVER","4308 N 51ST AVENUE SUITE 102","PHOENIX AZ 85031","() -","() -"]
["Brichta Elementary School - 100201149","Pima",4403,"100201000","Tucson Unified District",5665,"100201149","Brichta Elementary School",0.6875,5.3571000000000001E-2,0.74107100000000004,336]
["Brinton Elementary - 070204156","Maricopa",4235,"070204000","Mesa Unified District",79490,"070204156","Brinton Elementary",0.46678999999999998,0.105166,0.57195600000000002,541,"BRINTON ELEMENTARY","11455 E.SUNLAND AVE.","MESA AZ 85208","() -","() -"]
["Broadmor Elementary School - 070403113","Maricopa",4258,"070403000","Tempe School District",5213,"070403113","Broadmor Elementary School",0.368585,3.8879999999999998E-2,0.40746500000000002,637,"BROADMOR ELEMENTARY SCHOOL","311 E AEPLI DRIVE","TEMPE AZ 85282","(480) 967-6599","(480) 921-0814"]
["Brunson-Lee Elementary School - 070431105","Maricopa",4268,"070431000","Balsz Elementary District",81141,"070431105","Brunson-Lee Elementary School",0.90927000000000002,2.5641000000000001E-2,0.93491100000000005,507,"BRUNSON-LEE ELEMENTARY SCHOOL","1350 N. 48TH STREET","PHOENIX AZ 85008","() -","() -"]
["Buckeye Elementary School - 070433109","Maricopa",4269,"070433000","Buckeye Elementary District",87473,"070433109","Buckeye Elementary School",0.77479299999999995,7.5412999999999994E-2,0.85020700000000005,968,"BUCKEYE ELEMENTARY SCHOOL","25555 W DURANGO","BUCKEYE AZ 85326","() -","( ) -"]
["Buckeye Union High School - 070501201","Maricopa",4284,"070501000","Buckeye Union High School District",5424,"070501201","Buckeye Union High School",0.55400700000000003,0.10975600000000001,0.66376299999999999,1148,"BUCKEYE UNION HIGH SCHOOL","902 EASON AVENUE","BUCKEYE AZ 85326","() -","() -"]
["Buena High School - 020268260","Cochise",4175,"020268000","Sierra Vista Unified District",4783,"020268260","Buena High School",0.23551900000000001,5.5050000000000002E-2,0.29056999999999999,2089,"BUENA HIGH SCHOOL","3555 FRY BLVD","SIERRA VISTA AZ 85635","() -","() -"]
["Bullhead City Jr High School - 080415130","Mohave",4378,"080415000","Bullhead City School District",5587,"080415130","Bullhead City Jr High School",0.80289299999999997,8.8608000000000006E-2,0.89150099999999999,526,"BULLHEAD CITY JR HIGH SCHOOL","1062 HANCOCK ROAD","BULLHEAD CITY AZ 86442","() -","() -"]
["Burk Elementary School - 070241147","Maricopa",4239,"070241000","Gilbert Unified District",5030,"070241147","Burk Elementary School",0.45330700000000002,8.9494000000000004E-2,0.54280200000000001,514,"BURK ELEMENTARY SCHOOL","545 N. BURK ST.","GILBERT AZ 85234","() -","( ) -"]
["Burke Basic School - 078989101","Maricopa",79215,"078989000","American Basic Schools LLC",78788,"078989101","Burke Basic School",0.86276799999999998,7.1598999999999996E-2,0.93436799999999998,838,"BURKE BASIC SCHOOL","131 E. SOUTHERN AVE.","MESA AZ 85210","() -","() -"]
["Bush Elementary - 070204149","Maricopa",4235,"070204000","Mesa Unified District",4961,"070204149","Bush Elementary",0.31630999999999998,6.9193000000000005E-2,0.38550200000000001,604,"BUSH ELEMENTARY","4925 E INGRAM","MESA AZ 85205","() -","() -"]
["Butterfield Elementary School - 100206114","Pima",4404,"100206000","Marana Unified District",5772,"100206114","Butterfield Elementary School",0.42346899999999998,9.1837000000000002E-2,0.51530600000000004,588]
["Butterfield Elementary School - 110220108","Pinal",4441,"110220000","Maricopa Unified School District",89910,"110220108","Butterfield Elementary School",0.50902099999999995,9.4072000000000003E-2,0.60309299999999999,776]
["C E Rose Elementary School - 100201371","Pima",4403,"100201000","Tucson Unified District",5715,"100201371","C E Rose Elementary School",0.90201699999999996,4.1786999999999998E-2,0.94380399999999998,694]
["C I Waggoner School - 070428142","Maricopa",4267,"070428000","Kyrene Elementary District",5302,"070428142","C I Waggoner School",0.19636999999999999,1.4851E-2,0.21122099999999999,606,"C I WAGGONER SCHOOL","1050 E CARVER RD","TEMPE AZ 85284","() -","() -"]
["C J Jorgensen School - 070466007","Maricopa",4279,"070466000","Roosevelt Elementary District",5368,"070466007","C J Jorgensen School",0.873394,4.5872000000000003E-2,0.91926600000000003,541,"C J JORGENSEN SCHOOL","1701 W ROESER RD","PHOENIX AZ 85041 3899","() -","() -"]
["C O Greenfield School - 070466016","Maricopa",4279,"070466000","Roosevelt Elementary District",5376,"070466016","C O Greenfield School",0.915663,7.0568000000000006E-2,0.98623099999999997,579,"C O GREENFIELD SCHOOL","7009 S 10TH ST","PHOENIX AZ 85042 5520","() -","() -"]
["C W Mcgraw Elementary School - 140401103","Yuma",4499,"140401000","Yuma Elementary District",6149,"140401103","C W Mcgraw Elementary School",0.78030299999999997,9.0909000000000004E-2,0.87121199999999999,658]
["C. Doby Middle School - 078603007","Maricopa",4237,"070211000","Peoria Unified School District",80983,"078603007","C. Doby Middle School",0.73584899999999998,0.113208,0.84905699999999995,106,"C. DOBY MIDDLE SCHOOL","17505 N. 79TH AVE. SUITE 112","GLENDALE AZ 85308","(623) 776-2069","(623) 878-4254"]
["Cactus Canyon Junior High - 110243151","Pinal",4443,"110243000","Apache Junction Unified District",5923,"110243151","Cactus Canyon Junior High",0.52884600000000004,9.8901000000000003E-2,0.62774700000000005,728]
["Cactus High School - 070211261","Maricopa",4237,"070211000","Peoria Unified School District",5014,"070211261","Cactus High School",0.32106000000000001,6.9219000000000003E-2,0.39028000000000002,1358,"CACTUS HIGH SCHOOL","6330 WEST GREENWAY","GLENDALE AZ 85306","(623) 412-5000","(623) 412-5020"]
["Cactus Middle School - 110404110","Pinal",4446,"110404000","Casa Grande Elementary District",79692,"110404110","Cactus Middle School",0.54477600000000004,0.10234500000000001,0.64712199999999998,935]
["Cactus Shadows High School - 070293204","Maricopa",4244,"070293000","Cave Creek Unified District",5137,"070293204","Cactus Shadows High School",8.3424999999999999E-2,1.7680000000000001E-2,0.101105,1810,"CACTUS SHADOWS HIGH SCHOOL","PO BOX 426","CAVE CREEK AZ 85327","() -","() -"]
["Cactus View Elementary School - 070269127","Maricopa",4241,"070269000","Paradise Valley Unified District",5082,"070269127","Cactus View Elementary School",0.58928599999999998,7.7381000000000005E-2,0.66666700000000001,733,"CACTUS VIEW ELEMENTARY SCHOOL","17602 N CENTRAL","PHOENIX AZ 85022","(602) 449-2500","( ) -"]
["Cactus Wren Elementary School - 070406120","Maricopa",4260,"070406000","Washington Elementary School District",5247,"070406120","Cactus Wren Elementary School",0.78481000000000001,5.4851999999999998E-2,0.83966200000000002,474,"CACTUS WREN ELEMENTARY SCHOOL","9650 N 39TH AVE","PHOENIX AZ 85051 3324","() -","() -"]
["Calabasas Middle School - 120235130","Santa Cruz",4458,"120235000","Santa Cruz Valley Unified District",5965,"120235130","Calabasas Middle School",0.72446600000000005,0.109264,0.83372900000000005,421]
["Calibre Academy of Glendale - 078909104","Maricopa",79055,"078909000","Calibre Academy",91172,"078909104","Calibre Academy of Glendale",0.61589400000000005,0.112583,0.72847700000000004,151,"CALIBRE ACADEMY OF GLENDALE","4744 W GROVERS","GLENDALE AZ 85308","(602) 439-5026","(602) 889-0351"]
["Calibre Academy Surprise - 078909102","Maricopa",79055,"078909000","Calibre Academy",80463,"078909102","Calibre Academy Surprise",0.36022500000000002,0.16135099999999999,0.52157600000000004,533,"CALIBRE ACADEMY SURPRISE","15688 WEST ACOMA LANE","SURPRISE AZ 85379","(623) 556-2179","(623) 556-2806"]
["Cambell House - 072711002","Maricopa",80200,"072711000","Therapeutic Residences for Youth Inc.",80202,"072711002","Cambell House",1,0,1,7]
["Cambridge Academy East - 078768102","Maricopa",4245,"070295000","Queen Creek Unified District",90325,"078768102","Cambridge Academy East",0.11944399999999999,0.05,0.16944400000000001,360,"CAMBRIDGE ACADEMY EAST","9412 EAST BROWN ROAD","MESA AZ 85207","() -","( ) -"]
["Camelback Academy - 078959001","Maricopa",79905,"078959000","Camelback Education Inc",79906,"078959001","Camelback Academy",0.66347999999999996,0.166348,0.82982800000000001,523,"CAMELBACK ACADEMY","7634 WEST CAMELBACK ROAD","GLENDALE AZ 85303","(623) 247-2204","(623) 247-1113"]
["Camelback High School - 070510225","Maricopa",4286,"070510000","Phoenix Union High School District",5438,"070510225","Camelback High School",0.835171,3.8588999999999998E-2,0.87375999999999998,1814,"CAMELBACK HIGH SCHOOL","4612 N. 28TH STREET","PHOENIX AZ 85016","() -","() -"]
["Camp Mohave Elementary - 080416105","Mohave",4379,"080416000","Mohave Valley Elementary District",6049,"080416105","Camp Mohave Elementary",0.66313,6.6312999999999997E-2,0.72944299999999995,349,"CAMP MOHAVE ELEMENTARY","1797 E LA ENTRADA","BULLHEAD CITY AZ 86426","() -","() -"]
["Camp Verde Elementary School - 130228101","Yavapai",4470,"130228000","Camp Verde Unified District",6098,"130228101","Camp Verde Elementary School",0.70105799999999996,7.1429000000000006E-2,0.77248700000000003,756]
["Camp Verde High School - 130228203","Yavapai",4470,"130228000","Camp Verde Unified District",6100,"130228203","Camp Verde High School",0.48166300000000001,7.8240000000000004E-2,0.55990200000000001,409]
["Camp Verde Middle School - 130228102","Yavapai",4470,"130228000","Camp Verde Unified District",6099,"130228102","Camp Verde Middle School",0.64307700000000001,9.2308000000000001E-2,0.73538499999999996,325]
["Campbell - 072781001","Maricopa",87694,"072781000","Southwest Key Program",87695,"072781001","Campbell",1,0,1,128]
["Campo Bello Elementary School - 070269115","Maricopa",4241,"070269000","Paradise Valley Unified District",5074,"070269115","Campo Bello Elementary School",0.73572899999999997,0.112051,0.84777999999999998,456,"CAMPO BELLO ELEMENTARY SCHOOL","2650 EAST CONTENTION MINE ROAD","PHOENIX AZ 85032","(602) 449-5200","( ) -"]
["Campo Verde High School - 070241214","Maricopa",4239,"070241000","Gilbert Unified District",90124,"070241214","Campo Verde High School",0.115619,5.3245000000000001E-2,0.16886399999999999,1972,"CAMPO VERDE HIGH SCHOOL","3870 SOUTH QUARTZ STREET","GILBERT AZ 85297","() -","( ) -"]
["Canon School - 130350101","Yavapai",4484,"130350000","Canon Elementary District",6119,"130350101","Canon School",0.67307700000000004,2.5641000000000001E-2,0.69871799999999995,156]
["Canyon Breeze Elementary - 070492019","Maricopa",4283,"070492000","Pendergast Elementary District",79265,"070492019","Canyon Breeze Elementary",0.46856500000000001,8.1850999999999993E-2,0.55041499999999999,842,"CANYON BREEZE ELEMENTARY","11675 W. ENCANTO BLVD","AVONDALE AZ 85323","() -","( ) -"]
["Canyon Day Junior High School - 090220103","Navajo",4394,"090220000","Whiteriver Unified District",5635,"090220103","Canyon Day Junior High School",0.71311500000000005,0.151639,0.86475400000000002,239,"CANYON DAY JUNIOR HIGH SCHOOL","P.O. BOX 190","WHITERIVER AZ 85941","() -","() -"]
["Canyon De Chelly Elementary School - 010224155","Apache",4158,"010224000","Chinle Unified District",4733,"010224155","Canyon De Chelly Elementary School",0.78435500000000002,9.0909000000000004E-2,0.87526400000000004,416,"CANYON DE CHELLY ELEMENTARY SCHOOL","PO BOX 587","CHINLE AZ 86503","(928) 674-9401","(928) 674-9557"]
["Canyon Del Oro High School - 100210282","Pima",4406,"100210000","Amphitheater Unified District",5808,"100210282","Canyon Del Oro High School",0.20369200000000001,4.2647999999999998E-2,0.24634,1571]
["Canyon Elementary School - 070211119","Maricopa",4237,"070211000","Peoria Unified School District",5007,"070211119","Canyon Elementary School",0.32714599999999999,0.102088,0.429234,431,"CANYON ELEMENTARY SCHOOL","5490 WEST PARADISE LANE","GLENDALE AZ 85306","() -","() -"]
["Canyon Ridge - 070289124","Maricopa",4243,"070289000","Dysart Unified District",89600,"070289124","Canyon Ridge",0.194942,8.1138000000000002E-2,0.27607999999999999,949,"CANYON RIDGE","17359 W. SURPRISE FARMS LOOP NORTH","SURPRISE AZ 85388","() -","( ) -"]
["Canyon Rim Elem - 070241163","Maricopa",4239,"070241000","Gilbert Unified District",79829,"070241163","Canyon Rim Elem",0.27332699999999999,0.11310099999999999,0.38642799999999999,1061,"CANYON RIM ELEM","3045 CANYON RIM","MESA AZ 85212","() -","( ) -"]
["Canyon Springs - 070297148","Maricopa",4246,"070297000","Deer Valley Unified District",88399,"070297148","Canyon Springs",0.23960899999999999,7.9462000000000005E-2,0.31907099999999999,813,"CANYON SPRINGS","40005 N. 45TH AVENUE","ANTHEM AZ 85086","(623) 376-5280","( ) -"]
["Canyon State Academy - 072107001","Maricopa",79302,"072107000","Canyon State Academy",79303,"072107001","Canyon State Academy",1,0,1,320]
["Canyon View Elementary School - 100216104","Pima",4410,"100216000","Catalina Foothills Unified District",5835,"100216104","Canyon View Elementary School",9.4687999999999994E-2,2.5403999999999999E-2,0.120092,433]
["Capitol Elementary School - 070401102","Maricopa",4256,"070401000","Phoenix Elementary District",5196,"070401102","Capitol Elementary School",0.88401300000000005,4.7022000000000001E-2,0.93103400000000003,638,"CAPITOL ELEMENTARY SCHOOL","330 N. 16TH AVE","PHOENIX AZ 85007","(602) 257-3835","( ) -"]
["Capps Elementary School - 090206102","Navajo",4392,"090206000","Heber-Overgaard Unified District",5623,"090206102","Capps Elementary School",0.56363600000000003,0.127273,0.690909,110,"CAPPS ELEMENTARY SCHOOL","P. O. BOX 820","HEBER AZ 85928","(928) 535-4667","(928) 535-9044"]
["Career Success High School - Main Campus - 078524201","Maricopa",78845,"078904000","Mission Charter School Inc.",79129,"078524201","Career Success High School - Main Campus",0.87889300000000004,3.4602000000000001E-2,0.91349499999999995,289,"CAREER SUCCESS HIGH SCHOOL - MAIN CAMPUS","3816 N 27TH AVE","PHOENIX AZ 85017","(602) 285-5525","(602) 285-0026"]
["Career Success High School - Robert L. Duffy - 078524205","Maricopa",78845,"078904000","Mission Charter School Inc.",81126,"078524205","Career Success High School - Robert L. Duffy",0.88524599999999998,3.2786999999999997E-2,0.91803299999999999,181,"CAREER SUCCESS HIGH SCHOOL - ROBERT L. DUFFY","2550 EAST JEFFERSON STREET","PHOENIX AZ 85034","(602) 393-4200","(602) 393-4205"]
["Career Success School -- Sage Campus - 078524001","Maricopa",4263,"070414000","Creighton Elementary District",80050,"078524001","Career Success School -- Sage Campus",0.71,6.5000000000000002E-2,0.77500000000000002,200,"CAREER SUCCESS SCHOOL -- SAGE CAMPUS","3120 N 32ND ST","PHOENIX AZ 85018","() -","() -"]
["Carl Hayden High School - 070510245","Maricopa",4286,"070510000","Phoenix Union High School District",5440,"070510245","Carl Hayden High School",0.877772,4.5384000000000001E-2,0.92315599999999998,1939,"CARL HAYDEN HIGH SCHOOL","3333 W. ROOSEVELT","PHOENIX AZ 85009","() -","() -"]
["Carmichael Elementary School - 020268115","Cochise",4175,"020268000","Sierra Vista Unified District",4776,"020268115","Carmichael Elementary School",0.63038000000000005,6.0759000000000001E-2,0.69113899999999995,395,"CARMICHAEL ELEMENTARY SCHOOL","701 NE CARMICHAEL AVENUE","SIERRA VISTA AZ 85635","() -","() -"]
["Carminati School - 070403111","Maricopa",4258,"070403000","Tempe School District",5212,"070403111","Carminati School",0.69696999999999998,0.111111,0.80808100000000005,394,"CARMINATI SCHOOL","4001 S MCALLISTER AVE","TEMPE AZ 85282","() -","() -"]
["Carol G. Peck Elementary School - 070468105","Maricopa",4280,"070468000","Alhambra Elementary District",6030,"070468105","Carol G. Peck Elementary School",0.89416600000000002,3.3921E-2,0.928087,737,"CAROL G. PECK ELEMENTARY SCHOOL","5810 N. 49TH AVE.","GLENDALE AZ 85301","(623) 842-3889","(623) 847-7151"]
["Carol Rae Ranch Elementary - 070241159","Maricopa",4239,"070241000","Gilbert Unified District",79144,"070241159","Carol Rae Ranch Elementary",0.16959099999999999,7.3098999999999997E-2,0.24268999999999999,684,"CAROL RAE RANCH ELEMENTARY","3777 E. HOUSTON AVE","GILBERT AZ 85234","() -","( ) -"]
["Carrillo Intermediate Magnet School - 100201161","Pima",4403,"100201000","Tucson Unified District",5666,"100201161","Carrillo Intermediate Magnet School",0.69523800000000002,0.111111,0.80634899999999998,315]
["Carson Junior  High School - 070204252","Maricopa",4235,"070204000","Mesa Unified District",4969,"070204252","Carson Junior  High School",0.73783200000000004,8.6282999999999999E-2,0.82411500000000004,904,"CARSON JUNIOR HIGH SCHOOL","525 N WESTWOOD","MESA AZ 85201 5527","() -","() -"]
["Carson Middle School - 100201503","Pima",4403,"100201000","Tucson Unified District",5736,"100201503","Carson Middle School",0.71030000000000004,7.7253000000000002E-2,0.78755399999999998,466]
["Cartwright School - 070483101","Maricopa",4282,"070483000","Cartwright Elementary District",5398,"070483101","Cartwright School",0.87128700000000003,5.6931000000000002E-2,0.92821799999999999,808,"CARTWRIGHT SCHOOL","2825 N. 59TH AVENUE","PHOENIX AZ 85031","(623) 691-4100","(623) 691-4120"]
["Casa Blanca Elementary School - 114001001","Pinal",80246,"114001000","Casa Blanca Community School",80247,"114001001","Casa Blanca Elementary School",0.85185200000000005,6.5844E-2,0.91769500000000004,273]
["Casa de los Ninos - 102261002","Pima",79389,"102261000","Casa de los Ninos",80314,"102261002","Casa de los Ninos",1,0,1,62]
["Casa Grande Middle School - 110404106","Pinal",4446,"110404000","Casa Grande Elementary District",5934,"110404106","Casa Grande Middle School",0.77777799999999997,7.5498999999999997E-2,0.85327600000000003,699]
["Casa Grande Union High School - 110502001","Pinal",4453,"110502000","Casa Grande Union High School District",5948,"110502001","Casa Grande Union High School",0.47468399999999999,9.8891999999999994E-2,0.57357599999999997,1264]
["Casa Verde High School - 110502701","Pinal",4453,"110502000","Casa Grande Union High School District",79658,"110502701","Casa Verde High School",0.55000000000000004,8.8888999999999996E-2,0.63888900000000004,180]
["Casa Vida - 070428170","Maricopa",4267,"070428000","Kyrene Elementary District",79248,"070428170","Casa Vida",2.1739000000000001E-2,2.1739000000000001E-2,4.3478000000000003E-2,92,"CASA VIDA","13612 SOUTH 36TH STREET","PHOENIX AZ 85044","() -","( ) -"]
["Castle Dome Middle School - 140401124","Yuma",4499,"140401000","Yuma Elementary District",6163,"140401124","Castle Dome Middle School",0.45812799999999998,9.6059000000000005E-2,0.55418699999999999,811]
["Catalina Foothills High School - 100216206","Pima",4410,"100216000","Catalina Foothills Unified District",5839,"100216206","Catalina Foothills High School",7.2749999999999995E-2,1.8495999999999999E-2,9.1245000000000007E-2,1622]
["Catalina High Magnet School - 100201610","Pima",4403,"100201000","Tucson Unified District",5756,"100201610","Catalina High Magnet School",0.73719199999999996,4.6489999999999997E-2,0.78368099999999996,1054]
["Catalina Ventura School - 070468106","Maricopa",4280,"070468000","Alhambra Elementary District",5385,"070468106","Catalina Ventura School",0.83972100000000005,7.2300000000000003E-2,0.91202099999999997,1148,"CATALINA VENTURA SCHOOL","6331 W. 39TH AVE.","PHOENIX AZ 85019","(602) 841-7445","(602) 841-6892"]
["Catholic Community School - 102702001","Pima",80292,"102702000","Catholic Community School",80293,"102702001","Catholic Community School",1,0,1,6]
["Cavett Elementary School - 100201167","Pima",4403,"100201000","Tucson Unified District",5667,"100201167","Cavett Elementary School",0.93548399999999998,2.5805999999999999E-2,0.96128999999999998,310]
["Cedar Hills School - 080303002","Mohave",4371,"080303000","Hackberry School District",5570,"080303002","Cedar Hills School",0.77500000000000002,7.4999999999999997E-2,0.85,40,"CEDAR HILLS SCHOOL","HC 30 BOX 1101","KINGMAN AZ 86401","(928) 692-0013","(928) 692-1075"]
["Centennial Elementary School - 100208110","Pima",4405,"100208000","Flowing Wells Unified District",5784,"100208110","Centennial Elementary School",0.73417699999999997,8.0169000000000004E-2,0.81434600000000001,474]
["Centennial Elementary School - 070260108","Maricopa",4248,"070260000","Higley Unified School District",90315,"070260108","Centennial Elementary School",0.154054,6.7568000000000003E-2,0.22162200000000001,1110,"CENTENNIAL ELEMENTARY SCHOOL","3507 SOUTH RANCH HOUSE PARKWAY","GILBERT AZ 85297","(480) 279-8000","(480) 279-7005"]
["Centennial High School - 070211263","Maricopa",4237,"070211000","Peoria Unified School District",5016,"070211263","Centennial High School",0.262154,5.2907999999999997E-2,0.31506200000000001,2098,"CENTENNIAL HIGH SCHOOL","14388 N 79TH AV","PEORIA AZ 85381","(623) 412-4400","(623) 412-4420"]
["Centennial Middle School - 140413107","Yuma",4501,"140413000","Crane Elementary District",78935,"140413107","Centennial Middle School",0.60055899999999995,9.2178999999999997E-2,0.69273700000000005,716]
["Center for Academic Success #1 - 028750201","Cochise",4191,"028750000","Center for Academic Success Inc.",4801,"028750201","Center for Academic Success #1",0.47933900000000002,9.0909000000000004E-2,0.57024799999999998,121,"CENTER FOR ACADEMIC SUCCESS, THE #1","900 CARMELITA DRIVE","SIERRA VISTA AZ 85635","(520) 458-4200","(520) 458-6396"]
["Center for Academic Success #2 - 028750202","Cochise",4191,"028750000","Center for Academic Success Inc.",4802,"028750202","Center for Academic Success #2",0.8125,1.7857000000000001E-2,0.83035700000000001,112,"CENTER FOR ACADEMIC SUCCESS, THE #2","510 G AVENUE","DOUGLAS AZ 85607","(520) 364-2616","(520) 417-0973"]
["Center for Academic Success #3 - 028750203","Cochise",4191,"028750000","Center for Academic Success Inc.",79039,"028750203","Center for Academic Success #3",0.85855300000000001,1.9737000000000001E-2,0.87828899999999999,304,"CENTER FOR ACADEMIC SUCCESS, THE #3","919 3RD ST.","DOUGLAS AZ 85607","(520) 805-1558","(520) 458-1409"]
["Center for Academic Success #4 - 028750204","Cochise",4191,"028750000","Center for Academic Success Inc.",85876,"028750204","Center for Academic Success #4",0.92783499999999997,1.5464E-2,0.943299,194,"CENTER FOR ACADEMIC SUCCESS #4","1415 F AVENUE","DOUGLAS AZ 85607","(520) 805-1558","(520) 805-1549"]
["Center for Academic Success #5 - 028750205","Cochise",4191,"028750000","Center for Academic Success Inc.",85877,"028750205","Center for Academic Success #5",0.534161,0.124224,0.658385,322,"CENTER FOR ACADEMIC SUCCESS #5","900 CARMELITA DRIVE","SIERRA VISTA AZ 85635","(520) 458-4200","(520) 458-1409"]
["Centerra Mirage - 070444111","Maricopa",4272,"070444000","Avondale Elementary District",87619,"070444111","Centerra Mirage",0.52678599999999998,0.15476200000000001,0.68154800000000004,670,"CENTERRA MIRAGE","15151 WEST CENTERRA DRIVE SOUTH","GOODYEAR AZ 85338","() -","( ) -"]
["Central High School - 070510230","Maricopa",4286,"070510000","Phoenix Union High School District",5439,"070510230","Central High School",0.84051100000000001,4.2592999999999999E-2,0.88310500000000003,2113,"CENTRAL HIGH SCHOOL","4525 N. CENTRAL AVE","PHOENIX AZ 85012","() -","() -"]
["Cerbat Elementary - 080220115","Mohave",79598,"080220000","Kingman Unified School District",5576,"080220115","Cerbat Elementary",0.83038900000000004,3.1801999999999997E-2,0.86219100000000004,565,"CERBAT ELEMENTARY","2689 JAGERSON AVENUE","KINGMAN AZ 86401","() -","( ) -"]
["Cesar Chavez Elementary - 140432106","Yuma",4505,"140432000","Gadsden Elementary District",79724,"140432106","Cesar Chavez Elementary",0.85230399999999995,0.107046,0.95935000000000004,793]
["Cesar Chavez High School - 070510270","Maricopa",4286,"070510000","Phoenix Union High School District",78847,"070510270","Cesar Chavez High School",0.71510899999999999,5.7598999999999997E-2,0.77270700000000003,2257,"CESAR CHAVEZ HIGH SCHOOL","3921 WEST BASELINE ROAD","LAVEEN AZ 85339","() -","() -"]
["Cesar E Chavez Community School - 070466002","Maricopa",4279,"070466000","Roosevelt Elementary District",5363,"070466002","Cesar E Chavez Community School",0.95714299999999997,2.2449E-2,0.97959200000000002,490,"CESAR E CHAVEZ COMMUNITY SCHOOL","4001 SOUTH THIRD STREET","PHOENIX AZ 85040","() -","() -"]
["Challenge Charter School - 078772001","Maricopa",6362,"078772000","Challenge School Inc.",5555,"078772001","Challenge Charter School",0.14596300000000001,4.9688999999999997E-2,0.19565199999999999,644,"CHALLENGE CHARTER SCHOOL","5801 WEST GREENBRIAR DRIVE","GLENDALE AZ 85308","(602) 938-5411","(602) 938-5393"]
["Challenger Elementary School - 120201119","Santa Cruz",4457,"120201000","Nogales Unified District",5960,"120201119","Challenger Elementary School",0.74107100000000004,7.6785999999999993E-2,0.81785699999999995,560]
["Challenger Middle School - 070440111","Maricopa",4271,"070440000","Glendale Elementary District",5342,"070440111","Challenger Middle School",0.87553000000000003,6.2234999999999999E-2,0.93776499999999996,696,"CHALLENGER MIDDLE SCHOOL","6905 W. MARYLAND AVE","GLENDALE AZ 85303 3600","() -","() -"]
["Challenger Middle School - 100212132","Pima",4407,"100212000","Sunnyside Unified District",5824,"100212132","Challenger Middle School",0.781053,7.6841999999999994E-2,0.85789499999999996,950]
["Champion Schools - 078785101","Maricopa",78783,"078785000","Fit Kids Inc. dba Champion Schools",78820,"078785101","Champion Schools",0.83789100000000005,9.9609000000000003E-2,0.9375,512]
["Chandler High School - 070280202","Maricopa",4242,"070280000","Chandler Unified District #80",5127,"070280202","Chandler High School",0.37413299999999999,5.2156000000000001E-2,0.42628899999999997,3317,"CHANDLER HIGH SCHOOL","350 N. ARIZONA AV.","CHANDLER AZ 85225","() -","( ) -"]
["Chandler Traditional Academy - Goodman - 070280114","Maricopa",4242,"070280000","Chandler Unified District #80",5119,"070280114","Chandler Traditional Academy - Goodman",0.14574899999999999,3.9135999999999997E-2,0.18488499999999999,741,"CHANDLER TRADITIONAL ACADEMY - GOODMAN","2600 W. KNOX","CHANDLER AZ 85224","() -","() -"]
["Chandler Traditional Academy - Independence - 070280136","Maricopa",4242,"070280000","Chandler Unified District #80",88404,"070280136","Chandler Traditional Academy - Independence",2.7956999999999999E-2,9.6769999999999998E-3,3.7634000000000001E-2,930,"CHANDLER TRADITIONAL ACADEMY - INDEPENDENCE","1405 W. LAKE DR.","CHANDLER AZ 85248","(480) 224-2700","(480) 224-2720"]
["Chandler Traditional Academy - Liberty Campus - 070280133","Maricopa",4242,"070280000","Chandler Unified District #80",80102,"070280133","Chandler Traditional Academy - Liberty Campus",7.9503000000000004E-2,3.8509000000000002E-2,0.11801200000000001,805,"CHANDLER TRADITIONAL ACADEMY - LIBERTY CAMPUS","550 N. EMMETT","CHANDLER AZ 85225","() -","() -"]
["Chandler Traditional Academy-Freedom - 070280134","Maricopa",4242,"070280000","Chandler Unified District #80",85837,"070280134","Chandler Traditional Academy-Freedom",9.7192000000000001E-2,2.8077999999999999E-2,0.12526999999999999,926,"CHANDLER TRADITIONAL ACADEMY-FREEDOM","6040 S. JOSLYN LANE","GILBERT AZ 85298","() -","( ) -"]
["Chandler Traditional Academy-Humphrey - 070280117","Maricopa",4242,"070280000","Chandler Unified District #80",5122,"070280117","Chandler Traditional Academy-Humphrey",0.41279100000000002,7.5580999999999995E-2,0.48837199999999997,516,"CHANDLER TRADITIONAL ACADEMY-HUMPHREY","125 S 132ND ST","CHANDLER AZ 85225","() -","( ) -"]
["Chaparral Elementary School - 070260107","Maricopa",4248,"070260000","Higley Unified School District",89580,"070260107","Chaparral Elementary School",0.16524,7.5342000000000006E-2,0.24058199999999999,1168,"CHAPARRAL ELEMENTARY SCHOOL","3380 E. FRYE ROAD","GILBERT AZ 85297","(480) 279-7900","(480) 279-7905"]
["Chaparral Elementary School - 070406122","Maricopa",4260,"070406000","Washington Elementary School District",5248,"070406122","Chaparral Elementary School",0.55116699999999996,9.1562000000000004E-2,0.64272899999999999,557,"CHAPARRAL ELEMENTARY SCHOOL","3808 W JOAN D`ARC","PHOENIX AZ 85029 1199","() -","() -"]
["Chaparral High School - 070248295","Maricopa",4240,"070248000","Scottsdale Unified District",5069,"070248295","Chaparral High School",5.8543999999999999E-2,1.1899E-2,7.0443000000000006E-2,2094,"CHAPARRAL HIGH SCHOOL","6935 E. GOLD DUST","SCOTTSDALE AZ 85253","() -","() -"]
["Chaparral Middle School - 100212109","Pima",4407,"100212000","Sunnyside Unified District",5811,"100212109","Chaparral Middle School",0.87883199999999995,3.9416E-2,0.91824799999999995,685]
["Charles W Sechrist Elementary School - 030201117","Coconino",4192,"030201000","Flagstaff Unified District",4811,"030201117","Charles W Sechrist Elementary School",0.20675099999999999,4.2194000000000002E-2,0.248945,469,"CHARLES W SECHRIST ELEMENTARY SCHOOL","2230 FORT VALLEY RD.","FLAGSTAFF AZ 86001","() -","( ) -"]
["Charles W. Harris School - 070483108","Maricopa",4282,"070483000","Cartwright Elementary District",5405,"070483108","Charles W. Harris School",0.88260099999999997,3.8850999999999997E-2,0.92145299999999997,1184,"CHARLES W. HARRIS SCHOOL","2252 NORTH 55TH AVENUE","PHOENIX AZ 85035","(623) 691-4800","( ) -"]
["Charlotte Patterson Elementary - 070280140","Maricopa",4242,"070280000","Chandler Unified District #80",89926,"070280140","Charlotte Patterson Elementary",0.14043,3.0578000000000001E-2,0.17100799999999999,883,"CHARLOTTE PATTERSON ELEMENTARY","7520 S. ADORA BLVD.","GILBERT AZ 85298","(480) 224-3600","( ) -"]
["Cheatham Elementary School - 070459104","Maricopa",4276,"070459000","Laveen Elementary District",84305,"070459104","Cheatham Elementary School",0.74541299999999999,9.9770999999999999E-2,0.84518300000000002,872,"CHEATHAM ELEMENTARY SCHOOL","4725 W. SOUTH MOUNTAIN WAY","LAVEEN AZ 85339","(602) 237-7040","(602) 237-3376"]
["Cherokee Elementary School - 070248121","Maricopa",4240,"070248000","Scottsdale Unified District",5054,"070248121","Cherokee Elementary School",7.4841000000000005E-2,1.9108E-2,9.3949000000000005E-2,628,"CHEROKEE ELEMENTARY SCHOOL","8801 N. 56TH STREET","PARADISE VALLEY AZ 85253","() -","() -"]
["Cheyenne Elementary School - 070211124","Maricopa",4237,"070211000","Peoria Unified School District",5012,"070211124","Cheyenne Elementary School",0.63508299999999995,7.1703000000000003E-2,0.70678600000000003,781,"CHEYENNE ELEMENTARY SCHOOL","11806 N. 87TH AVENUE","PEORIA AZ 85345 8125","() -","() -"]
["Cheyenne Traditional Elementary School - 070248127","Maricopa",4240,"070248000","Scottsdale Unified District",5059,"070248127","Cheyenne Traditional Elementary School",2.0916000000000001E-2,1.0956E-2,3.1872999999999999E-2,1004,"CHEYENNE TRADITIONAL ELEMENTARY SCHOOL","13636 NORTH 100TH STREET","SCOTTSDALE AZ 85260","() -","( ) -"]
["Chilchinbeto Community School - 033904009","Coconino",80242,"094006000","Chilchinbeto Community School",80378,"033904009","Chilchinbeto Community School",0.92,0,0.92,125]
["Children First Academy - Phoenix - 138705003","Yavapai",81052,"138705000","Edkey Inc. - Sequoia Ranch School",89920,"138705003","Children First Academy - Phoenix",1,0,1,301]
["Children First Academy - Tempe - 138705004","Yavapai",4239,"070241000","Gilbert Unified District",89921,"138705004","Children First Academy - Tempe",1,0,1,221]
["Children Reaching for the Sky Preparatory - 108789101","Pima",79500,"108789000","Griffin Foundation Inc. The",79512,"108789101","Children Reaching for the Sky Preparatory",0.79653700000000005,8.6580000000000004E-2,0.88311700000000004,231]
["Childrens Village I - 102701001","Pima",9800,"102255000","Tucson Metropolitan Ministry",80209,"102701001","Childrens Village I",1,0,1,6]
["Childrens Village II - 102701002","Pima",9800,"102255000","Tucson Metropolitan Ministry",80210,"102701002","Childrens Village II",1,0,1,5]
["Childrens Village III - 102701003","Pima",9800,"102255000","Tucson Metropolitan Ministry",80211,"102701003","Childrens Village III",1,0,1,6]
["Childrens Village IV - 102701004","Pima",9800,"102255000","Tucson Metropolitan Ministry",80212,"102701004","Childrens Village IV",1,0,1,4]
["Childrens Village V - 102701005","Pima",9800,"102255000","Tucson Metropolitan Ministry",80213,"102701005","Childrens Village V",1,0,1,6]
["Childrens Village VI - 102701006","Pima",9800,"102255000","Tucson Metropolitan Ministry",84657,"102701006","Childrens Village VI",1,0,1,6]
["Childrens Village VIII - 102255044","Pima",9800,"102255000","Tucson Metropolitan Ministry",91852,"102255044","Childrens Village VIII",1,0,1,4]
["Childrens Village VII-Shelter - 102255043","Pima",9800,"102255000","Tucson Metropolitan Ministry",9804,"102255043","Childrens Village VII-Shelter",1,0,1,5]
["Chinle Elementary School - 010224150","Apache",4158,"010224000","Chinle Unified District",4732,"010224150","Chinle Elementary School",0.68787299999999996,0.12325999999999999,0.81113299999999999,467,"CHINLE ELEMENTARY SCHOOL","P.O. BOX 587","CHINLE AZ 86503","(928) 674-9503","( ) -"]
["Chinle High School - 010224240","Apache",4158,"010224000","Chinle Unified District",4737,"010224240","Chinle High School",0.67456099999999997,0.12193,0.79649099999999995,976,"CHINLE HIGH SCHOOL","P.O. BOX 587","CHINLE AZ 86503","() -","( ) -"]
["Chinle Junior High School - 010224145","Apache",4158,"010224000","Chinle Unified District",4731,"010224145","Chinle Junior High School",0.71331800000000001,9.2550999999999994E-2,0.80586899999999995,429,"CHINLE JUNIOR HIGH SCHOOL","P.O. BOX 587","CHINLE AZ 86503","(928) 674-9405","( ) -"]
["Chino Valley High School - 130251203","Yavapai",4474,"130251000","Chino Valley Unified District",6110,"130251203","Chino Valley High School",0.51566299999999998,8.1928000000000001E-2,0.59758999999999995,739]
["Cholla Elementary School - 110404107","Pinal",4446,"110404000","Casa Grande Elementary District",5935,"110404107","Cholla Elementary School",0.58739799999999998,0.103659,0.69105700000000003,490]
["Cholla High Magnet School - 100201615","Pima",4403,"100201000","Tucson Unified District",5757,"100201615","Cholla High Magnet School",0.71905399999999997,7.2322999999999998E-2,0.791377,1438]
["Cholla Middle School - 070406124","Maricopa",4260,"070406000","Washington Elementary School District",5249,"070406124","Cholla Middle School",0.69950699999999999,7.0196999999999996E-2,0.76970400000000005,812,"CHOLLA MIDDLE SCHOOL","3120 W CHOLLA","PHOENIX AZ 85029 4199","() -","() -"]
["Cibecue - 104001005","Pima",80415,"093916000","Cibecue Community School Inc.",80416,"104001005","Cibecue",0.85346999999999995,3.0848E-2,0.88431899999999997,389]
["Cibola High School - 140570203","Yuma",4507,"140570000","Yuma Union High School District",6191,"140570203","Cibola High School",0.52736700000000003,9.9481E-2,0.62684799999999996,2503]
["Cienega High School - 100220201","Pima",4413,"100220000","Vail Unified District",79721,"100220201","Cienega High School",0.19700500000000001,7.1429000000000006E-2,0.26843299999999998,1736]
["Cimarron Springs Elementary - 070289112","Maricopa",4243,"070289000","Dysart Unified District",81112,"070289112","Cimarron Springs Elementary",0.323625,0.11219,0.43581399999999998,927,"CIMARRON SPRINGS ELEMENTARY","17032 W. SURPRISE FARMS LOOP SOUTH","SURPRISE AZ 85388","() -","() -"]
["Circle Cross Ranch K8 School - 110201106","Pinal",4437,"110201000","Florence Unified School District",89587,"110201106","Circle Cross Ranch K8 School",0.47228599999999998,0.116628,0.58891499999999997,866]
["City High School - 108720201","Pima",85448,"108720000","Tucson Small School Project",85451,"108720201","City High School",0.38922200000000001,7.7843999999999997E-2,0.46706599999999998,166]
["Clarendon School - 070408102","Maricopa",4262,"070408000","Osborn Elementary District",5278,"070408102","Clarendon School",0.78662200000000004,5.9271999999999998E-2,0.84589300000000001,1175,"CLARENDON SCHOOL","1225 W. CLARENDON","PHOENIX AZ 85013","() -","() -"]
["Clarkdale-Jerome Elementary School - 130403101","Yavapai",4486,"130403000","Clarkdale-Jerome Elementary District",6122,"130403101","Clarkdale-Jerome Elementary School",0.44698500000000002,9.3554999999999999E-2,0.54054100000000005,481]
["Clawson School - 020227102","Cochise",4174,"020227000","Douglas Unified District",4765,"020227102","Clawson School",0.77745699999999995,8.0924999999999997E-2,0.85838199999999998,346,"CLAWSON SCHOOL","1235 7TH STREET","DOUGLAS AZ 85607","() -","() -"]
["Clay Street Shelter - 102703002","Pima",80110,"102703000","Open-Inn Inc",80112,"102703002","Clay Street Shelter",1,0,1,8]
["Clifton High School - 060203202","Greenlee",4229,"060203000","Clifton Unified District",4905,"060203202","Clifton High School",0.70588200000000001,8.8234999999999994E-2,0.79411799999999999,34,"CLIFTON HIGH SCHOOL","110 HILL STREET","CLIFTON AZ 85533","(928) 865-2752","(928) 865-2792"]
["Cloves C Campbell Sr Elementary School - 070466022","Maricopa",4279,"070466000","Roosevelt Elementary District",79012,"070466022","Cloves C Campbell Sr Elementary School",0.81756799999999996,8.6149000000000003E-2,0.90371599999999996,590,"CLOVES C CAMPBELL SR ELEMENTARY SCHOOL","2624 EAST SOUTH MOUNTAIN AVENUE","PHOENIX AZ 85042","() -","() -"]
["Coatimundi Middle School - 120235140","Santa Cruz",4458,"120235000","Santa Cruz Valley Unified District",89775,"120235140","Coatimundi Middle School",0.57960199999999995,0.104478,0.68408000000000002,402]
["Cochise County Children Center - 102703003","Pima",80110,"102703000","Open-Inn Inc",80113,"102703003","Cochise County Children Center",1,0,1,18]
["Cochise Elementary School - 020326101","Cochise",4177,"020326000","Cochise Elementary District",4785,"020326101","Cochise Elementary School",0.46511599999999997,5.8139999999999997E-2,0.52325600000000005,86,"COCHISE ELEMENTARY SCHOOL","P.O. BOX 1088","COCHISE AZ 85606","() -","() -"]
["Cochise Elementary School - 070248102","Maricopa",4240,"070248000","Scottsdale Unified District",5043,"070248102","Cochise Elementary School",4.9154999999999997E-2,1.5361E-2,6.4516000000000004E-2,651,"COCHISE ELEMENTARY SCHOOL","9451 NORTH 84TH STREET","SCOTTSDALE AZ 85258","() -","() -"]
["Coconino High School - 030201282","Coconino",4192,"030201000","Flagstaff Unified District",4820,"030201282","Coconino High School",0.32282300000000003,5.1802000000000001E-2,0.37462499999999999,1303,"COCONINO HIGH SCHOOL","2801 N IZABEL STREET","FLAGSTAFF AZ 86004","() -","( ) -"]
["Cocopah Middle School - 070248169","Maricopa",4240,"070248000","Scottsdale Unified District",5065,"070248169","Cocopah Middle School",7.0022000000000001E-2,2.954E-2,9.9561999999999998E-2,912,"COCOPAH MIDDLE SCHOOL","6615 E. CHOLLA ST.","SCOTTSDALE AZ 85254","() -","() -"]
["Collier Elementary School - 070465104","Maricopa",4278,"070465000","Littleton Elementary District",79618,"070465104","Collier Elementary School",0.61081700000000005,0.146341,0.757158,938,"COLLIER ELEMENTARY SCHOOL","1252 S. AVONDALE BLVD.","AVONDALE AZ 85323","() -","( ) -"]
["Collier Elementary School - 100201170","Pima",4403,"100201000","Tucson Unified District",5668,"100201170","Collier Elementary School",0.22134400000000001,5.5336000000000003E-2,0.27667999999999998,253]
["Colonel Johnston Elementary School - 020100102","Cochise",4167,"020100000","Fort Huachuca Accommodation District",4747,"020100102","Colonel Johnston Elementary School",0.17886199999999999,0.246612,0.42547400000000002,369]
["Colonel Smith Middle School - 020100103","Cochise",4167,"020100000","Fort Huachuca Accommodation District",4748,"020100103","Colonel Smith Middle School",8.5033999999999998E-2,0.14965999999999999,0.23469400000000001,294]
["Combs High School - 110244201","Pinal",4445,"110244000","J O Combs Unified School District",89859,"110244201","Combs High School",0.354657,7.9021999999999995E-2,0.43367800000000001,1063]
["Compadre High School - 070513097","Maricopa",4287,"070513000","Tempe Union High School District",5450,"070513097","Compadre High School",0.57711999999999997,5.2094000000000001E-2,0.62921300000000002,979,"COMPADRE HIGH SCHOOL","500 W GUADALUPE RD","TEMPE AZ 85283","() -","() -"]
["Concho Elementary School - 010306101","Apache",4160,"010306000","Concho Elementary District",4742,"010306101","Concho Elementary School",0.74316899999999997,0.10929,0.85245899999999997,183,"CONCHO ELEMENTARY SCHOOL","P O BOX 200","CONCHO AZ 85924","() -","() -"]
["Concordia Charter School - 078530101","Maricopa",89556,"078530000","Concordia Charter School Inc.",89557,"078530101","Concordia Charter School",0.87777799999999995,6.6667000000000004E-2,0.94444399999999995,90,"CONCORDIA CHARTER SCHOOL","142 NORTH DATE ST.","MESA AZ 85201","(480) 461-0555","(480) 461-0556"]
["Congress Elementary School - 130317001","Yavapai",4479,"130317000","Congress Elementary District",6114,"130317001","Congress Elementary School",0.65517199999999998,6.8966E-2,0.72413799999999995,116]
["Connolly Middle School - 070403144","Maricopa",4258,"070403000","Tempe School District",5231,"070403144","Connolly Middle School",0.63249500000000003,7.6401999999999998E-2,0.708897,1028,"CONNOLLY MIDDLE SCHOOL","2002 EAST CONCORDA DRIVE","TEMPE AZ 85282","() -","() -"]
["Constitution Elementary School - 070297115","Maricopa",4246,"070297000","Deer Valley Unified District",5146,"070297115","Constitution Elementary School",0.80713100000000004,7.4553999999999995E-2,0.88168599999999997,614,"CONSTITUTION ELEMENTARY SCHOOL","18440 N. 15TH AVENUE","PHOENIX AZ 85023","() -","() -"]
["Continental Elementary School - 100339001","Pima",4416,"100339000","Continental Elementary District",5855,"100339001","Continental Elementary School",0.30892900000000001,0.107143,0.41607100000000002,560]
["Continental Project - 030201285","Coconino",4192,"030201000","Flagstaff Unified District",90766,"030201285","Continental Project",0.63636400000000004,9.0909000000000004E-2,0.72727299999999995,11]
["Coolidge High School - 110221007","Pinal",4442,"110221000","Coolidge Unified District",5916,"110221007","Coolidge High School",0.66816799999999998,5.4053999999999998E-2,0.72222200000000003,666]
["Copper Basin - 110201103","Pinal",4437,"110201000","Florence Unified School District",85853,"110201103","Copper Basin",0.47496899999999997,0.101343,0.57631299999999996,819]
["Copper Canyon Academy - 078664001","Maricopa",6375,"078664000","Employ-Ability Unlimited Inc.",5495,"078664001","Copper Canyon Academy",0.57364300000000001,0.124031,0.69767400000000002,258,"COPPER CANYON ACADEMY","7785 W. PEORIA AVE","PEORIA AZ 85345","(623) 930-1734","(623) 930-8709"]
["Copper Canyon Elementary School - 070269128","Maricopa",4241,"070269000","Paradise Valley Unified District",5083,"070269128","Copper Canyon Elementary School",5.9132999999999998E-2,3.9420000000000002E-3,6.3075000000000006E-2,729,"COPPER CANYON ELEMENTARY SCHOOL","17650 NORTH 54TH STREET","SCOTTSDALE AZ 85254","(602) 449-7200","( ) -"]
["Copper Canyon High School - 070514204","Maricopa",4288,"070514000","Tolleson Union High School District",85810,"070514204","Copper Canyon High School",0.65250300000000006,0.107683,0.76018600000000003,1718,"COPPER CANYON HIGH SCHOOL","9126 WEST CAMELBACK RD","GLENDALE AZ 85305","() -","() -"]
["Copper Creek Elementary - 070297134","Maricopa",4246,"070297000","Deer Valley Unified District",5160,"070297134","Copper Creek Elementary",0.121354,3.6172999999999997E-2,0.157526,856,"COPPER CREEK ELEMENTARY","7071 W. HILLCREST BLVD.","GLENDALE AZ 85310","() -","() -"]
["Copper Creek Elementary School - 100210118","Pima",4406,"100210000","Amphitheater Unified District",5802,"100210118","Copper Creek Elementary School",0.199382,3.4002999999999999E-2,0.23338500000000001,647]
["Copper King Elementary - 070492018","Maricopa",4283,"070492000","Pendergast Elementary District",5423,"070492018","Copper King Elementary",0.65509499999999998,0.104143,0.759239,885,"COPPER KING ELEMENTARY","10730 W.CAMPBELL","PHOENIX AZ 85037","() -","( ) -"]
["Copper Ridge Elementary School - 070248130","Maricopa",4240,"070248000","Scottsdale Unified District",79639,"070248130","Copper Ridge Elementary School",3.083E-2,5.5339999999999999E-3,3.6364E-2,1265,"COPPER RIDGE ELEMENTARY SCHOOL","10101 E. THOMPSON PEAK PARKWAY","SCOTTSDALE AZ 85255","() -","() -"]
["Copper Rim Elementary School - 040201003","Gila",4208,"040201000","Globe Unified District",4854,"040201003","Copper Rim Elementary School",0.43417099999999997,5.0250999999999997E-2,0.48442200000000002,695,"COPPER RIM ELEMENTARY SCHOOL","455 WILLOW","GLOBE AZ 85501","() -","() -"]
["Copper Trails - 070444110","Maricopa",4272,"070444000","Avondale Elementary District",90028,"070444110","Copper Trails",0.35058099999999998,0.11298800000000001,0.46356900000000001,946,"COPPER TRAILS","16875 WEST CANYON TRAILS BLVD.","GOODYEAR AZ 85338","(623) 772-4100","(623) 772-4120"]
["Copper View Elementary School - 100230104","Pima",4411,"100230000","Sahuarita Unified District",91338,"100230104","Copper View Elementary School",0.19395899999999999,6.6772999999999999E-2,0.26073099999999999,629]
["Copperwood School - 070211109","Maricopa",4237,"070211000","Peoria Unified School District",4997,"070211109","Copperwood School",0.32899,8.1433000000000005E-2,0.41042299999999998,921,"COPPERWOOD SCHOOL","11232 NORTH 65TH AVE","GLENDALE AZ 85304","(623) 412-4650","(623) 412-4660"]
["Corbett Elementary School - 100201173","Pima",4403,"100201000","Tucson Unified District",5669,"100201173","Corbett Elementary School",0.65822800000000004,6.3291E-2,0.72151900000000002,474]
["Cordova Middle School - 070468107","Maricopa",4280,"070468000","Alhambra Elementary District",5386,"070468107","Cordova Middle School",0.93161499999999997,3.6670000000000001E-2,0.96828499999999995,1009,"CORDOVA MIDDLE SCHOOL","5631 N. 35TH AVE.","PHOENIX AZ 85017","(602) 841-0704","(602) 973-8416"]
["Cordova Primary School - 070468108","Maricopa",4280,"070468000","Alhambra Elementary District",6031,"070468108","Cordova Primary School",0.95294100000000004,2.1849E-2,0.97479000000000005,595,"CORDOVA PRIMARY SCHOOL","6615 N. 39TH AVE.","PHOENIX AZ 85019","(602) 242-5828","(602) 973-8416"]
["Cornerstone Charter School - 078994001","Maricopa",79084,"078914000","Skyline Schools Inc.",79099,"078994001","Cornerstone Charter School",0.85204100000000005,5.6121999999999998E-2,0.90816300000000005,196,"CORNERSTONE CHARTER SCHOOL","7107 N BLACK CANYON HWY","PHOENIX AZ 85021","(602) 595-2198","(602) 242-2398"]
["Corona Del Sol High School - 070513094","Maricopa",4287,"070513000","Tempe Union High School District",5447,"070513094","Corona Del Sol High School",0.103756,1.9338000000000001E-2,0.123094,2681,"CORONA DEL SOL HIGH SCHOOL","1001 E. KNOX ROAD","TEMPE AZ 85284","() -","( ) -"]
["Corona Foothills Middle School - 100220110","Pima",4413,"100220000","Vail Unified District",87470,"100220110","Corona Foothills Middle School",0.30638300000000002,8.2978999999999997E-2,0.38936199999999999,470]
["Coronado Elementary School - 070260102","Maricopa",4248,"070260000","Higley Unified School District",79227,"070260102","Coronado Elementary School",0.13048000000000001,6.4717999999999998E-2,0.19519800000000001,958,"CORONADO ELEMENTARY SCHOOL","4333 SOUTH DEANZA BLVD.","GILBERT AZ 85297","(480) 279-6900","(480) 279-6905"]
["Coronado Elementary School - 020349102","Cochise",4180,"020349000","Palominas Elementary District",4789,"020349102","Coronado Elementary School",0.38268799999999997,9.5671999999999993E-2,0.47836000000000001,439,"CORONADO ELEMENTARY SCHOOL","PO BOX 38","HEREFORD AZ 85615","() -","( ) -"]
["Coronado Elementary School - 010201102","Apache",4153,"010201000","St Johns Unified District",4517,"010201102","Coronado Elementary School",0.49586799999999998,6.6115999999999994E-2,0.56198300000000001,242,"CORONADO ELEMENTARY SCHOOL","P O BOX 609","ST JOHNS AZ 85936","() -","() -"]
["Coronado High School - 070248293","Maricopa",4240,"070248000","Scottsdale Unified District",5067,"070248293","Coronado High School",0.63488,0.117698,0.75257700000000005,1161,"CORONADO HIGH SCHOOL","7501 E. VIRGINIA AVENUE","SCOTTSDALE AZ 85257","(480) 484-6800","( ) -"]
["Coronado K-8 School - 100210115","Pima",4406,"100210000","Amphitheater Unified District",5799,"100210115","Coronado K-8 School",0.38622800000000002,4.5907999999999997E-2,0.43213600000000002,1002]
["Corte Sierra Elementary School - 070479108","Maricopa",4281,"070479000","Litchfield Elementary District",80054,"070479108","Corte Sierra Elementary School",0.39767400000000003,9.5349000000000003E-2,0.49302299999999999,860,"CORTE SIERRA ELEMENTARY SCHOOL","272 EAST SAGEBRUSH STREET","LITCHFIELD PARK AZ 85340","() -","( ) -"]
["Cortez High School - 070505204","Maricopa",4285,"070505000","Glendale Union High School District",5429,"070505204","Cortez High School",0.704044,8.3640000000000006E-2,0.78768400000000005,1088,"CORTEZ HIGH SCHOOL","8828 N. 31ST AVENUE","PHOENIX AZ 85051","() -","( ) -"]
["Cortina Elementary - 070260106","Maricopa",4248,"070260000","Higley Unified School District",88422,"070260106","Cortina Elementary",0.133219,5.8069999999999997E-2,0.19128899999999999,1171,"CORTINA ELEMENTARY","19680 S. 188TH ST.","QUEEN CREEK AZ 85242","(480) 279-7800","(480) 279-7805"]
["Cotton Boll School - 070211111","Maricopa",4237,"070211000","Peoria Unified School District",4999,"070211111","Cotton Boll School",0.47753400000000001,0.13897599999999999,0.61651,957,"COTTON BOLL SCHOOL","8540 W. BUTLER DRIVE","PEORIA AZ 85345","(623) 412-4700","(623) 412-4705"]
["Cottonwood Day School - 014305001","Apache",6570,"014305000","Cottonwood Day School",6571,"014305001","Cottonwood Day School",0.85714299999999999,6.7460000000000006E-2,0.92460299999999995,252]
["Cottonwood Elementary School - 110404101","Pinal",4446,"110404000","Casa Grande Elementary District",5929,"110404101","Cottonwood Elementary School",0.76356599999999997,7.3643E-2,0.83720899999999998,516]
["Cottonwood Elementary School - 130406101","Yavapai",4487,"130406000","Cottonwood-Oak Creek Elementary District",6123,"130406101","Cottonwood Elementary School",0.72222200000000003,9.8291000000000003E-2,0.82051300000000005,468]
["Cottonwood Elementary School - 100220107","Pima",4413,"100220000","Vail Unified District",79719,"100220107","Cottonwood Elementary School",0.29011300000000001,6.9692000000000004E-2,0.35980600000000001,617]
["Cottonwood Middle School - 130406102","Yavapai",4487,"130406000","Cottonwood-Oak Creek Elementary District",6124,"130406102","Cottonwood Middle School",0.60967199999999999,9.8446000000000006E-2,0.708117,579]
["Country Meadows Elementary School - 070211126","Maricopa",4237,"070211000","Peoria Unified School District",79223,"070211126","Country Meadows Elementary School",0.61036800000000002,0.101171,0.711538,1196,"COUNTRY MEADOWS ELEMENTARY SCHOOL","8409 N. 111TH AVE.","PEORIA AZ 85345","(623) 412-5200","(623) 412-5207"]
["Country Place Elementary - 070465106","Maricopa",4278,"070465000","Littleton Elementary District",87476,"070465106","Country Place Elementary",0.70964099999999997,0.14574000000000001,0.85538099999999995,892,"COUNTRY PLACE ELEMENTARY","1252 S. AVONDALE BLVD.","AVONDALE AZ 85353","() -","( ) -"]
["Countryside Elementary - 070289109","Maricopa",4243,"070289000","Dysart Unified District",80052,"070289109","Countryside Elementary",0.41600900000000002,9.0191999999999994E-2,0.50620100000000001,887,"COUNTRYSIDE ELEMENTARY","15047 N. PARKVIEW PLACE","SURPRISE AZ 85379","(623) 876-7800","(623) 876-7811"]
["Coyote Canyon School - 080415103","Mohave",4378,"080415000","Bullhead City School District",5583,"080415103","Coyote Canyon School",0.82926800000000001,5.5285000000000001E-2,0.88455300000000003,625,"COYOTE CANYON SCHOOL","1820 LAKESIDE DRIVE","BULLHEAD CITY AZ 86442","(928) 758-4909","(928) 758-8670"]
["Coyote Hills Elementary School - 070211127","Maricopa",4237,"070211000","Peoria Unified School District",79222,"070211127","Coyote Hills Elementary School",0.13431599999999999,2.7026999999999999E-2,0.16134299999999999,1221,"COYOTE HILLS ELEMENTARY SCHOOL","21180 NORTH 87TH AVENUE","PEORIA AZ 85382","(623) 412-5225","(623) 412-5232"]
["Coyote Ridge - 070440115","Maricopa",4271,"070440000","Glendale Elementary District",79782,"070440115","Coyote Ridge",0.69750500000000004,0.13513500000000001,0.83264000000000005,946,"COYOTE RIDGE","7677 W. BETHANY","GLENDALE AZ 85303","() -","() -"]
["Coyote Springs Elementary School - 130222133","Yavapai",4469,"130222000","Humboldt Unified District",6095,"130222133","Coyote Springs Elementary School",0.54012300000000002,8.3333000000000004E-2,0.62345700000000004,634]
["Coyote Trail Elementary School - 100206119","Pima",4404,"100206000","Marana Unified District",5777,"100206119","Coyote Trail Elementary School",0.25301200000000001,6.0241000000000003E-2,0.313253,581]
["Cradleboard School - 090220106","Navajo",4394,"090220000","Whiteriver Unified District",5636,"090220106","Cradleboard School",0.68768799999999997,0.12012,0.80780799999999997,339,"CRADLEBOARD SCHOOL","PO BOX 190","WHITERIVER AZ 85941","() -","() -"]
["Cragin Elementary School - 100201179","Pima",4403,"100201000","Tucson Unified District",5670,"100201179","Cragin Elementary School",0.876081,3.4582000000000002E-2,0.910663,347]
["Crane Middle School - 140413103","Yuma",4501,"140413000","Crane Elementary District",6172,"140413103","Crane Middle School",0.5625,0.14215700000000001,0.70465699999999998,770]
["Craycroft Elementary School - 100212108","Pima",4407,"100212000","Sunnyside Unified District",5810,"100212108","Craycroft Elementary School",0.64638799999999996,0.10392899999999999,0.75031700000000001,789]
["Creighton Elementary School - 070414110","Maricopa",4263,"070414000","Creighton Elementary District",5283,"070414110","Creighton Elementary School",0.94969300000000001,1.5951E-2,0.96564399999999995,793,"CREIGHTON ELEMENTARY SCHOOL","2802 E. MCDOWELL ROAAD","PHOENIX AZ 85008","() -","() -"]
["Crestview College Preparatory High School - 078950001","Maricopa",79874,"078950000","American Charter Schools Foundation d.b.a. Crestview College Preparatory High Sc",78813,"078950001","Crestview College Preparatory High School",0.73626400000000003,8.0586000000000005E-2,0.81684999999999997,262,"CRESTVIEW COLLEGE PREPARATORY HIGH SCHOOL","2616 EAST GREENWAY","PHOENIX AZ 85032","(602) 765-8470","(602) 765-8471"]
["Crisis Nursery Inc. - 072702001","Maricopa",80235,"072702000","Crisis Nursery Inc.",80236,"072702001","Crisis Nursery Inc.",1,0,1,36]
["Crismon Elementary School - 070204133","Maricopa",4235,"070204000","Mesa Unified District",4945,"070204133","Crismon Elementary School",0.428371,5.1965999999999998E-2,0.48033700000000001,701,"CRISMON ELEMENTARY SCHOOL","825 W MEDINA","MESA AZ 85210","() -","() -"]
["Crossroads - 070204282","Maricopa",4235,"070204000","Mesa Unified District",88420,"070204282","Crossroads",0.53968300000000002,0.103175,0.64285700000000001,121,"CROSSROADS","535 S. LEWIS STREET","MESA AZ 85210","() -","( ) -"]
["Curiel School - 110411103","Pinal",4448,"110411000","Eloy Elementary District",5940,"110411103","Curiel School",0.897872,4.2553000000000001E-2,0.94042599999999998,470]
["Curry Elementary School - 070403122","Maricopa",4258,"070403000","Tempe School District",5221,"070403122","Curry Elementary School",0.76190500000000005,7.0475999999999997E-2,0.83238100000000004,522,"CURRY ELEMENTARY SCHOOL","1974 EAST MEADOW DRIVE","TEMPE AZ 85282","() -","() -"]
["D Mitchell RES - 072122002","Maricopa",7320,"072122000","A New Leaf",7322,"072122002","D Mitchell RES",1,0,1,8]
["Dan Hinton Accommodation School - 050199001","Graham",4220,"050206000","Pima Unified District",4879,"050199001","Dan Hinton Accommodation School",0.67647100000000004,8.8234999999999994E-2,0.764706,34]
["Dateland Elementary School - 140416101","Yuma",4502,"140416000","Hyder Elementary District",6180,"140416101","Dateland Elementary School",0.79230800000000001,0.138462,0.93076899999999996,115]
["David Crockett School - 070431102","Maricopa",4268,"070431000","Balsz Elementary District",5320,"070431102","David Crockett School",0.89837400000000001,4.0649999999999999E-2,0.93902399999999997,492,"DAVID CROCKETT SCHOOL","501 N 36TH STREET","PHOENIX AZ 85008","() -","() -"]
["Davidson Elementary School - 100201185","Pima",4403,"100201000","Tucson Unified District",5671,"100201185","Davidson Elementary School",0.82831299999999997,3.9156999999999997E-2,0.86746999999999996,332]
["Davis Bilingual Magnet School - 100201191","Pima",4403,"100201000","Tucson Unified District",5672,"100201191","Davis Bilingual Magnet School",0.481132,5.6604000000000002E-2,0.53773599999999999,318]
["Deer Valley High School - 070297219","Maricopa",4246,"070297000","Deer Valley Unified District",5161,"070297219","Deer Valley High School",0.27589900000000001,9.0714000000000003E-2,0.36661300000000002,1860,"DEER VALLEY HIGH SCHOOL","18424 N. 51ST AVE.","GLENDALE AZ 85308","() -","() -"]
["Deer Valley Middle School - 070297111","Maricopa",4246,"070297000","Deer Valley Unified District",5142,"070297111","Deer Valley Middle School",0.62142900000000001,0.105714,0.72714299999999998,696,"DEER VALLEY MIDDLE SCHOOL","21100 NORTH 27TH AVENUE","PHOENIX AZ 85027","() -","() -"]
["Degrazia Elementary School - 100206111","Pima",4404,"100206000","Marana Unified District",5769,"100206111","Degrazia Elementary School",0.34704800000000002,0.100179,0.44722699999999999,559]
["Del Rio Elementary School - 130251101","Yavapai",4474,"130251000","Chino Valley Unified District",6108,"130251101","Del Rio Elementary School",0.580488,0.10569099999999999,0.68617899999999998,599]
["Dennehotso Boarding School - 033904011","Coconino",9693,"094003000","Dennehotso Boarding School",80377,"033904011","Dennehotso Boarding School",0.77914099999999997,2.4539999999999999E-2,0.80368099999999998,163]
["Desert Canyon Elementary - 070248129","Maricopa",4240,"070248000","Scottsdale Unified District",6010,"070248129","Desert Canyon Elementary",7.7655000000000002E-2,3.1696000000000002E-2,0.10935,631,"DESERT CANYON ELEMENTARY","10203 E MCDOWELL MOUNTAIN RANCH ROAD","SCOTTSDALE AZ 85255","() -","() -"]
["Desert Canyon Middle School - 070248164","Maricopa",4240,"070248000","Scottsdale Unified District",5061,"070248164","Desert Canyon Middle School",0.15251600000000001,2.9874000000000001E-2,0.18239,636,"DESERT CANYON MIDDLE SCHOOL","10203 E. MCDOWELL MTN. RANCH RD","SCOTTSDALE AZ 85255","() -","() -"]
["Desert Cove Elementary School - 070269125","Maricopa",4241,"070269000","Paradise Valley Unified District",5080,"070269125","Desert Cove Elementary School",0.364929,5.6871999999999999E-2,0.42180099999999998,609,"DESERT COVE ELEMENTARY SCHOOL","11020 NORTH 28TH STREET","PHOENIX AZ 85028","(602) 449-3400","( ) -"]
["Desert Edge High School - 070516203","Maricopa",4289,"070516000","Agua Fria Union High School District",79799,"070516203","Desert Edge High School",0.40012900000000001,0.10278,0.50290900000000005,1547,"DESERT EDGE HIGH SCHOOL","15778 WEST YUMA ROAD","GOODYEAR AZ 85338","() -","() -"]
["Desert Foothills Middle School - 070406126","Maricopa",4260,"070406000","Washington Elementary School District",5250,"070406126","Desert Foothills Middle School",0.56804699999999997,9.1716000000000006E-2,0.65976299999999999,676,"DESERT FOOTHILLS MIDDLE SCHOOL","3333 W BANFF","PHOENIX AZ 85053","(520) 896-5500","(520) 896-5520"]
["Desert Garden Elementary School - 070440114","Maricopa",4271,"070440000","Glendale Elementary District",5345,"070440114","Desert Garden Elementary School",0.88340799999999997,3.2510999999999998E-2,0.91591900000000004,874,"DESERT GARDEN ELEMENTARY SCHOOL","7020 W. OCOTILLO ROAD","GLENDALE AZ 85303","(623) 237-5401","(623) 237-5415"]
["Desert Harbor Elementary School - 070211123","Maricopa",4237,"070211000","Peoria Unified School District",5011,"070211123","Desert Harbor Elementary School",0.23607700000000001,5.2058E-2,0.288136,826,"DESERT HARBOR ELEMENTARY SCHOOL","15585 N. 91ST AVENUE","PEORIA AZ 85382","(623) 486-6200","(623) 486-6207"]
["Desert Heights Charter School - 078621101","Maricopa",81099,"078621000","Partnership with Parents Inc.",78950,"078621101","Desert Heights Charter School",0.31730799999999998,0.105769,0.42307699999999998,832,"DESERT HEIGHTS CHARTER SCHOOL","5821 WEST BEVERLY LANE","GLENDALE AZ 85306","(602) 896-2900","( ) -"]
["Desert Hills High School - 078947001","Maricopa",79872,"078947000","American Charter Schools Foundation d.b.a. Desert Hills High School",78901,"078947001","Desert Hills High School",0.42036600000000002,0.114883,0.53524799999999995,383,"DESERT HILLS HIGH SCHOOL","1515 S. VAL VISTA DR.","GILBERT AZ 85296","() -","() -"]
["Desert Horizon Elementary School - 070492013","Maricopa",4283,"070492000","Pendergast Elementary District",5418,"070492013","Desert Horizon Elementary School",0.73258000000000001,9.1337000000000002E-2,0.82391700000000001,1051,"DESERT HORIZON ELEMENTARY SCHOOL","8525 WEST OSBORN ROAD","PHOENIX AZ 85037","() -","( ) -"]
["Desert Meadows Elementary School - 070459106","Maricopa",4276,"070459000","Laveen Elementary District",89266,"070459106","Desert Meadows Elementary School",0.64374299999999995,0.10372000000000001,0.74746299999999999,887,"DESERT MEADOWS ELEMENTARY SCHOOL","6855 W. MEADOWS LOOP EAST","LAVEEN AZ 85339","(602) 304-2020","(602) 304-2025"]
["Desert Mesa Elementary School - 140401113","Yuma",4499,"140401000","Yuma Elementary District",6159,"140401113","Desert Mesa Elementary School",0.47164899999999998,7.8607999999999997E-2,0.55025800000000002,696]
["Desert Mirage Elementary School - 070492017","Maricopa",4283,"070492000","Pendergast Elementary District",5422,"070492017","Desert Mirage Elementary School",0.55191999999999997,8.8192999999999994E-2,0.64011399999999996,698,"DESERT MIRAGE ELEMENTARY SCHOOL","8605 W. MARYLAND AVENUE","GLENDALE AZ 85305","() -","( ) -"]
["Desert Moon School - 070289126","Maricopa",4243,"070289000","Dysart Unified District",89822,"070289126","Desert Moon School",0.50543499999999997,8.9674000000000004E-2,0.595109,368,"DESERT MOON SCHOOL","23251 NORTH 166TH DRIVE","SURPRISE AZ 85387","() -","( ) -"]
["Desert Mosaic School - 108774001","Pima",79058,"108774000","MultiDimensional Literacy Corp.",79118,"108774001","Desert Mosaic School",0.5,0.102941,0.60294099999999995,68]
["Desert Mountain Elementary - 070295102","Maricopa",4245,"070295000","Queen Creek Unified District",5139,"070295102","Desert Mountain Elementary",0.15942000000000001,3.5196999999999999E-2,0.19461700000000001,469,"DESERT MOUNTAIN ELEMENTARY","22301 S. HAWES","QUEEN CREEK AZ 85242","(480) 987-5912","(480) 987-5914"]
["Desert Mountain High School - 070248296","Maricopa",4240,"070248000","Scottsdale Unified District",5070,"070248296","Desert Mountain High School",6.4288999999999999E-2,2.1576000000000001E-2,8.5864999999999997E-2,2266,"DESERT MOUNTAIN HIGH SCHOOL","12575 E. VIA LINDA","SCOTTSDALE AZ 85259","(480) 484-7000","(480) 484-7001"]
["Desert Mountain School - 070297132","Maricopa",4246,"070297000","Deer Valley Unified District",5159,"070297132","Desert Mountain School",0.22786300000000001,5.0767E-2,0.27862999999999999,845,"DESERT MOUNTAIN SCHOOL","35959 N. 7TH AVENUE","DESERT HILLS AZ 85086","() -","() -"]
["Desert Oasis Elementary School - 070381102","Maricopa",4252,"070381000","Nadaburg Unified School District",89748,"070381102","Desert Oasis Elementary School",0.57894699999999999,7.8947000000000003E-2,0.65789500000000001,449,"DESERT OASIS ELEMENTARY SCHOOL","32919 CENTER STREET","WITTMANN AZ 85361","() -","( ) -"]
["Desert Oasis Elementary School - 070417104","Maricopa",4264,"070417000","Tolleson Elementary District",87526,"070417104","Desert Oasis Elementary School",0.772289,8.7952000000000002E-2,0.86024100000000003,830,"DESERT OASIS ELEMENTARY SCHOOL","9401 W. GARFIELD ST.","TOLLESON AZ 85353","(623) 533-3901","(623) 533-3902"]
["Desert Palms Elementary School - 070211107","Maricopa",4237,"070211000","Peoria Unified School District",4995,"070211107","Desert Palms Elementary School",0.58925799999999995,9.9526000000000003E-2,0.68878399999999995,633,"DESERT PALMS ELEMENTARY SCHOOL","11441 N. 55TH AVENUE","GLENDALE AZ 85304","() -","() -"]
["Desert Ridge High - 070241213","Maricopa",4239,"070241000","Gilbert Unified District",79823,"070241213","Desert Ridge High",0.20285400000000001,8.1758999999999998E-2,0.28461199999999998,2593,"DESERT RIDGE HIGH","10045 E MADERO AVE","MESA AZ 85212","() -","( ) -"]
["Desert Ridge Jr. High - 070241124","Maricopa",4239,"070241000","Gilbert Unified District",79629,"070241124","Desert Ridge Jr. High",0.21096100000000001,8.9339000000000002E-2,0.30030000000000001,1332,"DESERT RIDGE JR. HIGH","10211 E. MADERO AVE.","MESA AZ 85209","() -","( ) -"]
["Desert Sage Elementary School - 070297129","Maricopa",4246,"070297000","Deer Valley Unified District",5156,"070297129","Desert Sage Elementary School",0.248811,6.9731000000000001E-2,0.31854199999999999,628,"DESERT SAGE ELEMENTARY SCHOOL","4035 W. ALAMEDA","GLENDALE AZ 85310","() -","() -"]
["Desert Sands Middle School - 070483109","Maricopa",4282,"070483000","Cartwright Elementary District",5406,"070483109","Desert Sands Middle School",0.86797299999999999,8.4326999999999999E-2,0.95230000000000004,1174,"DESERT SANDS MIDDLE SCHOOL","6308 W CAMPBELL AVE","PHOENIX AZ 85033","() -","() -"]
["Desert Shadows Elementary School - 070269130","Maricopa",4241,"070269000","Paradise Valley Unified District",5085,"070269130","Desert Shadows Elementary School",0.16784499999999999,2.8268999999999999E-2,0.19611300000000001,522,"DESERT SHADOWS ELEMENTARY SCHOOL","5902 E SWEETWATER","SCOTTSDALE AZ 85254","(602) 449-6900","( ) -"]
["Desert Shadows Middle School - 120201104","Santa Cruz",4457,"120201000","Nogales Unified District",5954,"120201104","Desert Shadows Middle School",0.62787599999999999,0.11908000000000001,0.74695500000000004,739]
["Desert Shadows Middle School - 070269170","Maricopa",4241,"070269000","Paradise Valley Unified District",5099,"070269170","Desert Shadows Middle School",0.132886,1.8792E-2,0.15167800000000001,708,"DESERT SHADOWS MIDDLE SCHOOL","5858 E SWEETWATER","SCOTTSDALE AZ 85254","(602) 449-6800","( ) -"]
["Desert Sky Middle School - 070297121","Maricopa",4246,"070297000","Deer Valley Unified District",5150,"070297121","Desert Sky Middle School",0.40670600000000001,0.119534,0.52623900000000001,683,"DESERT SKY MIDDLE SCHOOL","5130 WEST GROVERS AVENUE","GLENDALE AZ 85308","() -","() -"]
["Desert Sky Middle School - 100220108","Pima",4413,"100220000","Vail Unified District",79720,"100220108","Desert Sky Middle School",0.24291499999999999,7.8272999999999995E-2,0.32118799999999997,741]
["Desert Sonora Elementary School - 140411103","Yuma",4500,"140411000","Somerton Elementary District",6166,"140411103","Desert Sonora Elementary School",0.74759600000000004,0.100962,0.84855800000000003,416]
["Desert Spirit - 070440116","Maricopa",4271,"070440000","Glendale Elementary District",79815,"070440116","Desert Spirit",0.81263600000000002,7.8431000000000001E-2,0.89106799999999997,902,"DESERT SPIRIT","7355 W. ORANGEWOOD","GLENDALE AZ 85303","() -","() -"]
["Desert Springs Preparatory Elementary School - 070269159","Maricopa",4241,"070269000","Paradise Valley Unified District",5098,"070269159","Desert Springs Preparatory Elementary School",0.14038900000000001,3.8877000000000002E-2,0.17926600000000001,447,"DESERT SPRINGS PREPARATORY ELEMENTARY SCHOOL","6010 EAST ACOMA ROAD","SCOTTSDALE AZ 85254","(602) 449-7000","( ) -"]
["Desert Star - 070444107","Maricopa",4272,"070444000","Avondale Elementary District",79670,"070444107","Desert Star",0.47026299999999999,0.109267,0.57952999999999999,715,"DESERT STAR","2131 SOUTH 157TH AVENUE","GOODYEAR AZ 85338","() -","() -"]
["Desert Sun Academy - 070293706","Maricopa",4244,"070293000","Cave Creek Unified District",5136,"070293706","Desert Sun Academy",0.108738,9.7090000000000006E-3,0.118447,515,"DESERT SUN ACADEMY","P O BOX 426","CAVE CREEK AZ 85327","() -","() -"]
["Desert Thunder - 070444108","Maricopa",4272,"070444000","Avondale Elementary District",79792,"070444108","Desert Thunder",0.43128699999999998,0.106725,0.53801200000000005,679,"DESERT THUNDER","16750 W. GARFIELD DRIVE","GOODYEAR AZ 85338","(623) 772-4700","(623) 774-4720"]
["Desert Trails Elementary School - 070269138","Maricopa",4241,"070269000","Paradise Valley Unified District",5087,"070269138","Desert Trails Elementary School",8.7329000000000004E-2,5.1370000000000001E-3,9.2466000000000007E-2,554,"DESERT TRAILS ELEMENTARY SCHOOL","4315 EAST CASHMAN DR.","PHOENIX AZ 85050","(602) 449-4100","( ) -"]
["Desert Valley Elementary School - 070211113","Maricopa",4237,"070211000","Peoria Unified School District",5001,"070211113","Desert Valley Elementary School",0.397924,0.102076,0.5,578,"DESERT VALLEY ELEMENTARY SCHOOL","12901 N 63RD AVE","GLENDALE AZ 85304","() -","() -"]
["Desert Valley School - 080415105","Mohave",4378,"080415000","Bullhead City School District",5584,"080415105","Desert Valley School",0.83218700000000001,7.9780000000000004E-2,0.91196699999999997,683,"DESERT VALLEY SCHOOL","1066 MARINA BLVD.","BULLHEAD CITY AZ 86442","(928) 758-6606","(928) 758-5726"]
["Desert View Academy - 148759101","Yuma",79064,"148759000","Juniper Tree Academy",79112,"148759101","Desert View Academy",0.37474099999999999,0.171843,0.54658399999999996,483]
["Desert View Elementary - 140432108","Yuma",4505,"140432000","Gadsden Elementary District",81096,"140432108","Desert View Elementary",0.91409399999999996,5.6376000000000002E-2,0.97047000000000005,790]
["Desert View Elementary Intermediate - 030208101","Coconino",4196,"030208000","Page Unified District",4829,"030208101","Desert View Elementary Intermediate",0.68766799999999995,6.9705000000000003E-2,0.75737299999999996,726,"DESERT VIEW ELEMENTARY INTERMEDIATE","PO BOX 1927","PAGE AZ 86040","() -","() -"]
["Desert View Elementary School - 070406128","Maricopa",4260,"070406000","Washington Elementary School District",5251,"070406128","Desert View Elementary School",0.83908000000000005,7.4713000000000002E-2,0.91379299999999997,537,"DESERT VIEW ELEMENTARY SCHOOL","8621 N. 3RD STREET","PHOENIX AZ 85020","(602) 347-4000","(602) 347-4020"]
["Desert View High School - 100212211","Pima",4407,"100212000","Sunnyside Unified District",5826,"100212211","Desert View High School",0.72272000000000003,7.3801000000000005E-2,0.79652100000000003,1897]
["Desert Vista Elementary School - 110243104","Pinal",4443,"110243000","Apache Junction Unified District",5922,"110243104","Desert Vista Elementary School",0.56838900000000003,8.5106000000000001E-2,0.65349500000000005,658]
["Desert Vista High School - 070513096","Maricopa",4287,"070513000","Tempe Union High School District",5449,"070513096","Desert Vista High School",6.3242000000000007E-2,1.1235999999999999E-2,7.4478000000000003E-2,3115,"DESERT VISTA HIGH SCHOOL","16440 S 32ND ST","PHOENIX AZ 85048","() -","( ) -"]
["Desert Willow Elementary School - 110404130","Pinal",4446,"110404000","Casa Grande Elementary District",87948,"110404130","Desert Willow Elementary School",0.50671100000000002,8.0536999999999997E-2,0.58724799999999999,593]
["Desert Willow Elementary School - 070293705","Maricopa",4244,"070293000","Cave Creek Unified District",78912,"070293705","Desert Willow Elementary School",9.3278E-2,1.6461E-2,0.109739,729,"DESERT WILLOW ELEMENTARY SCHOOL","P.O. BOX 427","CAVE CREEK AZ 85327","() -","() -"]
["Desert Willow Elementary School - 080220119","Mohave",79598,"080220000","Kingman Unified School District",90667,"080220119","Desert Willow Elementary School",0.75728200000000001,8.7378999999999998E-2,0.84465999999999997,101,"DESERT WILLOW ELEMENTARY SCHOOL","3700 PROSPECTOR STREET","KINGMAN AZ 86401","() -","( ) -"]
["Desert Willow Elementary School - 100220105","Pima",4413,"100220000","Vail Unified District",5851,"100220105","Desert Willow Elementary School",0.26964900000000003,9.1897999999999994E-2,0.36154799999999998,827]
["Desert Wind Middle School - 110220134","Pinal",4441,"110220000","Maricopa Unified School District",89911,"110220134","Desert Wind Middle School",0.464646,0.108225,0.57287200000000005,693]
["Desert Winds Elementary School - 070297118","Maricopa",4246,"070297000","Deer Valley Unified District",5148,"070297118","Desert Winds Elementary School",0.59686899999999998,4.6967000000000002E-2,0.64383599999999996,509,"DESERT WINDS ELEMENTARY SCHOOL","19825 N. 15TH AVENUE","PHOENIX AZ 85027 4399","() -","() -"]
["Desert Winds Elementary School - 100206116","Pima",4404,"100206000","Marana Unified District",5774,"100206116","Desert Winds Elementary School",0.65375300000000003,7.5061000000000003E-2,0.72881399999999996,413]
["Desert Winds High School - 110502003","Pinal",4453,"110502000","Casa Grande Union High School District",5950,"110502003","Desert Winds High School",0.76258999999999999,5.0360000000000002E-2,0.81294999999999995,278]
["Destiny Community School - 078704101","Maricopa",4328,"078704000","DCS Partner Inc. dba Destiny Community School.",5499,"078704101","Destiny Community School",0.70588200000000001,0.117647,0.82352899999999996,51,"DESTINY COMMUNITY SCHOOL","4710 E. BASELINE RD.","MESA AZ 85206","(480) 325-8950","(480) 452-0911"]
["Destiny School - 048701001","Gila",6258,"048701000","Destiny School Inc.",10807,"048701001","Destiny School",0.65870300000000004,0.11262800000000001,0.77133099999999999,293,"DESTINY SCHOOL","798 E. PRICKLY PEAR DR.","GLOBE AZ 85501","(928) 425-0925","(928) 425-0927"]
["Devereux - 072102001","Maricopa",7295,"072102000","Devereux Arizona",7296,"072102001","Devereux",0.83076899999999998,0,0.83076899999999998,65]
["Diamond Canyon Elementary - 070297146","Maricopa",4246,"070297000","Deer Valley Unified District",85851,"070297146","Diamond Canyon Elementary",0.109745,4.0681000000000002E-2,0.150426,1053,"DIAMOND CANYON ELEMENTARY","40004 LIBERTY BELL WAY","ANTHEM AZ 85086","() -","() -"]
["Diamondback - 102133011","Pima",7909,"102133000","LA PALOMA FAMILY SERVICES Inc.",80450,"102133011","Diamondback",1,0,1,8]
["Diamondback Elementary School - 080415107","Mohave",4378,"080415000","Bullhead City School District",5585,"080415107","Diamondback Elementary School",0.63825799999999999,6.6288E-2,0.70454499999999998,528,"DIAMONDBACK ELEMENTARY SCHOOL","2550 TESOTA WAY","BULLHEAD CITY AZ 86442","() -","() -"]
["Dietz Elementary School - 100201197","Pima",4403,"100201000","Tucson Unified District",5673,"100201197","Dietz Elementary School",0.82596700000000001,5.8011E-2,0.88397800000000004,362]
["Dilcon Community School Inc. - 014012006","Apache",80274,"094016000","Dilcon Community School Inc.",80275,"014012006","Dilcon Community School Inc.",0.82962999999999998,5.1852000000000002E-2,0.88148099999999996,135]
["Dine Bi'Olta (Immersion School) - 010208116","Apache",4154,"010208000","Window Rock Unified District",85882,"010208116","Dine Bi'Olta (Immersion School)",0.63602899999999996,9.1911999999999994E-2,0.72794099999999995,258,"DINE BI'OLTA (IMMERSION SCHOOL)","PO BOX 559","FORT DEFIANCE AZ 86504","(928) 729-6842","(928) 729-6850"]
["Discovery Plus Academy - 058703001","Graham",6357,"058703000","Discovery Plus Academy",4898,"058703001","Discovery Plus Academy",0.56617600000000001,8.8234999999999994E-2,0.65441199999999999,119,"DISCOVERY PLUS ACADEMY","P.O. BOX 549","PIMA AZ 85543","(928) 485-2498","(928) 485-2508"]
["Discovery School - 070440113","Maricopa",4271,"070440000","Glendale Elementary District",5344,"070440113","Discovery School",0.76221099999999997,9.3829999999999997E-2,0.85604100000000005,774,"DISCOVERY SCHOOL","7910 W MARYLAND AVE","GLENDALE AZ 85303","() -","() -"]
["Dobson Academy - A Ball Charter School - 078988102","Maricopa",79204,"078988000","Ball Charter Schools (Dobson)",10729,"078988102","Dobson Academy - A Ball Charter School",0.27738499999999999,7.4204999999999993E-2,0.35159000000000001,566,"DOBSON ACADEMY, THE - A BALL CHARTER SCHOOL","2207 NORTH DOBSON ROAD","CHANDLER AZ 85224","() -","() -"]
["Dobson High School - 070204274","Maricopa",4235,"070204000","Mesa Unified District",4983,"070204274","Dobson High School",0.43481500000000001,6.9107000000000002E-2,0.50392199999999998,2668,"DOBSON HIGH SCHOOL","1501 W GUADALUPE","MESA AZ 85202 7575","() -","() -"]
["Don Mensendick School - 070440106","Maricopa",4271,"070440000","Glendale Elementary District",5337,"070440106","Don Mensendick School",0.90793699999999999,6.1376E-2,0.96931199999999995,934,"DON MENSENDICK SCHOOL","5535 N 67TH AVE","GLENDALE AZ 85301","() -","() -"]
["Doolen Middle School - 100201505","Pima",4403,"100201000","Tucson Unified District",5737,"100201505","Doolen Middle School",0.69444399999999995,4.0936E-2,0.73538000000000003,684]
["Dorothy Stinson School - 050201100","Graham",4218,"050201000","Safford Unified District",4881,"050201100","Dorothy Stinson School",0.53621200000000002,7.7993999999999994E-2,0.61420600000000003,718,"DOROTHY STINSON SCHOOL","2013 S. 8TH AVENUE","SAFFORD AZ 85546","(928) 348-7010","(928) 348-7011"]
["Dos Rios Elementary - 070462103","Maricopa",4277,"070462000","Union Elementary District",89592,"070462103","Dos Rios Elementary",0.72070100000000004,0.11938699999999999,0.84008799999999995,913,"DOS RIOS ELEMENTARY","2150 S. 87TH AVENUE","TOLLESON AZ 85353","(623) 474-7000","( ) -"]
["Douglas High School - 020227210","Cochise",4174,"020227000","Douglas Unified District",4773,"020227210","Douglas High School",0.71210899999999999,8.5805999999999993E-2,0.79791500000000004,1247,"DOUGLAS HIGH SCHOOL","1500 15TH STREET","DOUGLAS AZ 85607","() -","() -"]
["Dr Daniel Bright Elementary School - 130406104","Yavapai",4487,"130406000","Cottonwood-Oak Creek Elementary District",6126,"130406104","Dr Daniel Bright Elementary School",0.75609800000000005,7.1138000000000007E-2,0.82723599999999997,492]
["Dr Howard K Conley Elementary School - 070280122","Maricopa",4242,"070280000","Chandler Unified District #80",5126,"070280122","Dr Howard K Conley Elementary School",0.38973799999999997,8.5153000000000006E-2,0.47489100000000001,916,"DR HOWARD K CONLEY ELEMENTARY SCHOOL","500 S ARROWHEAD DR","CHANDLER AZ 85224","() -","() -"]
["Dr. Charles A. Bejarano Elementary School - 040240108","Gila",4211,"040240000","Miami Unified District",81122,"040240108","Dr. Charles A. Bejarano Elementary School",0.65957399999999999,7.1808999999999998E-2,0.73138300000000001,376,"DR. CHARLES A. BEJARANO ELEMENTARY SCHOOL","PO BOX 2070","MIAMI AZ 85539","(928) 425-3271","(928) 425-3051"]
["Drachman Primary Magnet School - 100201203","Pima",4403,"100201000","Tucson Unified District",5674,"100201203","Drachman Primary Magnet School",0.77419400000000005,4.8386999999999999E-2,0.82258100000000001,310]
["Dreaming Summit Elementary - 070479109","Maricopa",4281,"070479000","Litchfield Elementary District",85843,"070479109","Dreaming Summit Elementary",0.393152,7.7922000000000005E-2,0.47107399999999999,847,"DREAMING SUMMIT ELEMENTARY","272 EAST SAGEBRUSH STREET","LITCHFIELD AZ 85340","(623) 547-1200","( ) -"]
["Drexel Elementary School - 100212112","Pima",4407,"100212000","Sunnyside Unified District",5812,"100212112","Drexel Elementary School",0.91186400000000001,4.4068000000000003E-2,0.955932,590]
["Duncan Elementary - 060202102","Greenlee",4228,"060202000","Duncan Unified District",4902,"060202102","Duncan Elementary",0.451737,0.158301,0.610039,259,"DUNCAN ELEMENTARY","P.O. BOX 710","DUNCAN AZ 85534 0710","() -","() -"]
["Duncan High School - 060202203","Greenlee",4228,"060202000","Duncan Unified District",4903,"060202203","Duncan High School",0.25600000000000001,0.128,0.38400000000000001,125,"DUNCAN HIGH SCHOOL","PO BOX 710","DUNCAN AZ 85534","() -","() -"]
["Dunham Elementary School - 100201211","Pima",4403,"100201000","Tucson Unified District",5676,"100201211","Dunham Elementary School",0.56431500000000001,4.1494000000000003E-2,0.60580900000000004,241]
["Durango Juvenile Detention Facility - 071001002","Maricopa",7291,"071001000","MARICOPA DET-H",89614,"071001002","Durango Juvenile Detention Facility",1,0,1,131]
["Dysart Elementary School - 070289101","Maricopa",4243,"070289000","Dysart Unified District",5128,"070289101","Dysart Elementary School",0.66903599999999996,9.0355000000000005E-2,0.75939100000000004,985,"DYSART ELEMENTARY SCHOOL","12950 W. VARNEY ROAD","EL MIRAGE AZ 85335 9233","() -","() -"]
["Dysart High School - 070289205","Maricopa",4243,"070289000","Dysart Unified District",5133,"070289205","Dysart High School",0.54812499999999997,0.10249999999999999,0.65062500000000001,1600,"DYSART HIGH SCHOOL","11425 N. DYSART ROAD","EL MIRAGE AZ 85335","() -","() -"]
["Dzil Libei Elementary School - 030215111","Coconino",4197,"030215000","Tuba City Unified District",4834,"030215111","Dzil Libei Elementary School",0.82727300000000004,9.0910000000000001E-3,0.836364,96,"DZIL LIBEI ELEMENTARY SCHOOL","P. O. BOX 67","TUBA CITY AZ 86045","() -","() -"]
["E C Nash School - 100210110","Pima",4406,"100210000","Amphitheater Unified District",5796,"100210110","E C Nash School",0.95454499999999998,2.8139000000000001E-2,0.982684,462]
["EAGLE College Prep - 078541101","Maricopa",89850,"078541000","EAGLE South Mountain Charter Inc.",89851,"078541101","EAGLE College Prep",0.34595500000000001,0.12220300000000001,0.46815800000000002,581,"EAGLE COLLEGE PREP","2450 WEST SOUTH MOUNTAIN AVE.","PHOENIX AZ 85041","(602) 323-5400","(602) 323-5401"]
["EAGLE College Prep Harmony - 078202001","Maricopa",91170,"078202000","EAGLE College Prep II Inc. dba EAGLE College Prep Harmony",91171,"078202001","EAGLE College Prep Harmony",0.54601200000000005,6.7485000000000003E-2,0.61349699999999996,163,"EAGLE COLLEGE PREP HARMONY","2450 W. SOUTH MTN AVE.","PHOENIX AZ 85041","(602) 885-7333","( ) -"]
["Eagle Ridge Elementary School - 070269123","Maricopa",4241,"070269000","Paradise Valley Unified District",5078,"070269123","Eagle Ridge Elementary School",0.48424499999999998,6.6335000000000005E-2,0.55057999999999996,549,"EAGLE RIDGE ELEMENTARY SCHOOL","19801 NORTH 13TH STREET","PHOENIX AZ 85024","(602) 449-5700","( ) -"]
["Eagleridge Enrichment Program - 070204195","Maricopa",4235,"070204000","Mesa Unified District",4967,"070204195","Eagleridge Enrichment Program",0.121212,3.3868000000000002E-2,0.15508,559,"EAGLERIDGE ENRICHMENT PROGRAM","737 W. GUADALUPE ROAD SUITE 113","MESA AZ 85210 7713","() -","() -"]
["Eagles Nest Intermediate School - 030215120","Coconino",4197,"030215000","Tuba City Unified District",4836,"030215120","Eagles Nest Intermediate School",0.76791799999999999,7.5084999999999999E-2,0.84300299999999995,277,"EAGLES NEST INTERMEDIATE SCHOOL","PO BOX 67","TUBA CITY AZ 86045","() -","() -"]
["Early Childhood Campus - Oak - 070248141","Maricopa",4240,"070248000","Scottsdale Unified District",91283,"070248141","Early Childhood Campus - Oak",0.46888000000000002,3.3195000000000002E-2,0.50207500000000005,240]
["Early Childhood Education Center - 079101001","Maricopa",4320,"078656000","Salt River Pima-Maricopa  Community Schools",81172,"079101001","Early Childhood Education Center",0.96093799999999996,0,0.96093799999999996,256]
["Early Education Center - 070204191","Maricopa",4235,"070204000","Mesa Unified District",80046,"070204191","Early Education Center",0.23463700000000001,7.2625999999999996E-2,0.30726300000000001,179,"EARLY EDUCATION CENTER","143 S ALMA SCHOOL RD","MESA AZ 85210","(480) 308-7300","(480) 308-7301"]
["East Fork Lutheran School - 092003001","Navajo",80233,"092003000","East Fork Lutheran School",80234,"092003001","East Fork Lutheran School",0.618421,0.18421100000000001,0.80263200000000001,76]
["East Valley Academy - 070204278","Maricopa",4235,"070204000","Mesa Unified District",78932,"070204278","East Valley Academy",0.69162999999999997,4.4053000000000002E-2,0.73568299999999998,225,"EAST VALLEY ACADEMY","855 W. 8TH AVENUE","MESA AZ 85201","() -","( ) -"]
["East Valley High School - 078507201","Maricopa",79660,"078685000","Legacy Schools",87350,"078507201","East Valley High School",0.43933100000000003,2.9288999999999999E-2,0.46861900000000001,239,"EAST VALLEY HIGH SCHOOL","7420 E. MAIN STREET","MESA AZ 85207","(480) 981-2008","(480) 641-4473"]
["Echo Mountain Intermediate School - 070269136","Maricopa",4241,"070269000","Paradise Valley Unified District",80055,"070269136","Echo Mountain Intermediate School",0.83191499999999996,6.1702E-2,0.89361699999999999,413,"ECHO MOUNTAIN INTERMEDIATE SCHOOL","1811 E. MICHIGAN 3","PHOENIX AZ 85022","(602) 449-5600","( ) -"]
["Echo Mountain Primary School - 070269146","Maricopa",4241,"070269000","Paradise Valley Unified District",5093,"070269146","Echo Mountain Primary School",0.79290799999999995,7.9433000000000004E-2,0.87234,633,"ECHO MOUNTAIN PRIMARY SCHOOL","1811 E MICHIGAN AVE 3","PHOENIX AZ 85022","(602) 449-5500","( ) -"]
["Ed & Verma Pastor Elementary School - 070466021","Maricopa",4279,"070466000","Roosevelt Elementary District",79013,"070466021","Ed & Verma Pastor Elementary School",0.87909000000000004,5.8320999999999998E-2,0.93741099999999999,701,"ED & VERMA PASTOR ELEMENTARY SCHOOL","2101 WEST ALTA VISTA","PHOENIX AZ 85041","() -","() -"]
["Ed Pastor Elementary 4 - 140432109","Yuma",4505,"140432000","Gadsden Elementary District",81106,"140432109","Ed Pastor Elementary 4",0.92255900000000002,5.3872000000000003E-2,0.97643100000000005,268]
["Edison Elementary School - 070204103","Maricopa",4235,"070204000","Mesa Unified District",4915,"070204103","Edison Elementary School",0.77318100000000001,8.2738999999999993E-2,0.85592000000000001,699,"EDISON ELEMENTARY SCHOOL","545 N. HORNE","MESA AZ 85203","() -","() -"]
["Educational Opportunity Center - 148758201","Yuma",4509,"148758000","Yuma Private Industry Council Inc.",6193,"148758201","Educational Opportunity Center",0.87387400000000004,6.3062999999999994E-2,0.93693700000000002,111]
["EduPreneurship Student Center (ESC) Phoenix - 078717102","Maricopa",4341,"078717000","EduPreneurship Inc.",10752,"078717102","EduPreneurship Student Center (ESC) Phoenix",0.89690700000000001,3.0928000000000001E-2,0.92783499999999997,97,"EDUPRENEURSHIP STUDENT CENTER (ESC) PHOENIX","2632 W. AUGUSTA AVE.","PHOENIX AZ 85051","(602) 973-8998","(602) 973-5510"]
["Ehrenberg Elementary School - 150404101","La Paz",4511,"150404000","Quartzsite Elementary District",6198,"150404101","Ehrenberg Elementary School",0.84455999999999998,4.6632E-2,0.89119199999999998,193]
["Eisenhower Elementary School - 070204120","Maricopa",4235,"070204000","Mesa Unified District",4932,"070204120","Eisenhower Elementary School",0.80159999999999998,4.6399999999999997E-2,0.84799999999999998,622,"EISENHOWER ELEMENTARY SCHOOL","848 NORTH MESA DR","MESA AZ 85201","() -","() -"]
["El Capitan Public School - 080214101","Mohave",4370,"080214000","Colorado City Unified District",5567,"080214101","El Capitan Public School",0.80042500000000005,5.9448000000000001E-2,0.859873,471,"EL CAPITAN PUBLIC SCHOOL","PO BOX 309","COLORADO CITY AZ 86021","() -","() -"]
["El Mirage School - 070289102","Maricopa",4243,"070289000","Dysart Unified District",5129,"070289102","El Mirage School",0.63739699999999999,3.2024999999999998E-2,0.66942100000000004,968,"EL MIRAGE SCHOOL","13500 NORTH EL MIRAGE ROAD","EL MIRAGE AZ 85335","() -","() -"]
["Elfrida Elementary School - 020412101","Cochise",4185,"020412000","Elfrida Elementary District",4795,"020412101","Elfrida Elementary School",0.69105700000000003,0.11382100000000001,0.80487799999999998,123,"ELFRIDA ELEMENTARY SCHOOL","P.O. BOX 328","ELFRIDA AZ 85610","() -","() -"]
["Elgin Elementary School - 120425101","Santa Cruz",4461,"120425000","Sonoita Elementary District",5970,"120425101","Elgin Elementary School",0.33333299999999999,7.4999999999999997E-2,0.408333,120]
["Eliseo C. Felix School - 070444103","Maricopa",4272,"070444000","Avondale Elementary District",5348,"070444103","Eliseo C. Felix School",0.88045499999999999,3.7950999999999999E-2,0.91840599999999994,520,"ELISEO C. FELIX SCHOOL","540 E. LA PASADA","GOODYEAR AZ 85338","(623) 772-4300","(623) 772-4320"]
["Ellsworth Elementary School - 110244105","Pinal",4445,"110244000","J O Combs Unified School District",89569,"110244105","Ellsworth Elementary School",0.406667,7.5999999999999998E-2,0.48266700000000001,750]
["Eloy Intermediate School - 110411104","Pinal",4448,"110411000","Eloy Elementary District",5941,"110411104","Eloy Intermediate School",0.868502,6.4219999999999999E-2,0.93272200000000005,327]
["Eloy Junior High School - 110411105","Pinal",4448,"110411000","Eloy Elementary District",5942,"110411105","Eloy Junior High School",0.86274499999999998,3.1372999999999998E-2,0.89411799999999997,255]
["Elvira Elementary School - 100212114","Pima",4407,"100212000","Sunnyside Unified District",5813,"100212114","Elvira Elementary School",0.82775900000000002,7.1905999999999998E-2,0.89966599999999997,598]
["Emerson Elementary School - 070204104","Maricopa",4235,"070204000","Mesa Unified District",4916,"070204104","Emerson Elementary School",0.72804899999999995,7.4389999999999998E-2,0.80243900000000001,815,"EMERSON ELEMENTARY SCHOOL","415 NORTH WESTWOOD ROAD","MESA AZ 85201","() -","() -"]
["Emily Gray Junior High School - 100213002","Pima",4408,"100213000","Tanque Verde Unified District",5828,"100213002","Emily Gray Junior High School",0.123989,3.2344999999999999E-2,0.156334,371]
["Empire High School - 100220203","Pima",4413,"100220000","Vail Unified District",87875,"100220203","Empire High School",0.12269099999999999,4.8813000000000002E-2,0.17150399999999999,758]
["Empower College Prep - 078401001","Maricopa",91277,"078401000","Empower College Prep",91783,"078401001","Empower College Prep",0.95774599999999999,0,0.95774599999999999,71,"EMPOWER COLLEGE PREP","5757 N CENTRAL AVE","PHOENIX AZ 85012","(602) 501-6602","( ) -"]
["EnSueno Group Home - 072102002","Maricopa",7295,"072102000","Devereux Arizona",80424,"072102002","EnSueno Group Home",1,0,1,9]
["Entz Elementary School - 070204147","Maricopa",4235,"070204000","Mesa Unified District",4959,"070204147","Entz Elementary School",0.48005500000000001,6.7400000000000002E-2,0.54745500000000002,721,"ENTZ ELEMENTARY SCHOOL","4132 E ADOBE","MESA AZ 85205","() -","() -"]
["Esperanza Community Collegial Academy - 078505201","Maricopa",87336,"078505000","Esperanza Community Collegial Academy",87337,"078505201","Esperanza Community Collegial Academy",0.93181800000000004,4.5455000000000002E-2,0.97727299999999995,44,"ESPERANZA COMMUNITY COLLEGIAL ACADEMY","2507 E. BELL RD","PHOENIX AZ 85032","(602) 996-1125","(602) 996-4238"]
["Esperanza Elementary School - 070297130","Maricopa",4246,"070297000","Deer Valley Unified District",5157,"070297130","Esperanza Elementary School",0.51467300000000005,6.9976999999999998E-2,0.58465,438,"ESPERANZA ELEMENTARY SCHOOL","251 WEST MOHAWK LN","PHOENIX AZ 85027 5946","() -","() -"]
["Esperanza Elementary School - 070405108","Maricopa",4259,"070405000","Isaac Elementary District",5240,"070405108","Esperanza Elementary School",0.79669000000000001,0.122931,0.91962200000000005,691,"ESPERANZA ELEMENTARY SCHOOL","3025 W. MCDOWELL ROAD","PHOENIX AZ 85009","() -","() -"]
["Esperanza Elementary School - 100212115","Pima",4407,"100212000","Sunnyside Unified District",5814,"100212115","Esperanza Elementary School",0.826156,9.7289E-2,0.92344499999999996,627]
["Esperanza Montessori Academy - 078711005","Maricopa",4335,"078711000","Espiritu Community Development Corp.",85887,"078711005","Esperanza Montessori Academy",0.82520300000000002,2.4389999999999998E-2,0.84959300000000004,260,"ESPERANZA MONTESSORI ACADEMY","4848 S. 2ND ST.","PHOENIX AZ 85040","(602) 243-7788","(602) 243-7799"]
["Esperero Canyon Middle School - 100216107","Pima",4410,"100216000","Catalina Foothills Unified District",5837,"100216107","Esperero Canyon Middle School",9.5960000000000004E-2,2.0202000000000001E-2,0.116162,594]
["Estrella Foothills High School - 070501202","Maricopa",4284,"070501000","Buckeye Union High School District",79376,"070501202","Estrella Foothills High School",0.27489599999999997,9.6473000000000003E-2,0.371369,964,"ESTRELLA FOOTHILLS HIGH SCHOOL","13033 S ESTRELLA PARKWAY","GOODYEAR AZ 85338","(623) 327-2470","(623) 327-2499"]
["Estrella High School - 078948001","Maricopa",79873,"078948000","American Charter Schools Foundation d.b.a. Estrella High School",78900,"078948001","Estrella High School",0.72222200000000003,9.4907000000000005E-2,0.81713000000000002,432,"ESTRELLA HIGH SCHOOL","510 NORTH CENTRAL AVENUE","AVONDALE AZ 85323","(623) 932-6561","(623) 932-1263"]
["Estrella Middle School - 070483114","Maricopa",4282,"070483000","Cartwright Elementary District",5411,"070483114","Estrella Middle School",0.84124600000000005,5.638E-2,0.89762600000000003,1348,"ESTRELLA MIDDLE SCHOOL","3733 N 75TH AVE","PHOENIX AZ 85033","() -","() -"]
["Estrella Mountain Elementary School - 070425102","Maricopa",4266,"070425000","Liberty Elementary District",5295,"070425102","Estrella Mountain Elementary School",0.15451400000000001,5.2082999999999997E-2,0.206597,576,"ESTRELLA MOUNTAIN ELEMENTARY SCHOOL","10301 S SAN MIGUEL","GOODYEAR AZ 85338","() -","() -"]
["Estrella Vista Elementary School - 070465107","Maricopa",4278,"070465000","Littleton Elementary District",89608,"070465107","Estrella Vista Elementary School",0.65028900000000001,0.12138699999999999,0.77167600000000003,1037,"ESTRELLA VISTA ELEMENTARY SCHOOL","1252 S. AVONDALE BLVD.","AVONDALE AZ 85323","() -","( ) -"]
["Eva Marshall Elementary School - 030201113","Coconino",4192,"030201000","Flagstaff Unified District",4807,"030201113","Eva Marshall Elementary School",0.439523,0.11414000000000001,0.55366300000000002,583,"EVA MARSHALL ELEMENTARY SCHOOL","850 N. BONITO ST.","FLAGSTAFF AZ 86001","() -","() -"]
["Evergreen Elementary School - 110404102","Pinal",4446,"110404000","Casa Grande Elementary District",5930,"110404102","Evergreen Elementary School",0.739819,8.1448000000000007E-2,0.82126699999999997,441]
["Excalibur Charter School - 078901001","Maricopa",79214,"078901000","Excalibur Charter Schools Inc.",10339,"078901001","Excalibur Charter School",0.56410300000000002,0.102564,0.66666700000000001,39,"EXCALIBUR CHARTER SCHOOL","1045 SOUTH SAN MARCOS","APACHE JUNCTION AZ 85120","(480) 373-9575","(480) 373-9600"]
["Excelencia School - 070414190","Maricopa",4263,"070414000","Creighton Elementary District",79285,"070414190","Excelencia School",0.90131600000000001,4.4956000000000003E-2,0.946272,883,"EXCELENCIA SCHOOL","2181 EAST MCDOWELL ROAD","PHOENIX AZ 85006","() -","() -"]
["Explorer Middle School - 070269177","Maricopa",4241,"070269000","Paradise Valley Unified District",5102,"070269177","Explorer Middle School",7.3026999999999995E-2,1.5311999999999999E-2,8.8339000000000001E-2,815,"EXPLORER MIDDLE SCHOOL","22401 NORTH 40TH STREET","PHOENIX AZ 85050","(602) 449-4200","( ) -"]
["Fairbanks Elementary School - 060218101","Greenlee",4230,"060218000","Morenci Unified District",4907,"060218101","Fairbanks Elementary School",0.30860900000000002,0.139073,0.44768200000000002,755,"FAIRBANKS ELEMENTARY SCHOOL","PO BOX 1060","MORENCI AZ 85540","() -","() -"]
["Fairview - 102133012","Pima",7909,"102133000","LA PALOMA FAMILY SERVICES Inc.",89954,"102133012","Fairview",1,0,1,6]
["Faith North Elementary School - 070401130","Maricopa",4256,"070401000","Phoenix Elementary District",79616,"070401130","Faith North Elementary School",0.222689,0.105042,0.32773099999999999,238,"FAITH NORTH ELEMENTARY SCHOOL","910 E. WASHINGTON","PHOENIX AZ 85034","(602) 257-3914","( ) -"]
["Falcon Hill Elementary School - 070204144","Maricopa",4235,"070204000","Mesa Unified District",4956,"070204144","Falcon Hill Elementary School",0.35985499999999998,9.0415999999999996E-2,0.45027099999999998,551,"FALCON HILL ELEMENTARY SCHOOL","1645 N STERLING STREET","MESA AZ 85207","() -","() -"]
["Faras Elementary School - 020227105","Cochise",4174,"020227000","Douglas Unified District",4767,"020227105","Faras Elementary School",0.86206899999999997,4.4334999999999999E-2,0.90640399999999999,203,"FARAS ELEMENTARY SCHOOL","PO BOX 1237","DOUGLAS AZ 85608","() -","() -"]
["Fees College Preparatory Middle School - 070403145","Maricopa",4258,"070403000","Tempe School District",5232,"070403145","Fees College Preparatory Middle School",0.63399399999999995,7.9249E-2,0.71324299999999996,944,"FEES COLLEGE PREPARATORY MIDDLE SCHOOL","1600 E WATSON DR","TEMPE AZ 85283 3147","() -","() -"]
["Festival Foothills Elementary School - 070209104","Maricopa",4236,"070209000","Wickenburg Unified District",89676,"070209104","Festival Foothills Elementary School",0.301255,5.8576999999999997E-2,0.35983300000000001,239,"FESTIVAL FOOTHILLS ELEMENTARY SCHOOL","26252 W. DESERT VISTA BLVD.","BUCKEYE AZ 85396","() -","( ) -"]
["Field Elementary School - 070204125","Maricopa",4235,"070204000","Mesa Unified District",4937,"070204125","Field Elementary School",0.56701000000000001,9.8674999999999999E-2,0.66568499999999997,676,"FIELD ELEMENTARY SCHOOL","2325 E ADOBE STREET","MESA AZ 85213 6713","() -","() -"]
["Finley Farms Elementary - 070241156","Maricopa",4239,"070241000","Gilbert Unified District",5038,"070241156","Finley Farms Elementary",0.18817900000000001,8.4439E-2,0.27261800000000003,829,"FINLEY FARMS ELEMENTARY","375 S. COLUMBUS DRIVE","GILBERT AZ 85296","() -","( ) -"]
["Fireside Elementary School - 070269113","Maricopa",4241,"070269000","Paradise Valley Unified District",91754,"070269113","Fireside Elementary School",5.0081000000000001E-2,1.4540000000000001E-2,6.4619999999999997E-2,598,"FIRESIDE ELEMENTARY SCHOOL","3725 E. LOVE CACTUS DRIVE","PHOENIX AZ 85050","(602) 449-2000","( ) -"]
["First Avenue Elementary School - 110208107","Pinal",4439,"110208000","Mammoth-San Manuel Unified District",5902,"110208107","First Avenue Elementary School",0.69954099999999997,0.107798,0.80733900000000003,436]
["First Mesa Elementary - 093906004","Navajo",88452,"099104000","First Mesa Elementary School",80145,"093906004","First Mesa Elementary",0.67597799999999997,0.11731800000000001,0.793296,139]
["Flagstaff High School - 030201281","Coconino",4192,"030201000","Flagstaff Unified District",4819,"030201281","Flagstaff High School",0.27315400000000001,5.1006999999999997E-2,0.32416099999999998,1454,"FLAGSTAFF HIGH SCHOOL","400 W ELM STREET","FLAGSTAFF AZ 86001","(928) 773-8100","(928) 773-8146"]
["Flora Thew Elementary School - 070403114","Maricopa",4258,"070403000","Tempe School District",5214,"070403114","Flora Thew Elementary School",0.89296200000000003,3.3723999999999997E-2,0.92668600000000001,682,"FLORA THEW ELEMENTARY SCHOOL","2130 E HOWE AVE","TEMPE AZ 85281","() -","() -"]
["Florence Crittenton Therapeutic Group Home - 072795001","Maricopa",91865,"072795000","Florence Crittenton Service of Arizona Inc.",91866,"072795001","Florence Crittenton Therapeutic Group Home",1,0,1,40]
["Florence High School - 110201201","Pinal",4437,"110201000","Florence Unified School District",5897,"110201201","Florence High School",0.389685,7.4498999999999996E-2,0.46418300000000001,698]
["Florence K-8 - 110201101","Pinal",4437,"110201000","Florence Unified School District",5895,"110201101","Florence K-8",0.53826499999999999,8.9286000000000004E-2,0.62755099999999997,784]
["Flowing Wells High School - 100208210","Pima",4405,"100208000","Flowing Wells Unified District",5791,"100208210","Flowing Wells High School",0.566689,8.0956E-2,0.647644,1507]
["Flowing Wells Junior High School - 100208170","Pima",4405,"100208000","Flowing Wells Unified District",5790,"100208170","Flowing Wells Junior High School",0.66337900000000005,9.9876999999999994E-2,0.76325500000000002,811]
["Foothills Elementary School - 070269121","Maricopa",4241,"070269000","Paradise Valley Unified District",5076,"070269121","Foothills Elementary School",0.56038600000000005,8.2126000000000005E-2,0.64251199999999997,361,"FOOTHILLS ELEMENTARY SCHOOL","17835 NORTH 44TH STREET","PHOENIX AZ 85032","(602) 449-7400","( ) -"]
["Foothills Elementary School - 070211108","Maricopa",4237,"070211000","Peoria Unified School District",4996,"070211108","Foothills Elementary School",0.41591600000000001,6.4564999999999997E-2,0.48048000000000002,666,"FOOTHILLS ELEMENTARY SCHOOL","15808 N 63RD AVE","GLENDALE AZ 85306","() -","() -"]
["Ford Elementary - 100201218","Pima",4403,"100201000","Tucson Unified District",5678,"100201218","Ford Elementary",0.56448200000000004,4.2283000000000001E-2,0.606765,473]
["Fort Mohave Elementary School - 080416104","Mohave",4379,"080416000","Mohave Valley Elementary District",5590,"080416104","Fort Mohave Elementary School",0.59438800000000003,7.9082E-2,0.67346899999999998,374,"FORT MOHAVE ELEMENTARY SCHOOL","1760 JOY LANE","FORT MOHAVE AZ 86426","() -","() -"]
["Fort Thomas Elementary School - 050207101","Graham",4221,"050207000","Fort Thomas Unified District",4892,"050207101","Fort Thomas Elementary School",0.841615,5.2795000000000002E-2,0.89441000000000004,322,"FORT THOMAS ELEMENTARY SCHOOL","PO BOX 55","FORT THOMAS AZ 85536","(928) 485-2433","(928) 485-3068"]
["Fort Thomas High School - 050207202","Graham",4221,"050207000","Fort Thomas Unified District",4893,"050207202","Fort Thomas High School",0.75124400000000002,8.4576999999999999E-2,0.83582100000000004,201,"FORT THOMAS HIGH SCHOOL","HIGHWAY 70","FORT THOMAS AZ 85536","() -","( ) -"]
["Fountain Hills High School - 070298205","Maricopa",4247,"070298000","Fountain Hills Unified District",5167,"070298205","Fountain Hills High School",0.394231,3.8462000000000003E-2,0.43269200000000002,104,"FOUNTAIN HILLS HIGH SCHOOL","16100 E. PALISADES BLVD.","FOUNTAIN HILLS AZ 85268","() -","() -"]
["Fountain Hills Middle School - 070298104","Maricopa",4247,"070298000","Fountain Hills Unified District",5166,"070298104","Fountain Hills Middle School",0.461538,6.8825999999999998E-2,0.53036399999999995,247,"FOUNTAIN HILLS MIDDLE SCHOOL","15414 N. MCDOWELL MOUNTAIN ROAD","FOUNTAIN HILLS AZ 85268","() -","() -"]
["Four Peaks Elementary School - 110243102","Pinal",4443,"110243000","Apache Junction Unified District",5920,"110243102","Four Peaks Elementary School",0.68270699999999995,0.105263,0.78796999999999995,665]
["Fourth Avenue Junior High School - 140401121","Yuma",4499,"140401000","Yuma Elementary District",6160,"140401121","Fourth Avenue Junior High School",0.75588900000000003,9.2077000000000006E-2,0.847966,402]
["Fowler Elementary School - 070445101","Maricopa",4273,"070445000","Fowler Elementary District",5351,"070445101","Fowler Elementary School",0.917404,4.7197999999999997E-2,0.96460199999999996,678,"FOWLER ELEMENTARY SCHOOL","6707 WEST VAN BUREN STREET","PHOENIX AZ 85043","(623) 707-2500","(623) 707-4680"]
["Fox Creek Jr High School - 080415110","Mohave",4378,"080415000","Bullhead City School District",6048,"080415110","Fox Creek Jr High School",0.58410399999999996,5.9150000000000001E-2,0.64325299999999996,541,"FOX CREEK JR HIGH SCHOOL","3101 DESERT SKY BOULEVARD","BULLHEAD CITY AZ 86442","() -","() -"]
["Frances Brandon-Pickett Elementary - 070295104","Maricopa",4245,"070295000","Queen Creek Unified District",87478,"070295104","Frances Brandon-Pickett Elementary",0.32142900000000002,8.5317000000000004E-2,0.406746,495,"FRANCES BRANDON-PICKETT ELEMENTARY","22706 E. VILLAGE LOOP","QUEEN CREEK AZ 85242","() -","() -"]
["Frances J Warren Elementary School - 100201440","Pima",4403,"100201000","Tucson Unified District",5729,"100201440","Frances J Warren Elementary School",0.80866400000000005,7.9422000000000006E-2,0.88808699999999996,277]
["Frances Owen Holaway Elementary School - 100210108","Pima",4406,"100210000","Amphitheater Unified District",5794,"100210108","Frances Owen Holaway Elementary School",0.85106400000000004,2.1277000000000001E-2,0.87234,376]
["Frank Borman School - 070483110","Maricopa",4282,"070483000","Cartwright Elementary District",5407,"070483110","Frank Borman School",0.87119899999999995,6.0823000000000002E-2,0.93202099999999999,1118,"FRANK BORMAN SCHOOL","3637 N. 55TH AVE.","PHOENIX AZ 85033","() -","() -"]
["Frank Elementary School - 070403110","Maricopa",4258,"070403000","Tempe School District",5211,"070403110","Frank Elementary School",0.83308499999999996,6.2592999999999996E-2,0.89567799999999997,668,"FRANK ELEMENTARY SCHOOL","8409 S AVENIDA DEL YAQUI","GUADALUPE AZ 85283","() -","() -"]
["Franklin at Alma Elementary - 070204158","Maricopa",4235,"070204000","Mesa Unified District",90752,"070204158","Franklin at Alma Elementary",0.39830500000000002,6.3559000000000004E-2,0.461864,235,"FRANKLIN AT ALMA ELEMENTARY","1313 W. MEDINA AVE","MESA AZ 85202","(480) 472-3900","(480) 472-3919"]
["Franklin at Brimhall Elementary - 070204159","Maricopa",4235,"070204000","Mesa Unified District",91812,"070204159","Franklin at Brimhall Elementary",0.20299900000000001,7.9585000000000003E-2,0.282584,865,"FRANKLIN AT BRIMHALL ELEMENTARY","4949 E SOUTHERN AVE","MESA AZ 85206","(480) 472-2600","( ) -"]
["Franklin Elementary School - 070204105","Maricopa",4235,"070204000","Mesa Unified District",4917,"070204105","Franklin Elementary School",0.33333299999999999,0.117794,0.45112799999999997,798,"FRANKLIN ELEMENTARY SCHOOL","1753 EAST 8TH AVE","MESA AZ 85204","() -","() -"]
["Franklin Junior High School - 070204264","Maricopa",4235,"070204000","Mesa Unified District",90303,"070204264","Franklin Junior High School",0.28834399999999999,7.9755000000000006E-2,0.36809799999999998,163,"FRANKLIN JUNIOR HIGH SCHOOL","4949 EAST SOUTHERN AVENUE","MESA AZ 85206","(480) 472-8990","(480) 472-8999"]
["Franklin Police and Fire High School - 070510281","Maricopa",4286,"070510000","Phoenix Union High School District",89778,"070510281","Franklin Police and Fire High School",0.80866400000000005,9.3863000000000002E-2,0.90252699999999997,277,"FRANKLIN POLICE AND FIRE HIGH SCHOOL","1645 WEST MCDOWELL ROAD","PHOENIX AZ 85007","(602) 764-0200","(602) 258-2868"]
["Franklin West Elementary - 070204114","Maricopa",4235,"070204000","Mesa Unified District",4926,"070204114","Franklin West Elementary",0.44905699999999998,9.2452999999999994E-2,0.54150900000000002,521,"FRANKLIN WEST ELEMENTARY","236 SOUTH SIRRINE","MESA AZ 85210 1611","() -","() -"]
["Fredonia Elementary School - 030206101","Coconino",4195,"030206000","Fredonia-Moccasin Unified District",4826,"030206101","Fredonia Elementary School",0.6,0.14000000000000001,0.74,250,"FREDONIA ELEMENTARY SCHOOL","222 NORTH 200 EAST","FREDONIA AZ 86022","() -","() -"]
["Freedom Elementary School - 070425105","Maricopa",4266,"070425000","Liberty Elementary District",87475,"070425105","Freedom Elementary School",0.49308800000000003,0.157834,0.650922,868,"FREEDOM ELEMENTARY SCHOOL","22150 W. SUNDANCE PARKWAY","BUCKEYE AZ 85326","() -","( ) -"]
["Fremont Junior High School - 070204254","Maricopa",4235,"070204000","Mesa Unified District",4971,"070204254","Fremont Junior High School",0.42142099999999999,6.7067000000000002E-2,0.48848799999999998,992,"FREMONT JUNIOR HIGH SCHOOL","1001 N POWER ROAD","MESA AZ 85205","() -","() -"]
["Friendly House Academia Del Pueblo Elem - 078611001","Maricopa",4303,"078611000","Friendly House Inc.",6036,"078611001","Friendly House Academia Del Pueblo Elem",0.93895300000000004,3.7790999999999998E-2,0.97674399999999995,344,"FRIENDLY HOUSE ACADEMIA DEL PUEBLO ELEM","PO BOX 3695","PHOENIX AZ 85031","() -","( ) -"]
["Frontier Elementary School - 070211125","Maricopa",4237,"070211000","Peoria Unified School District",6005,"070211125","Frontier Elementary School",0.13132199999999999,2.2183000000000001E-2,0.153505,1127,"FRONTIER ELEMENTARY SCHOOL","21258 N. 81ST AVENUE","PEORIA AZ 85382","(623) 412-4900","(623) 412-4905"]
["Fruchthendler Elementary School - 100201225","Pima",4403,"100201000","Tucson Unified District",5680,"100201225","Fruchthendler Elementary School",0.16624,1.5344999999999999E-2,0.181586,391]
["Frye Elementary School - 070280111","Maricopa",4242,"070280000","Chandler Unified District #80",5116,"070280111","Frye Elementary School",0.82768399999999998,5.0847000000000003E-2,0.87853099999999995,708,"FRYE ELEMENTARY SCHOOL","801 E FRYE RD","CHANDLER AZ 85225","() -","( ) -"]
["Fuller Elementary School - 070403130","Maricopa",4258,"070403000","Tempe School District",5228,"070403130","Fuller Elementary School",0.40432600000000002,0.101498,0.50582400000000005,591,"FULLER ELEMENTARY SCHOOL","1975 EAST CORNELL DRIVE","TEMPE AZ 85283","(480) 897-6228","( ) -"]
["Future Investment Middle School - 108789102","Pima",79500,"108789000","Griffin Foundation Inc. The",90470,"108789102","Future Investment Middle School",0.79787200000000003,0.10638300000000001,0.90425500000000003,94]
["G. Frank Davidson - 070483120","Maricopa",4282,"070483000","Cartwright Elementary District",6032,"070483120","G. Frank Davidson",0.84989400000000004,7.3996000000000006E-2,0.92388999999999999,946,"G. FRANK DAVIDSON","6935 W. OSBORN RD","PHOENIX AZ 85033","() -","() -"]
["Gadsden Elementary School - 140432101","Yuma",4505,"140432000","Gadsden Elementary District",6183,"140432101","Gadsden Elementary School",0.91115299999999999,6.6163E-2,0.97731599999999996,572]
["Gale Elementary School - 100201228","Pima",4403,"100201000","Tucson Unified District",5681,"100201228","Gale Elementary School",0.31111100000000003,5.679E-2,0.36790099999999998,405]
["Gallego Basic Elementary School - 100212117","Pima",4407,"100212000","Sunnyside Unified District",5816,"100212117","Gallego Basic Elementary School",0.59356699999999996,0.131579,0.72514599999999996,684]
["Galveston Elementary School - 070280107","Maricopa",4242,"070280000","Chandler Unified District #80",5113,"070280107","Galveston Elementary School",0.89620299999999997,5.3164999999999997E-2,0.94936699999999996,790,"GALVESTON ELEMENTARY SCHOOL","661 EAST GALVESTON STREET","CHANDLER AZ 85225","() -","() -"]
["Ganado High School - 010220204","Apache",4157,"010220000","Ganado Unified School District",4728,"010220204","Ganado High School",0.74239699999999997,0.110912,0.85330899999999998,559,"GANADO HIGH SCHOOL","P.O. BOX 1757","GANADO AZ 86505","() -","() -"]
["Ganado Intermediate School - 010220102","Apache",4157,"010220000","Ganado Unified School District",4726,"010220102","Ganado Intermediate School",0.74832200000000004,0.12416099999999999,0.87248300000000001,298,"GANADO INTERMEDIATE SCHOOL","PO BOX 1757","GANADO AZ 86505 1757","() -","() -"]
["Ganado Middle School - 010220103","Apache",4157,"010220000","Ganado Unified School District",4727,"010220103","Ganado Middle School",0.80232599999999998,6.5891000000000005E-2,0.86821700000000002,258,"GANADO MIDDLE SCHOOL","PO BOX 1757","GANADO AZ 86505","(928) 755-1220","(928) 755-1298"]
["Ganado Primary School - 010220101","Apache",4157,"010220000","Ganado Unified School District",4725,"010220101","Ganado Primary School",0.77672200000000002,7.8384999999999996E-2,0.85510699999999995,421,"GANADO PRIMARY SCHOOL","P.O. BOX 1757 HWY 264","GANADO AZ 86505","(928) 755-1020","(928) 755-1085"]
["Gap Primary School - 030215112","Coconino",4197,"030215000","Tuba City Unified District",4835,"030215112","Gap Primary School",0.88235300000000005,0,0.88235300000000005,54,"GAP PRIMARY SCHOOL","PO BOX 67","TUBA CITY AZ 86045","() -","() -"]
["Garden Lakes Elementary School - 070492016","Maricopa",4283,"070492000","Pendergast Elementary District",5421,"070492016","Garden Lakes Elementary School",0.38608900000000002,8.1653000000000003E-2,0.46774199999999999,989,"GARDEN LAKES ELEMENTARY SCHOOL","10825 W. GARDEN LAKES PARKWAY","AVONDALE AZ 85323","() -","( ) -"]
["Garfield School - 070401108","Maricopa",4256,"070401000","Phoenix Elementary District",5200,"070401108","Garfield School",0.93135000000000001,3.4325000000000001E-2,0.96567499999999995,437,"GARFIELD SCHOOL","811 N 13TH STREET","PHOENIX AZ 85006","(602) 257-3863","(602) 257-4866"]
["Gary A. Knox Elementary School - 140413108","Yuma",4501,"140413000","Crane Elementary District",85833,"140413108","Gary A. Knox Elementary School",0.67073199999999999,8.6721000000000006E-2,0.75745300000000004,738]
["Gateway Early College High School - 078647201","Maricopa",4314,"078647000","Maricopa County Community College District dba Gateway Early College High School",5480,"078647201","Gateway Early College High School",0.88582700000000003,8.2677E-2,0.96850400000000003,254,"GATEWAY EARLY COLLEGE HIGH SCHOOL","108 NORTH 40TH STREET","PHOENIX AZ 85034","() -","() -"]
["Gateway Pointe Elementary - 070260105","Maricopa",4248,"070260000","Higley Unified School District",87487,"070260105","Gateway Pointe Elementary",0.30600500000000003,0.124711,0.43071599999999999,866,"GATEWAY POINTE ELEMENTARY","2069 S. DELATORRE DRIVE","HIGLEY AZ 85236","() -","() -"]
["Gateway School - 070414120","Maricopa",4263,"070414000","Creighton Elementary District",6023,"070414120","Gateway School",0.93032300000000001,2.0645E-2,0.95096800000000004,739,"GATEWAY SCHOOL","1100 N 35TH ST","PHOENIX AZ 85008","() -","() -"]
["Gavilan Peak Elementary - 070297142","Maricopa",4246,"070297000","Deer Valley Unified District",80318,"070297142","Gavilan Peak Elementary",9.3602000000000005E-2,3.7914999999999997E-2,0.131517,841,"GAVILAN PEAK ELEMENTARY","2701 W. MEMORIAL DR.","ANTHEM AZ 85086","() -","() -"]
["General Myer Elementary School - 020100101","Cochise",4167,"020100000","Fort Huachuca Accommodation District",5982,"020100101","General Myer Elementary School",0.108824,0.22352900000000001,0.33235300000000001,340]
["George Gervin Prep Academy - 078585001","Maricopa",90884,"078585000","George Gervin Youth Center Inc.",91712,"078585001","George Gervin Prep Academy",0.90076299999999998,7.6336000000000001E-2,0.97709900000000005,131,"GEORGE GERVIN PREP ACADEMY","40 W BASELINE RD SUITE 101","TEMPE AZ 85283","() -","( ) -"]
["George Washington Carver Elementary School - 140401102","Yuma",4499,"140401000","Yuma Elementary District",6148,"140401102","George Washington Carver Elementary School",0.86222200000000004,9.7778000000000004E-2,0.96,446]
["Gila Bend Elementary - 070224001","Maricopa",4238,"070224000","Gila Bend Unified District",5018,"070224001","Gila Bend Elementary",0.61599999999999999,0.126,0.74199999999999999,458,"GILA BEND ELEMENTARY","P O BOX V","GILA BEND AZ 85337","() -","( ) -"]
["Gila Crossing Community School - 073901001","Maricopa",80406,"073901000","Gila Crossing Community School",80407,"073901001","Gila Crossing Community School",0.87429599999999996,7.1294999999999997E-2,0.94559099999999996,533]
["Gila Ridge High School - 140570207","Yuma",4507,"140570000","Yuma Union High School District",89576,"140570207","Gila Ridge High School",0.41783199999999998,7.1678000000000006E-2,0.48951,1716]
["Gila Vista Jr High School - 140401122","Yuma",4499,"140401000","Yuma Elementary District",6161,"140401122","Gila Vista Jr High School",0.58291499999999996,0.12562799999999999,0.70854300000000003,591]
["Gilbert Classical Academy - 070241233","Maricopa",4239,"070241000","Gilbert Unified District",81146,"070241233","Gilbert Classical Academy",5.9458999999999998E-2,3.5135E-2,9.4594999999999999E-2,370,"GILBERT CLASSICAL ACADEMY","55 N. GREENFIELD ROAD","GILBERT AZ 85234","(480) 497-4024","(480) 507-1645"]
["Gilbert Early College, a Leading Edge High School - 078968201","Maricopa",79967,"078968000","LEAD Charter Schools",87416,"078968201","Gilbert Early College, a Leading Edge High School",0.23474200000000001,4.2254E-2,0.27699499999999999,213,"GILBERT EARLY COLLEGE, A LEADING EDGE HIGH SCHOOL","415 N. GILBERT RD. SUITE 102","GILBERT AZ 85243","(480) 545-8011","(480) 558-7038"]
["Gilbert Elementary School - 070241140","Maricopa",4239,"070241000","Gilbert Unified District",5023,"070241140","Gilbert Elementary School",0.41550399999999998,7.7519000000000005E-2,0.49302299999999999,645,"GILBERT ELEMENTARY SCHOOL","175 W. ELLIOTT","GILBERT AZ 85233","() -","( ) -"]
["Gilbert High School - 070241210","Maricopa",4239,"070241000","Gilbert Unified District",5039,"070241210","Gilbert High School",0.20327500000000001,6.7093E-2,0.27036700000000002,2504,"GILBERT HIGH SCHOOL","1101 EAST ELLIOT RD.","GILBERT AZ 85234","() -","( ) -"]
["Gilbert Junior High School - 070241120","Maricopa",4239,"070241000","Gilbert Unified District",5020,"070241120","Gilbert Junior High School",0.39721800000000002,8.1917000000000004E-2,0.479134,647,"GILBERT JUNIOR HIGH SCHOOL","1016 N. BURK","GILBERT AZ 85234","() -","( ) -"]
["Gililland Middle School - 070403143","Maricopa",4258,"070403000","Tempe School District",5230,"070403143","Gililland Middle School",0.79174900000000004,8.7426000000000004E-2,0.87917500000000004,1015,"GILILLAND MIDDLE SCHOOL","1025 S BECK AVE","TEMPE AZ 85281","() -","() -"]
["Girls Leadership Academy of Arizona - 078608001","Maricopa",4300,"078608000","Florence Crittenton Services of Arizona Inc.",5466,"078608001","Girls Leadership Academy of Arizona",0.76851899999999995,9.2592999999999995E-2,0.86111099999999996,108,"GIRLS LEADERSHIP ACADEMY OF ARIZONA","715 W. MARIPOSA ST.","PHOENIX AZ 85013","() -","( ) -"]
["Glassford Hill Middle School - 130222125","Yavapai",4469,"130222000","Humboldt Unified District",6092,"130222125","Glassford Hill Middle School",0.54744499999999996,8.7591000000000002E-2,0.63503600000000004,401]
["Glendale American School - 070440108","Maricopa",4271,"070440000","Glendale Elementary District",5339,"070440108","Glendale American School",0.73543700000000001,7.6455999999999996E-2,0.81189299999999998,802,"GLENDALE AMERICAN SCHOOL","8530 N 55TH AVE","GLENDALE AZ 85302","() -","() -"]
["Glendale High School - 070505201","Maricopa",4285,"070505000","Glendale Union High School District",5426,"070505201","Glendale High School",0.758355,5.2056999999999999E-2,0.81041099999999999,1556,"GLENDALE HIGH SCHOOL","6216 W. GLENDALE AVENUE","GLENDALE AZ 85301","() -","( ) -"]
["Glendale Landmark Middle School - 070440101","Maricopa",4271,"070440000","Glendale Elementary District",5332,"070440101","Glendale Landmark Middle School",0.90101500000000001,5.3298999999999999E-2,0.95431500000000002,746,"GLENDALE LANDMARK MIDDLE SCHOOL","5730 WEST MYRTLE AVENUE","GLENDALE AZ 85301","() -","() -"]
["Glenn F Burton School - 070440107","Maricopa",4271,"070440000","Glendale Elementary District",5338,"070440107","Glenn F Burton School",0.913771,4.8905999999999998E-2,0.962677,774,"GLENN F BURTON SCHOOL","4801 W MARYLAND AVE","GLENDALE AZ 85301","() -","() -"]
["Glenn L. Downs School - 070483102","Maricopa",4282,"070483000","Cartwright Elementary District",5399,"070483102","Glenn L. Downs School",0.89566400000000002,6.0976000000000002E-2,0.95664000000000005,738,"GLENN L. DOWNS SCHOOL","3611 N 47TH AVE","PHOENIX AZ 85031","(623) 691-4211","( ) -"]
["Globe High School - 040201004","Gila",4208,"040201000","Globe Unified District",4855,"040201004","Globe High School",0.418651,6.1508E-2,0.480159,504,"GLOBE HIGH SCHOOL","455 N. WILLOW STREET","GLOBE AZ 85501","(928) 425-3211","(928) 425-8909"]
["GOMPERS CENTER FOR THE HANDICA - 072120001","Maricopa",4260,"070406000","Washington Elementary School District",7318,"072120001","GOMPERS CENTER FOR THE HANDICA",0.631579,0.105263,0.736842,19]
["Grace of Serenity Living Inc. - 072770001","Maricopa",86874,"072770000","Grace of Serenity Living Inc.",86875,"072770001","Grace of Serenity Living Inc.",1,0,1,9]
["Granada East School - 070468109","Maricopa",4280,"070468000","Alhambra Elementary District",5387,"070468109","Granada East School",0.93298999999999999,4.0377999999999997E-2,0.97336800000000001,1164,"GRANADA EAST SCHOOL","3022 W CAMPBELL","PHOENIX AZ 85017","(602) 589-0110","(602) 589-0140"]
["Granada Primary School - 070468110","Maricopa",4280,"070468000","Alhambra Elementary District",5388,"070468110","Granada Primary School",0.94218599999999997,3.8843999999999997E-2,0.98102999999999996,1107,"GRANADA PRIMARY SCHOOL","3232 W. CAMPBELL","PHOENIX AZ 85017","(602) 841-1403","(602) 973-8438"]
["Grand Canyon Elementary - 030204001","Coconino",4194,"030204000","Grand Canyon Unified District",4824,"030204001","Grand Canyon Elementary",0.41612900000000003,0.164516,0.58064499999999997,310,"GRAND CANYON ELEMENTARY","P.O. BOX 519","GRAND CANYON AZ 86023","() -","( ) -"]
["Granite Mountain Middle School - 130201060","Yavapai",4466,"130201000","Prescott Unified District",8134,"130201060","Granite Mountain Middle School",0.28000000000000003,5.1200000000000002E-2,0.33119999999999999,625]
["Granville Elementary School - 130222135","Yavapai",4469,"130222000","Humboldt Unified District",87535,"130222135","Granville Elementary School",0.51813500000000001,0.11053499999999999,0.62866999999999995,573]
["Grayhawk Elementary School - 070269141","Maricopa",4241,"070269000","Paradise Valley Unified District",6011,"070269141","Grayhawk Elementary School",5.5837999999999999E-2,7.6140000000000001E-3,6.3451999999999995E-2,732,"GRAYHAWK ELEMENTARY SCHOOL","7525 E. GRAYHAWK DR.","SCOTTSDALE AZ 85255","(602) 449-6600","( ) -"]
["Greasewood Springs Community School - 014012004","Apache",9691,"094001000","Greasewood Springs Community School Inc.",80421,"014012004","Greasewood Springs Community School",0.85714299999999999,4.1474999999999998E-2,0.89861800000000003,217]
["Great Hearts Academies - Teleos Prep - 078551001","Maricopa",90142,"078551000","Teleos Preparatory Academy",90143,"078551001","Great Hearts Academies - Teleos Prep",0.48571399999999998,8.5713999999999999E-2,0.57142899999999996,210,"GREAT HEARTS ACADEMIES - TELEOS PREP","1401 E. JEFFERSON","PHOENIX AZ 85034","(602) 275-5455","(602) 275-5954"]
["Great Hearts Academies- Maryvale Prep - 078592001","Maricopa",90861,"078592000","Maryvale Preparatory Academy",91781,"078592001","Great Hearts Academies- Maryvale Prep",0.59440599999999999,4.1958000000000002E-2,0.63636400000000004,143,"GREAT HEARTS ACADEMIES- MARYVALE PREP","3102 N. 56TH ST. SUITE 300","PHOENIX AZ 85018","() -","( ) -"]
["Greenbrier Elementary School - 070297123","Maricopa",4246,"070297000","Deer Valley Unified District",5152,"070297123","Greenbrier Elementary School",0.21603600000000001,5.1225E-2,0.26726100000000003,446,"GREENBRIER ELEMENTARY SCHOOL","6150 W. GREENBRIAR DR.","GLENDALE AZ 85308","() -","() -"]
["Greenfield Elementary School - 070241141","Maricopa",4239,"070241000","Gilbert Unified District",5024,"070241141","Greenfield Elementary School",8.1550999999999998E-2,3.0748999999999999E-2,0.112299,748,"GREENFIELD ELEMENTARY SCHOOL","2550 EAST ELLIOT ROAD","GILBERT AZ 85234","() -","( ) -"]
["Greenfield Junior High School - 070241122","Maricopa",4239,"070241000","Gilbert Unified District",5022,"070241122","Greenfield Junior High School",0.16752800000000001,6.515E-2,0.232678,967,"GREENFIELD JUNIOR HIGH SCHOOL","101 SOUTH GREENFIELD ROAD","GILBERT AZ 85296","() -","( ) -"]
["Greenway High School - 070505208","Maricopa",4285,"070505000","Glendale Union High School District",5433,"070505208","Greenway High School",0.35242000000000001,6.3395000000000007E-2,0.41581499999999999,1467,"GREENWAY HIGH SCHOOL","3930 W. GREENWAY ROAD","PHOENIX AZ 85053","() -","( ) -"]
["Greenway Middle School - 070269175","Maricopa",4241,"070269000","Paradise Valley Unified District",5101,"070269175","Greenway Middle School",0.81443299999999996,7.0446999999999996E-2,0.88488,531,"GREENWAY MIDDLE SCHOOL","3002 E NISBET","PHOENIX AZ 85032","(602) 449-2400","( ) -"]
["Greenway Primary School - 020202103","Cochise",4169,"020202000","Bisbee Unified District",4752,"020202103","Greenway Primary School",0.66449499999999995,8.7947999999999998E-2,0.75244299999999997,307,"GREENWAY PRIMARY SCHOOL","100 OLD DOUGLAS ROAD","BISBEE AZ 85603","() -","() -"]
["Greyhills Academy High School - 033904003","Coconino",79793,"033903000","Greyhills Academy",4840,"033904003","Greyhills Academy High School",0.69387799999999999,6.4626000000000003E-2,0.75850300000000004,294]
["Gridley Middle School - 100201511","Pima",4403,"100201000","Tucson Unified District",5739,"100201511","Gridley Middle School",0.42471599999999998,6.5340999999999996E-2,0.49005700000000002,704]
["Griffith Elementary School - 070431103","Maricopa",4268,"070431000","Balsz Elementary District",5321,"070431103","Griffith Elementary School",0.79789100000000002,6.5026E-2,0.86291700000000005,569,"GRIFFITH ELEMENTARY SCHOOL","4505 E PALM LANE","PHOENIX AZ 85008","() -","() -"]
["Guerrero Elementary School - 070204155","Maricopa",4235,"070204000","Mesa Unified District",79225,"070204155","Guerrero Elementary School",0.91833799999999999,5.1575999999999997E-2,0.96991400000000005,693,"GUERRERO ELEMENTARY SCHOOL","463 S. ALMA SCHOOL RD.","MESA AZ 85210","() -","() -"]
["H L Suverkrup Elementary School - 140413105","Yuma",4501,"140413000","Crane Elementary District",6174,"140413105","H L Suverkrup Elementary School",0.589862,0.12212000000000001,0.711982,498]
["Ha:san Preparatory & Leadership School - 108726001","Pima",6369,"108726000","Ha:san Educational Services",5872,"108726001","Ha:san Preparatory & Leadership School",0.69531299999999996,7.8130000000000005E-3,0.703125,128]
["Hacienda De Los Angeles - 072701003","Maricopa",80066,"072701000","Hacienda INC",80069,"072701003","Hacienda De Los Angeles",1,0,1,18]
["Hale Elementary School - 070204119","Maricopa",4235,"070204000","Mesa Unified District",4931,"070204119","Hale Elementary School",0.21645800000000001,3.5777999999999997E-2,0.25223600000000002,558,"HALE ELEMENTARY SCHOOL","1425 N 23RD STREET","MESA AZ 85213 4018","() -","() -"]
["Haley Elementary - 070280141","Maricopa",4242,"070280000","Chandler Unified District #80",89925,"070280141","Haley Elementary",0.118938,2.5403999999999999E-2,0.144342,866]
["Hamilton High School - 070280223","Maricopa",4242,"070280000","Chandler Unified District #80",6015,"070280223","Hamilton High School",0.198654,3.6878000000000001E-2,0.23553199999999999,3715,"HAMILTON HIGH SCHOOL","3700 S ARIZONA AVE.","CHANDLER AZ 85248","() -","( ) -"]
["Happy Valley School - 078998001","Maricopa",79081,"078998000","Happy Valley School Inc.",79095,"078998001","Happy Valley School",0.13360900000000001,3.8566999999999997E-2,0.172176,726,"HAPPY VALLEY SCHOOL","827 E. 6TH AVENUE","MESA AZ 85204","(623) 376-2900","(623) 376-9030"]
["Harold Steele Elementary School - 100201413","Pima",4403,"100201000","Tucson Unified District",5723,"100201413","Harold Steele Elementary School",0.760355,6.5088999999999994E-2,0.82544399999999996,338]
["Harold W Smith School - 070440103","Maricopa",4271,"070440000","Glendale Elementary District",5334,"070440103","Harold W Smith School",0.96162000000000003,2.2388000000000002E-2,0.98400900000000002,930,"HAROLD W SMITH SCHOOL","6534 N 63RD AVE","GLENDALE AZ 85301","() -","() -"]
["Harriet Johnson Primary School - 100201266","Pima",4403,"100201000","Tucson Unified District",5691,"100201266","Harriet Johnson Primary School",0.90909099999999998,2.9484E-2,0.93857500000000005,407]
["Harris Elementary School - 070241150","Maricopa",4239,"070241000","Gilbert Unified District",5033,"070241150","Harris Elementary School",0.70566700000000004,7.8611E-2,0.78427800000000003,547,"HARRIS ELEMENTARY SCHOOL","1820 S. HARRIS DRIVE","MESA AZ 85204","() -","( ) -"]
["Hartford Sylvia Encinas Elementary - 070280108","Maricopa",4242,"070280000","Chandler Unified District #80",5114,"070280108","Hartford Sylvia Encinas Elementary",0.86854500000000001,4.6947999999999997E-2,0.915493,852,"HARTFORD SYLVIA ENCINAS ELEMENTARY","700 N HARTFORD ST","CHANDLER AZ 85225","() -","( ) -"]
["Harvest Preparatory Academy - 148760101","Yuma",79501,"148760000","Harvest Power Community Development Group Inc.",79513,"148760101","Harvest Preparatory Academy",0.73899999999999999,0.105,0.84399999999999997,1000]
["Harvest Preparatory Academy, San Luis AZ - 148760102","Yuma",79501,"148760000","Harvest Power Community Development Group Inc.",90277,"148760102","Harvest Preparatory Academy, San Luis AZ",0.79487200000000002,0.121212,0.91608400000000001,429]
["Hassayampa Elementary School - 070209102","Maricopa",4236,"070209000","Wickenburg Unified District",6001,"070209102","Hassayampa Elementary School",0.69726999999999995,5.4591000000000001E-2,0.751861,403,"HASSAYAMPA ELEMENTARY SCHOOL","251 S. TEGNER ST.","WICKENBURG AZ 85390","() -","() -"]
["Havasu Preparatory Academy - 078580001","Maricopa",90535,"078580000","Kaizen Education Foundation dba Havasu Preparatory Academy",91157,"078580001","Havasu Preparatory Academy",0.52255600000000002,0.11654100000000001,0.63909800000000005,266,"HAVASU PREPARATORY ACADEMY","7878 N. 16TH STREET 150","PHOENIX AZ 85020","(928) 854-4011","( ) -"]
["Havasupai Elementary School - 080201103","Mohave",4368,"080201000","Lake Havasu Unified District",5561,"080201103","Havasupai Elementary School",0.80596999999999996,6.9652000000000006E-2,0.87562200000000001,402,"HAVASUPAI ELEMENTARY SCHOOL","880 CASHMERE DR","LAKE HAVASU CITY AZ 86404","() -","() -"]
["Hawthorne Elementary School - 070204106","Maricopa",4235,"070204000","Mesa Unified District",4918,"070204106","Hawthorne Elementary School",0.89915999999999996,4.2016999999999999E-2,0.94117600000000001,592,"HAWTHORNE ELEMENTARY SCHOOL","630 NORTH HUNT DR","MESA AZ 85203","() -","() -"]
["Hayden High School - 040241004","Gila",4212,"040241000","Hayden-Winkelman Unified District",4873,"040241004","Hayden High School",0.65432100000000004,8.6419999999999997E-2,0.74074099999999998,162,"HAYDEN HIGH SCHOOL","PO BOX 409","WINKELMAN AZ 85292","(520) 356-7876","(520) 356-7303"]
["Hearn Academy - A Ball Charter School - 078987103","Maricopa",4294,"078987000","Ball Charter Schools (Hearn)",10730,"078987103","Hearn Academy - A Ball Charter School",0.46608699999999997,9.0435000000000001E-2,0.55652199999999996,575,"HEARN ACADEMY, THE - A BALL CHARTER SCHOOL","17606 N. 7TH AVE","PHOENIX AZ 85022","() -","() -"]
["Heartland Ranch Elementary School - 110221010","Pinal",4442,"110221000","Coolidge Unified District",89577,"110221010","Heartland Ranch Elementary School",0.90453499999999998,6.6825999999999997E-2,0.97136,419]
["Heatherbrae School - 070483112","Maricopa",4282,"070483000","Cartwright Elementary District",5409,"070483112","Heatherbrae School",0.92847100000000005,3.9271E-2,0.96774199999999999,713,"HEATHERBRAE SCHOOL","7070 WEST HEATHERBRAE DRIVE","PHOENIX AZ 85033","(623) 691-5200","(623) 691-5220"]
["Helen Keeling Elementary School - 100210109","Pima",4406,"100210000","Amphitheater Unified District",5795,"100210109","Helen Keeling Elementary School",0.91352500000000003,3.7693999999999998E-2,0.95121999999999995,451]
["Henry Hank Oyama - 100201327","Pima",4403,"100201000","Tucson Unified District",80039,"100201327","Henry Hank Oyama",0.82505899999999999,5.4373999999999999E-2,0.87943300000000002,423]
["Heritage Elementary - Williams - 078985103","Maricopa",81076,"078985000","Heritage Elementary School",89624,"078985103","Heritage Elementary - Williams",0.65333300000000005,6.6667000000000004E-2,0.72,75,"HERITAGE ELEMENTARY - WILLIAMS","13419 WEST OCOTILLO ROAD","GLENDALE AZ 85307","(623) 935-1945","(623) 935-1614"]
["Heritage Elementary School - 078985101","Maricopa",81076,"078985000","Heritage Elementary School",81077,"078985101","Heritage Elementary School",0.56291400000000003,0.13377500000000001,0.696689,755,"HERITAGE ELEMENTARY SCHOOL","13419 W OCOTILLO","GLENDALE AZ 85031","(623) 935-1931","(623) 935-1931"]
["Heritage Middle School - 130251102","Yavapai",4474,"130251000","Chino Valley Unified District",6109,"130251102","Heritage Middle School",0.58833599999999997,7.3756000000000002E-2,0.66209300000000004,540]
["Heritage School - 070211104","Maricopa",4237,"070211000","Peoria Unified School District",4992,"070211104","Heritage School",0.49858000000000002,8.3807000000000006E-2,0.58238599999999996,704,"HERITAGE SCHOOL","5312 W MOUNTAIN VIEW","GLENDALE AZ 85302","() -","() -"]
["Hermosa Vista Elementary School - 070204143","Maricopa",4235,"070204000","Mesa Unified District",4955,"070204143","Hermosa Vista Elementary School",0.21468100000000001,4.7091000000000001E-2,0.26177299999999998,721,"HERMOSA VISTA ELEMENTARY SCHOOL","2626 N 24TH STREET","MESA AZ 85213","() -","() -"]
["Hiaki High School - 108505001","Pima",90331,"108505000","CPLC Community Schools dba Hiaki High School",87412,"108505001","Hiaki High School",0.75,0.11666700000000001,0.86666699999999997,60]
["Hidden Hills Elementary School - 070269124","Maricopa",4241,"070269000","Paradise Valley Unified District",5079,"070269124","Hidden Hills Elementary School",0.439189,6.0810999999999997E-2,0.5,532,"HIDDEN HILLS ELEMENTARY SCHOOL","1919 EAST SHARON DRIVE","PHOENIX AZ 85022","(602) 449-3100","( ) -"]
["High Desert Middle School - 040201105","Gila",4208,"040201000","Globe Unified District",85831,"040201105","High Desert Middle School",0.576017,0.10706599999999999,0.68308400000000002,467,"HIGH DESERT MIDDLE SCHOOL","455 N. WILLOW","GLOBE AZ 85501","() -","() -"]
["Highland Elementary School - 070204132","Maricopa",4235,"070204000","Mesa Unified District",4944,"070204132","Highland Elementary School",0.41989700000000002,5.6848000000000003E-2,0.476744,773,"HIGHLAND ELEMENTARY SCHOOL","3042 E. ADOBE","MESA AZ 85213","(480) 472-7600","(480) 472-7606"]
["Highland High School - 070241211","Maricopa",4239,"070241000","Gilbert Unified District",5040,"070241211","Highland High School",0.114927,3.6721999999999998E-2,0.15164900000000001,2941,"HIGHLAND HIGH SCHOOL","140 SOUTH GILBERT ROAD","GILBERT AZ 85296","() -","( ) -"]
["Highland Jr High School - 070241123","Maricopa",4239,"070241000","Gilbert Unified District",6006,"070241123","Highland Jr High School",0.20160800000000001,6.1843000000000002E-2,0.26345099999999999,1617,"HIGHLAND JR HIGH SCHOOL","6915 E. GUADALUPE RD.","MESA AZ 85212","() -","( ) -"]
["Highland Lakes School - 070297136","Maricopa",4246,"070297000","Deer Valley Unified District",78921,"070297136","Highland Lakes School",0.17857100000000001,5.5357000000000003E-2,0.233929,1116,"HIGHLAND LAKES SCHOOL","19000 N. 63RD AVENUE","GLENDALE AZ 85308","() -","() -"]
["Highland Park Elementary - 070241166","Maricopa",4239,"070241000","Gilbert Unified District",88401,"070241166","Highland Park Elementary",0.13522400000000001,4.7982999999999998E-2,0.18320600000000001,917,"HIGHLAND PARK ELEMENTARY","230 N. COLE DR.","GILBERT AZ 85234","(480) 832-3034","(480) 832-3027"]
["Highland Primary School - 090205006","Navajo",4391,"090205000","Snowflake Unified District",5619,"090205006","Highland Primary School",0.438,7.3999999999999996E-2,0.51200000000000001,500,"HIGHLAND PRIMARY SCHOOL","682 SCHOOL BUS LANE","SNOWFLAKE AZ 85937","() -","() -"]
["Higley High School - 070260201","Maricopa",4248,"070260000","Higley Unified School District",79374,"070260201","Higley High School",0.196496,6.8835999999999994E-2,0.26533200000000001,1598,"HIGLEY HIGH SCHOOL","4068 EAST PECOS ROAD","GILBERT AZ 85296","() -","() -"]
["Higley Traditional Academy - 070260101","Maricopa",4248,"070260000","Higley Unified School District",5168,"070260101","Higley Traditional Academy",0.22389899999999999,6.2893000000000004E-2,0.28679199999999999,795,"HIGLEY TRADITIONAL ACADEMY","3391 E. VEST AVE.","HIGLEY AZ 85236","() -","() -"]
["Hillcrest Middle School - 070297128","Maricopa",4246,"070297000","Deer Valley Unified District",5155,"070297128","Hillcrest Middle School",0.117143,5.1429000000000002E-2,0.168571,1046,"HILLCREST MIDDLE SCHOOL","22833 N. 71ST AVE.","GLENDALE AZ 85310 5201","() -","() -"]
["HoHoKam Middle School - 110221005","Pinal",4442,"110221000","Coolidge Unified District",5914,"110221005","HoHoKam Middle School",0.82212600000000002,6.0738E-2,0.88286299999999995,461]
["Hohokam Middle School - 100201513","Pima",4403,"100201000","Tucson Unified District",5740,"100201513","Hohokam Middle School",0.85521899999999995,5.3872000000000003E-2,0.90909099999999998,297]
["Hohokam Traditional School - 070248114","Maricopa",4240,"070248000","Scottsdale Unified District",5051,"070248114","Hohokam Traditional School",0.58561600000000003,0.121575,0.70719200000000004,579,"HOHOKAM TRADITIONAL SCHOOL","8451 E. OAK STREET","SCOTTSDALE AZ 85257","(480) 484-1800","(480) 484-1801"]
["Holbrook High School - 090203207","Navajo",4389,"090203000","Holbrook Unified District",5610,"090203207","Holbrook High School",0.59422299999999995,5.0894000000000002E-2,0.64511700000000005,727,"HOLBROOK HIGH SCHOOL","455 NORTH 8TH AVENUE","HOLBROOK AZ 86025","() -","() -"]
["Holbrook Junior High School - 090203106","Navajo",4389,"090203000","Holbrook Unified District",5609,"090203106","Holbrook Junior High School",0.64959599999999995,8.6252999999999996E-2,0.73584899999999998,371,"HOLBROOK JUNIOR HIGH SCHOOL","P. O. BOX 640","HOLBROOK AZ 86025","() -","() -"]
["Holdeman Elementary School - 070403115","Maricopa",4258,"070403000","Tempe School District",5215,"070403115","Holdeman Elementary School",0.81269800000000003,5.7142999999999999E-2,0.86984099999999998,626,"HOLDEMAN ELEMENTARY SCHOOL","1326 WEST 18TH ST","TEMPE AZ 85281","() -","() -"]
["Holiday Park School - 070483105","Maricopa",4282,"070483000","Cartwright Elementary District",5402,"070483105","Holiday Park School",0.88228300000000004,5.4697000000000003E-2,0.93698000000000004,841,"HOLIDAY PARK SCHOOL","4417 N. 66TH AVE.","PHOENIX AZ 85033","(623) 691-4500","(623) 691-4520"]
["Holladay Intermediate Magnet School - 100201239","Pima",4403,"100201000","Tucson Unified District",5686,"100201239","Holladay Intermediate Magnet School",0.81403499999999995,4.9123E-2,0.86315799999999998,285]
["Hollinger Elementary School - 100201233","Pima",4403,"100201000","Tucson Unified District",5684,"100201233","Hollinger Elementary School",0.919431,3.0806E-2,0.950237,422]
["Holmes Elementary School - 070204107","Maricopa",4235,"070204000","Mesa Unified District",4919,"070204107","Holmes Elementary School",0.93178300000000003,3.5659000000000003E-2,0.96744200000000002,643,"HOLMES ELEMENTARY SCHOOL","948 S HORNE","MESA AZ 85204","() -","() -"]
["Homer Davis Elementary School - 100208120","Pima",4405,"100208000","Flowing Wells Unified District",5785,"100208120","Homer Davis Elementary School",0.80293499999999995,5.8700000000000002E-2,0.86163500000000004,477]
["Hope School - 111099001","Pinal",79534,"211022000","Pinal County Juvenile Detention",90745,"111099001","Hope School",1,0,1,91]
["Hopi Day School - 093906005","Navajo",88447,"099101000","Hopi Day School",80287,"093906005","Hopi Day School",0.610738,0.18120800000000001,0.79194600000000004,166]
["Hopi Elementary School - 070248112","Maricopa",4240,"070248000","Scottsdale Unified District",5049,"070248112","Hopi Elementary School",0.120627,2.1713E-2,0.14233999999999999,829,"HOPI ELEMENTARY SCHOOL","5110 E. LAFAYETTE BLVD.","PHOENIX AZ 85018","() -","() -"]
["Hopi Jr. / Sr. High School - 093906002","Navajo",88449,"099103000","Hopi Jr/Sr High School",87950,"093906002","Hopi Jr. / Sr. High School",0.66554599999999997,0.121008,0.786555,595]
["Hopi Mission School - 092004001","Navajo",80083,"092004000","Hopi Mission School",80084,"092004001","Hopi Mission School",0.64814799999999995,0.12963,0.77777799999999997,54]
["Horizon High School - 070269293","Maricopa",4241,"070269000","Paradise Valley Unified District",5106,"070269293","Horizon High School",9.1224E-2,1.8591E-2,0.10981399999999999,2167,"HORIZON HIGH SCHOOL","5601 E GREENWAY ROAD","SCOTTSDALE AZ 85254","(602) 449-6000","( ) -"]
["Horizon School - 070440110","Maricopa",4271,"070440000","Glendale Elementary District",5341,"070440110","Horizon School",0.64726399999999995,8.8474999999999998E-2,0.73573900000000003,841,"HORIZON SCHOOL","8520 N. 47TH AVE","GLENDALE AZ 85302","() -","() -"]
["Horseshoe Trails Elementary School - 070293708","Maricopa",4244,"070293000","Cave Creek Unified District",87477,"070293708","Horseshoe Trails Elementary School",5.9249000000000003E-2,1.4451E-2,7.3699000000000001E-2,692,"HORSESHOE TRAILS ELEMENTARY SCHOOL","P.O. BOX 426","CAVE CREEK AZ 85327","() -","() -"]
["Hotevilla Bacavi Community School - 093906006","Navajo",88453,"099106000","Hotevilla Bacavi Community School",79662,"093906006","Hotevilla Bacavi Community School",0.74311899999999997,8.2569000000000004E-2,0.82568799999999998,107]
["Houston Elementary School - 070241146","Maricopa",4239,"070241000","Gilbert Unified District",5029,"070241146","Houston Elementary School",0.30769200000000002,0.121646,0.429338,559,"HOUSTON ELEMENTARY SCHOOL","500 E. HOUSTON AVE.","GILBERT AZ 85234","() -","( ) -"]
["Howell Peter Elementary - 100201245","Pima",4403,"100201000","Tucson Unified District",5687,"100201245","Howell Peter Elementary",0.84036100000000002,4.2168999999999998E-2,0.88253000000000004,332]
["Howenstine High School - 100201680","Pima",4403,"100201000","Tucson Unified District",5767,"100201680","Howenstine High School",0.65600000000000003,0.08,0.73599999999999999,125]
["Huachuca City School - 020201101","Cochise",4168,"020201000","Tombstone Unified District",4749,"020201101","Huachuca City School",0.71372500000000005,4.7058999999999997E-2,0.76078400000000002,510,"HUACHUCA CITY SCHOOL","PO BOX 1000","TOMBSTONE AZ 85638","() -","( ) -"]
["Huachuca Mountain Elementary School - 020268120","Cochise",4175,"020268000","Sierra Vista Unified District",4777,"020268120","Huachuca Mountain Elementary School",0.231293,5.4421999999999998E-2,0.28571400000000002,588,"HUACHUCA MOUNTAIN ELEMENTARY SCHOOL","3555 FRY BLVD","SIERRA VISTA AZ 85635","() -","() -"]
["Hualapai Elementary - 080220110","Mohave",79598,"080220000","Kingman Unified School District",5571,"080220110","Hualapai Elementary",0.51398100000000002,8.1225000000000006E-2,0.59520600000000001,751,"HUALAPAI ELEMENTARY","350 EASTERN STREET","KINGMAN AZ 86401","(928) 753-1919","(928) 753-1418"]
["Hudlow Elementary School - 100201251","Pima",4403,"100201000","Tucson Unified District",5688,"100201251","Hudlow Elementary School",0.77852299999999997,6.0402999999999998E-2,0.83892599999999995,298]
["Hudson Elementary School - 070403120","Maricopa",4258,"070403000","Tempe School District",5219,"070403120","Hudson Elementary School",0.57356600000000002,9.2269000000000004E-2,0.66583499999999995,398,"HUDSON ELEMENTARY SCHOOL","1325 E MALIBU DR","TEMPE AZ 85282","() -","() -"]
["Hulet Elementary School - 090203102","Navajo",4389,"090203000","Holbrook Unified District",5607,"090203102","Hulet Elementary School",0.63385800000000003,7.4802999999999994E-2,0.70866099999999999,254,"HULET ELEMENTARY SCHOOL","P. O. BOX 640","HOLBROOK AZ 86025","() -","() -"]
["Humboldt Elementary School - 130222131","Yavapai",4469,"130222000","Humboldt Unified District",6093,"130222131","Humboldt Elementary School",0.576233,0.112108,0.68834099999999998,437]
["Hunters Point Boarding School - 014012002","Apache",80370,"014006000","Hunters Point Boarding School",80444,"014012002","Hunters Point Boarding School",0.71250000000000002,0.05,0.76249999999999996,160]
["Hurley Ranch Elementary - 070462102","Maricopa",4277,"070462000","Union Elementary District",87523,"070462102","Hurley Ranch Elementary",0.75917400000000002,0.11697200000000001,0.87614700000000001,872,"HURLEY RANCH ELEMENTARY","8950 W. ILLINI ST.","TOLLESON AZ 85353","() -","() -"]
["Ida Flood Dodge Traditional Middle Magnet School - 100201502","Pima",4403,"100201000","Tucson Unified District",5735,"100201502","Ida Flood Dodge Traditional Middle Magnet School",0.34482800000000002,8.8669999999999999E-2,0.43349799999999999,406]
["Ignacio Conchos School - 070466017","Maricopa",4279,"070466000","Roosevelt Elementary District",5377,"070466017","Ignacio Conchos School",0.87472499999999997,9.2308000000000001E-2,0.96703300000000003,454,"IGNACIO CONCHOS SCHOOL","1718 W. VINEYARD RD.","PHOENIX AZ 85041","() -","() -"]
["Imagine Avondale Elementary - 078535101","Maricopa",89784,"078535000","Imagine Avondale Elementary Inc.",89785,"078535101","Imagine Avondale Elementary",0.58010099999999998,0.106239,0.68634099999999998,593,"IMAGINE AVONDALE ELEMENTARY","950 N ELISEO FELIX JR WAY","AVONDALE AZ 85323","(602) 547-7961","(602) 547-7922"]
["Imagine Avondale Middle - 078553001","Maricopa",90162,"078553000","Imagine Avondale Middle Inc.",90163,"078553001","Imagine Avondale Middle",0.692913,0.11811000000000001,0.81102399999999997,127,"IMAGINE AVONDALE MIDDLE","950 NORTH ELISEO C. FELIX JR. WAY","AVONDALE AZ 85323","(623) 344-1730","(623) 344-1740"]
["Imagine Bell Canyon - 078972101","Maricopa",79983,"078972000","Bell Canyon Charter School Inc",79507,"078972101","Imagine Bell Canyon",0.481319,0.116484,0.59780199999999994,455,"IMAGINE BELL CANYON","18052 NO. BLACK CANYON HWY.","PHOENIX AZ 85053","(602) 547-7920","(602) 547-7923"]
["Imagine Camelback Elementary - 078519101","Maricopa",88365,"078519000","Imagine Charter Elementary at Camelback Inc.",88366,"078519101","Imagine Camelback Elementary",0.86328099999999997,4.1015999999999997E-2,0.90429700000000002,512,"IMAGINE CAMELBACK ELEMENTARY","18052 N. BLACK CANYON HIGHWAY","PHOENIX AZ 85053","(602) 547-7961","(602) 547-7922"]
["Imagine Camelback Middle - 078531101","Maricopa",89561,"078531000","Imagine Camelback Middle Inc.",89562,"078531101","Imagine Camelback Middle",0.84090900000000002,3.0303E-2,0.87121199999999999,132,"IMAGINE CAMELBACK MIDDLE","5050 N. 19TH AVE.","PHOENIX AZ 85015","(602) 344-4620","(602) 344-4630"]
["Imagine Coolidge Elementary - 078536101","Maricopa",89786,"078536000","Imagine Coolidge Elementary Inc.",89787,"078536101","Imagine Coolidge Elementary",0.58644499999999999,0.102351,0.68879699999999999,723,"IMAGINE COOLIDGE ELEMENTARY","18052 N. BLACK CANYON HIGHWAY","PHOENIX AZ 85053","(602) 547-7961","(602) 547-7922"]
["Imagine Cortez Park Elementary - 078792101","Maricopa",79024,"078792000","Pathfinder Charter School Foundation",79509,"078792101","Imagine Cortez Park Elementary",0.89337599999999995,3.8772000000000001E-2,0.93214900000000001,619,"IMAGINE CORTEZ PARK ELEMENTARY","3535 W. DUNLAP","PHOENIX AZ 85051","(602) 589-9840","(602) 589-9841"]
["Imagine Cortez Park Middle - 078975101","Maricopa",79988,"078975000","Cortez Park Charter Middle School Inc.",79989,"078975101","Imagine Cortez Park Middle",0.85585599999999995,6.3062999999999994E-2,0.91891900000000004,222,"IMAGINE CORTEZ PARK MIDDLE","3535 WEST DUNLAP AVENUE","PHOENIX AZ 85051","(602) 589-9840","(602) 589-9841"]
["Imagine Desert West Elementary - 078520101","Maricopa",88367,"078520000","Imagine Charter Elementary at Desert West Inc.",88368,"078520101","Imagine Desert West Elementary",0.84321500000000005,7.2464000000000001E-2,0.91567900000000002,759,"IMAGINE DESERT WEST ELEMENTARY","6738 WEST MCDOWELL RD.","PHOENIX AZ 85035","(623) 344-7150","(623) 344-7160"]
["Imagine Desert West Middle - 078532101","Maricopa",89563,"078532000","Imagine Desert West Middle Inc.",89564,"078532101","Imagine Desert West Middle",0.853881,6.8492999999999998E-2,0.92237400000000003,219,"IMAGINE DESERT WEST MIDDLE","6738 W. MCDOWELL RD.","PHOENIX AZ 85035","(623) 344-7150","(623) 344-7160"]
["Imagine East Mesa Elementary - 078509101","Maricopa",87401,"078509000","East Mesa Charter Elementary School Inc.",87402,"078509101","Imagine East Mesa Elementary",0.490284,8.6696999999999996E-2,0.57698099999999997,669,"IMAGINE EAST MESA ELEMENTARY","18052 N. BLACK CANYON HIGHWAY","PHOENIX AZ 85053","(602) 445-8000","(602) 445-8100"]
["Imagine East Mesa Middle - 078521001","Maricopa",88369,"078521000","Imagine Middle at East Mesa Inc.",88370,"078521001","Imagine East Mesa Middle",0.493506,0.12987000000000001,0.62337699999999996,77,"IMAGINE EAST MESA MIDDLE","18052 N. BLACK CANYON HIGHWAY","PHOENIX AZ 85053","(602) 547-7961","(602) 547-7922"]
["Imagine Prep Coolidge - 078547101","Maricopa",90034,"078547000","Imagine Prep Coolidge Inc.",90035,"078547101","Imagine Prep Coolidge",0.53876000000000002,0.12209299999999999,0.66085300000000002,516,"IMAGINE PREP COOLIDGE","1290B W. VAH KI INN ROAD","COOLIDGE AZ 85228","() -","( ) -"]
["Imagine Prep Superstition - 078537101","Maricopa",89788,"078537000","Imagine Prep Superstition Inc.",89789,"078537101","Imagine Prep Superstition",0.62222200000000005,6.6667000000000004E-2,0.68888899999999997,90,"IMAGINE PREP SUPERSTITION","18052 N. BLACK CANYON HIGHWAY","PHOENIX AZ 85053","(602) 547-7961","(602) 547-7922"]
["Imagine Prep Surprise - 078538101","Maricopa",89790,"078538000","Imagine Prep Surprise Inc.",89791,"078538101","Imagine Prep Surprise",0.29447899999999999,6.7485000000000003E-2,0.36196299999999998,163,"IMAGINE PREP SURPRISE","18052 N. BLACK CANYON HIGHWAY","PHOENIX AZ 85053","(602) 547-7961","(602) 547-7922"]
["Imagine Rosefield - 078508101","Maricopa",87399,"078508000","Rosefield Charter Elementary School Inc.",87400,"078508101","Imagine Rosefield",0.262517,8.1190999999999999E-2,0.34370800000000001,739,"IMAGINE ROSEFIELD","12050 N. BULLARD AVENUE","SURPRISE AZ 85379","(623) 344-4300","(623) 344-4310"]
["Imagine Sierra Vista - 078973101","Maricopa",79985,"078973000","Sierra Vista Charter School Inc.",79638,"078973101","Imagine Sierra Vista",0.35151500000000002,7.5758000000000006E-2,0.42727300000000001,330,"IMAGINE SIERRA VISTA","18052 N. BLACK CANYON HIGHWAY","PHOENIX AZ 85053","(520) 224-2500","(520) 224-2511"]
["Imagine Superstition Middle - 078552001","Maricopa",90160,"078552000","Imagine Superstition Middle Inc.",90161,"078552001","Imagine Superstition Middle",0.68656700000000004,0.104478,0.791045,67,"IMAGINE SUPERSTITION MIDDLE","1843 WEST 16TH AVENUE","APACHE JUNCTION AZ 85220","(480) 355-0530","(480) 355-0540"]
["Imagine Surprise Middle - 078522101","Maricopa",88372,"078522000","Imagine Middle at Surprise Inc.",88373,"078522101","Imagine Surprise Middle",0.32592599999999999,6.6667000000000004E-2,0.39259300000000003,270,"IMAGINE SURPRISE MIDDLE","18052 N. BLACK CANYON HIGHWAY","PHOENIX AZ 85053","(623) 344-4300","(623) 344-4310"]
["Imagine Tempe - 078523101","Maricopa",88374,"078523000","Imagine Elementary at Tempe Inc.",88375,"078523101","Imagine Tempe",0.69148900000000002,0.11347500000000001,0.80496500000000004,282,"IMAGINE TEMPE","1538 EAST SOUTHERN AVE.","TEMPE AZ 85282","(480) 355-1640","(480) 355-1650"]
["Imagine West Gilbert Elementary - 078935102","Maricopa",79497,"078935000","West Gilbert Charter Elementary School Inc.",79508,"078935102","Imagine West Gilbert Elementary",0.22964499999999999,9.3946000000000002E-2,0.32359100000000002,479,"IMAGINE WEST GILBERT ELEMENTARY","2061 S. GILBERT RD.","GILBERT AZ 85296","(480) 855-2700","(480) 855-2701"]
["Imagine West Gilbert Middle - 078974101","Maricopa",79990,"078974000","West Gilbert Charter Middle School Inc.",79991,"078974101","Imagine West Gilbert Middle",0.29473700000000003,5.2631999999999998E-2,0.34736800000000001,95,"IMAGINE WEST GILBERT MIDDLE","2061 S. GILBERT RD.","GILBERT AZ 85296","(480) 855-2700","(480) 855-2701"]
["Imago Dei Middle School - 102039001","Pima",91349,"102039000","Imago Dei Middle School",91350,"102039001","Imago Dei Middle School",0.91836700000000004,4.0815999999999998E-2,0.95918400000000004,49]
["Immaculate Conception School - 142002001","Yuma",80085,"142002000","Immaculate Conception School",80086,"142002001","Immaculate Conception School",0.26589600000000002,0.16184999999999999,0.42774600000000002,173]
["Immanuel Mision School - 012001001","Apache",80087,"012001000","Immanuel Mission Association",80088,"012001001","Immanuel Mision School",0.80769199999999997,1.2821000000000001E-2,0.82051300000000005,76]
["Inca Elementary School - 070433107","Maricopa",4269,"070433000","Buckeye Elementary District",90341,"070433107","Inca Elementary School",0.56120999999999999,0.10729,0.66850100000000001,727,"INCA ELEMENTARY SCHOOL","25555 WEST DURANGO STREET","BUCKEYE AZ 85326","() -","( ) -"]
["Independence High School - 070505209","Maricopa",4285,"070505000","Glendale Union High School District",5434,"070505209","Independence High School",0.63409300000000002,0.100434,0.73452799999999996,1842,"INDEPENDENCE HIGH SCHOOL","6602 N. 75TH AVENUE","GLENDALE AZ 85303","() -","( ) -"]
["Indian Bend Elementary School - 070269135","Maricopa",4241,"070269000","Paradise Valley Unified District",5086,"070269135","Indian Bend Elementary School",0.70993899999999999,0.107505,0.81744399999999995,455,"INDIAN BEND ELEMENTARY SCHOOL","3633 E THUNDERBIRD ROAD","PHOENIX AZ 85032","(602) 449-3200","( ) -"]
["Indian Oasis Elementary School - 100240101","Pima",4412,"100240000","Baboquivari Unified School District #40",5844,"100240101","Indian Oasis Elementary School",0.78253399999999995,5.4795000000000003E-2,0.83732899999999999,584]
["Indian Oasis Intermediate School to Baboquivari Middle School - Closed - 100240102","Pima",4412,"100240000","Baboquivari Unified School District #40",5845,"100240102","Indian Oasis Intermediate School to Baboquivari Middle School - Closed",0.735043,6.8376000000000006E-2,0.80341899999999999,234]
["Indian Wells Elementary - 090203104","Navajo",4389,"090203000","Holbrook Unified District",79377,"090203104","Indian Wells Elementary",0.85555599999999998,8.2222000000000003E-2,0.937778,450,"INDIAN WELLS ELEMENTARY","PO BOX 640","HOLBROOK AZ 86025","() -","() -"]
["Ingleside Middle School - 070248165","Maricopa",4240,"070248000","Scottsdale Unified District",5062,"070248165","Ingleside Middle School",0.39612199999999997,6.2327E-2,0.458449,719,"INGLESIDE MIDDLE SCHOOL","5402 E. OSBORN ROAD","PHOENIX AZ 85018","() -","() -"]
["Inspire Education, A Mission Charter School - 078904102","Maricopa",78845,"078904000","Mission Charter School Inc.",90735,"078904102","Inspire Education, A Mission Charter School",0.59482800000000002,9.4827999999999996E-2,0.68965500000000002,116,"INSPIRE EDUCATION, A MISSION CHARTER SCHOOL","19602 N 23RD AVE.","PHOENIX AZ 85020","(602) 944-2097","(602) 944-0252"]
["Integrity Education Centre - 078751001","Maricopa",5174,"078751000","Integrity Education Incorporated",10811,"078751001","Integrity Education Centre",0.76271199999999995,8.4746000000000002E-2,0.84745800000000004,59,"INTEGRITY EDUCATION CENTRE","PO BOX 10247","SCOTTSDALE AZ 85271","(480) 731-4829","(480) 945-2008"]
["Intermountain Academy - 102142001","Pima",91899,"102142000","Intermountain Centers for Human Development",91900,"102142001","Intermountain Academy",0.85714299999999999,4.7619000000000002E-2,0.90476199999999996,21]
["Ira A Murphy - 070211102","Maricopa",4237,"070211000","Peoria Unified School District",4990,"070211102","Ira A Murphy",0.71844699999999995,8.4141999999999995E-2,0.802589,618,"IRA A MURPHY","7231 W NORTH LANE","PEORIA AZ 85345","(623) 412-4475","(623) 412-4484"]
["Ira A. Fulton Elementary - 070280138","Maricopa",4242,"070280000","Chandler Unified District #80",89590,"070280138","Ira A. Fulton Elementary",7.6923000000000005E-2,2.1978000000000001E-2,9.8901000000000003E-2,1001,"IRA A. FULTON ELEMENTARY","4750 S. SUNLAND DRIVE","CHANDLER AZ 85248","(480) 224-3300","(480) 224-3320"]
["Ira H. Hayes High School - 118702201","Pinal",79062,"118702000","Ira H. Hayes Memorial Applied Learning Center Inc.",79114,"118702201","Ira H. Hayes High School",0.82432399999999995,8.1081E-2,0.90540500000000002,74]
["Irene Erickson Elementary School - 100201215","Pima",4403,"100201000","Tucson Unified District",5677,"100201215","Irene Erickson Elementary School",0.84252000000000005,4.7244000000000001E-2,0.889764,508]
["Ironwood Elementary School - 100206117","Pima",4404,"100206000","Marana Unified District",5775,"100206117","Ironwood Elementary School",0.28552499999999997,6.7728999999999998E-2,0.35325400000000001,753]
["Ironwood Elementary School - 070406130","Maricopa",4260,"070406000","Washington Elementary School District",5252,"070406130","Ironwood Elementary School",0.57823100000000005,8.3333000000000004E-2,0.66156499999999996,588,"IRONWOOD ELEMENTARY SCHOOL","14850 N 39TH AVE","PHOENIX AZ 85053 4510","() -","() -"]
["Ironwood High School - 070211262","Maricopa",4237,"070211000","Peoria Unified School District",5015,"070211262","Ironwood High School",0.32013999999999998,6.3126000000000002E-2,0.38326700000000002,1996,"IRONWOOD HIGH SCHOOL","6051 W. SWEETWATER AVE.","GLENDALE AZ 85304","(623) 486-6400","(623) 486-6424"]
["Ironwood Ridge High School - 100210280","Pima",4406,"100210000","Amphitheater Unified District",79378,"100210280","Ironwood Ridge High School",0.11503099999999999,2.5051E-2,0.14008200000000001,1956]
["Ironwood School - 110404108","Pinal",4446,"110404000","Casa Grande Elementary District",5936,"110404108","Ironwood School",0.51388900000000004,0.107143,0.62103200000000003,502]
["Irving Elementary School - 070204108","Maricopa",4235,"070204000","Mesa Unified District",4920,"070204108","Irving Elementary School",0.65671599999999997,7.2968000000000005E-2,0.72968500000000003,600,"IRVING ELEMENTARY SCHOOL","3220 E PUEBLO","MESA AZ 85204 4028","() -","() -"]
["Isaac E Imes School - 070440102","Maricopa",4271,"070440000","Glendale Elementary District",5333,"070440102","Isaac E Imes School",0.90557299999999996,2.9412000000000001E-2,0.93498499999999996,644,"ISAAC E IMES SCHOOL","6625 N 56TH AVE","GLENDALE AZ 85301","() -","() -"]
["Isaac Middle School - 070405101","Maricopa",4259,"070405000","Isaac Elementary District",5234,"070405101","Isaac Middle School",0.77453300000000003,0.12149500000000001,0.89602800000000005,812,"ISAAC MIDDLE SCHOOL","3402 W. MCDOWELL ROAD","PHOENIX AZ 85009","(602) 455-6800","(602) 455-6868"]
["Ishikawa Elementary School - 070204140","Maricopa",4235,"070204000","Mesa Unified District",4952,"070204140","Ishikawa Elementary School",0.36886200000000002,2.7545E-2,0.39640700000000001,832,"ISHIKAWA ELEMENTARY SCHOOL","2635 N 32ND STREET","MESA AZ 85213 1662","() -","() -"]
["Islands Elementary School - 070241145","Maricopa",4239,"070241000","Gilbert Unified District",5028,"070241145","Islands Elementary School",0.28773599999999999,9.1194999999999998E-2,0.37893100000000002,636,"ISLANDS ELEMENTARY SCHOOL","245 SOUTH MCQUEEN ROAD","GILBERT AZ 85233","() -","( ) -"]
["J  Robert Hendricks Elementary School - 100208140","Pima",4405,"100208000","Flowing Wells Unified District",5787,"100208140","J  Robert Hendricks Elementary School",0.56913800000000003,0.1002,0.66933900000000002,499]
["J B Sutton Elementary School - 070405102","Maricopa",4259,"070405000","Isaac Elementary District",5235,"070405102","J B Sutton Elementary School",0.82994900000000005,8.8831999999999994E-2,0.91878199999999999,758,"J B SUTTON ELEMENTARY SCHOOL","1001 N. 31ST AVENUE","PHOENIX AZ 85009","() -","() -"]
["J. O. Combs Middle School - 110244103","Pinal",4445,"110244000","J O Combs Unified School District",5928,"110244103","J. O. Combs Middle School",0.37091299999999999,8.6808999999999997E-2,0.45772299999999999,887]
["Jack Barnes Elementary School - 070295103","Maricopa",4245,"070295000","Queen Creek Unified District",80439,"070295103","Jack Barnes Elementary School",0.26403300000000002,7.6923000000000005E-2,0.34095599999999998,460,"JACK BARNES ELEMENTARY SCHOOL","20750 S. 214TH STREET","QUEEN CREEK AZ 85242","(480) 987-7400","( ) -"]
["Jack Daley Primary School - 050204100","Graham",4219,"050204000","Thatcher Unified District",4886,"050204100","Jack Daley Primary School",0.35520400000000002,0.113122,0.46832600000000002,442,"JACK DALEY PRIMARY SCHOOL","BOX 610","THATCHER AZ 85552","() -","() -"]
["Jack Harmon Elementary School - 110244104","Pinal",4445,"110244000","J O Combs Unified School District",87489,"110244104","Jack Harmon Elementary School",0.44714300000000001,0.08,0.52714300000000003,700]
["Jack L Kuban Elementary School - 070421102","Maricopa",4265,"070421000","Murphy Elementary District",5291,"070421102","Jack L Kuban Elementary School",0.92926799999999998,3.1706999999999999E-2,0.96097600000000005,410,"JACK L KUBAN ELEMENTARY SCHOOL","3201 WEST SHERMAN ST.","PHOENIX AZ 85009","() -","() -"]
["Jamaica Elementary School - 080201109","Mohave",4368,"080201000","Lake Havasu Unified District",78979,"080201109","Jamaica Elementary School",0.42973899999999998,7.0261000000000004E-2,0.5,612,"JAMAICA ELEMENTARY SCHOOL","3437 JAMAICA BLVD. SO.","LAKE HAVASU CITY AZ 86406","() -","() -"]
["James B Rolle School - 140401110","Yuma",4499,"140401000","Yuma Elementary District",6156,"140401110","James B Rolle School",0.54220800000000002,9.9026000000000003E-2,0.64123399999999997,616]
["James W. Rice Primary School - 070468103","Maricopa",4280,"070468000","Alhambra Elementary District",5383,"070468103","James W. Rice Primary School",0.86070000000000002,4.6692999999999998E-2,0.90739300000000001,1285,"JAMES W. RICE PRIMARY SCHOOL","4530 W. CAMPBELL AVE.","PHOENIX AZ 85031","(623) 848-8420","(623) 848-1998"]
["Jane D. Hull Elementary - 070280130","Maricopa",4242,"070280000","Chandler Unified District #80",79653,"070280130","Jane D. Hull Elementary",0.13885900000000001,5.0591999999999998E-2,0.18945100000000001,929,"JANE D. HULL ELEMENTARY","2424 E. MAREN DRIVE","CHANDLER AZ 85249","() -","( ) -"]
["Jeddito School - 090225001","Navajo",4395,"090225000","Cedar Unified District",5638,"090225001","Jeddito School",0.92972999999999995,4.3242999999999997E-2,0.97297299999999998,185,"JEDDITO SCHOOL","P.O. BOX 367","KEAMS CANYON AZ 86034 0367","() -","() -"]
["Jeehdeez'a Elementary - 094014001","Navajo",91248,"094014000","Jeehdeez'a Elementary",91249,"094014001","Jeehdeez'a Elementary",0.92968799999999996,7.8130000000000005E-3,0.9375,128]
["Jefferson Academy of Advanced Learning - 098750001","Navajo",79973,"098750000","Founding Fathers Academies Inc",79974,"098750001","Jefferson Academy of Advanced Learning",0.54787200000000003,0.101064,0.64893599999999996,188,"JEFFERSON ACADEMY OF ADVANCED LEARNING","40 SOUTH 11TH STREET","SHOW LOW AZ 85901","(928) 537-5432","( ) -"]
["Jefferson Elementary School - 070204109","Maricopa",4235,"070204000","Mesa Unified District",4921,"070204109","Jefferson Elementary School",0.81157000000000001,9.7520999999999997E-2,0.90909099999999998,601,"JEFFERSON ELEMENTARY SCHOOL","120 S JEFFERSON","MESA AZ 85208","() -","() -"]
["Jefferson Elementary School - 090201103","Navajo",4387,"090201000","Winslow Unified District",5601,"090201103","Jefferson Elementary School",0.59853999999999996,9.2456999999999998E-2,0.690998,389,"JEFFERSON ELEMENTARY SCHOOL","P.O. BOX 580","WINSLOW AZ 86047","() -","() -"]
["Joe Carlson Elementary School - 020227104","Cochise",4174,"020227000","Douglas Unified District",4766,"020227104","Joe Carlson Elementary School",0.89238799999999996,5.7743000000000003E-2,0.95013099999999995,381,"JOE CARLSON ELEMENTARY SCHOOL","1700 N. LOUIS AVE","DOUGLAS AZ 85607","() -","() -"]
["John & Carol Carlson Elementary - 070280142","Maricopa",4242,"070280000","Chandler Unified District #80",91794,"070280142","John & Carol Carlson Elementary",9.1295000000000001E-2,1.2739E-2,0.104034,471,"JOHN & CAROL CARLSON ELEMENTARY","5400 S WHITE","CHANDLER AZ 85249","(480) 812-6300","(480) 812-6320"]
["John E White Elementary School - 100201449","Pima",4403,"100201000","Tucson Unified District",5731,"100201449","John E White Elementary School",0.73185199999999995,7.2593000000000005E-2,0.80444400000000005,675]
["John E Wright Elementary School - 100201461","Pima",4403,"100201000","Tucson Unified District",5733,"100201461","John E Wright Elementary School",0.94230800000000003,3.8462000000000003E-2,0.980769,416]
["John F Kennedy Elementary School - 070466014","Maricopa",4279,"070466000","Roosevelt Elementary District",5374,"070466014","John F Kennedy Elementary School",0.92869900000000005,2.6738000000000001E-2,0.95543699999999998,561,"JOHN F KENNEDY ELEMENTARY SCHOOL","6825 SOUTH 10TH STREET","PHOENIX AZ 85042","() -","() -"]
["John F Kennedy School - 110215101","Pinal",4440,"110215000","Superior Unified School District",5905,"110215101","John F Kennedy School",0.88352299999999995,6.8182000000000006E-2,0.95170500000000002,351]
["John F. Kennedy - 104001007","Pima",80089,"044015000","John F. Kennedy Day School",80090,"104001007","John F. Kennedy",0.80952400000000002,4.2856999999999999E-2,0.85238100000000006,209]
["John F. Long - 070483103","Maricopa",4282,"070483000","Cartwright Elementary District",5400,"070483103","John F. Long",0.92982500000000001,3.6256999999999998E-2,0.966082,855,"JOHN F. LONG","4407 NORTH 55TH. AVENUE","PHOENIX AZ 85031","() -","( ) -"]
["John Jacobs Elementary School - 070406131","Maricopa",4260,"070406000","Washington Elementary School District",5253,"070406131","John Jacobs Elementary School",0.64649699999999999,5.8916999999999997E-2,0.70541399999999999,628,"JOHN JACOBS ELEMENTARY SCHOOL","14421 N 23RD AVE","PHOENIX AZ 85023 6099","() -","() -"]
["John M Andersen Elementary School - 070280116","Maricopa",4242,"070280000","Chandler Unified District #80",5121,"070280116","John M Andersen Elementary School",0.374224,6.5216999999999997E-2,0.43944100000000003,644,"JOHN M ANDERSEN ELEMENTARY SCHOOL","1350 N. PENNINGTON DRIVE","CHANDLER AZ 85224","() -","( ) -"]
["John M Andersen Jr High School - 070280118","Maricopa",4242,"070280000","Chandler Unified District #80",5123,"070280118","John M Andersen Jr High School",0.48803800000000003,7.3683999999999999E-2,0.56172200000000005,1045,"JOHN M ANDERSEN JR HIGH SCHOOL","1255 N. DOBSON ROAD","CHANDLER AZ 85224","() -","() -"]
["John Q Thomas Elementary School - 030201118","Coconino",4192,"030201000","Flagstaff Unified District",4812,"030201118","John Q Thomas Elementary School",0.65252500000000002,7.2727E-2,0.72525300000000004,485,"JOHN Q THOMAS ELEMENTARY SCHOOL","3330 E. LOCKETT RD.","FLAGSTAFF AZ 86004","() -","() -"]
["John R Davis School - 070466018","Maricopa",4279,"070466000","Roosevelt Elementary District",5378,"070466018","John R Davis School",0.94128400000000001,3.4861999999999997E-2,0.97614699999999999,535,"JOHN R DAVIS SCHOOL","6209 S 15TH AVE","PHOENIX AZ 85041","() -","() -"]
["Johnson Elementary School - 070204136","Maricopa",4235,"070204000","Mesa Unified District",4948,"070204136","Johnson Elementary School",0.37096800000000002,6.4516000000000004E-2,0.43548399999999998,678,"JOHNSON ELEMENTARY SCHOOL","3807 E PUEBLO","MESA AZ 85206","() -","() -"]
["Jordan Elementary School - 070204130","Maricopa",4235,"070204000","Mesa Unified District",4942,"070204130","Jordan Elementary School",0.47901199999999999,7.0370000000000002E-2,0.54938299999999995,809,"JORDAN ELEMENTARY SCHOOL","3320 N CARRIAGE LANE","CHANDLER AZ 85224","() -","() -"]
["Joseph City Elementary School - 090202001","Navajo",4388,"090202000","Joseph City Unified District",5605,"090202001","Joseph City Elementary School",0.50362300000000004,8.3333000000000004E-2,0.58695699999999995,276,"JOSEPH CITY ELEMENTARY SCHOOL","PO BOX 8","JOSEPH CITY AZ 86032","() -","( ) -"]
["Joseph City High School - 090202002","Navajo",4388,"090202000","Joseph City Unified District",5606,"090202002","Joseph City High School",0.387324,5.6337999999999999E-2,0.443662,142,"JOSEPH CITY HIGH SCHOOL","PO BOX 8","JOSEPH CITY AZ 86032","() -","() -"]
["Joseph Zito Elementary School - 070405105","Maricopa",4259,"070405000","Isaac Elementary District",5238,"070405105","Joseph Zito Elementary School",0.71180600000000005,0.16666700000000001,0.87847200000000003,738,"JOSEPH ZITO ELEMENTARY SCHOOL","4525 WEST ENCANTO BLVD.","PHOENIX AZ 85035","() -","() -"]
["Joyce Clark Middle School (formerly Sierra Vista Middle School) - 020268150","Cochise",4175,"020268000","Sierra Vista Unified District",4781,"020268150","Joyce Clark Middle School (formerly Sierra Vista Middle School)",0.33155099999999998,5.8824000000000001E-2,0.390374,748,"JOYCE CLARK MIDDLE SCHOOL (FORMERLY SIERRA VISTA MIDDLE SCHOOL)","1045 S. LENZNER AVE","SIERRA VISTA AZ 85635","() -","() -"]
["Julia Randall Elementary School - 040210103","Gila",4209,"040210000","Payson Unified District",4857,"040210103","Julia Randall Elementary School",0.67482500000000001,2.972E-2,0.70454499999999998,567,"JULIA RANDALL ELEMENTARY SCHOOL","P.O. BOX 919","PAYSON AZ 85547","() -","( ) -"]
["Justine Spitalny School - 070483104","Maricopa",4282,"070483000","Cartwright Elementary District",5401,"070483104","Justine Spitalny School",0.91945299999999996,4.8632000000000002E-2,0.96808499999999997,658,"JUSTINE SPITALNY SCHOOL","3201 N 46TH DR.","PHOENIX AZ 85031","(623) 691-4400","(623) 691-4420"]
["Kachina Elementary School - 070211103","Maricopa",4237,"070211000","Peoria Unified School District",4991,"070211103","Kachina Elementary School",0.56950699999999999,6.0538000000000002E-2,0.63004499999999997,446,"KACHINA ELEMENTARY SCHOOL","5304 WEST CROCUS","GLENDALE AZ 85306","(623) 412-4500","(623) 412-4509"]
["Kaibeto Boarding School - 033904004","Coconino",80092,"034003000","Kaibeto Boarding School",80093,"033904004","Kaibeto Boarding School",0.84321999999999997,4.2373000000000001E-2,0.88559299999999996,236]
["Kaizen Education Foundation dba El Dorado High School - 078718212","Maricopa",4342,"078718000","Kaizen Education Foundation dba El Dorado High School",78899,"078718212","Kaizen Education Foundation dba El Dorado High School",0.791045,8.9552000000000007E-2,0.88059699999999996,134,"KAIZEN EDUCATION FOUNDATION DBA EL DORADO HIGH SCHOOL","2200 N. ARIZONA AVE. SUITE 17","CHANDLER AZ 85224","(480) 726-9536","(480) 726-9543"]
["Kaizen Education Foundation dba Gilbert Arts Academy - 078570001","Maricopa",90333,"078570000","Kaizen Education Foundation dba Gilbert Arts Public Charter Academy",89866,"078570001","Kaizen Education Foundation dba Gilbert Arts Academy",0.415663,3.6144999999999997E-2,0.45180700000000001,165,"KAIZEN EDUCATION FOUNDATION DBA GILBERT ARTS ACADEMY","862 E. ELLOIT ROAD","GILBERT AZ 85234","(602) 953-2933","(602) 953-0831"]
["Kaizen Education Foundation dba Maya High School - 078949001","Maricopa",79882,"078949000","Kaizen Education Foundation dba Maya High School",10748,"078949001","Kaizen Education Foundation dba Maya High School",0.82952199999999998,2.4948000000000001E-2,0.85446999999999995,424,"KAIZEN EDUCATION FOUNDATION DBA MAYA HIGH SCHOOL","3660 WEST GLENDALE AVE.","PHOENIX AZ 85051","(602) 242-3442","(602) 242-5255"]
["Kaizen Education Foundation dba Quest High School - 078954001","Maricopa",79878,"078954000","Kaizen Education Foundation dba Tempe Accelerated High School",6349,"078954001","Kaizen Education Foundation dba Quest High School",0.83088200000000001,3.6764999999999999E-2,0.86764699999999995,136,"KAIZEN EDUCATION FOUNDATION DBA QUEST HIGH SCHOOL","5040 S. PRICE RD.","TEMPE AZ 85282","() -","() -"]
["Kaizen Education Foundation dba South Pointe Elementary School - 078999001","Maricopa",79233,"078999000","Kaizen Education Foundation dba South Pointe Elementary School",78851,"078999001","Kaizen Education Foundation dba South Pointe Elementary School",0.94308899999999996,1.355E-2,0.95664000000000005,360,"KAIZEN EDUCATION FOUNDATION DBA SOUTH POINTE ELEMENTARY SCHOOL","2033 E. SOUTHERN AVE","PHOENIX AZ 85040","(602) 953-2933","(602) 953-0831"]
["Kaizen Education Foundation dba Summit High School - 078952001","Maricopa",79876,"078952000","Kaizen Education Foundation dba Summit High School",10749,"078952001","Kaizen Education Foundation dba Summit High School",0.87431700000000001,1.9126000000000001E-2,0.89344299999999999,366,"KAIZEN EDUCATION FOUNDATION DBA SUMMIT HIGH SCHOOL","728 E. MCDOWELL RD.","PHOENIX AZ 85006","() -","() -"]
["Kaizen Education Foundation dba Vista Grove Preparatory Academy Elementary - 078567001","Maricopa",90330,"078567000","Kaizen Education Foundation dba Vista Grove Preparatory Academy Elementary",89867,"078567001","Kaizen Education Foundation dba Vista Grove Preparatory Academy Elementary",0.85015300000000005,1.8349000000000001E-2,0.868502,327,"KAIZEN EDUCATION FOUNDATION DBA VISTA GROVE PREPARATORY ACADEMY ELEMENTARY","2929 E. MCKELLIPS ROAD","MESA AZ 85213","(480) 924-1500","(480) 924-0552"]
["Kathryn Sue Simonton Elementary - 110244102","Pinal",4445,"110244000","J O Combs Unified School District",79831,"110244102","Kathryn Sue Simonton Elementary",0.34856199999999998,0.113367,0.46192899999999998,591]
["Kayenta Community School - 033904008","Coconino",80072,"094008000","Kayenta Community School",80074,"033904008","Kayenta Community School",0.85359799999999997,4.7146E-2,0.90074399999999999,381]
["Kayenta Elementary School - 090227103","Navajo",4396,"090227000","Kayenta Unified District",5642,"090227103","Kayenta Elementary School",0.850267,7.6203000000000007E-2,0.92647100000000004,748,"KAYENTA ELEMENTARY SCHOOL","PO BOX 337","KAYENTA AZ 86033","() -","() -"]
["Kayenta Middle School - 090227102","Navajo",4396,"090227000","Kayenta Unified District",5641,"090227102","Kayenta Middle School",0.80918699999999999,8.4806000000000006E-2,0.89399300000000004,566,"KAYENTA MIDDLE SCHOOL","P.O. BOX 337","KAYENTA AZ 86033","() -","() -"]
["Keams Canyon Elementary - 093906001","Navajo",80382,"099109000","Keams Canyon Boarding School",80383,"093906001","Keams Canyon Elementary",0.73563199999999995,4.5976999999999997E-2,0.781609,87]
["Keller Elementary School - 070204128","Maricopa",4235,"070204000","Mesa Unified District",4940,"070204128","Keller Elementary School",0.70526299999999997,8.1202999999999997E-2,0.786466,655,"KELLER ELEMENTARY SCHOOL","1445 EAST HILTON AVE","MESA AZ 85204","() -","() -"]
["Ken 'Chief' Hill Learning Academy - 070280244","Maricopa",4242,"070280000","Chandler Unified District #80",90027,"070280244","Ken 'Chief' Hill Learning Academy",0.601329,6.6445000000000004E-2,0.66777399999999998,301,"KEN 'CHIEF' HILL LEARNING ACADEMY","290 SOUTH COOPER ROAD","CHANDLER AZ 85225","(480) 812-7150","( ) -"]
["Kenilworth Elementary School - 070401115","Maricopa",4256,"070401000","Phoenix Elementary District",5205,"070401115","Kenilworth Elementary School",0.74654399999999999,0.116743,0.86328700000000003,651,"KENILWORTH ELEMENTARY SCHOOL","1210 N 5TH AVE","PHOENIX AZ 85003","(602) 257-3889","( ) -"]
["Kerr Elementary School - 070204146","Maricopa",4235,"070204000","Mesa Unified District",4958,"070204146","Kerr Elementary School",0.80926399999999998,7.7657000000000004E-2,0.88692099999999996,729,"KERR ELEMENTARY SCHOOL","125 E MCLELLAN","MESA AZ 85201","() -","() -"]
["Kids at Hope Academy - Central - 072033001","Maricopa",4265,"070421000","Murphy Elementary District",88189,"072033001","Kids at Hope Academy - Central",0.77358499999999997,3.7735999999999999E-2,0.81132099999999996,53]
["Kin Dah Lichii Olta' Charter School - 018759101","Apache",78840,"018759000","Kin Dah Lichii Olta Inc.",78841,"018759101","Kin Dah Lichii Olta' Charter School",0.79896900000000004,9.2784000000000005E-2,0.89175300000000002,228,"KIN DAH LICHII OLTA' CHARTER SCHOOL","P.O. BOX 800","GANADO AZ 86505","(928) 755-3439","(928) 755-3448"]
["Kingman High School - 080220202","Mohave",79598,"080220000","Kingman Unified School District",5595,"080220202","Kingman High School",0.51696600000000004,5.6554E-2,0.57352000000000003,1495,"KINGMAN HIGH SCHOOL","4182 N. BANK STREET","KINGMAN AZ 86401","() -","( ) -"]
["Kingman Middle School - 080220114","Mohave",79598,"080220000","Kingman Unified School District",5575,"080220114","Kingman Middle School",0.65805499999999995,5.3191000000000002E-2,0.71124600000000004,655,"KINGMAN MIDDLE SCHOOL","1969 DETROIT AVENUE","KINGMAN AZ 86401","(928) 753-3583","(928) 753-1336"]
["Kings Ridge School - 070402102","Maricopa",4257,"070402000","Riverside Elementary District",84660,"070402102","Kings Ridge School",0.87114800000000003,7.2829000000000005E-2,0.94397799999999998,352,"KINGS RIDGE SCHOOL","3650 S. 64TH LANE","PHOENIX AZ 85043","(602) 477-8960","(623) 936-5531"]
["Kingswood Elementary School - 070289106","Maricopa",4243,"070289000","Dysart Unified District",5132,"070289106","Kingswood Elementary School",0.478431,9.9346000000000004E-2,0.57777800000000001,765,"KINGSWOOD ELEMENTARY SCHOOL","15150 WEST MONDELL ROAD","SURPRISE AZ 85374","() -","() -"]
["Kino Junior High School - 070204253","Maricopa",4235,"070204000","Mesa Unified District",4970,"070204253","Kino Junior High School",0.81845199999999996,6.1508E-2,0.87995999999999996,1006,"KINO JUNIOR HIGH SCHOOL","848 N HORNE","MESA AZ 85203","() -","() -"]
["Kirkland Elementary School - 130323001","Yavapai",4480,"130323000","Kirkland Elementary District",6115,"130323001","Kirkland Elementary School",0.71428599999999998,6.4935000000000007E-2,0.77922100000000005,77]
["Kiser Elementary School - 070394001","Maricopa",4255,"070394000","Paloma School District",5193,"070394001","Kiser Elementary School",0.55238100000000001,0.180952,0.73333300000000001,105,"KISER ELEMENTARY SCHOOL","38739 W. I-8","GILA BEND AZ 85337","(928) 683-2588","(928) 683-2093"]
["Kiva Elementary School - 070248107","Maricopa",4240,"070248000","Scottsdale Unified District",5045,"070248107","Kiva Elementary School",0.100457,1.9786999999999999E-2,0.120244,657,"KIVA ELEMENTARY SCHOOL","6911 EAST MCDONALD DRIVE","PARADISE VALLEY AZ 85253","() -","() -"]
["Knox Gifted Academy - 070280109","Maricopa",4242,"070280000","Chandler Unified District #80",5115,"070280109","Knox Gifted Academy",0.39577499999999999,3.3803E-2,0.42957699999999999,710,"KNOX GIFTED ACADEMY","700 W ORCHID LN","CHANDLER AZ 85225","() -","( ) -"]
["Kofa High School - 140570202","Yuma",4507,"140570000","Yuma Union High School District",6190,"140570202","Kofa High School",0.53108900000000003,8.1187999999999996E-2,0.61227699999999996,1999]
["Kyrene Akimel A-Al Middle School - 070428138","Maricopa",4267,"070428000","Kyrene Elementary District",5298,"070428138","Kyrene Akimel A-Al Middle School",0.178315,4.7490999999999998E-2,0.22580600000000001,1116,"KYRENE AKIMEL A-AL MIDDLE SCHOOL","2720 EAST LIBERTY LANE","PHOENIX AZ 85048","() -","() -"]
["Kyrene Altadena Middle School - 070428137","Maricopa",4267,"070428000","Kyrene Elementary District",5297,"070428137","Kyrene Altadena Middle School",7.1235000000000007E-2,1.3526E-2,8.4761000000000003E-2,1109,"KYRENE ALTADENA MIDDLE SCHOOL","14620 S. DESERT FOOTHILLS BLVD.","PHOENIX AZ 85048","() -","() -"]
["Kyrene Aprende Middle School - 070428136","Maricopa",4267,"070428000","Kyrene Elementary District",5296,"070428136","Kyrene Aprende Middle School",0.18248800000000001,6.2673000000000006E-2,0.24516099999999999,1085,"KYRENE APRENDE MIDDLE SCHOOL","777 N. DESERT BREEZE BLVD. EAST","CHANDLER AZ 85226","() -","() -"]
["Kyrene Centennial Middle School - 070428139","Maricopa",4267,"070428000","Kyrene Elementary District",5299,"070428139","Kyrene Centennial Middle School",0.31138300000000002,8.1844E-2,0.39322699999999999,1063,"KYRENE CENTENNIAL MIDDLE SCHOOL","13808 S. 36TH STREET","PHOENIX AZ 85044","() -","() -"]
["Kyrene de la Colina School - 070428148","Maricopa",4267,"070428000","Kyrene Elementary District",5308,"070428148","Kyrene de la Colina School",0.24803800000000001,5.9655E-2,0.30769200000000002,637,"KYRENE DE LA COLINA SCHOOL","13612 S. 36TH STREET","PHOENIX AZ 85044","() -","() -"]
["Kyrene de la Esperanza School - 070428155","Maricopa",4267,"070428000","Kyrene Elementary District",5315,"070428155","Kyrene de la Esperanza School",0.22644600000000001,3.4710999999999999E-2,0.26115699999999997,602,"KYRENE DE LA ESPERANZA SCHOOL","14841 S. 41ST PLACE","PHOENIX AZ 85044","() -","() -"]
["Kyrene de la Estrella Elementary School - 070428158","Maricopa",4267,"070428000","Kyrene Elementary District",78923,"070428158","Kyrene de la Estrella Elementary School",0.14065900000000001,3.0769000000000001E-2,0.171429,455,"KYRENE DE LA ESTRELLA ELEMENTARY SCHOOL","2620 E. LIBERTY LANE","PHOENIX AZ 85048","() -","() -"]
["Kyrene de la Mariposa School - 070428150","Maricopa",4267,"070428000","Kyrene Elementary District",5310,"070428150","Kyrene de la Mariposa School",0.230132,3.1456999999999999E-2,0.26158900000000002,604,"KYRENE DE LA MARIPOSA SCHOOL","50 E. KNOX ROAD","TEMPE AZ 85284","() -","() -"]
["Kyrene de la Mirada School - 070428154","Maricopa",4267,"070428000","Kyrene Elementary District",5314,"070428154","Kyrene de la Mirada School",0.25894699999999998,3.3683999999999999E-2,0.292632,475,"KYRENE DE LA MIRADA SCHOOL","5500 W GALVESTON STREET","CHANDLER AZ 85226","() -","() -"]
["Kyrene de la Paloma School - 070428147","Maricopa",4267,"070428000","Kyrene Elementary District",5307,"070428147","Kyrene de la Paloma School",0.25490200000000002,5.8824000000000001E-2,0.31372499999999998,510,"KYRENE DE LA PALOMA SCHOOL","5000 WEST WHITTEN","CHANDLER AZ 85226 4521","() -","() -"]
["Kyrene de la Sierra School - 070428153","Maricopa",4267,"070428000","Kyrene Elementary District",5313,"070428153","Kyrene de la Sierra School",7.3855000000000004E-2,1.6247999999999999E-2,9.0103000000000003E-2,677,"KYRENE DE LA SIERRA SCHOOL","1122 E LIBERTY LANE","PHOENIX AZ 85048 8426","() -","() -"]
["Kyrene de las Brisas School - 070428156","Maricopa",4267,"070428000","Kyrene Elementary District",5316,"070428156","Kyrene de las Brisas School",0.22092999999999999,6.7442000000000002E-2,0.28837200000000002,860,"KYRENE DE LAS BRISAS SCHOOL","777 N. DESERT BREEZE BLVD. E. #1","CHANDLER AZ 85226","() -","() -"]
["Kyrene de las Lomas School - 070428144","Maricopa",4267,"070428000","Kyrene Elementary District",5304,"070428144","Kyrene de las Lomas School",0.35670400000000002,9.3480999999999995E-2,0.450185,813,"KYRENE DE LAS LOMAS SCHOOL","11820 S. WARNER ELLIOT LOOP","PHOENIX AZ 85044","() -","() -"]
["Kyrene de las Manitas School - 070428159","Maricopa",4267,"070428000","Kyrene Elementary District",5318,"070428159","Kyrene de las Manitas School",0.30057,9.5441999999999999E-2,0.396011,702,"KYRENE DE LAS MANITAS SCHOOL","1201 W COURTNEY LANE","TEMPE AZ 85284","() -","() -"]
["Kyrene de los Cerritos School - 070428157","Maricopa",4267,"070428000","Kyrene Elementary District",5317,"070428157","Kyrene de los Cerritos School",5.5837999999999999E-2,1.5228E-2,7.1066000000000004E-2,591,"KYRENE DE LOS CERRITOS SCHOOL","14620 S. DESERT FOOTHILLS PKWY, BLDG. #3","PHOENIX AZ 85048","() -","() -"]
["Kyrene De Los Lagos School - 070428151","Maricopa",4267,"070428000","Kyrene Elementary District",5311,"070428151","Kyrene De Los Lagos School",0.202602,7.4348999999999998E-2,0.27695199999999998,538,"KYRENE DE LOS LAGOS SCHOOL","17001 S 34TH WAY","PHOENIX AZ 85048 7806","() -","() -"]
["Kyrene de los Ninos School - 070428145","Maricopa",4267,"070428000","Kyrene Elementary District",5305,"070428145","Kyrene de los Ninos School",0.575318,6.1705999999999997E-2,0.63702400000000003,551,"KYRENE DE LOS NINOS SCHOOL","1330 E. DAVA DR.","TEMPE AZ 85283","() -","() -"]
["Kyrene del Cielo School - 070428146","Maricopa",4267,"070428000","Kyrene Elementary District",5306,"070428146","Kyrene del Cielo School",0.128606,2.4038E-2,0.152644,832,"KYRENE DEL CIELO SCHOOL","1350 N. LAKESHORE DR.","CHANDLER AZ 85226","() -","() -"]
["Kyrene del Milenio - 070428160","Maricopa",4267,"070428000","Kyrene Elementary District",79143,"070428160","Kyrene del Milenio",0.245638,5.9060000000000001E-2,0.30469800000000002,745,"KYRENE DEL MILENIO","4630 E. FRYE ROAD","PHOENIX AZ 85048","() -","() -"]
["Kyrene del Norte School - 070428143","Maricopa",4267,"070428000","Kyrene Elementary District",5303,"070428143","Kyrene del Norte School",0.446691,9.5588000000000006E-2,0.54227899999999996,544,"KYRENE DEL NORTE SCHOOL","1331 EAST REDFIELD ROAD","TEMPE AZ 85283","() -","() -"]
["Kyrene del Pueblo Middle School - 070428140","Maricopa",4267,"070428000","Kyrene Elementary District",5300,"070428140","Kyrene del Pueblo Middle School",0.17860999999999999,7.7005000000000004E-2,0.25561499999999998,935,"KYRENE DEL PUEBLO MIDDLE SCHOOL","360 S. TWELVE OAKS BLVD.","CHANDLER AZ 85226","() -","() -"]
["Kyrene Middle School - 070428141","Maricopa",4267,"070428000","Kyrene Elementary District",5301,"070428141","Kyrene Middle School",0.38678400000000002,5.815E-2,0.444934,1135,"KYRENE MIDDLE SCHOOL","1050 EAST CARVER ROAD","TEMPE AZ 85284","(480) 783-1000","(480) 831-0169"]
["Kyrene Monte Vista School - 070428152","Maricopa",4267,"070428000","Kyrene Elementary District",5312,"070428152","Kyrene Monte Vista School",0.10699599999999999,2.4691000000000001E-2,0.131687,486,"KYRENE MONTE VISTA SCHOOL","15221 S RAY RD","PHOENIX AZ 85048","(480) 541-4400","(480) 541-4410"]
["Kyrene Traditional Academy at Sureno - 070428149","Maricopa",4267,"070428000","Kyrene Elementary District",5309,"070428149","Kyrene Traditional Academy at Sureno",0.32923799999999998,8.5995000000000002E-2,0.41523300000000002,407,"KYRENE TRADITIONAL ACADEMY AT SURENO","3375 W. GALVESTON RD.","CHANDLER AZ 85226","() -","() -"]
["L M Prince School - 100210111","Pima",4406,"100210000","Amphitheater Unified District",5797,"100210111","L M Prince School",0.91851899999999997,2.8147999999999999E-2,0.94666700000000004,675]
["L. Thomas Heck Middle School - 070479112","Maricopa",4281,"070479000","Litchfield Elementary District",90385,"070479112","L. Thomas Heck Middle School",0.36941800000000002,0.113667,0.48308499999999999,739,"L. THOMAS HECK MIDDLE SCHOOL","272 EAST SAGEBRUSH STREET","LITCHFIELD PARK AZ 85340","() -","( ) -"]
["La Casita de Paz - 112751001","Pinal",78768,"112751000","Against Abuse",78769,"112751001","La Casita de Paz",1,0,1,16]
["La Cima Middle School - 100210165","Pima",4406,"100210000","Amphitheater Unified District",5804,"100210165","La Cima Middle School",0.72232600000000002,6.5666000000000002E-2,0.78799200000000003,533]
["La Joya Community High School - 070514203","Maricopa",4288,"070514000","Tolleson Union High School District",80051,"070514203","La Joya Community High School",0.57407399999999997,9.0856000000000006E-2,0.66493100000000005,1728,"LA JOYA COMMUNITY HIGH SCHOOL","11650 W. WHYMAN AVENUE","AVONDALE AZ 85353","() -","( ) -"]
["La Paloma Academy - 108709101","Pima",79947,"108709000","Arizona Community Development Corporation",79950,"108709101","La Paloma Academy",0.61213700000000004,9.8945000000000005E-2,0.71108199999999999,758]
["La Paloma Academy (Lakeside) - 108709103","Pima",79947,"108709000","Arizona Community Development Corporation",81187,"108709103","La Paloma Academy (Lakeside)",0.55971899999999997,0.12997700000000001,0.68969599999999998,854]
["La Paloma Academy-South - 108709104","Pima",79947,"108709000","Arizona Community Development Corporation",91805,"108709104","La Paloma Academy-South",0.79916299999999996,7.5314000000000006E-2,0.87447699999999995,239]
["La Senita Elementary - 080220111","Mohave",79598,"080220000","Kingman Unified School District",5572,"080220111","La Senita Elementary",0.77574799999999999,5.8139999999999997E-2,0.83388700000000004,600,"LA SENITA ELEMENTARY","3175 GORDON DRIVE","KINGMAN AZ 86401","(928) 757-4328","(928) 757-7537"]
["Lafe Nelson School - 050201101","Graham",4218,"050201000","Safford Unified District",4882,"050201101","Lafe Nelson School",0.62361599999999995,8.4871000000000002E-2,0.70848699999999998,542,"LAFE NELSON SCHOOL","1100 S. 10TH AVE","SAFFORD AZ 85546","(928) 348-7020","(928) 348-7021"]
["Laguna Elementary School - 100208150","Pima",4405,"100208000","Flowing Wells Unified District",5788,"100208150","Laguna Elementary School",0.83716100000000004,7.0981000000000002E-2,0.908142,479]
["Laguna Elementary School - 070248123","Maricopa",4240,"070248000","Scottsdale Unified District",5055,"070248123","Laguna Elementary School",8.9744000000000004E-2,1.7628000000000001E-2,0.107372,623,"LAGUNA ELEMENTARY SCHOOL","10475 E. LAKEVIEW DR.","SCOTTSDALE AZ 85258","() -","() -"]
["Laird Elementary School - 070403117","Maricopa",4258,"070403000","Tempe School District",5216,"070403117","Laird Elementary School",0.80501900000000004,8.1081E-2,0.8861,513,"LAIRD ELEMENTARY SCHOOL","1500 N SCOVEL ST","TEMPE AZ 85281","() -","() -"]
["Lake Havasu High School - 080201207","Mohave",4368,"080201000","Lake Havasu Unified District",5565,"080201207","Lake Havasu High School",0.41648499999999999,7.0415000000000005E-2,0.4869,1832,"LAKE HAVASU HIGH SCHOOL","2675 S. PALO VERDE BLVD.","LAKE HAVASU CITY AZ 86403","(928) 854-5001","(928) 854-5499"]
["Lake Pleasant Elementary - 070211131","Maricopa",4237,"070211000","Peoria Unified School District",90135,"070211131","Lake Pleasant Elementary",0.149425,7.4074000000000001E-2,0.223499,783,"LAKE PLEASANT ELEMENTARY","31501 N. WESTLAND ROAD","PEORIA AZ 85383","(623) 773-6575","(623) 773-6580"]
["Lake Valley Elementary School - 130222110","Yavapai",4469,"130222000","Humboldt Unified District",6090,"130222110","Lake Valley Elementary School",0.76785700000000001,6.5476000000000006E-2,0.83333299999999999,483]
["Lake View Elementary Primary - 030208102","Coconino",4196,"030208000","Page Unified District",4830,"030208102","Lake View Elementary Primary",0.67647100000000004,6.9117999999999999E-2,0.74558800000000003,667,"LAKE VIEW ELEMENTARY PRIMARY","P.O. BOX 1927","PAGE AZ 86040","() -","() -"]
["Lakeview Elementary School - 070406132","Maricopa",4260,"070406000","Washington Elementary School District",5254,"070406132","Lakeview Elementary School",0.78383499999999995,7.5188000000000005E-2,0.85902299999999998,532,"LAKEVIEW ELEMENTARY SCHOOL","3040 WEST YUCCA STREET","PHOENIX AZ 85029 3697","() -","() -"]
["Larkspur Elementary School - 070269140","Maricopa",4241,"070269000","Paradise Valley Unified District",5089,"070269140","Larkspur Elementary School",0.69870600000000005,8.3179000000000003E-2,0.78188500000000005,482,"LARKSPUR ELEMENTARY SCHOOL","2430 E LARKSPUR","PHOENIX AZ 85032","(602) 449-3300","( ) -"]
["Larry C Kennedy School - 070414130","Maricopa",4263,"070414000","Creighton Elementary District",5284,"070414130","Larry C Kennedy School",0.90053099999999997,3.4483E-2,0.93501299999999998,719,"LARRY C KENNEDY SCHOOL","2702 E. OSBORN","PHOENIX AZ 85016","() -","() -"]
["Larry Simmons Residence - 072122006","Maricopa",7320,"072122000","A New Leaf",80289,"072122006","Larry Simmons Residence",1,0,1,3]
["Las Brisas Elementary School - 070297131","Maricopa",4246,"070297000","Deer Valley Unified District",5158,"070297131","Las Brisas Elementary School",0.135876,4.5291999999999999E-2,0.181168,837,"LAS BRISAS ELEMENTARY SCHOOL","5805 W. ALAMEDA","GLENDALE AZ 85310","() -","() -"]
["Las Lomas Elementary School - 040240103","Gila",4211,"040240000","Miami Unified District",4867,"040240103","Las Lomas Elementary School",0.675373,3.7312999999999999E-2,0.71268699999999996,268,"LAS LOMAS ELEMENTARY SCHOOL","PO DRAWER H","MIAMI AZ 85539","() -","() -"]
["Las Sendas Elementary School - 070204150","Maricopa",4235,"070204000","Mesa Unified District",4962,"070204150","Las Sendas Elementary School",7.7473E-2,1.0727E-2,8.8200000000000001E-2,839,"LAS SENDAS ELEMENTARY SCHOOL","3120 N RED MOUNTAIN ROAD","MESA AZ 85207","() -","() -"]
["Latch School - CNP Washington ESD - 079106001","Maricopa",4260,"070406000","Washington Elementary School District",85859,"079106001","Latch School - CNP Washington ESD",0.46456700000000001,6.2992000000000006E-2,0.527559,254]
["Lattie Coor - 070444104","Maricopa",4272,"070444000","Avondale Elementary District",5349,"070444104","Lattie Coor",0.86136800000000002,4.6211000000000002E-2,0.90757900000000002,1061,"LATTIE COOR","1406 N. CENTRAL AVENUE","AVONDALE AZ 85323","(623) 772-4500","(623) 772-4520"]
["Laugharn Elementary School - 060203101","Greenlee",4229,"060203000","Clifton Unified District",4904,"060203101","Laugharn Elementary School",0.59090900000000002,0.204545,0.79545500000000002,44,"LAUGHARN ELEMENTARY SCHOOL","110 HILL STREET","CLIFTON AZ 85533","(928) 865-2752","(928) 865-2792"]
["Laura N. Banks Elementary - 100201120","Pima",4403,"100201000","Tucson Unified District",80038,"100201120","Laura N. Banks Elementary",0.77562299999999995,6.3712000000000005E-2,0.83933500000000005,361]
["Laveen Elementary School - 070459101","Maricopa",4276,"070459000","Laveen Elementary District",5356,"070459101","Laveen Elementary School",0.64674500000000001,6.4033999999999994E-2,0.71077900000000005,804,"LAVEEN ELEMENTARY SCHOOL","5001 W. DOBBINS ROAD","LAVEEN AZ 85339","(602) 237-9110","(602) 237-9134"]
["Lavell Home - 102706003","Pima",80105,"102706000","Old Pueblo Childrens Services Inc.",80108,"102706003","Lavell Home",1,0,1,10]
["Lawrence W Cross Middle School - 100210167","Pima",4406,"100210000","Amphitheater Unified District",5806,"100210167","Lawrence W Cross Middle School",0.28627999999999998,4.6174E-2,0.33245400000000003,758]
["Le Pera Elementary School - 150227103","La Paz",4510,"150227000","Parker Unified School District",6196,"150227103","Le Pera Elementary School",0.88363599999999998,7.6364000000000001E-2,0.96,275]
["Leading Edge Academy at East Mesa - 078968103","Maricopa",79967,"078968000","LEAD Charter Schools",89616,"078968103","Leading Edge Academy at East Mesa",0.44230799999999998,4.8077000000000002E-2,0.49038500000000002,104,"LEADING EDGE ACADEMY AT EAST MESA","633 E. RAY RD. SUITE 132","GILBERT AZ 85234","(480) 984-5645","(480) 627-3634"]
["Leading Edge Academy Gilbert - 078968101","Maricopa",79967,"078968000","LEAD Charter Schools",79968,"078968101","Leading Edge Academy Gilbert",0.24698800000000001,8.4336999999999995E-2,0.33132499999999998,166,"LEADING EDGE ACADEMY GILBERT","633 E RAY ROAD SUITE 1321","GILBERT AZ 85296","(480) 545-6646","(480) 558-7038"]
["Leading Edge Academy Maricopa - 118708001","Pinal",90637,"118708000","Leading Edge Academy Maricopa",90638,"118708001","Leading Edge Academy Maricopa",0.36254999999999998,0.143426,0.50597599999999998,251]
["Leading Edge Academy Queen Creek - 078101001","Maricopa",91174,"078101000","LEAD Charter Schools",91175,"078101001","Leading Edge Academy Queen Creek",0.41199999999999998,0.1,0.51200000000000001,250,"LEADING EDGE ACADEMY QUEEN CREEK","633 EAST RAY ROAD SUITE 132","GILBERT AZ 85234","(480) 655-6787","(480) 655-6788"]
["Leading Edge Academy San Tan - 078101002","Maricopa",91174,"078101000","LEAD Charter Schools",91765,"078101002","Leading Edge Academy San Tan",0.31914900000000002,8.5106000000000001E-2,0.40425499999999998,94,"LEADING EDGE ACADEMY SAN TAN","633 E RAY ROAD SUITE 132","GILBERT AZ 85234","(480) 882-1631","(480) 655-6788"]
["Learning Foundation - 098749002","Navajo",79971,"098749000","CAFA Inc. dba Learning Foundation Performing Arts School",81102,"098749002","Learning Foundation",0.81203000000000003,0.13533800000000001,0.94736799999999999,133,"LEARNING FOUNDATION","851 NORTH STAPLEY DRIVE BLD 6","MESA AZ 85203","() -","() -"]
["Learning Foundation and Performing Arts Alta Mesa - 078565001","Maricopa",90328,"078565000","CAFA Inc. dba Learning Foundation and Performing Arts Alta Mesa",88290,"078565001","Learning Foundation and Performing Arts Alta Mesa",0.61344500000000002,0.10084,0.71428599999999998,238,"LEARNING FOUNDATION AND PERFORMING ARTS ALTA MESA","1120 S. GILBERT RD. BLDG. 200, SUITE 112","GILBERT AZ 85296","(480) 635-1900","(480) 635-1906"]
["Learning Foundation and Performing Arts Gilbert - 078564001","Maricopa",90327,"078564000","CAFA Inc. dba Learning Foundation and Performing Arts Gilbert",88289,"078564001","Learning Foundation and Performing Arts Gilbert",0.4,6.7646999999999999E-2,0.46764699999999998,340,"LEARNING FOUNDATION AND PERFORMING ARTS GILBERT","1120 S. GILBERT RD.","GILBERT AZ 85296","(480) 635-1900","(480) 635-1906"]
["Lee Williams High School - 080220203","Mohave",79598,"080220000","Kingman Unified School District",91772,"080220203","Lee Williams High School",0.42553200000000002,8.0851000000000006E-2,0.50638300000000003,234,"LEE WILLIAMS HIGH SCHOOL","400 GRANDVIEW AVENUE","KINGMAN AZ 86401","(928) 753-5678","( ) -"]
["Legacy Elementary School - 078685101","Maricopa",79660,"078685000","Legacy Schools",79661,"078685101","Legacy Elementary School",0.61658000000000002,7.2539000000000006E-2,0.68911900000000004,386,"LEGACY ELEMENTARY SCHOOL","7618 E. UNIVERSITY DR.","MESA AZ 85207","(480) 981-1500","(480) 641-4473"]
["Legend Springs Elementary - 070297138","Maricopa",4246,"070297000","Deer Valley Unified District",79290,"070297138","Legend Springs Elementary",0.118087,2.9895000000000001E-2,0.147982,667,"LEGEND SPRINGS ELEMENTARY","21150 NORTH ARROWHEAD LOOP ROAD","GLENDALE AZ 85308","() -","() -"]
["Lehi Elementary School - 070204110","Maricopa",4235,"070204000","Mesa Unified District",4922,"070204110","Lehi Elementary School",0.77992300000000003,5.2123999999999997E-2,0.83204599999999995,511,"LEHI ELEMENTARY SCHOOL","2555 N. STAPLEY DRIVE","MESA AZ 85203","() -","() -"]
["Leupp Public School - 030201120","Coconino",4192,"030201000","Flagstaff Unified District",4814,"030201120","Leupp Public School",0.90476199999999996,4.7619000000000002E-2,0.95238100000000003,114,"LEUPP PUBLIC SCHOOL","3285 E SPARROW","FLAGSTAFF AZ 86004","() -","( ) -"]
["Leupp Schools - 033904010","Coconino",9689,"093902000","Leupp Schools Inc.",80374,"033904010","Leupp Schools",0.73224,7.1038000000000004E-2,0.80327899999999997,183]
["Liberty Arts Academy - 078571001","Maricopa",90334,"078571000","Kaizen Education Foundation dba Liberty Arts Academy",89868,"078571001","Liberty Arts Academy",0.47169800000000001,6.4689999999999998E-2,0.53638799999999998,371,"LIBERTY ARTS ACADEMY","3015 S. POWER ROAD","MESA AZ 85212","(480) 830-3444","(480) 830-4335"]
["Liberty Elementary School - 070425101","Maricopa",4266,"070425000","Liberty Elementary District",5294,"070425101","Liberty Elementary School",0.55236499999999999,8.9526999999999995E-2,0.64189200000000002,592,"LIBERTY ELEMENTARY SCHOOL","19818 W HWY 85","BUCKEYE AZ 85326","(623) 327-2810","(623) 327-2819"]
["Liberty Elementary School - 070269143","Maricopa",4241,"070269000","Paradise Valley Unified District",5090,"070269143","Liberty Elementary School",0.16638700000000001,2.8570999999999999E-2,0.19495799999999999,552,"LIBERTY ELEMENTARY SCHOOL","5125 E. MARILYN RD.","SCOTTSDALE AZ 85254","(602) 449-6200","(602) 953-3006"]
["Liberty Elementary School - 100212116","Pima",4407,"100212000","Sunnyside Unified District",5815,"100212116","Liberty Elementary School",0.79874999999999996,7.7499999999999999E-2,0.87624999999999997,800]
["Liberty High School - 070211267","Maricopa",4237,"070211000","Peoria Unified School District",87520,"070211267","Liberty High School",0.12807399999999999,3.8421999999999998E-2,0.16649600000000001,1952,"LIBERTY HIGH SCHOOL","9621 W. SPECKLED GECKO DRIVE","PEORIA AZ 85383","(623) 773-6525","(623) 773-6540"]
["Liberty Traditional Charter School - 078784101","Maricopa",81076,"078985000","Heritage Elementary School",78811,"078784101","Liberty Traditional Charter School",0.81052599999999997,0.04,0.850526,475,"LIBERTY TRADITIONAL CHARTER SCHOOL","4027 N. 45TH AVE.","PHOENIX AZ 85031","(602) 442-8791","(602) 353-9270"]
["Liberty Traditional Charter School - Saddleback - 078784104","Maricopa",4191,"028750000","Center for Academic Success Inc.",91204,"078784104","Liberty Traditional Charter School - Saddleback",0.59055100000000005,7.8740000000000004E-2,0.66929099999999997,127,"LIBERTY TRADITIONAL CHARTER SCHOOL - SADDLEBACK","5704 E GRANT RD","TUCSON AZ 85712","(520) 364-6311","(520) 364-6312"]
["Liberty Traditional School - 130222134","Yavapai",4469,"130222000","Humboldt Unified District",6096,"130222134","Liberty Traditional School",0.41486499999999998,0.109459,0.52432400000000001,734]
["Lifelong Learning Academy - 108708001","Pima",79926,"108708000","Lifelong Learning Research Institute Inc.",79927,"108708001","Lifelong Learning Academy",0.46341500000000002,0.121951,0.58536600000000005,41]
["Lighthouse - 072781002","Maricopa",87694,"072781000","Southwest Key Program",87696,"072781002","Lighthouse",1,0,1,100]
["Lincoln Elementary School - 070204111","Maricopa",4235,"070204000","Mesa Unified District",4923,"070204111","Lincoln Elementary School",0.90993100000000005,3.4641999999999999E-2,0.944573,864,"LINCOLN ELEMENTARY SCHOOL","930 SOUTH SIRRINE","MESA AZ 85210","() -","() -"]
["Lincoln Elementary School - 120201113","Santa Cruz",4457,"120201000","Nogales Unified District",5957,"120201113","Lincoln Elementary School",0.86308099999999999,6.3570000000000002E-2,0.92664999999999997,409]
["Lincoln Elementary School - 130201012","Yavapai",4466,"130201000","Prescott Unified District",8128,"130201012","Lincoln Elementary School",0.28484799999999999,6.9696999999999995E-2,0.354545,330]
["Lindbergh Elementary School - 070204122","Maricopa",4235,"070204000","Mesa Unified District",4934,"070204122","Lindbergh Elementary School",0.91290300000000002,3.3870999999999998E-2,0.946774,618,"LINDBERGH ELEMENTARY SCHOOL","930 S LAZONA","MESA AZ 85204","() -","() -"]
["Linden Elementary School - 090210116","Navajo",4393,"090210000","Show Low Unified District",5628,"090210116","Linden Elementary School",0.36633700000000002,8.4157999999999997E-2,0.45049499999999998,202,"LINDEN ELEMENTARY SCHOOL","500 WEST OLD LINDEN ROAD","SHOW LOW AZ 85901","() -","() -"]
["Linden Shelter - 102703007","Pima",80110,"102703000","Open-Inn Inc",80117,"102703007","Linden Shelter",1,0,1,7]
["Lineweaver Elementary School - 100201281","Pima",4403,"100201000","Tucson Unified District",5695,"100201281","Lineweaver Elementary School",0.53084100000000001,2.4299000000000001E-2,0.55513999999999997,535]
["Litchfield Elementary School - 070479101","Maricopa",4281,"070479000","Litchfield Elementary District",5393,"070479101","Litchfield Elementary School",0.18928600000000001,4.1667000000000003E-2,0.23095199999999999,840,"LITCHFIELD ELEMENTARY SCHOOL","272 EAST SAGEBRUSH STREET","LITCHFIELD PARK AZ 85340","() -","( ) -"]
["Little Red Schoolhouse - 120328101","Santa Cruz",4459,"120328000","Santa Cruz Elementary District",5967,"120328101","Little Red Schoolhouse",0.61494300000000002,0.206897,0.82183899999999999,174]
["Little Singer Community Junior High School - 098748101","Navajo",5178,"098748000","Little Singer Community School Board Inc.",10816,"098748101","Little Singer Community Junior High School",0.81675399999999998,5.7591999999999997E-2,0.87434599999999996,190,"LITTLE SINGER COMMUNITY JUNIOR HIGH SCHOOL","P.O. BOX AQ","WINSLOW AZ 86047","(928) 526-2950","(928) 526-3334"]
["Littleton Elementary School - 070465101","Maricopa",4278,"070465000","Littleton Elementary District",5360,"070465101","Littleton Elementary School",0.64788699999999999,0.10664,0.75452699999999995,994,"LITTLETON ELEMENTARY SCHOOL","1252 S. AVONDALE BLVD.","AVONDALE AZ 85323","() -","( ) -"]
["Loma Linda Elementary School - 070414140","Maricopa",4263,"070414000","Creighton Elementary District",5285,"070414140","Loma Linda Elementary School",0.86031299999999999,5.3525000000000003E-2,0.91383800000000004,764,"LOMA LINDA ELEMENTARY SCHOOL","2002 E. CLARENDON AVENUE","PHOENIX AZ 85016","() -","() -"]
["Lone Mountain Elementary School - 070293707","Maricopa",4244,"070293000","Cave Creek Unified District",80056,"070293707","Lone Mountain Elementary School",7.3094999999999993E-2,1.8662999999999999E-2,9.1757000000000005E-2,643,"LONE MOUNTAIN ELEMENTARY SCHOOL","PO BOX 426","CAVE CREEK AZ 85327","() -","() -"]
["Longfellow Elementary School - 070204112","Maricopa",4235,"070204000","Mesa Unified District",4924,"070204112","Longfellow Elementary School",0.92163700000000004,2.5731E-2,0.94736799999999999,853,"LONGFELLOW ELEMENTARY SCHOOL","345 S HALL STREET","MESA AZ 85204","() -","() -"]
["Longview Elementary School - 070408107","Maricopa",4262,"070408000","Osborn Elementary District",5282,"070408107","Longview Elementary School",0.84032499999999999,4.3302E-2,0.88362700000000005,736,"LONGVIEW ELEMENTARY SCHOOL","1209 EAST INDIAN SCHOOL ROAD","PHOENIX AZ 85014 4925","() -","() -"]
["Lookout Mountain School - 070406134","Maricopa",4260,"070406000","Washington Elementary School District",5255,"070406134","Lookout Mountain School",0.23823800000000001,3.5034999999999997E-2,0.27327299999999999,999,"LOOKOUT MOUNTAIN SCHOOL","15 W CORAL GABLES DR","PHOENIX AZ 85023 3697","() -","() -"]
["Los Amigos Elementary School - 100212119","Pima",4407,"100212000","Sunnyside Unified District",5818,"100212119","Los Amigos Elementary School",0.85637600000000003,6.3087000000000004E-2,0.91946300000000003,745]
["Los Ninos Elementary School - 100212118","Pima",4407,"100212000","Sunnyside Unified District",5817,"100212118","Los Ninos Elementary School",0.83154099999999997,5.9139999999999998E-2,0.89068099999999994,558]
["Los Ranchitos Elementary School - 100212120","Pima",4407,"100212000","Sunnyside Unified District",5819,"100212120","Los Ranchitos Elementary School",0.93836699999999995,2.6193999999999999E-2,0.964561,649]
["Lourdes Catholic School - 122001001","Santa Cruz",10126,"122001000","Lourdes Catholic School",80261,"122001001","Lourdes Catholic School",0.55068499999999998,0.22739699999999999,0.77808200000000005,281]
["Lowell Elementary School - 070204113","Maricopa",4235,"070204000","Mesa Unified District",4925,"070204113","Lowell Elementary School",0.95045000000000002,2.7026999999999999E-2,0.97747700000000004,664,"LOWELL ELEMENTARY SCHOOL","920 E BROADWAY","MESA AZ 85204","() -","() -"]
["Lowell Elementary School - 070401118","Maricopa",4256,"070401000","Phoenix Elementary District",5206,"070401118","Lowell Elementary School",0.81497200000000003,6.2147000000000001E-2,0.87711899999999998,708,"LOWELL ELEMENTARY SCHOOL","1121 SOUTH 3RD AVENUE","PHOENIX AZ 85003","(602) 257-3835","( ) -"]
["Lowell School - 020202105","Cochise",4169,"020202000","Bisbee Unified District",4753,"020202105","Lowell School",0.58078600000000002,0.113537,0.69432300000000002,229,"LOWELL SCHOOL","100 OLD DOUGLAS ROAD","BISBEE AZ 85603","() -","() -"]
["Lukachukai Community School - 014005005","Apache",80077,"014005000","Arizona Navajo Central Education Line Office",87926,"014005005","Lukachukai Community School",0.93733,2.4523E-2,0.96185299999999996,367]
["Luke School - 070289103","Maricopa",4243,"070289000","Dysart Unified District",5130,"070289103","Luke School",0.59199000000000002,0.117647,0.70963699999999996,799,"LUKE SCHOOL","7300 N. DYSART ROAD","GLENDALE AZ 85307","() -","() -"]
["Lulu Walker School - 100210112","Pima",4406,"100210000","Amphitheater Unified District",5798,"100210112","Lulu Walker School",0.60358900000000004,5.5465E-2,0.65905400000000003,613]
["Lura Kinsey Elementary School - 030201112","Coconino",4192,"030201000","Flagstaff Unified District",4806,"030201112","Lura Kinsey Elementary School",0.740541,8.6485999999999993E-2,0.82702699999999996,356,"LURA KINSEY ELEMENTARY SCHOOL","1601 S. LONETREE RD.","FLAGSTAFF AZ 86001","() -","( ) -"]
["Luz-Guerrero Early College High School - 108702001","Pima",4427,"108702000","Luz Academy of Tucson Inc",5868,"108702001","Luz-Guerrero Early College High School",0.75,9.375E-2,0.84375,192]
["Lynn Urquides - 100201287","Pima",4403,"100201000","Tucson Unified District",5697,"100201287","Lynn Urquides",0.94556799999999996,2.0218E-2,0.965785,643]
["Mabel Padgett Elementary School - 070479114","Maricopa",4281,"070479000","Litchfield Elementary District",90550,"070479114","Mabel Padgett Elementary School",0.21046500000000001,9.3022999999999995E-2,0.30348799999999998,860,"MABEL PADGETT ELEMENTARY SCHOOL","272 E. SAGEBRUSH ST.","LITCHFIELD PARK AZ 85340","() -","( ) -"]
["MacArthur Elementary School - 070204129","Maricopa",4235,"070204000","Mesa Unified District",4941,"070204129","MacArthur Elementary School",0.31438700000000003,7.46E-2,0.388988,561,"MACARTHUR ELEMENTARY SCHOOL","1435 E MCLELLAN","MESA AZ 85203 3840","() -","() -"]
["Madison #1 Elementary School - 070438110","Maricopa",4270,"070438000","Madison Elementary District",5324,"070438110","Madison #1 Elementary School",0.50120799999999999,9.7825999999999996E-2,0.59903399999999996,828,"MADISON #1 ELEMENTARY SCHOOL","5525 N 16TH STREET","PHOENIX AZ 85016","() -","() -"]
["Madison Camelview Elementary - 070438120","Maricopa",4270,"070438000","Madison Elementary District",5325,"070438120","Madison Camelview Elementary",0.71445899999999996,7.0473999999999995E-2,0.78493299999999999,823,"MADISON CAMELVIEW ELEMENTARY","2002 E. CAMPBELL","PHOENIX AZ 85016","(602) 664-7200","(602) 664-7299"]
["Madison Elementary School - 070204141","Maricopa",4235,"070204000","Mesa Unified District",4953,"070204141","Madison Elementary School",0.476636,9.9065E-2,0.57570100000000002,533,"MADISON ELEMENTARY SCHOOL","849 S SUNNYVALE","MESA AZ 85206","() -","() -"]
["Madison Heights Elementary School - 070438180","Maricopa",4270,"070438000","Madison Elementary District",5330,"070438180","Madison Heights Elementary School",0.35883399999999999,4.3715999999999998E-2,0.40255000000000002,549,"MADISON HEIGHTS ELEMENTARY SCHOOL","7150 N 22ND STREET","PHOENIX AZ 85020","(602) 664-7800","(602) 664-7899"]
["Madison House - 072711003","Maricopa",80200,"072711000","Therapeutic Residences for Youth Inc.",80203,"072711003","Madison House",1,0,1,7]
["Madison Meadows School - 070438160","Maricopa",4270,"070438000","Madison Elementary District",5329,"070438160","Madison Meadows School",0.227689,5.2631999999999998E-2,0.28032000000000001,874,"MADISON MEADOWS SCHOOL","225 W OCOTILLO RD","PHOENIX AZ 85013 1299","() -","() -"]
["Madison Park School - 070438150","Maricopa",4270,"070438000","Madison Elementary District",5328,"070438150","Madison Park School",0.63765499999999997,8.3481E-2,0.72113700000000003,563,"MADISON PARK SCHOOL","1431 E. CAMPBELL","PHOENIX AZ 85014","() -","() -"]
["Madison Richard Simis School - 070438130","Maricopa",4270,"070438000","Madison Elementary District",5326,"070438130","Madison Richard Simis School",0.19381999999999999,3.4644000000000001E-2,0.228464,1068,"MADISON RICHARD SIMIS SCHOOL","7302 N 10TH STREET","PHOENIX AZ 85020 5327","() -","() -"]
["Madison Rose Lane School - 070438140","Maricopa",4270,"070438000","Madison Elementary District",5327,"070438140","Madison Rose Lane School",0.50697700000000001,6.9766999999999996E-2,0.57674400000000003,860,"MADISON ROSE LANE SCHOOL","1155 E. ROSE LANE","PHOENIX AZ 85014 1600","() -","() -"]
["Madison Traditional Academy - 070438111","Maricopa",4270,"070438000","Madison Elementary District",89622,"070438111","Madison Traditional Academy",0.101892,2.1833999999999999E-2,0.123726,687,"MADISON TRADITIONAL ACADEMY","925 E. MARYLAND AVE","PHOENIX AZ 85014","(602) 745-4001","(602) 745-4099"]
["Magee Middle School - 100201515","Pima",4403,"100201000","Tucson Unified District",5741,"100201515","Magee Middle School",0.47094799999999998,9.4800999999999996E-2,0.56574899999999995,654]
["Magma Ranch K8 School - 110201107","Pinal",4437,"110201000","Florence Unified School District",89858,"110201107","Magma Ranch K8 School",0.647594,0.11053300000000001,0.758127,769]
["Magnet Traditional School - 070401109","Maricopa",4256,"070401000","Phoenix Elementary District",5201,"070401109","Magnet Traditional School",0.55133100000000002,0.1673,0.71863100000000002,526,"MAGNET TRADITIONAL SCHOOL","2602 NORTH 23RD AVENUE","PHOENIX AZ 85009","(602) 257-6281","( ) -"]
["Mahnah Wing a Satellite Home - 072708002","Maricopa",84331,"072708000","Child Crisis Center -  East Valley Inc.",84333,"072708002","Mahnah Wing a Satellite Home",1,0,1,27]
["Maie Bartlett Heard School - 070401112","Maricopa",4256,"070401000","Phoenix Elementary District",5203,"070401112","Maie Bartlett Heard School",0.84281799999999996,6.7751000000000006E-2,0.91056899999999996,738,"MAIE BARTLETT HEARD SCHOOL","2301 W THOMAS RD","PHOENIX AZ 85015","(602) 257-3880","( ) -"]
["Maine Consolidated School - 030310101","Coconino",4199,"030310000","Maine Consolidated School District",4839,"030310101","Maine Consolidated School",0.41666700000000001,0.11666700000000001,0.53333299999999995,120,"MAINE CONSOLIDATED SCHOOL","P.O. BOX 50010","PARKS AZ 86018","(928) 635-2115","(928) 635-5320"]
["Maldonado Amelia Elementary School - 100201290","Pima",4403,"100201000","Tucson Unified District",5699,"100201290","Maldonado Amelia Elementary School",0.84399999999999997,6.6000000000000003E-2,0.91,500]
["Mammoth Elementary School - 110208106","Pinal",4439,"110208000","Mammoth-San Manuel Unified District",5901,"110208106","Mammoth Elementary School",0.81599999999999995,7.1999999999999995E-2,0.88800000000000001,125]
["Mansfeld Middle School - 100201520","Pima",4403,"100201000","Tucson Unified District",5742,"100201520","Mansfeld Middle School",0.68042800000000003,6.4219999999999999E-2,0.74464799999999998,654]
["Manuel DeMiguel Elementary School - 030201110","Coconino",4192,"030201000","Flagstaff Unified District",4804,"030201110","Manuel DeMiguel Elementary School",0.238095,3.4225999999999999E-2,0.27232099999999998,657,"MANUEL DEMIGUEL ELEMENTARY SCHOOL","3500 S GILLENWATER DR","FLAGSTAFF AZ 86001","() -","() -"]
["Manuel Pena Jr. School - 070483123","Maricopa",4282,"070483000","Cartwright Elementary District",81109,"070483123","Manuel Pena Jr. School",0.84508499999999998,7.4786000000000005E-2,0.91987200000000002,936,"MANUEL PENA JR. SCHOOL","2550 N. 79TH AVENUE","PHOENIX AZ 85035","() -","() -"]
["Many Farms Community School - 013903001","Apache",90995,"013903000","Many Farms Community School Inc",90996,"013903001","Many Farms Community School",0.54855600000000004,6.8240999999999996E-2,0.61679799999999996,308]
["Many Farms Elementary School - 010224160","Apache",4158,"010224000","Chinle Unified District",4734,"010224160","Many Farms Elementary School",0.69264099999999995,8.8745000000000004E-2,0.781385,447,"MANY FARMS ELEMENTARY SCHOOL","PO BOX 587","CHINLE AZ 86503","() -","( ) -"]
["Many Farms High School - 014005006","Apache",78992,"014002000","Many Farms High School",78993,"014005006","Many Farms High School",0.64781500000000003,5.9125999999999998E-2,0.70694100000000004,389]
["Manzanita Elementary - 080220112","Mohave",79598,"080220000","Kingman Unified School District",5573,"080220112","Manzanita Elementary",0.55148299999999995,6.2826999999999994E-2,0.61431100000000005,571,"MANZANITA ELEMENTARY","2901 DETROIT AVENUE","KINGMAN AZ 86401","(928) 753-6197","(928) 753-7756"]
["Manzanita Elementary School - 070406136","Maricopa",4260,"070406000","Washington Elementary School District",5256,"070406136","Manzanita Elementary School",0.80071999999999999,5.5222E-2,0.85594199999999998,833,"MANZANITA ELEMENTARY SCHOOL","8430 N 39TH AVE","PHOENIX AZ 85051 4799","() -","() -"]
["Manzanita School - 100216102","Pima",4410,"100216000","Catalina Foothills Unified District",5833,"100216102","Manzanita School",6.4516000000000004E-2,2.3040999999999999E-2,8.7557999999999997E-2,651]
["Manzo Elementary School - 100201293","Pima",4403,"100201000","Tucson Unified District",5700,"100201293","Manzo Elementary School",0.853383,4.8871999999999999E-2,0.90225599999999995,266]
["Marana High School - 100206240","Pima",4404,"100206000","Marana Unified District",5781,"100206240","Marana High School",0.33210099999999998,5.9133999999999999E-2,0.391235,1894]
["Marana Middle School - 100206130","Pima",4404,"100206000","Marana Unified District",5779,"100206130","Marana Middle School",0.40357100000000001,7.2320999999999996E-2,0.47589300000000001,1120]
["Marc T. Atkinson Middle School - 070483121","Maricopa",4282,"070483000","Cartwright Elementary District",78980,"070483121","Marc T. Atkinson Middle School",0.862645,4.6511999999999998E-2,0.90915699999999999,1376,"MARC T. ATKINSON MIDDLE SCHOOL","4315 N. MARYVALE PKWY.","PHOENIX AZ 85031","() -","() -"]
["Marcos De Niza High School - 070513093","Maricopa",4287,"070513000","Tempe Union High School District",5446,"070513093","Marcos De Niza High School",0.31512099999999998,3.0353000000000002E-2,0.34547499999999998,1812,"MARCOS DE NIZA HIGH SCHOOL","6000 S LAKESHORE DRIVE","TEMPE AZ 85283 3049","() -","() -"]
["MARICOPA DET-H - 071001001","Maricopa",7291,"071001000","MARICOPA DET-H",7292,"071001001","MARICOPA DET-H",1,0,1,104]
["Maricopa Elementary - 110220101","Pinal",4441,"110220000","Maricopa Unified School District",5908,"110220101","Maricopa Elementary",0.65223500000000001,9.6368999999999996E-2,0.74860300000000002,716]
["Maricopa High School - 110220202","Pinal",4441,"110220000","Maricopa Unified School District",5910,"110220202","Maricopa High School",0.40443899999999999,0.109125,0.51356400000000002,1622]
["Maricopa Online - 110220110","Pinal",4441,"110220000","Maricopa Unified School District",91195,"110220110","Maricopa Online",0.50520799999999999,0.421875,0.92708299999999999,111]
["Maricopa Wells Middle School - 110220133","Pinal",4441,"110220000","Maricopa Unified School District",5909,"110220133","Maricopa Wells Middle School",0.55484699999999998,0.13137799999999999,0.68622399999999995,784]
["Marion Donaldson Elementary School - 100210106","Pima",4406,"100210000","Amphitheater Unified District",5792,"100210106","Marion Donaldson Elementary School",0.46173500000000001,4.3367000000000003E-2,0.50510200000000005,392]
["Marjorie W Estes Elementary School - 100206112","Pima",4404,"100206000","Marana Unified District",5770,"100206112","Marjorie W Estes Elementary School",0.40347100000000002,7.8090999999999994E-2,0.48156199999999999,922]
["Marley Park Elementary - 070289116","Maricopa",4243,"070289000","Dysart Unified District",84683,"070289116","Marley Park Elementary",0.209453,9.6385999999999999E-2,0.30583900000000003,1079,"MARLEY PARK ELEMENTARY","15042 WEST SWEETWATER ROAD","SURPRISE AZ 85379","() -","() -"]
["Marshall Elementary School - 100201295","Pima",4403,"100201000","Tucson Unified District",5701,"100201295","Marshall Elementary School",0.56268200000000002,4.0815999999999998E-2,0.60349900000000001,343]
["Marshall Ranch Elementary School - 070211120","Maricopa",4237,"070211000","Peoria Unified School District",5008,"070211120","Marshall Ranch Elementary School",0.37740699999999999,7.8306000000000001E-2,0.45571200000000001,779,"MARSHALL RANCH ELEMENTARY SCHOOL","12995 N MARSHALL RANCH DR","GLENDALE AZ 85304","(623) 486-6450","(623) 486-6461"]
["Martin Luther King Jr Elementary School - 070466011","Maricopa",4279,"070466000","Roosevelt Elementary District",5371,"070466011","Martin Luther King Jr Elementary School",0.795964,4.4843000000000001E-2,0.84080699999999997,446,"MARTIN LUTHER KING JR ELEMENTARY SCHOOL","4615 S. 22ND ST.","PHOENIX AZ 85040","() -","() -"]
["Mary A Otondo Elementary School - 140401112","Yuma",4499,"140401000","Yuma Elementary District",6158,"140401112","Mary A Otondo Elementary School",0.46529599999999999,0.10154199999999999,0.56683799999999995,757]
["Mary C  O'Brien Elementary School - 110100001","Pinal",4435,"110100000","Mary C O'Brien Accommodation District",5893,"110100001","Mary C  O'Brien Elementary School",0.52027000000000001,0.108108,0.62837799999999999,119]
["Mary L Welty Elementary School - 120201115","Santa Cruz",4457,"120201000","Nogales Unified District",5959,"120201115","Mary L Welty Elementary School",0.84146299999999996,7.3171E-2,0.91463399999999995,328]
["Mary Mcleod Bethune School - 070401101","Maricopa",4256,"070401000","Phoenix Elementary District",5195,"070401101","Mary Mcleod Bethune School",0.92195099999999996,5.2033000000000003E-2,0.97398399999999996,615,"MARY MCLEOD BETHUNE SCHOOL","1310 S. 15TH AVE.","PHOENIX AZ 85007","(602) 257-3830","( ) -"]
["Mary Meredith K-12 School - 100201195","Pima",4403,"100201000","Tucson Unified District",6269,"100201195","Mary Meredith K-12 School",0.91044800000000004,1.4925000000000001E-2,0.925373,67]
["Maryland Elementary School - 070406138","Maricopa",4260,"070406000","Washington Elementary School District",5257,"070406138","Maryland Elementary School",0.77534599999999998,7.4884999999999993E-2,0.85023000000000004,938,"MARYLAND ELEMENTARY SCHOOL","6503 N 21ST AVE","PHOENIX AZ 85015","(602) 347-2300","(602) 347-2320"]
["Mary's Mission - 112778001","Pinal",87567,"112778000","Mary's Mission and Developmental Center",87568,"112778001","Mary's Mission",1,0,1,8]
["Mary's Mission - Boys Unit - Main Office - 112778003","Pinal",87567,"112778000","Mary's Mission and Developmental Center",87570,"112778003","Mary's Mission - Boys Unit - Main Office",1,0,1,8]
["Mary's Mission - Hereford Girls Unit - 112778002","Pinal",87567,"112778000","Mary's Mission and Developmental Center",87569,"112778002","Mary's Mission - Hereford Girls Unit",1,0,1,8]
["Maryvale High School - 070510250","Maricopa",4286,"070510000","Phoenix Union High School District",5441,"070510250","Maryvale High School",0.81184400000000001,3.7481E-2,0.849325,2668,"MARYVALE HIGH SCHOOL","3415 N. 59TH AVE.","PHOENIX AZ 85033 4623","() -","() -"]
["Math and Science Success Academy - 108798101","Pima",89852,"108798000","Math and Science Success Academy Inc.",89853,"108798101","Math and Science Success Academy",0.58947400000000005,0.147368,0.736842,285]
["Maurice C. Cash Elementary School - 070459102","Maricopa",4276,"070459000","Laveen Elementary District",5357,"070459102","Maurice C. Cash Elementary School",0.90425500000000003,4.4916999999999999E-2,0.94917300000000004,843,"MAURICE C. CASH ELEMENTARY SCHOOL","3851 W. ROESER ROAD","PHOENIX AZ 85041","(602) 237-9120","(602) 237-9133"]
["Maxine O Bush Elementary School - 070466019","Maricopa",4279,"070466000","Roosevelt Elementary District",5379,"070466019","Maxine O Bush Elementary School",0.91503299999999999,3.4858E-2,0.94989100000000004,458,"MAXINE O BUSH ELEMENTARY SCHOOL","602 E SIESTA DRIVE","PHOENIX AZ 85042","() -","() -"]
["Maxwell Middle School - 100201522","Pima",4403,"100201000","Tucson Unified District",5743,"100201522","Maxwell Middle School",0.87628899999999998,3.4363999999999999E-2,0.91065300000000005,291]
["Mayer Elementary School - 130243101","Yavapai",4473,"130243000","Mayer Unified School District",6107,"130243101","Mayer Elementary School",0.84594599999999998,4.3242999999999997E-2,0.88918900000000001,370]
["Mayer High School - 130243203","Yavapai",4473,"130243000","Mayer Unified School District",6106,"130243203","Mayer High School",0.76047900000000002,9.5808000000000004E-2,0.85628700000000002,167]
["McCartney Ranch Elementary School - 110404132","Pinal",4446,"110404000","Casa Grande Elementary District",89578,"110404132","McCartney Ranch Elementary School",0.57162299999999999,6.9577E-2,0.64120100000000002,732]
["Mcclintock High School - 070513092","Maricopa",4287,"070513000","Tempe Union High School District",5445,"070513092","Mcclintock High School",0.36964399999999997,3.5622000000000001E-2,0.40526600000000002,1937,"MCCLINTOCK HIGH SCHOOL","1830 E DEL RIO DR","TEMPE AZ 85282","() -","() -"]
["McCorkle PK-8 - 100201523","Pima",4403,"100201000","Tucson Unified District",91202,"100201523","McCorkle PK-8",0.76662799999999998,6.6511000000000001E-2,0.83313899999999996,857]
["McDowell Mountain Elementary School - 070298102","Maricopa",4247,"070298000","Fountain Hills Unified District",5165,"070298102","McDowell Mountain Elementary School",0.34931499999999999,8.2192000000000001E-2,0.43150699999999997,292,"MCDOWELL MOUNTAIN ELEMENTARY SCHOOL","14825 N. FAYETTE DR.","FOUNTAIN HILLS AZ 85268","() -","() -"]
["Mcnary Elementary School - 010323101","Apache",4163,"010323000","Mcnary Elementary District",4745,"010323101","Mcnary Elementary School",0.88805999999999996,5.9700999999999997E-2,0.94776099999999996,134,"MCNARY ELEMENTARY SCHOOL","P.O. BOX 598","MCNARY AZ 85930","() -","() -"]
["Mcneal Elementary School - 020355001","Cochise",4181,"020355000","McNeal Elementary District",4790,"020355001","Mcneal Elementary School",0.52631600000000001,0.105263,0.631579,38,"MCNEAL ELEMENTARY SCHOOL","P O BOX 8","MCNEAL AZ 85617","() -","() -"]
["Melvin E Sine School - 070440104","Maricopa",4271,"070440000","Glendale Elementary District",5335,"070440104","Melvin E Sine School",0.85199499999999995,5.2767000000000001E-2,0.90476199999999996,760,"MELVIN E SINE SCHOOL","4932 WEST MYRTLE","GLENDALE AZ 85301","() -","() -"]
["Mendoza Elementary School - 070204139","Maricopa",4235,"070204000","Mesa Unified District",4951,"070204139","Mendoza Elementary School",0.43356600000000001,8.7413000000000005E-2,0.52097899999999997,566,"MENDOZA ELEMENTARY SCHOOL","5831 EAST MCLELLAN ROAD","MESA AZ 85205","(480) 472-2000","( ) -"]
["Menlo Park Elementary School - 100201299","Pima",4403,"100201000","Tucson Unified District",5702,"100201299","Menlo Park Elementary School",0.94805200000000001,3.8961000000000003E-2,0.98701300000000003,231]
["Menninger - 102133006","Pima",7909,"102133000","LA PALOMA FAMILY SERVICES Inc.",80445,"102133006","Menninger",1,0,1,6]
["Mercury Mine Elementary School - 070269145","Maricopa",4241,"070269000","Paradise Valley Unified District",5092,"070269145","Mercury Mine Elementary School",0.20033100000000001,2.8146000000000001E-2,0.22847700000000001,556,"MERCURY MINE ELEMENTARY SCHOOL","9640 NORTH 28TH STREET","PHOENIX AZ 85028","(602) 449-3700","(602) 449-3705"]
["Meridian - 070241165","Maricopa",4239,"070241000","Gilbert Unified District",87533,"070241165","Meridian",0.19630700000000001,8.8435E-2,0.284742,1029,"MERIDIAN","3900 S. MOUNTAIN ROAD","MESA AZ 85212","() -","( ) -"]
["Mesa Academy for Advanced Studies - 070204192","Maricopa",4235,"070204000","Mesa Unified District",89593,"070204192","Mesa Academy for Advanced Studies",7.3902999999999996E-2,3.6951999999999999E-2,0.110855,433,"MESA ACADEMY FOR ADVANCED STUDIES","6919 E. BROWN ROAD","MESA AZ 85207","(480) 308-7400","(480) 308-7428"]
["Mesa Arts Academy - 078613101","Maricopa",4305,"078613000","Boys & Girls Clubs of the East Valley dba Mesa Arts Academy",5470,"078613101","Mesa Arts Academy",0.73706899999999997,9.9138000000000004E-2,0.83620700000000003,232,"MESA ARTS ACADEMY","221 WEST 6TH AVENUE","MESA AZ 85210 2446","() -","() -"]
["Mesa High School - 070204271","Maricopa",4235,"070204000","Mesa Unified District",4980,"070204271","Mesa High School",0.56732899999999997,8.3885000000000001E-2,0.65121399999999996,3167,"MESA HIGH SCHOOL","1630 EAST SOUTHERN AVE","MESA AZ 85204","() -","() -"]
["Mesa Verde Elementary School - 100210116","Pima",4406,"100210000","Amphitheater Unified District",5800,"100210116","Mesa Verde Elementary School",0.311392,8.6076E-2,0.39746799999999999,395]
["Mesa View Elementary - 010224170","Apache",4158,"010224000","Chinle Unified District",4736,"010224170","Mesa View Elementary",0.72577700000000001,9.6892000000000006E-2,0.82266899999999998,435,"MESA VIEW ELEMENTARY","P.O. BOX 587","CHINLE AZ 86503","() -","( ) -"]
["Mesquite Elementary - 140413130","Yuma",4501,"140413000","Crane Elementary District",89582,"140413130","Mesquite Elementary",0.41826200000000002,7.2165000000000007E-2,0.490427,679]
["Mesquite Elementary School - 110404109","Pinal",4446,"110404000","Casa Grande Elementary District",5937,"110404109","Mesquite Elementary School",0.72038800000000003,7.1845000000000006E-2,0.79223299999999997,514]
["Mesquite Elementary School - 070241149","Maricopa",4239,"070241000","Gilbert Unified District",5032,"070241149","Mesquite Elementary School",0.25035000000000002,7.6923000000000005E-2,0.32727299999999998,715,"MESQUITE ELEMENTARY SCHOOL","1000 E. MESQUITE STREET","GILBERT AZ 85296","() -","( ) -"]
["Mesquite Elementary School - 100220712","Pima",4413,"100220000","Vail Unified District",91169,"100220712","Mesquite Elementary School",0.21790499999999999,7.7702999999999994E-2,0.29560799999999998,592]
["Mesquite High School - 070241212","Maricopa",4239,"070241000","Gilbert Unified District",6007,"070241212","Mesquite High School",0.21859000000000001,7.7630000000000005E-2,0.29622100000000001,1958,"MESQUITE HIGH SCHOOL","500 S MCQUEEN RD","GILBERT AZ 85233","() -","( ) -"]
["Mesquite Jr High School - 070241121","Maricopa",4239,"070241000","Gilbert Unified District",5021,"070241121","Mesquite Jr High School",0.27770699999999998,6.4967999999999998E-2,0.34267500000000001,785,"MESQUITE JR HIGH SCHOOL","130 W. MESQUITE ST.","GILBERT AZ 85233","() -","( ) -"]
["Metro Tech High School - 070510212","Maricopa",4286,"070510000","Phoenix Union High School District",6248,"070510212","Metro Tech High School",0.81996000000000002,6.0012999999999997E-2,0.87997300000000001,1483,"METRO TECH HIGH SCHOOL","1900 W. THOMAS ROAD","PHOENIX AZ 85015","() -","() -"]
["Mexicayotl Charter School - 128703001","Santa Cruz",4463,"128703000","Mexicayotl Academy Inc.",5972,"128703001","Mexicayotl Charter School",0.91176500000000005,5.1471000000000003E-2,0.96323499999999995,136]
["Miami High School - 040240206","Gila",4211,"040240000","Miami Unified District",4869,"040240206","Miami High School",0.46381600000000001,0.101974,0.56578899999999999,304,"MIAMI HIGH SCHOOL","DRAWER H","MIAMI AZ 85539","() -","() -"]
["Miami Junior High - 040240105","Gila",4211,"040240000","Miami Unified District",4868,"040240105","Miami Junior High",0.57075500000000001,3.3019E-2,0.60377400000000003,212,"MIAMI JUNIOR HIGH","DRAWER H","MIAMI AZ 85539","() -","() -"]
["Michael Anderson - 070444102","Maricopa",4272,"070444000","Avondale Elementary District",5347,"070444102","Michael Anderson",0.88083500000000003,5.6510999999999999E-2,0.93734600000000001,802,"MICHAEL ANDERSON","45 S. THIRD AVE.","AVONDALE AZ 85323","(623) 772-5100","(623) 772-5120"]
["Midtown Primary School - 078976101","Maricopa",79994,"078976000","Midtown Primary School",5526,"078976101","Midtown Primary School",0.83505200000000002,8.2474000000000006E-2,0.91752599999999995,97,"MIDTOWN PRIMARY SCHOOL","4735 NORTH 19TH AVE","PHOENIX AZ 85015","() -","() -"]
["Miles-Exploratory Learning Center - 100201305","Pima",4403,"100201000","Tucson Unified District",5703,"100201305","Miles-Exploratory Learning Center",0.265625,4.6875E-2,0.3125,384]
["Milestones Charter School - 078791101","Maricopa",78845,"078904000","Mission Charter School Inc.",78843,"078791101","Milestones Charter School",0.20799999999999999,1.8667E-2,0.22666700000000001,375,"MILESTONES CHARTER SCHOOL","4707 EAST ROBERT E LEE STREET","PHOENIX AZ 85032","(602) 404-1009","(602) 404-5456"]
["Millennium High School - 070516202","Maricopa",4289,"070516000","Agua Fria Union High School District",78926,"070516202","Millennium High School",0.21237200000000001,7.0627999999999996E-2,0.28299999999999997,2053,"MILLENNIUM HIGH SCHOOL","14802 W WIGWAM BLVD","GOODYEAR AZ 85338","() -","() -"]
["Miller Elementary School - 100201308","Pima",4403,"100201000","Tucson Unified District",5704,"100201308","Miller Elementary School",0.834426,5.2458999999999999E-2,0.88688500000000003,610]
["Miller Valley School - 130201013","Yavapai",4466,"130201000","Prescott Unified District",8129,"130201013","Miller Valley School",0.77325600000000005,6.1046999999999997E-2,0.83430199999999999,344]
["Mingus Mountain Academy - 132116001","Yavapai",90048,"132116000","Mingus Mountain Academy",90049,"132116001","Mingus Mountain Academy",1,0,1,129]
["Mingus Springs Charter School - 138712101","Yavapai",4493,"138712000","Mingus Springs Charter School",6133,"138712101","Mingus Springs Charter School",0.54491000000000001,8.9819999999999997E-2,0.63473100000000005,167]
["Mingus Union High School - 130504201","Yavapai",4488,"130504000","Mingus Union High School District",6127,"130504201","Mingus Union High School",0.40460000000000002,6.4736000000000002E-2,0.46933599999999998,1174]
["Mirage Elementary School - 070297120","Maricopa",4246,"070297000","Deer Valley Unified District",5149,"070297120","Mirage Elementary School",0.44791700000000001,0.15,0.59791700000000003,477,"MIRAGE ELEMENTARY SCHOOL","3910 W. GROVERS","GLENDALE AZ 85308","() -","() -"]
["Mission Academy High School - 078904201","Maricopa",78845,"078904000","Mission Charter School Inc.",88326,"078904201","Mission Academy High School",0.78649199999999997,3.2680000000000001E-2,0.81917200000000001,459,"MISSION ACADEMY HIGH SCHOOL","5350 W. INDIAN SCHOOL RD.","PHOENIX AZ 85031","(602) 944-2097","(602) 944-0252"]
["Mission Heights Preparatory High School - 078576001","Maricopa",90548,"078576000","Kaizen Education Foundation dba Mission Heights Preparatory High School",91158,"078576001","Mission Heights Preparatory High School",0.51539699999999999,8.7520000000000001E-2,0.60291700000000004,617,"MISSION HEIGHTS PREPARATORY HIGH SCHOOL","7878 NORTH 16TH STREET 150","PHOENIX AZ 85020","(520) 836-9383","(520) 836-9662"]
["Mission Manor Elementary School - 100212122","Pima",4407,"100212000","Sunnyside Unified District",5820,"100212122","Mission Manor Elementary School",0.833893,5.2012999999999997E-2,0.88590599999999997,596]
["Mission View Elementary School - 100201311","Pima",4403,"100201000","Tucson Unified District",5705,"100201311","Mission View Elementary School",0.93356600000000001,2.4476000000000001E-2,0.95804199999999995,286]
["Mitchell Elementary School - 070405106","Maricopa",4259,"070405000","Isaac Elementary District",5239,"070405106","Mitchell Elementary School",0.713256,0.13688800000000001,0.85014400000000001,522,"MITCHELL ELEMENTARY SCHOOL","1700 N. 41ST AVENUE","PHOENIX AZ 85009","() -","() -"]
["Mobile Elementary School - 070386101","Maricopa",4253,"070386000","Mobile Elementary District",5191,"070386101","Mobile Elementary School",0.72972999999999999,0,0.72972999999999999,37,"MOBILE ELEMENTARY SCHOOL","42798 SOUTH 99TH AVENUE","MARICOPA AZ 85139","() -","( ) -"]
["Moencopi Day School - 093906007","Navajo",88455,"099108000","Moencopi Day School",80099,"093906007","Moencopi Day School",0.69950699999999999,4.4334999999999999E-2,0.743842,203]
["Mogollon High School - 090206201","Navajo",4392,"090206000","Heber-Overgaard Unified District",5625,"090206201","Mogollon High School",0.495614,0.105263,0.60087699999999999,219,"MOGOLLON HIGH SCHOOL","PO BOX 279","HEBER AZ 85928","() -","() -"]
["Mohave Accelerated Elementary School East - 088703102","Mohave",4378,"080415000","Bullhead City School District",90194,"088703102","Mohave Accelerated Elementary School East",0.31818200000000002,6.3635999999999998E-2,0.38181799999999999,110,"MOHAVE ACCELERATED ELEMENTARY SCHOOL EAST","625 MARINA BLVD.","BULLHEAD CITY AZ 86442","() -","( ) -"]
["Mohave Accelerated Learning Center - 088758001","Mohave",4378,"080415000","Bullhead City School District",79510,"088758001","Mohave Accelerated Learning Center",0.62652200000000002,7.4425000000000005E-2,0.70094699999999999,739,"MOHAVE ACCELERATED LEARNING CENTER","P.O. BOX 21288","BULLHEAD CITY AZ 86439","() -","() -"]
["Mohave High School - 080502001","Mohave",4381,"080502000","Colorado River Union High School District",5592,"080502001","Mohave High School",0.53706600000000004,6.7822999999999994E-2,0.60489000000000004,1268,"MOHAVE HIGH SCHOOL","2251 HIGHWAY 95","BULLHEAD CITY AZ 86442","() -","() -"]
["Mohave Middle School - 070248167","Maricopa",4240,"070248000","Scottsdale Unified District",5064,"070248167","Mohave Middle School",0.30976399999999998,6.5656999999999993E-2,0.375421,590,"MOHAVE MIDDLE SCHOOL","8490 E JACKRABBIT ROAD","SCOTTSDALE AZ 85250","() -","( ) -"]
["Mohave Valley Elementary - 080416101","Mohave",4379,"080416000","Mohave Valley Elementary District",5588,"080416101","Mohave Valley Elementary",0.75142299999999995,7.5900999999999996E-2,0.82732399999999995,522,"MOHAVE VALLEY ELEMENTARY","1419 E. WILLOW ROAD","MOHAVE VALLEY AZ 86440","() -","() -"]
["Mohave Valley Junior High School - 080416103","Mohave",4379,"080416000","Mohave Valley Elementary District",5589,"080416103","Mohave Valley Junior High School",0.52714899999999998,9.7284999999999996E-2,0.62443400000000004,390,"MOHAVE VALLEY JUNIOR HIGH SCHOOL","6565 GIRARD AVENUE","MOHAVE VALLEY AZ 86446","() -","() -"]
["Mohawk Valley School - 140417101","Yuma",4503,"140417000","Mohawk Valley Elementary District",6181,"140417101","Mohawk Valley School",0.64137900000000003,0.103448,0.74482800000000005,145]
["Monte Vista Elementary School - 070414160","Maricopa",4263,"070414000","Creighton Elementary District",5287,"070414160","Monte Vista Elementary School",0.91855200000000004,3.5068000000000002E-2,0.95362000000000002,858,"MONTE VISTA ELEMENTARY SCHOOL","3501 E. OSBORN RD.","PHOENIX AZ 85018","() -","() -"]
["Montebello School - 070468111","Maricopa",4280,"070468000","Alhambra Elementary District",5389,"070468111","Montebello School",0.95210399999999995,2.4673E-2,0.97677800000000004,1378,"MONTEBELLO SCHOOL","5725 N 27TH AVENUE","PHOENIX AZ 85017","(602) 336-2000","(602) 249-7233"]
["Monument Valley High School - 090227201","Navajo",4396,"090227000","Kayenta Unified District",5644,"090227201","Monument Valley High School",0.75,0.1,0.85,720,"MONUMENT VALLEY HIGH SCHOOL","P.O. BOX 337","KAYENTA AZ 86033","() -","( ) -"]
["Moon Mountain School - 070406140","Maricopa",4260,"070406000","Washington Elementary School District",5258,"070406140","Moon Mountain School",0.75365899999999997,7.1951000000000001E-2,0.82560999999999996,820,"MOON MOUNTAIN SCHOOL","13425 N 19TH AVE","PHOENIX AZ 85029 1698","() -","() -"]
["Moon Valley High School - 070505205","Maricopa",4285,"070505000","Glendale Union High School District",5430,"070505205","Moon Valley High School",0.50385400000000002,0.100911,0.604765,1427,"MOON VALLEY HIGH SCHOOL","3625 W CACTUS RD","PHOENIX AZ 85029","(623) 915-8000","(623) 915-8070"]
["Morenci Jr.-Sr. High School - 060218002","Greenlee",4230,"060218000","Morenci Unified District",4906,"060218002","Morenci Jr.-Sr. High School",0.220137,9.8975999999999995E-2,0.31911299999999998,586,"MORENCI JR.-SR. HIGH SCHOOL","PO BOX 1060","MORENCI AZ 85540","() -","() -"]
["Morris K. Udall Escuela de Bellas Artes - 070405112","Maricopa",4259,"070405000","Isaac Elementary District",78934,"070405112","Morris K. Udall Escuela de Bellas Artes",0.83199999999999996,8.9332999999999996E-2,0.92133299999999996,804,"MORRIS K. UDALL ESCUELA DE BELLAS ARTES","3715 W. ROOSEVELT STREET","PHOENIX AZ 85009","(602) 442-2700","(602) 442-2799"]
["Morristown Elementary School - 070375101","Maricopa",4251,"070375000","Morristown Elementary District",5189,"070375101","Morristown Elementary School",0.60810799999999998,0.14189199999999999,0.75,148,"MORRISTOWN ELEMENTARY SCHOOL","P.O. BOX 98","MORRISTOWN AZ 85342","(623) 388-2336","(623) 388-9368"]
["Mosaica Preparatory Academy of Chandler - 078501001","Maricopa",85875,"078501000","Ahwatukee Foothills Prep Inc.",85881,"078501001","Mosaica Preparatory Academy of Chandler",0.55729200000000001,8.3333000000000004E-2,0.640625,162,"MOSAICA PREPARATORY ACADEMY OF CHANDLER","5835 WEST RAY ROAD","CHANDLER AZ 85226","(480) 763-5101","(480) 763-5107"]
["Most Holy Trinity Catholic School - 072032001","Maricopa",81228,"072032000","Most Holy Trinity Catholic School",81229,"072032001","Most Holy Trinity Catholic School",0.302817,0.12676100000000001,0.42957699999999999,142]
["Mount Elden Middle School - 030201124","Coconino",4192,"030201000","Flagstaff Unified District",4817,"030201124","Mount Elden Middle School",0.46724399999999999,5.9332999999999997E-2,0.52657600000000004,797,"MOUNT ELDEN MIDDLE SCHOOL","3223 N 4TH STREET","FLAGSTAFF AZ 86004","() -","( ) -"]
["Mountain Meadows Primary - 090206101","Navajo",4392,"090206000","Heber-Overgaard Unified District",6053,"090206101","Mountain Meadows Primary",0.55214700000000005,0.116564,0.66871199999999997,159,"MOUNTAIN MEADOWS PRIMARY","P.O. BOX 40","OVERGAARD AZ 85933","() -","() -"]
["Mountain Pointe High School - 070513095","Maricopa",4287,"070513000","Tempe Union High School District",5448,"070513095","Mountain Pointe High School",0.19695199999999999,2.3238000000000002E-2,0.22019,2625,"MOUNTAIN POINTE HIGH SCHOOL","4201 E KNOX RD","PHOENIX AZ 85044","() -","() -"]
["Mountain Ridge High School - 070297233","Maricopa",4246,"070297000","Deer Valley Unified District",5163,"070297233","Mountain Ridge High School",0.100671,3.4452000000000003E-2,0.13512299999999999,2231,"MOUNTAIN RIDGE HIGH SCHOOL","22800 N 67TH AVENUE","GLENDALE AZ 85310","() -","() -"]
["Mountain Shadows Education Center - 110243153","Pinal",4443,"110243000","Apache Junction Unified District",80091,"110243153","Mountain Shadows Education Center",0.55813999999999997,6.9766999999999996E-2,0.62790699999999999,129]
["Mountain Shadows Elementary School - 070297125","Maricopa",4246,"070297000","Deer Valley Unified District",5153,"070297125","Mountain Shadows Elementary School",0.37872299999999998,0.119149,0.49787199999999998,470,"MOUNTAIN SHADOWS ELEMENTARY SCHOOL","19602 N. 45TH AVE.","GLENDALE AZ 85308 4416","() -","() -"]
["Mountain Sky Middle School - 070406141","Maricopa",4260,"070406000","Washington Elementary School District",5259,"070406141","Mountain Sky Middle School",0.50736300000000001,6.5596000000000002E-2,0.572959,747,"MOUNTAIN SKY MIDDLE SCHOOL","16225 N 7TH AVE","PHOENIX AZ 85023","() -","() -"]
["Mountain Trail Middle School - 070269173","Maricopa",4241,"070269000","Paradise Valley Unified District",79729,"070269173","Mountain Trail Middle School",0.248756,5.0994999999999999E-2,0.29975099999999999,745,"MOUNTAIN TRAIL MIDDLE SCHOOL","2323 EAST MOUNTAIN GATE PASS","PHOENIX AZ 85024","(602) 449-4600","(602) 449-4605"]
["Mountain View - 070289123","Maricopa",4243,"070289000","Dysart Unified District",89604,"070289123","Mountain View",0.23805799999999999,6.1081000000000003E-2,0.29913899999999999,1277,"MOUNTAIN VIEW","18302 W. BURTON","WADDELL AZ 85355","() -","( ) -"]
["Mountain View Elementary School - 130222132","Yavapai",4469,"130222000","Humboldt Unified District",6094,"130222132","Mountain View Elementary School",0.73211000000000004,5.8715999999999997E-2,0.79082600000000003,528]
["Mountain View Elementary School - 070406142","Maricopa",4260,"070406000","Washington Elementary School District",5260,"070406142","Mountain View Elementary School",0.839333,3.0667E-2,0.87,1386,"MOUNTAIN VIEW ELEMENTARY SCHOOL","801 W. PEORIA AVENUE","PHOENIX AZ 85029","(602) 347-4100","(602) 347-4120"]
["Mountain View High School - 100206241","Pima",4404,"100206000","Marana Unified District",5782,"100206241","Mountain View High School",0.26769399999999999,6.3926999999999998E-2,0.331621,1752]
["Mountain View High School - 070204273","Maricopa",4235,"070204000","Mesa Unified District",4982,"070204273","Mountain View High School",0.24165,5.3699999999999998E-2,0.29535,3054,"MOUNTAIN VIEW HIGH SCHOOL","2700 E BROWN ROAD","MESA AZ 85213","() -","() -"]
["Mountain View Preparatory - 130406106","Yavapai",4487,"130406000","Cottonwood-Oak Creek Elementary District",90934,"130406106","Mountain View Preparatory",0.38964599999999999,0.111717,0.50136199999999997,367]
["Mountain View School - 120235120","Santa Cruz",4458,"120235000","Santa Cruz Valley Unified District",5964,"120235120","Mountain View School",0.78030299999999997,7.0075999999999999E-2,0.850379,528]
["Mountain Vista Middle School - 110221009","Pinal",4442,"110221000","Coolidge Unified District",88427,"110221009","Mountain Vista Middle School",0.62784099999999998,0.125,0.75284099999999998,352]
["Mountain Vista School - 110302102","Pinal",4444,"110302000","Oracle Elementary District",5927,"110302102","Mountain Vista School",0.50379700000000005,0.103797,0.607595,395]
["Mountainside Middle School - 070248166","Maricopa",4240,"070248000","Scottsdale Unified District",5063,"070248166","Mountainside Middle School",6.4792000000000002E-2,2.3227000000000001E-2,8.8020000000000001E-2,818,"MOUNTAINSIDE MIDDLE SCHOOL","11256 N. 128TH ST.","SCOTTSDALE AZ 85259 4412","() -","() -"]
["Moya Elementary - 070405114","Maricopa",4259,"070405000","Isaac Elementary District",79821,"070405114","Moya Elementary",0.82714299999999996,7.8571000000000002E-2,0.90571400000000002,504,"MOYA ELEMENTARY","406 N 41ST AVE","PHOENIX AZ 85009","(602) 442-3100","(602) 442-3199"]
["Mt Graham High School - 050201201","Graham",4218,"050201000","Safford Unified District",4885,"050201201","Mt Graham High School",0.50694399999999995,9.7222000000000003E-2,0.60416700000000001,141,"MT GRAHAM HIGH SCHOOL","300 W. DISCOVERY PARK BLVD.","SAFFORD AZ 85546","(928) 348-7060","(928) 348-7061"]
["Mt Tipton Elementary School - 080220117","Mohave",79598,"080220000","Kingman Unified School District",5580,"080220117","Mt Tipton Elementary School",0.87591200000000002,2.5547E-2,0.90146000000000004,273,"MT TIPTON ELEMENTARY SCHOOL","P O BOX 248","DOLAN SPRINGS AZ 86441","(928) 767-3350","(928) 767-4330"]
["Mt. Turnbull Academy - 050207701","Graham",4221,"050207000","Fort Thomas Unified District",90064,"050207701","Mt. Turnbull Academy",1,0,1,22,"MT. TURNBULL ACADEMY","PO BOX 28","FORT THOMAS AZ 85536","(928) 475-3050","(928) 475-3051"]
["Myers-Ganoung Elementary School - 100201317","Pima",4403,"100201000","Tucson Unified District",5706,"100201317","Myers-Ganoung Elementary School",0.862869,6.9620000000000001E-2,0.93248900000000001,444]
["Myrtle - 072781003","Maricopa",87694,"072781000","Southwest Key Program",89946,"072781003","Myrtle",1,0,1,37]
["Naco Elementary School - 020323001","Cochise",4176,"020323000","Naco Elementary District",4784,"020323001","Naco Elementary School",0.87812500000000004,3.7499999999999999E-2,0.91562500000000002,320,"NACO ELEMENTARY SCHOOL","P. O. BOX 397","NACO AZ 85620","() -","() -"]
["Nadaburg Elementary School - 070381101","Maricopa",4252,"070381000","Nadaburg Unified School District",5190,"070381101","Nadaburg Elementary School",0.71428599999999998,9.1428999999999996E-2,0.80571400000000004,336,"NADABURG ELEMENTARY SCHOOL","21419 W. DOVE VALLEY ROAD","WITTMANN AZ 85361","() -","( ) -"]
["Nan Lyons Elementary School - 100201288","Pima",4403,"100201000","Tucson Unified District",5698,"100201288","Nan Lyons Elementary School",0.69285699999999995,4.6428999999999998E-2,0.739286,280]
["Nautilus Elementary School - 080201105","Mohave",4368,"080201000","Lake Havasu Unified District",5563,"080201105","Nautilus Elementary School",0.56578899999999999,0.102632,0.66842100000000004,380,"NAUTILUS ELEMENTARY SCHOOL","1425 PATRICIAN DRIVE","LAKE HAVASU CITY AZ 86404","() -","() -"]
["Navajo Elementary School - 070248113","Maricopa",4240,"070248000","Scottsdale Unified District",5050,"070248113","Navajo Elementary School",0.53488400000000003,9.3022999999999995E-2,0.62790699999999999,559,"NAVAJO ELEMENTARY SCHOOL","4525 N GRANITE REEF","SCOTTSDALE AZ 85251","() -","() -"]
["Navajo Lutheran Mission School - 012002001","Apache",80103,"012002000","Navajo Lutheran Mission School",80104,"012002001","Navajo Lutheran Mission School",0.73333300000000001,0.222222,0.95555599999999996,45]
["Navarrete Elementary - 070280132","Maricopa",4242,"070280000","Chandler Unified District #80",79636,"070280132","Navarrete Elementary",0.12670600000000001,3.8986E-2,0.16569200000000001,1026,"NAVARRETE ELEMENTARY","6490 S. SUN GROVES BLVD","CHANDLER AZ 85249","(480) 883-4800","(480) 883-4820"]
["Naylor Middle School - 100201525","Pima",4403,"100201000","Tucson Unified District",5744,"100201525","Naylor Middle School",0.93460900000000002,2.8708000000000001E-2,0.96331699999999998,627]
["Nazlini Charter School - 018760101","Apache",78848,"018760000","Nazlini Community School Inc.",78849,"018760101","Nazlini Charter School",0.95384599999999997,1.5384999999999999E-2,0.96923099999999995,130,"NAZLINI CHARTER SCHOOL","H-C 58 BOX 35","GANADO AZ 86505","() -","() -"]
["Neely Traditional Academy - 070241143","Maricopa",4239,"070241000","Gilbert Unified District",5026,"070241143","Neely Traditional Academy",8.2524E-2,3.2766999999999998E-2,0.115291,824,"NEELY TRADITIONAL ACADEMY","321 W. JUNIPER AVE.","GILBERT AZ 85233","() -","( ) -"]
["Nevitt Elementary School - 070403126","Maricopa",4258,"070403000","Tempe School District",5224,"070403126","Nevitt Elementary School",0.81552199999999997,8.9058999999999999E-2,0.90458000000000005,786,"NEVITT ELEMENTARY SCHOOL","4525 E ST ANNE","PHOENIX AZ 85042 5359","() -","() -"]
["New Horizon School for the Performing Arts - 078771001","Maricopa",4366,"078771000","New Horizon School for the Performing Arts",5554,"078771001","New Horizon School for the Performing Arts",0.855491,5.7803E-2,0.91329499999999997,173,"NEW HORIZON SCHOOL FOR THE PERFORMING ARTS","446 E BROADWAY","MESA AZ 85204","() -","() -"]
["New River Elementary School - 070297113","Maricopa",4246,"070297000","Deer Valley Unified District",5144,"070297113","New River Elementary School",0.34057999999999999,3.6232E-2,0.37681199999999998,275,"NEW RIVER ELEMENTARY SCHOOL","48827 N. BLACK CANYON HIGHWAY","PHOENIX AZ 85087","() -","() -"]
["New Visions Academy - 138654001","Yavapai",4487,"130406000","Cottonwood-Oak Creek Elementary District",10856,"138654001","New Visions Academy",0.61666699999999997,0.05,0.66666700000000001,60]
["Newell Barney Middle School - 070295121","Maricopa",4245,"070295000","Queen Creek Unified District",89912,"070295121","Newell Barney Middle School",0.26631199999999999,6.2583E-2,0.32889499999999999,737,"NEWELL BARNEY MIDDLE SCHOOL","24937 SOUTH SOSSAMAN","QUEEN CREEK AZ 85142","() -","( ) -"]
["NFL YET College Prep Academy - 078711001","Maricopa",4335,"078711000","Espiritu Community Development Corp.",5507,"078711001","NFL YET College Prep Academy",0.82116800000000001,5.4745000000000002E-2,0.87591200000000002,281,"NFL YET COLLEGE PREP ACADEMY","4848 SOUTH 2ND STREET","PHOENIX AZ 85040","() -","() -"]
["Nikolaus Homestead Elementary School - 090210115","Navajo",4393,"090210000","Show Low Unified District",5627,"090210115","Nikolaus Homestead Elementary School",0.67532499999999995,7.7922000000000005E-2,0.753247,385,"NIKOLAUS HOMESTEAD ELEMENTARY SCHOOL","500 W. OLD LINDEN RD","SHOW LOW AZ 85901","() -","() -"]
["Noah Webster Basic School - 078930101","Maricopa",10760,"078930000","Noah Webster Basic School",10800,"078930101","Noah Webster Basic School",0.228599,0.12937699999999999,0.35797699999999999,1028,"NOAH WEBSTER BASIC SCHOOL","7301 E. BASELINE ROAD","MESA AZ 85209","() -","( ) -"]
["Nogales High School - 120201210","Santa Cruz",4457,"120201000","Nogales Unified District",5962,"120201210","Nogales High School",0.65091600000000005,0.12463100000000001,0.77554599999999996,1693]
["Norterra Canyon K-8 - 070297149","Maricopa",4246,"070297000","Deer Valley Unified District",89953,"070297149","Norterra Canyon K-8",0.15536700000000001,5.5556000000000001E-2,0.210923,1060,"NORTERRA CANYON K-8","2200 W. MAYA WAY","PHOENIX AZ 85085","(623) 445-8200","(623) 445-8280"]
["North Canyon High School - 070269294","Maricopa",4241,"070269000","Paradise Valley Unified District",5107,"070269294","North Canyon High School",0.444934,7.0485000000000006E-2,0.51541899999999996,2013,"NORTH CANYON HIGH SCHOOL","1700 E. UNION HILLS DRIVE","PHOENIX AZ 85024","(602) 449-5000","( ) -"]
["North High School - 070510255","Maricopa",4286,"070510000","Phoenix Union High School District",5442,"070510255","North High School",0.78237500000000004,4.7993000000000001E-2,0.83036799999999999,2417,"NORTH HIGH SCHOOL","1101 EAST THOMAS ROAD","PHOENIX AZ 85014","() -","() -"]
["North Ranch Elementary School - 070269122","Maricopa",4241,"070269000","Paradise Valley Unified District",5077,"070269122","North Ranch Elementary School",0.140071,2.6596000000000002E-2,0.16666700000000001,527,"NORTH RANCH ELEMENTARY SCHOOL","16406 N. 61ST PLACE","SCOTTSDALE AZ 85254","(602) 449-6400","( ) -"]
["Northern AZ Academy for Career Dev. - Taylor - 098745204","Navajo",4400,"098745000","Career Development Inc.",5652,"098745204","Northern AZ Academy for Career Dev. - Taylor",0.80701800000000001,7.0175000000000001E-2,0.877193,57,"NORTHERN AZ ACADEMY FOR CAREER DEV. - TAYLOR","PO BOX 125","TAYLOR AZ 85939","(928) 536-4222","(928) 536-4441"]
["Northern AZ Academy for Career Dev. - Winslow - 098745201","Navajo",4400,"098745000","Career Development Inc.",5650,"098745201","Northern AZ Academy for Career Dev. - Winslow",0.80487799999999998,4.8779999999999997E-2,0.85365899999999995,41,"NORTHERN AZ ACADEMY FOR CAREER DEV. - WINSLOW","502 AIRPORT ROAD","WINSLOW AZ 86047","(928) 289-3329","(928) 289-4485"]
["Nosotros Academy - 108707001","Pima",79881,"108707000","Nosotros Inc",79899,"108707001","Nosotros Academy",0.76795599999999997,6.0773000000000001E-2,0.82872900000000005,181]
["O C Johnson School - 140401106","Yuma",4499,"140401000","Yuma Elementary District",6152,"140401106","O C Johnson School",0.74378599999999995,8.0306000000000002E-2,0.82409200000000005,523]
["Oak Creek School - 130406103","Yavapai",4487,"130406000","Cottonwood-Oak Creek Elementary District",6125,"130406103","Oak Creek School",0.62055300000000002,7.5098999999999999E-2,0.69565200000000005,253]
["Oak Tree Elementary - 070241157","Maricopa",4239,"070241000","Gilbert Unified District",78918,"070241157","Oak Tree Elementary",0.421296,8.7963E-2,0.50925900000000002,648,"OAK TREE ELEMENTARY","505 W. HOUSTON","GILBERT AZ 85233","() -","( ) -"]
["Oakwood Elementary School - 070211112","Maricopa",4237,"070211000","Peoria Unified School District",5000,"070211112","Oakwood Elementary School",0.156885,4.9660999999999997E-2,0.20654600000000001,886,"OAKWOOD ELEMENTARY SCHOOL","12900 N 71ST AVE","PEORIA AZ 85381","(623) 412-4725","(623) 412-4734"]
["Oasis Elementary School - 070211115","Maricopa",4237,"070211000","Peoria Unified School District",5003,"070211115","Oasis Elementary School",0.2954,7.6271000000000005E-2,0.37167099999999997,826,"OASIS ELEMENTARY SCHOOL","7841 W SWEETWATER","PEORIA AZ 85381","() -","() -"]
["Oasis High School - 078603002","Maricopa",4237,"070211000","Peoria Unified School District",78955,"078603002","Oasis High School",0.46511599999999997,2.3255999999999999E-2,0.48837199999999997,43,"OASIS HIGH SCHOOL","17505 N. 79TH AVE. SUITE 112","GLENDALE AZ 85308","(623) 776-2069","(623) 878-4254"]
["Ochoa Elementary School - 100201323","Pima",4403,"100201000","Tucson Unified District",5707,"100201323","Ochoa Elementary School",0.86909099999999995,4.3636000000000001E-2,0.91272699999999996,275]
["O'Connor Elementary School - 070204137","Maricopa",4235,"070204000","Mesa Unified District",4949,"070204137","O'Connor Elementary School",0.47993799999999998,8.6419999999999997E-2,0.56635800000000003,646,"O'CONNOR ELEMENTARY SCHOOL","4840 E ADOBE ROAD","MESA AZ 85205","() -","() -"]
["Ocotillo Early Learning Center - 100212134","Pima",4407,"100212000","Sunnyside Unified District",5825,"100212134","Ocotillo Early Learning Center",0.63520399999999999,7.3980000000000004E-2,0.70918400000000004,392]
["Ocotillo Ridge Elementary - 100220112","Pima",4413,"100220000","Vail Unified District",89575,"100220112","Ocotillo Ridge Elementary",0.20385200000000001,5.6180000000000001E-2,0.26003199999999999,623]
["Ocotillo School - 070406144","Maricopa",4260,"070406000","Washington Elementary School District",5261,"070406144","Ocotillo School",0.705036,0.101747,0.80678300000000003,858,"OCOTILLO SCHOOL","3225 W OCOTILLO RD","PHOENIX AZ 85017","() -","() -"]
["Old Vail Middle School - 100220104","Pima",4413,"100220000","Vail Unified District",5850,"100220104","Old Vail Middle School",0.25647999999999999,7.7762999999999999E-2,0.33424300000000001,733]
["Omega Alpha Academy School - 028751002","Cochise",79503,"028751000","Omega Alpha Academy",79505,"028751002","Omega Alpha Academy School",0.87163599999999997,6.6253000000000006E-2,0.93788800000000005,483,"OMEGA ALPHA ACADEMY SCHOOL","1402 SAN ANTONIO","DOUGLAS AZ 85607","(520) 805-1261","(520) 805-1272"]
["Oracle Ridge School - 110302101","Pinal",4444,"110302000","Oracle Elementary District",5926,"110302101","Oracle Ridge School",0.51485099999999995,0.10891099999999999,0.62376200000000004,101]
["Orange Grove Elementary School - 140411102","Yuma",4500,"140411000","Somerton Elementary District",6165,"140411102","Orange Grove Elementary School",0.79045100000000001,0.119363,0.90981400000000001,377]
["Orange Grove Middle School - 100216103","Pima",4410,"100216000","Catalina Foothills Unified District",5834,"100216103","Orange Grove Middle School",0.101523,2.7073E-2,0.12859599999999999,591]
["Orangedale Junior High Prep Academy - 070431104","Maricopa",4268,"070431000","Balsz Elementary District",5322,"070431104","Orangedale Junior High Prep Academy",0.853132,5.6155999999999998E-2,0.90928699999999996,463,"ORANGEDALE JUNIOR HIGH PREP ACADEMY","5048 E. OAK ST","PHOENIX AZ 85008","(602) 629-6800","(602) 629-6804"]
["Orangewood Elementary School - 070406146","Maricopa",4260,"070406000","Washington Elementary School District",5262,"070406146","Orangewood Elementary School",0.76865700000000003,6.9029999999999994E-2,0.83768699999999996,1072,"ORANGEWOOD ELEMENTARY SCHOOL","7337 N. 19TH AVENUE","PHOENIX AZ 85021","(602) 347-2900","(602) 347-2920"]
["Oro Grande Elementary School - 080201106","Mohave",4368,"080201000","Lake Havasu Unified District",5564,"080201106","Oro Grande Elementary School",0.57948699999999997,7.6923000000000005E-2,0.65641000000000005,390,"ORO GRANDE ELEMENTARY SCHOOL","1250 PAWNEE DRIVE","LAKE HAVASU CITY AZ 86406","(928) 505-6080","(928) 505-6099"]
["Osborn Middle School - 070408104","Maricopa",4262,"070408000","Osborn Elementary District",5280,"070408104","Osborn Middle School",0.84228800000000004,6.2392000000000003E-2,0.90467900000000001,573,"OSBORN MIDDLE SCHOOL","1102 W HIGHLAND STREET","PHOENIX AZ 85013","() -","() -"]
["Our Lady of Perpetual Help School - 072008001","Maricopa",80120,"072008000","Our Lady of Perpetual Help School",80121,"072008001","Our Lady of Perpetual Help School",0.33027499999999999,0.16055,0.49082599999999998,218]
["Owens Elementary School - 080306101","Mohave",4373,"080306000","Owens-Whitney Elementary District",5578,"080306101","Owens Elementary School",0.66666700000000001,7.4074000000000001E-2,0.74074099999999998,27,"OWENS ELEMENTARY SCHOOL","PO BOX 38","WIKIEUP AZ 85360","() -","() -"]
["P T Coe Elementary School - 070405104","Maricopa",4259,"070405000","Isaac Elementary District",5237,"070405104","P T Coe Elementary School",0.76384799999999997,0.125364,0.88921300000000003,791,"P T COE ELEMENTARY SCHOOL","3801 WEST ROANOKE","PHOENIX AZ 85009","() -","() -"]
["Page High School - 030208209","Coconino",4196,"030208000","Page Unified District",4832,"030208209","Page High School",0.557647,6.4706E-2,0.62235300000000005,842,"PAGE HIGH SCHOOL","P.O, BOX 1927","PAGE AZ 86040","() -","() -"]
["Page Middle School - 030208106","Coconino",4196,"030208000","Page Unified District",4831,"030208106","Page Middle School",0.60913700000000004,7.9525999999999999E-2,0.68866300000000003,585,"PAGE MIDDLE SCHOOL","PO BOX 1927","PAGE AZ 86040","() -","() -"]
["Painted Sky Elementary School - 100210114","Pima",4406,"100210000","Amphitheater Unified District",79282,"100210114","Painted Sky Elementary School",9.3931000000000001E-2,1.3006E-2,0.106936,692]
["Palm Lane - 070483115","Maricopa",4282,"070483000","Cartwright Elementary District",5412,"070483115","Palm Lane",0.883212,5.4223E-2,0.93743500000000002,959,"PALM LANE","2043 N. 64TH DR.","PHOENIX AZ 85035","() -","() -"]
["Palm Valley Elementary - 070479104","Maricopa",4281,"070479000","Litchfield Elementary District",5396,"070479104","Palm Valley Elementary",0.22262299999999999,6.7389000000000004E-2,0.29001199999999999,831,"PALM VALLEY ELEMENTARY","272 E. SAGEBRUSH ST.","LITCHFIELD PARK AZ 85395","() -","( ) -"]
["Palmcroft Elementary School - 140401107","Yuma",4499,"140401000","Yuma Elementary District",6153,"140401107","Palmcroft Elementary School",0.60262700000000002,0.13136300000000001,0.73399000000000003,599]
["Palo Christi Elementary - 080220113","Mohave",79598,"080220000","Kingman Unified School District",5574,"080220113","Palo Christi Elementary",0.74736800000000003,7.3683999999999999E-2,0.82105300000000003,285,"PALO CHRISTI ELEMENTARY","500 MAPLE STREET","KINGMAN AZ 86401","(928) 753-2472","(928) 753-7895"]
["Palo Verde Elementary School - 070449101","Maricopa",4275,"070449000","Palo Verde Elementary District",5355,"070449101","Palo Verde Elementary School",0.65324400000000005,0.116331,0.76957500000000001,447,"PALO VERDE ELEMENTARY SCHOOL","P.O. BOX 108","PALO VERDE AZ 85343","() -","() -"]
["Palo Verde High Magnet School - 100201620","Pima",4403,"100201000","Tucson Unified District",5758,"100201620","Palo Verde High Magnet School",0.64022299999999999,6.7039000000000001E-2,0.70726299999999998,895]
["Palo Verde Middle School - 070406148","Maricopa",4260,"070406000","Washington Elementary School District",5263,"070406148","Palo Verde Middle School",0.816079,7.1585999999999997E-2,0.88766500000000004,908,"PALO VERDE MIDDLE SCHOOL","7502 N 39TH AVE","PHOENIX AZ 85051","(602) 347-2500","(602) 347-2520"]
["Palo Verde School - 110404104","Pinal",4446,"110404000","Casa Grande Elementary District",5932,"110404104","Palo Verde School",0.84475800000000001,6.0484000000000003E-2,0.90524199999999999,496]
["Palominas Elementary School - 020349101","Cochise",4180,"020349000","Palominas Elementary District",4788,"020349101","Palominas Elementary School",0.47482000000000002,0.115108,0.58992800000000001,417,"PALOMINAS ELEMENTARY SCHOOL","P.O. BOX 38","HEREFORD AZ 85615","() -","( ) -"]
["Palomino Intermediate School - 070269151","Maricopa",4241,"070269000","Paradise Valley Unified District",81026,"070269151","Palomino Intermediate School",0.91783599999999999,3.6072E-2,0.95390799999999998,446,"PALOMINO INTERMEDIATE SCHOOL","15815 N. 29TH STREET","PHOENIX AZ 85032","(602) 449-2900","( ) -"]
["Palomino Primary School - 070269150","Maricopa",4241,"070269000","Paradise Valley Unified District",5094,"070269150","Palomino Primary School",0.94959899999999997,2.8636999999999999E-2,0.97823599999999999,822,"PALOMINO PRIMARY SCHOOL","15833 NORTH 29TH STREET","PHOENIX AZ 85032","(602) 449-2800","( ) -"]
["Pan-American Charter School - 078940101","Maricopa",79578,"078940000","Pan-American Elementary Charter",79579,"078940101","Pan-American Charter School",0.82598000000000005,0.12990199999999999,0.95588200000000001,686,"PAN-AMERICAN CHARTER SCHOOL","3001 W. INDIAN SCHOOL","PHOENIX AZ 85017","() -","() -"]
["Papago School - 070414170","Maricopa",4263,"070414000","Creighton Elementary District",5288,"070414170","Papago School",0.84791300000000003,4.4732000000000001E-2,0.89264399999999999,1006,"PAPAGO SCHOOL","2013 NORTH 36TH STREET","PHOENIX AZ 85008","(602) 381-6100","(602) 381-6118"]
["Paradise Education Center - 078912101","Maricopa",5180,"078912000","Paragon Management Inc.",10820,"078912101","Paradise Education Center",0.17222999999999999,9.4793000000000002E-2,0.26702300000000001,1498,"PARADISE EDUCATION CENTER","15533 W. PARADISE LN.","SURPRISE AZ 85374","() -","() -"]
["Paradise Honors High School - 078912103","Maricopa",5180,"078912000","Paragon Management Inc.",89828,"078912103","Paradise Honors High School",0.20141300000000001,9.5406000000000005E-2,0.29681999999999997,283,"PARADISE HONORS HIGH SCHOOL","12775 N. 175TH AVENUE","SURPRISE AZ 85374","(623) 455-7400","(623) 975-4380"]
["Paradise Valley High School - 070269290","Maricopa",4241,"070269000","Paradise Valley Unified District",5105,"070269290","Paradise Valley High School",0.423711,7.5492000000000004E-2,0.49920300000000001,1708,"PARADISE VALLEY HIGH SCHOOL","3950 E BELL ROAD","PHOENIX AZ 85032","(602) 449-7000","( ) -"]
["Paragon Science Academy - 078544101","Maricopa",89917,"078544000","Paragon Education Corporation",89918,"078544101","Paragon Science Academy",0.218579,4.7358999999999998E-2,0.26593800000000001,549,"PARAGON SCIENCE ACADEMY","5580 W. CHANDLER BLVD.","CHANDLER AZ 85226","(480) 753-3889","(480) 736-3385"]
["Paramount Academy - 078905102","Maricopa",79205,"078905000","Paramount Education Studies Inc",78977,"078905102","Paramount Academy",0.42473100000000003,0.123656,0.54838699999999996,372,"PARAMOUNT ACADEMY","8987 W OLIVE AVE #117, PMB 93","PEORIA AZ 85345","() -","() -"]
["Park Elementary School - 090203103","Navajo",4389,"090203000","Holbrook Unified District",5608,"090203103","Park Elementary School",0.73225799999999996,5.4838999999999999E-2,0.78709700000000005,310,"PARK ELEMENTARY SCHOOL","P.O. BOX 640","HOLBROOK AZ 86025 0640","() -","() -"]
["Park Meadows Elementary School - 070297114","Maricopa",4246,"070297000","Deer Valley Unified District",5145,"070297114","Park Meadows Elementary School",0.46804800000000002,9.4991000000000006E-2,0.56303999999999998,573,"PARK MEADOWS ELEMENTARY SCHOOL","20012 N. 35TH AVENUE","GLENDALE AZ 85308","() -","() -"]
["Park View Middle School - 138755101","Yavapai",85749,"078991000","Arizona Montessori Charter School at Anthem",78816,"138755101","Park View Middle School",0.42470999999999998,0.15443999999999999,0.57915099999999997,259]
["Parker High School - 150227204","La Paz",4510,"150227000","Parker Unified School District",6197,"150227204","Parker High School",0.57199199999999994,0.112426,0.68441799999999997,506]
["Parkridge Elementary - 070211129","Maricopa",4237,"070211000","Peoria Unified School District",81144,"070211129","Parkridge Elementary",0.18220700000000001,5.7313999999999997E-2,0.23952100000000001,1169,"PARKRIDGE ELEMENTARY","9970 W. BEARDSLEY ROAD","PEORIA AZ 85382","() -","() -"]
["Parkview Elementary - 070289122","Maricopa",4243,"070289000","Dysart Unified District",88416,"070289122","Parkview Elementary",0.41122700000000001,0.105744,0.51697099999999996,766,"PARKVIEW ELEMENTARY","15800 N. PARKVIEW PLACE","SURPRISE AZ 85374","(623) 523-8650","(623) 523-8661"]
["Paseo Hills Elementary - 070297135","Maricopa",4246,"070297000","Deer Valley Unified District",6016,"070297135","Paseo Hills Elementary",0.495504,7.9920000000000005E-2,0.57542499999999996,996,"PASEO HILLS ELEMENTARY","3302 W. LOUISE","PHOENIX AZ 85027","() -","() -"]
["Paseo Verde Elementary School - 070211122","Maricopa",4237,"070211000","Peoria Unified School District",5010,"070211122","Paseo Verde Elementary School",0.228438,4.5455000000000002E-2,0.273893,858,"PASEO VERDE ELEMENTARY SCHOOL","7880 W GREENWAY RD","PEORIA AZ 85381","(623) 412-5075","(623) 412-5084"]
["Patagonia Elementary School - 120406101","Santa Cruz",4462,"120520000","Patagonia Union High School District",5968,"120406101","Patagonia Elementary School",0.79245299999999996,5.6604000000000002E-2,0.84905699999999995,106]
["Patagonia Union High School - 120520201","Santa Cruz",4462,"120520000","Patagonia Union High School District",5971,"120520201","Patagonia Union High School",0.68055600000000005,0.125,0.80555600000000005,72]
["Patterson Elementary - 070204153","Maricopa",4235,"070204000","Mesa Unified District",78938,"070204153","Patterson Elementary",0.37321199999999999,9.4927999999999998E-2,0.46814,764,"PATTERSON ELEMENTARY","615 S. CHESHIRE","MESA AZ 85208","() -","() -"]
["Patterson Elementary School - 070241142","Maricopa",4239,"070241000","Gilbert Unified District",5025,"070241142","Patterson Elementary School",0.20980099999999999,0.10872900000000001,0.31852999999999998,653,"PATTERSON ELEMENTARY SCHOOL","1211 E. GUADALUPE ROAD","GILBERT AZ 85234","() -","( ) -"]
["Paul Dunbar Lawrence School - 070401104","Maricopa",4256,"070401000","Phoenix Elementary District",5197,"070401104","Paul Dunbar Lawrence School",0.87769799999999998,6.2350000000000003E-2,0.94004799999999999,417,"PAUL DUNBAR LAWRENCE SCHOOL","707 W. GRANT","PHOENIX AZ 85006","(602) 257-3844","(602) 257-3874"]
["Paul H Huber Jr High School - 020227109","Cochise",4174,"020227000","Douglas Unified District",4771,"020227109","Paul H Huber Jr High School",0.68842099999999995,0.109474,0.79789500000000002,475,"PAUL H HUBER JR HIGH SCHOOL","1650 WASHINGTON AVE.","DOUGLAS AZ 85607","() -","() -"]
["Paulden Community School - 078560001","Maricopa",90275,"078560000","Research Based Education Corporation",90276,"078560001","Paulden Community School",0.78676500000000005,0.132353,0.91911799999999999,137,"PAULDEN COMMUNITY SCHOOL","P.O. BOX 940","PAULDEN AZ 86334","(928) 636-1430","(928) 636-3087"]
["Payson Center for Success High School - 040210701","Gila",4209,"040210000","Payson Unified District",10822,"040210701","Payson Center for Success High School",0.55555600000000005,3.7037E-2,0.59259300000000004,53,"PAYSON CENTER FOR SUCCESS HIGH SCHOOL","P.O. BOX 919","PAYSON AZ 85541","() -","( ) -"]
["Payson Elementary School - 040210104","Gila",4209,"040210000","Payson Unified District",4858,"040210104","Payson Elementary School",0.65969599999999995,4.5627000000000001E-2,0.70532300000000003,523,"PAYSON ELEMENTARY SCHOOL","P.O. BOX 919","PAYSON AZ 85547","() -","( ) -"]
["Payson High School - 040210201","Gila",4209,"040210000","Payson Unified District",4860,"040210201","Payson High School",0.50140099999999999,3.2212999999999999E-2,0.533613,714,"PAYSON HIGH SCHOOL","P O BOX 919","PAYSON AZ 85547","() -","( ) -"]
["Peach Springs School - 080208001","Mohave",4369,"080208000","Peach Springs Unified District",5566,"080208001","Peach Springs School",1,0,1,216,"PEACH SPRINGS SCHOOL","PO BOX 360","PEACH SPRINGS AZ 86434","() -","() -"]
["Pearce Elementary School - 020422001","Cochise",4186,"020422000","Pearce Elementary District",4796,"020422001","Pearce Elementary School",0.57009299999999996,0.12149500000000001,0.69158900000000001,107,"PEARCE ELEMENTARY SCHOOL","1487 E. SCHOOL ROAD","PEARCE AZ 85625","() -","() -"]
["Pecan Grove Elementary School - 140401108","Yuma",4499,"140401000","Yuma Elementary District",6154,"140401108","Pecan Grove Elementary School",0.87058800000000003,9.7059000000000006E-2,0.96764700000000003,434]
["Pena Blanca Elementary School - 120235115","Santa Cruz",4458,"120235000","Santa Cruz Valley Unified District",81128,"120235115","Pena Blanca Elementary School",0.72209000000000001,0.10213800000000001,0.82422799999999996,421]
["Pendergast Elementary School - 070492012","Maricopa",4283,"070492000","Pendergast Elementary District",5417,"070492012","Pendergast Elementary School",0.76171500000000003,4.7856000000000003E-2,0.80957100000000004,997,"PENDERGAST ELEMENTARY SCHOOL","3802 NORTH 91ST AVENUE","PHOENIX AZ 85037","() -","( ) -"]
["Peoria Accelerated High School - 078951001","Maricopa",79875,"078951000","American Charter Schools Foundation d.b.a. Peoria Accelerated High School",78817,"078951001","Peoria Accelerated High School",0.78339400000000003,4.1515999999999997E-2,0.82491000000000003,554,"PEORIA ACCELERATED HIGH SCHOOL","8885 W PEORIA AVE.","PEORIA AZ 85345","(623) 979-0031","(623) 979-0113"]
["Peoria Elementary School - 070211101","Maricopa",4237,"070211000","Peoria Unified School District",4989,"070211101","Peoria Elementary School",0.64646499999999996,0.106782,0.753247,693,"PEORIA ELEMENTARY SCHOOL","11501 N 79TH AVE","PEORIA AZ 85345","(623) 412-4450","(623) 412-4458"]
["Peoria High School - 070211260","Maricopa",4237,"070211000","Peoria Unified School District",5013,"070211260","Peoria High School",0.47332099999999999,0.100439,0.57376000000000005,1593,"PEORIA HIGH SCHOOL","11200 N 83RD AVE","PEORIA AZ 85345","(623) 486-6300","(623) 486-6330"]
["Peoria Traditional School - 070211132","Maricopa",4237,"070211000","Peoria Unified School District",91217,"070211132","Peoria Traditional School",9.9099000000000007E-2,2.2523000000000001E-2,0.12162199999999999,222,"PEORIA TRADITIONAL SCHOOL","10851 W. WILLIAMS ROAD","SUN CITY AZ 85373","(623) 412-5350","( ) -"]
["Peoria Transition Center - 070211266","Maricopa",4237,"070211000","Peoria Unified School District",6231,"070211266","Peoria Transition Center",0.58333299999999999,2.7778000000000001E-2,0.61111099999999996,108,"PEORIA TRANSITION CENTER","7565 W. PEORIA AVENUE, STE. A","PEORIA AZ 85381","(623) 412-5475","( ) -"]
["Peralta School - 070483116","Maricopa",4282,"070483000","Cartwright Elementary District",5413,"070483116","Peralta School",0.85909599999999997,6.6245999999999999E-2,0.925342,951,"PERALTA SCHOOL","7125 W. ENCANTO BLVD.","PHOENIX AZ 85035","() -","() -"]
["Peralta Trail Elementary School - 110243105","Pinal",4443,"110243000","Apache Junction Unified District",79631,"110243105","Peralta Trail Elementary School",0.43738300000000002,8.4112000000000006E-2,0.52149500000000004,535]
["Percy L Julian School - 070466003","Maricopa",4279,"070466000","Roosevelt Elementary District",5364,"070466003","Percy L Julian School",0.953237,2.0383999999999999E-2,0.97362099999999996,833,"PERCY L JULIAN SCHOOL","2149 E CARVER DRIVE","PHOENIX AZ 85040","() -","() -"]
["Peridot Lutheran Elementary School - 042002001","Gila",80130,"042002000","Peridot/Our Saviors Lutheran Elementary School",80131,"042002001","Peridot Lutheran Elementary School",0.62162200000000001,4.0541000000000001E-2,0.66216200000000003,74]
["Perry High School - 070280228","Maricopa",4242,"070280000","Chandler Unified District #80",89613,"070280228","Perry High School",0.105503,4.4023E-2,0.14952599999999999,2635,"PERRY HIGH SCHOOL","1919 E. QUEEN CREEK RD.","GILBERT AZ 85297","(480) 224-2800","(480) 224-2820"]
["Phoenix Advantage Charter School - 078714001","Maricopa",4338,"078714000","Phoenix Advantage Charter School Inc.",5512,"078714001","Phoenix Advantage Charter School",0.92960699999999996,5.7971000000000002E-2,0.98757799999999996,483,"PHOENIX ADVANTAGE CHARTER SCHOOL","3738 N. 16TH STREET","PHOENIX AZ 85016","() -","() -"]
["Phoenix Collegiate Academy Charter School - 078559001","Maricopa",90273,"078559000","Phoenix Collegiate Academy Inc.",90274,"078559001","Phoenix Collegiate Academy Charter School",0.90635500000000002,6.0200999999999998E-2,0.96655500000000005,299,"PHOENIX COLLEGIATE ACADEMY CHARTER SCHOOL","5610 S. CENTRAL AVENUE","PHOENIX AZ 85040","(602) 268-9900","(602) 268-9911"]
["Phoenix Union Bioscience High School - 070510284","Maricopa",4286,"070510000","Phoenix Union High School District",88407,"070510284","Phoenix Union Bioscience High School",0.53237400000000001,0.12589900000000001,0.658273,278,"PHOENIX UNION BIOSCIENCE HIGH SCHOOL","512 EAST PIERCE STREET","PHOENIX AZ 85004","(602) 764-5600","(602) 764-5699"]
["PHX DAY SCH/MD - Closed - 001202041","Apache",80432,"009102041","Phoenix Day School for the Deaf",6396,"001202041","PHX DAY SCH/MD - Closed",0.70460699999999998,0.111111,0.81571800000000005,369]
["Picacho School - 110433133","Pinal",4452,"110433000","Picacho Elementary District",5947,"110433133","Picacho School",0.69,0.14000000000000001,0.83,215]
["Picture Rocks Intermediate School - 100206120","Pima",4404,"100206000","Marana Unified District",5778,"100206120","Picture Rocks Intermediate School",0.67114099999999999,0.10738300000000001,0.77852299999999997,298]
["Pierson Vocational High School - 120201209","Santa Cruz",4457,"120201000","Nogales Unified District",5961,"120201209","Pierson Vocational High School",0.92090399999999994,2.8249E-2,0.94915300000000002,177]
["Pima Butte - 110220105","Pinal",4441,"110220000","Maricopa Unified School District",87479,"110220105","Pima Butte",0.31788100000000002,5.9603000000000003E-2,0.37748300000000001,453]
["Pima County Jail - 101002001","Pima",80136,"101002000","Pima County Doc Work Center",80137,"101002001","Pima County Jail",1,0,1,21]
["Pima County Juvenile Court - 101001001","Pima",80138,"101001000","Pima County Juvenile Court Center",80139,"101001001","Pima County Juvenile Court",1,0,1,50]
["Pima Elementary School - 050206101","Graham",4220,"050206000","Pima Unified District",4890,"050206101","Pima Elementary School",0.49261100000000002,0.14532,0.63793100000000003,406,"PIMA ELEMENTARY SCHOOL","P. O. BOX 429","PIMA AZ 85543 0429","() -","() -"]
["Pima Elementary School - 070248110","Maricopa",4240,"070248000","Scottsdale Unified District",5048,"070248110","Pima Elementary School",0.41184599999999999,8.5399000000000003E-2,0.49724499999999999,721,"PIMA ELEMENTARY SCHOOL","8330 E. OSBORN ROAD","SCOTTSDALE AZ 85251","() -","() -"]
["Pima High School - 050206202","Graham",4220,"050206000","Pima Unified District",4891,"050206202","Pima High School",0.44383600000000001,0.175342,0.61917800000000001,365,"PIMA HIGH SCHOOL","PO BOX 429","PIMA AZ 85543","(928) 387-8150","(928) 485-0790"]
["Pima Partnership Academy - 108799101","Pima",89864,"108799000","Pima Prevention Partnership dba Pima Partnership Academy",89865,"108799101","Pima Partnership Academy",0.82558100000000001,6.9766999999999996E-2,0.89534899999999995,104]
["Pima Partnership School - 108711201","Pima",79959,"108711000","Pima Prevention Partnership dba Pima Partnership School",79960,"108711201","Pima Partnership School",0.86982199999999998,6.5088999999999994E-2,0.93491100000000005,199]
["Pine Springs Day School - 014012001","Apache",80140,"014009000","Pine Springs Day School",80141,"014012001","Pine Springs Day School",0.82222200000000001,0.111111,0.93333299999999997,90]
["Pine Strawberry Elementary School - 040312001","Gila",4214,"040312000","Pine Strawberry Elementary District",4876,"040312001","Pine Strawberry Elementary School",0.5625,0.125,0.6875,128,"PINE STRAWBERRY ELEMENTARY SCHOOL","PO BOX 1150","PINE AZ 85544","(928) 476-3283","(928) 476-2506"]
["Pinnacle High School - 070269292","Maricopa",4241,"070269000","Paradise Valley Unified District",79268,"070269292","Pinnacle High School",7.5935000000000002E-2,1.8134000000000001E-2,9.4069E-2,2512,"PINNACLE HIGH SCHOOL","3535 E. MAYO BLVD","PHOENIX AZ 85050","(602) 449-4000","( ) -"]
["Pinnacle Peak Elementary - 070269148","Maricopa",4241,"070269000","Paradise Valley Unified District",79781,"070269148","Pinnacle Peak Elementary",5.7023999999999998E-2,2.7820000000000002E-3,5.9804999999999997E-2,675,"PINNACLE PEAK ELEMENTARY","7690 E. WILLIAMS DR.","SCOTTSDALE AZ 85255","(602) 449-6700","( ) -"]
["Pinon Community School - 093915001","Navajo",80375,"093915000","Pinon Community School Board",80376,"093915001","Pinon Community School",0.71428599999999998,0.1,0.81428599999999995,70]
["Pinon Elementary School - 090204101","Navajo",4390,"090204000","Pinon Unified District",5611,"090204101","Pinon Elementary School",0.84915300000000005,5.5932000000000003E-2,0.90508500000000003,590,"PINON ELEMENTARY SCHOOL","P.O.BOX 839","PINON AZ 86510","() -","() -"]
["Pinon High School - 090204203","Navajo",4390,"090204000","Pinon Unified District",5613,"090204203","Pinon High School",0.78088599999999997,6.5268000000000007E-2,0.84615399999999996,429,"PINON HIGH SCHOOL","P. O. BOX 839","PINON AZ 86510","() -","() -"]
["Pinon Middle School - 090204102","Navajo",4390,"090204000","Pinon Unified District",5612,"090204102","Pinon Middle School",0.79879900000000004,7.8077999999999995E-2,0.87687700000000002,333,"PINON MIDDLE SCHOOL","P.O. BOX 839","PINON AZ 86510","() -","() -"]
["Pioneer Elementary School - 070241144","Maricopa",4239,"070241000","Gilbert Unified District",5027,"070241144","Pioneer Elementary School",0.27992600000000001,6.0773000000000001E-2,0.3407,543,"PIONEER ELEMENTARY SCHOOL","1535 N. GREENFIELD ROAD","GILBERT AZ 85234","() -","( ) -"]
["Pioneer Elementary School - 070211105","Maricopa",4237,"070211000","Peoria Unified School District",4993,"070211105","Pioneer Elementary School",0.53813599999999995,9.9575999999999998E-2,0.63771199999999995,472,"PIONEER ELEMENTARY SCHOOL","6315 W PORT AU PRINCE","GLENDALE AZ 85306","() -","() -"]
["Pioneer Preparatory - A Challenge Foundation - 078550001","Maricopa",90140,"078550000","Challenge Foundation Academies of Arizona Inc.",90141,"078550001","Pioneer Preparatory - A Challenge Foundation",0.90312999999999999,4.0238000000000003E-2,0.94336799999999998,671,"PIONEER PREPARATORY - A CHALLENGE FOUNDATION","6510 W. CLARENDON AVE","GLENDALE AZ 85033","(602) 933-3733","(623) 252-0022"]
["Pistor Middle School - 100201527","Pima",4403,"100201000","Tucson Unified District",5745,"100201527","Pistor Middle School",0.752475,6.8317000000000003E-2,0.82079199999999997,1010]
["Playa del Rey Elementary School - 070241151","Maricopa",4239,"070241000","Gilbert Unified District",5034,"070241151","Playa del Rey Elementary School",0.29069800000000001,8.8039999999999993E-2,0.37873800000000002,602,"PLAYA DEL REY ELEMENTARY SCHOOL","550 N. HORNE STREET","GILBERT AZ 85233","() -","( ) -"]
["Polaris High School - 070269296","Maricopa",4241,"070269000","Paradise Valley Unified District",5109,"070269296","Polaris High School",0.56431500000000001,4.5643000000000003E-2,0.60995900000000003,173,"POLARIS HIGH SCHOOL","15002 NORTH 32ND STREET","PHOENIX AZ 85032","(602) 449-2300","( ) -"]
["Pomerene Elementary School - 020364101","Cochise",4188,"020364000","Pomerene Elementary District",4798,"020364101","Pomerene Elementary School",0.347107,0.13223099999999999,0.47933900000000002,120,"POMERENE ELEMENTARY SCHOOL","P.O. BOX 7","POMERENE AZ 85627","() -","() -"]
["Pomeroy Elementary School - 070204131","Maricopa",4235,"070204000","Mesa Unified District",4943,"070204131","Pomeroy Elementary School",0.40917399999999998,7.8898999999999997E-2,0.48807299999999998,545,"POMEROY ELEMENTARY SCHOOL","1507 WEST SHAWNEE DR","CHANDLER AZ 85224","() -","() -"]
["Porfirio H. Gonzales Elementary School - 070417101","Maricopa",4264,"070417000","Tolleson Elementary District",6240,"070417101","Porfirio H. Gonzales Elementary School",0.78984699999999997,8.0282999999999993E-2,0.87012999999999996,847,"PORFIRIO H. GONZALES ELEMENTARY SCHOOL","9401 W. GARFIELD ST.","TOLLESON AZ 85353","() -","( ) -"]
["Porter Elementary School - 070204145","Maricopa",4235,"070204000","Mesa Unified District",4957,"070204145","Porter Elementary School",0.65732800000000002,8.8361999999999996E-2,0.74568999999999996,463,"PORTER ELEMENTARY SCHOOL","1350 S. LINDSAY DR.","MESA AZ 85204","() -","() -"]
["Poston Butte High School - 110201202","Pinal",4437,"110201000","Florence Unified School District",90309,"110201202","Poston Butte High School",0.41460399999999997,9.4677999999999998E-2,0.50928200000000001,1616]
["Poston Junior High School - 070204256","Maricopa",4235,"070204000","Mesa Unified District",4973,"070204256","Poston Junior High School",0.48428300000000002,7.4656E-2,0.55893899999999996,1008,"POSTON JUNIOR HIGH SCHOOL","2433 E ADOBE","MESA AZ 85213","() -","() -"]
["Power Ranch Elementary - 070260104","Maricopa",4248,"070260000","Higley Unified School District",80316,"070260104","Power Ranch Elementary",0.19805200000000001,6.1688E-2,0.25974000000000003,924,"POWER RANCH ELEMENTARY","4351 S. RANCH HOUSE PARKWAY","GILBERT AZ 85297","() -","() -"]
["PPEP TEC - Celestino Fernandez Learning Center - 108744201","Pima",4431,"108744000","Portable Practical Educational Preparation Inc. (PPEP Inc.)",5873,"108744201","PPEP TEC - Celestino Fernandez Learning Center",0.82264199999999998,2.6415000000000001E-2,0.84905699999999995,265]
["PPEP TEC - Cesar Chavez Learning Center - 108744206","Pima",4431,"108744000","Portable Practical Educational Preparation Inc. (PPEP Inc.)",5878,"108744206","PPEP TEC - Cesar Chavez Learning Center",0.92982500000000001,3.5088000000000001E-2,0.96491199999999999,113]
["PPEP TEC - Jose Yepez Learning Center - 108744207","Pima",4431,"108744000","Portable Practical Educational Preparation Inc. (PPEP Inc.)",5879,"108744207","PPEP TEC - Jose Yepez Learning Center",1,0,1,143]
["PPEP TEC - Raul H. Castro Learning Center - 108744205","Pima",4191,"028750000","Center for Academic Success Inc.",5877,"108744205","PPEP TEC - Raul H. Castro Learning Center",0.94017099999999998,3.4188000000000003E-2,0.97435899999999998,117]
["PPEP TEC - Victor Soltero Learning Center - 108744210","Pima",4431,"108744000","Portable Practical Educational Preparation Inc. (PPEP Inc.)",5882,"108744210","PPEP TEC - Victor Soltero Learning Center",0.78947400000000001,7.0175000000000001E-2,0.859649,56]
["Precision Academy System Charter School - 078670201","Maricopa",79217,"078670000","Precision Academy Systems Inc",10823,"078670201","Precision Academy System Charter School",0.51428600000000002,3.4285999999999997E-2,0.54857100000000003,350,"PRECISION ACADEMY SYSTEM CHARTER SCHOOL","3906 EAST BRAODWAY","PHOENIX AZ 85040","(602) 453-3661","(602) 453-3667"]
["Prescott High School - 130201070","Yavapai",4466,"130201000","Prescott Unified District",8135,"130201070","Prescott High School",0.21704000000000001,5.1617000000000003E-2,0.26865699999999998,1608]
["Prescott Mile High Middle School - 130201050","Yavapai",4466,"130201000","Prescott Unified District",8133,"130201050","Prescott Mile High Middle School",0.36725000000000002,6.9952E-2,0.43720199999999998,629]
["Prescott Valley School - 078516002","Maricopa",88317,"078516000","Prescott Valley Charter School",80004,"078516002","Prescott Valley School",0.60126599999999997,0.10126599999999999,0.70253200000000005,158,"PRESCOTT VALLEY SCHOOL","P.O. BOX 27348","PRESCOTT VALLEY AZ 86312","() -","( ) -"]
["Presidio de las Sierras - 108509301","Pima",90539,"108509000","Presidio School Inc.",91153,"108509301","Presidio de las Sierras",0.29166700000000001,3.125E-2,0.32291700000000001,96]
["Presidio School - 108778201","Pima",4425,"108778000","Presidio School",5865,"108778201","Presidio School",0.58840599999999998,0.13623199999999999,0.724638,345]
["Project More High School - 100201674","Pima",4403,"100201000","Tucson Unified District",6264,"100201674","Project More High School",0.70129900000000001,7.7922000000000005E-2,0.77922100000000005,77]
["Pueblo Del Sol Elementary School - 020268125","Cochise",4175,"020268000","Sierra Vista Unified District",4778,"020268125","Pueblo Del Sol Elementary School",0.31259999999999999,7.3365E-2,0.385965,627,"PUEBLO DEL SOL ELEMENTARY SCHOOL","5130 PASEO LAS PALMAS","SIERRA VISTA AZ 85635","() -","() -"]
["Pueblo Del Sol Middle School - 070405111","Maricopa",4259,"070405000","Isaac Elementary District",5243,"070405111","Pueblo Del Sol Middle School",0.84353699999999998,2.6238999999999998E-2,0.86977599999999999,1002,"PUEBLO DEL SOL MIDDLE SCHOOL","3449 N. 39TH AVE","PHOENIX AZ 85019","() -","() -"]
["Pueblo Elementary School - 140413101","Yuma",4501,"140413000","Crane Elementary District",6168,"140413101","Pueblo Elementary School",0.54893599999999998,0.11773,0.66666700000000001,705]
["Pueblo Elementary School - 070248120","Maricopa",4240,"070248000","Scottsdale Unified District",5053,"070248120","Pueblo Elementary School",0.262519,3.9454000000000003E-2,0.30197299999999999,659,"PUEBLO ELEMENTARY SCHOOL","6320 N. 82ND STREET","SCOTTSDALE AZ 85250","() -","() -"]
["Pueblo Gardens Elementary - 100201329","Pima",4403,"100201000","Tucson Unified District",5708,"100201329","Pueblo Gardens Elementary",0.92650299999999997,5.5678999999999999E-2,0.98218300000000003,449]
["Pueblo High Magnet School - 100201630","Pima",4403,"100201000","Tucson Unified District",5759,"100201630","Pueblo High Magnet School",0.76983100000000004,5.7867000000000002E-2,0.82769800000000004,1538]
["Quail Run Elementary School - 100206118","Pima",4404,"100206000","Marana Unified District",5776,"100206118","Quail Run Elementary School",0.34201399999999998,8.1597000000000003E-2,0.42361100000000002,576]
["Quail Run Elementary School - 070269126","Maricopa",4241,"070269000","Paradise Valley Unified District",5081,"070269126","Quail Run Elementary School",0.22008900000000001,3.9882000000000001E-2,0.25996999999999998,640,"QUAIL RUN ELEMENTARY SCHOOL","3303 E UTOPIA","PHOENIX AZ 85050","(602) 449-4400","( ) -"]
["Quartz Hill Elementary - 070241167","Maricopa",4239,"070241000","Gilbert Unified District",89594,"070241167","Quartz Hill Elementary",9.2227000000000003E-2,4.0842999999999997E-2,0.13306999999999999,759,"QUARTZ HILL ELEMENTARY","3680 S. QUARTZ STREET","GILBERT AZ 85297","(480) 855-5732","(480) 855-5797"]
["Quartzsite Elementary School - 150404102","La Paz",4511,"150404000","Quartzsite Elementary District",6199,"150404102","Quartzsite Elementary School",0.95098000000000005,3.9216000000000001E-2,0.99019599999999997,102]
["Queen Creek Elementary School - 070295101","Maricopa",4245,"070295000","Queen Creek Unified District",5138,"070295101","Queen Creek Elementary School",0.30385899999999999,3.2154000000000002E-2,0.33601300000000001,364,"QUEEN CREEK ELEMENTARY SCHOOL","23636 S. 204TH ST","QUEEN CREEK AZ 85242","() -","() -"]
["Queen Creek High School - 070295201","Maricopa",4245,"070295000","Queen Creek Unified District",5141,"070295201","Queen Creek High School",0.218497,6.7629999999999996E-2,0.28612700000000002,1675,"QUEEN CREEK HIGH SCHOOL","22149 E. OCOTILLO ROAD","QUEEN CREEK AZ 85242","() -","() -"]
["Queen Creek Middle School - 070295106","Maricopa",4245,"070295000","Queen Creek Unified District",5140,"070295106","Queen Creek Middle School",0.26602999999999999,7.2305999999999995E-2,0.33833600000000003,725,"QUEEN CREEK MIDDLE SCHOOL","20435 S. OLD ELLSWORTH RD.","QUEEN CREEK AZ 85242","(480) 987-5940","(480) 987-5947"]
["Queen of Peace School - 072026001","Maricopa",79716,"072026000","Queen of Peace",79717,"072026001","Queen of Peace School",0.55191299999999999,0.13661200000000001,0.68852500000000005,183]
["Quentin Elementary School - 070465105","Maricopa",4278,"070465000","Littleton Elementary District",85852,"070465105","Quentin Elementary School",0.78499399999999997,0.110862,0.89585700000000001,884,"QUENTIN ELEMENTARY SCHOOL","1252 S. AVONDALE BLVD.","AVONDALE AZ 85323","() -","( ) -"]
["R E Simpson School - 070468113","Maricopa",4280,"070468000","Alhambra Elementary District",5391,"070468113","R E Simpson School",0.93184400000000001,2.6816E-2,0.95865900000000004,895,"R E SIMPSON SCHOOL","5330 N 23RD AVE","PHOENIX AZ 85015","(602) 246-0699","(602) 246-4305"]
["R Pete Woodard Jr High School - 140401123","Yuma",4499,"140401000","Yuma Elementary District",6162,"140401123","R Pete Woodard Jr High School",0.59422299999999995,0.110041,0.704264,727]
["Rainbow Valley Elementary School - 070425103","Maricopa",4266,"070425000","Liberty Elementary District",79652,"070425103","Rainbow Valley Elementary School",0.66615899999999995,7.9268000000000005E-2,0.74542699999999995,656,"RAINBOW VALLEY ELEMENTARY SCHOOL","19716 W. NARRAMORE ROAD","BUCKEYE AZ 85326","() -","() -"]
["Ralph Waldo Emerson Elementary School - 070401106","Maricopa",4256,"070401000","Phoenix Elementary District",5199,"070401106","Ralph Waldo Emerson Elementary School",0.83064499999999997,8.2660999999999998E-2,0.91330599999999995,496,"RALPH WALDO EMERSON ELEMENTARY SCHOOL","915 E PALM LANE","PHOENIX AZ 85006","(602) 257-3853","(602) 257-3937"]
["Ranch Elementary School - 110244106","Pinal",4445,"110244000","J O Combs Unified School District",89860,"110244106","Ranch Elementary School",0.40266200000000002,8.9849999999999999E-2,0.49251200000000001,601]
["Rancho Gabriela - 070289119","Maricopa",4243,"070289000","Dysart Unified District",87621,"070289119","Rancho Gabriela",0.26342300000000002,7.2148000000000004E-2,0.33556999999999998,1192,"RANCHO GABRIELA","15272 WEST GABRIELA DRIVE","SURPRISE AZ 85379","() -","() -"]
["Rancho Santa Fe Elementary School - 070479105","Maricopa",4281,"070479000","Litchfield Elementary District",78925,"070479105","Rancho Santa Fe Elementary School",0.46074599999999999,9.5238000000000003E-2,0.55598499999999995,777,"RANCHO SANTA FE ELEMENTARY SCHOOL","272 E. SAGEBRUSH ST.","LITCHFIELD PARK AZ 85340","() -","( ) -"]
["Rancho Viejo Elementary School - 140413102","Yuma",4501,"140413000","Crane Elementary District",6169,"140413102","Rancho Viejo Elementary School",0.72246699999999997,8.8106000000000004E-2,0.81057299999999999,425]
["Rattlesnake Ridge Elementary - 100206122","Pima",4404,"100206000","Marana Unified District",89585,"100206122","Rattlesnake Ridge Elementary",0.18237100000000001,5.3191000000000002E-2,0.23556199999999999,658]
["Raul Grijalva Elementary School - 100201231","Pima",4403,"100201000","Tucson Unified District",5683,"100201231","Raul Grijalva Elementary School",0.87671200000000005,5.7534000000000002E-2,0.93424700000000005,730]
["Raul H. Castro Middle School - 070483129","Maricopa",4282,"070483000","Cartwright Elementary District",89955,"070483129","Raul H. Castro Middle School",0.88387099999999996,6.3440999999999997E-2,0.94731200000000004,930,"RAUL H. CASTRO MIDDLE SCHOOL","2730 N. 79TH AVENUE","PHOENIX AZ 85035","(623) 691-5300","(623) 691-5320"]
["Ray Borane Middle School - 020227108","Cochise",4174,"020227000","Douglas Unified District",4770,"020227108","Ray Borane Middle School",0.89712899999999995,5.0238999999999999E-2,0.94736799999999999,418,"RAY BORANE MIDDLE SCHOOL","840 12TH STREET","DOUGLAS AZ 85607","() -","() -"]
["Ray Elementary School - 110203101","Pinal",4438,"110203000","Ray Unified District",5898,"110203101","Ray Elementary School",0.45308300000000001,0.16622000000000001,0.61930300000000005,373]
["Ray High School - 110203202","Pinal",4438,"110203000","Ray Unified District",5900,"110203202","Ray High School",0.34594599999999998,0.124324,0.47027000000000002,185]
["Raymond S. Kellis - 070211265","Maricopa",4237,"070211000","Peoria Unified School District",85835,"070211265","Raymond S. Kellis",0.41796,9.9224000000000007E-2,0.51718399999999998,1804,"RAYMOND S. KELLIS","8990 W. ORANGEWOOD","GLENDALE AZ 85305","() -","() -"]
["RCB Medical Arts Academy - 078793201","Maricopa",79053,"078793000","AIBT Non-Profit Charter High School - Phoenix",79123,"078793201","RCB Medical Arts Academy",0.72208399999999995,1.9851000000000001E-2,0.74193500000000001,401,"RCB MEDICAL ARTS ACADEMY","6049 N. 43RD AVE","PHOENIX AZ 85019 1600","() -","() -"]
["Red Mesa Elementary School - 010227101","Apache",4159,"010227000","Red Mesa Unified District",4738,"010227101","Red Mesa Elementary School",0.82835800000000004,9.5148999999999997E-2,0.92350699999999997,536,"RED MESA ELEMENTARY SCHOOL","HIGHWAY 160 MILE MARKER 448","TEEC NOS POS AZ 86514","() -","() -"]
["Red Mountain High School - 070204275","Maricopa",4235,"070204000","Mesa Unified District",4984,"070204275","Red Mountain High School",0.238423,5.8511000000000001E-2,0.29693399999999998,3193,"RED MOUNTAIN HIGH SCHOOL","7301 EAST BROWN ROAD","MESA AZ 85207","() -","() -"]
["Red Mountain Ranch Elementary - 070204148","Maricopa",4235,"070204000","Mesa Unified District",4960,"070204148","Red Mountain Ranch Elementary",0.21792600000000001,6.5026E-2,0.28295300000000001,565,"RED MOUNTAIN RANCH ELEMENTARY","6650 E RAFTRIVER ROAD","MESA AZ 85215","() -","() -"]
["Red Rock Elementary School - 110405101","Pinal",4447,"110405000","Red Rock Elementary District",5938,"110405101","Red Rock Elementary School",0.39935100000000001,0.16233800000000001,0.56168799999999997,308]
["Red Valley/Cove High School - 010227205","Apache",4159,"010227000","Red Mesa Unified District",88386,"010227205","Red Valley/Cove High School",0.71831,0.140845,0.859155,71,"RED VALLEY/COVE HIGH SCHOOL","HC 61 BOX 40","TEEC NOS POS AZ 86514","(928) 653-4200","(928) 653-4204"]
["Redbird Elementary School - 070204123","Maricopa",4235,"070204000","Mesa Unified District",4935,"070204123","Redbird Elementary School",0.86707900000000004,6.1823999999999997E-2,0.92890300000000003,644,"REDBIRD ELEMENTARY SCHOOL","1020 S EXTENSION","MESA AZ 85210","() -","() -"]
["Redfield Elementary School - 070248125","Maricopa",4240,"070248000","Scottsdale Unified District",5057,"070248125","Redfield Elementary School",0.164912,2.1052999999999999E-2,0.18596499999999999,569,"REDFIELD ELEMENTARY SCHOOL","9181 E. REDFIELD RD.","SCOTTSDALE AZ 85260 7557","() -","() -"]
["Reyes Maria Ruiz Leadership Academy - 078711004","Maricopa",4335,"078711000","Espiritu Community Development Corp.",85886,"078711004","Reyes Maria Ruiz Leadership Academy",0.83510600000000001,5.3191000000000002E-2,0.88829800000000003,174,"REYES MARIA RUIZ LEADERSHIP ACADEMY","4848 S. 2ND ST.","PHOENIX AZ 85040","(602) 243-7788","(602) 243-7799"]
["Rhodes Junior High School - 070204257","Maricopa",4235,"070204000","Mesa Unified District",4974,"070204257","Rhodes Junior High School",0.62265899999999996,7.8652E-2,0.70131100000000002,1064,"RHODES JUNIOR HIGH SCHOOL","1860 S LONGMORE STREET","MESA AZ 85202 5716","() -","() -"]
["Rice Elementary School - 040220104","Gila",4210,"040220000","San Carlos Unified District",5989,"040220104","Rice Elementary School",0.84354499999999999,4.7045999999999998E-2,0.89059100000000002,910,"RICE ELEMENTARY SCHOOL","P.O. BOX 207","SAN CARLOS AZ 85550","() -","() -"]
["Richard B Wilson Jr School - 100210168","Pima",4406,"100210000","Amphitheater Unified District",5807,"100210168","Richard B Wilson Jr School",0.135495,1.7455999999999999E-2,0.152951,1203]
["Richard E Miller School - 070406150","Maricopa",4260,"070406000","Washington Elementary School District",5264,"070406150","Richard E Miller School",0.860294,5.5882000000000001E-2,0.91617599999999999,680,"RICHARD E MILLER SCHOOL","2021 WEST ALICE","PHOENIX AZ 85021 4299","() -","() -"]
["Riggs Elementary - 070280139","Maricopa",4242,"070280000","Chandler Unified District #80",89589,"070280139","Riggs Elementary",0.101879,2.2749999999999999E-2,0.124629,1011,"RIGGS ELEMENTARY","6930 S. SEVILLE","GILBERT AZ 85298","(480) 224-3400","(480) 224-3420"]
["Rillito Center - 100210125","Pima",4406,"100210000","Amphitheater Unified District",5803,"100210125","Rillito Center",0.54545500000000002,3.4091000000000003E-2,0.57954499999999998,88]
["Rim Country Middle School - 040210102","Gila",4209,"040210000","Payson Unified District",4856,"040210102","Rim Country Middle School",0.64056900000000006,3.5587000000000001E-2,0.67615700000000001,556,"RIM COUNTRY MIDDLE SCHOOL","PO BOX 919","PAYSON AZ 85547","() -","() -"]
["Rincon High School - 100201640","Pima",4403,"100201000","Tucson Unified District",5760,"100201640","Rincon High School",0.40061600000000003,4.8279000000000002E-2,0.44889600000000002,1947]
["Rincon Vista Middle School - 100220114","Pima",4413,"100220000","Vail Unified District",90156,"100220114","Rincon Vista Middle School",0.232406,0.11293,0.34533599999999998,611]
["Rio Colorado Elementary School - 140432102","Yuma",4505,"140432000","Gadsden Elementary District",6184,"140432102","Rio Colorado Elementary School",0.95161300000000004,3.4562000000000002E-2,0.98617500000000002,878]
["Rio Rico High School - 120235200","Santa Cruz",4458,"120235000","Santa Cruz Valley Unified District",5966,"120235200","Rio Rico High School",0.65131600000000001,0.105263,0.756579,1064]
["Rio Vista Elementary - 070492021","Maricopa",4283,"070492000","Pendergast Elementary District",79800,"070492021","Rio Vista Elementary",0.53985499999999997,0.13285,0.672705,823,"RIO VISTA ELEMENTARY","10237 W ENCANTO BLVD","AVONDALE AZ 85323","() -","( ) -"]
["Rio Vista Elementary School - 100210117","Pima",4406,"100210000","Amphitheater Unified District",5801,"100210117","Rio Vista Elementary School",0.82248500000000002,3.5503E-2,0.85798799999999997,507]
["River Valley High School - 080502002","Mohave",4381,"080502000","Colorado River Union High School District",5593,"080502002","River Valley High School",0.47625699999999999,8.7988999999999998E-2,0.56424600000000003,716,"RIVER VALLEY HIGH SCHOOL","2250 E. LAGUNA","MOHAVE VALLEY AZ 86440","() -","() -"]
["Rivera Elementary - 100212124","Pima",4407,"100212000","Sunnyside Unified District",89584,"100212124","Rivera Elementary",0.89264699999999997,4.2646999999999997E-2,0.93529399999999996,680]
["Riverbend Prep - 078548101","Maricopa",90036,"078548000","West Valley Arts and Technology Academy Inc.",90037,"078548101","Riverbend Prep",0.60215099999999999,0.20071700000000001,0.802867,279,"RIVERBEND PREP","5625 S. 51ST AVE","LAVEEN AZ 85339","(602) 285-3003","(602) 285-5560"]
["Riverside Traditional School - 070402101","Maricopa",4257,"070402000","Riverside Elementary District",5210,"070402101","Riverside Traditional School",0.86007500000000003,6.5298999999999996E-2,0.925373,530,"RIVERSIDE TRADITIONAL SCHOOL","1414 S 51ST AVE","PHOENIX AZ 85043","(602) 272-1339","(602) 272-6139"]
["Riverview High School - 070204184","Maricopa",4235,"070204000","Mesa Unified District",4966,"070204184","Riverview High School",0.81081099999999995,7.2071999999999997E-2,0.88288299999999997,110,"RIVERVIEW HIGH SCHOOL","1731 N. COUNTRY CLUB DRIVE","MESA AZ 85201","(480) 472-5351","( ) -"]
["Riverview School - 070289127","Maricopa",4243,"070289000","Dysart Unified District",89821,"070289127","Riverview School",0.72437099999999999,0.119923,0.84429399999999999,1034,"RIVERVIEW SCHOOL","12701 NORTH MAIN","EL MIRAGE AZ 85335","() -","( ) -"]
["Roadrunner Elementary School - 100206115","Pima",4404,"100206000","Marana Unified District",5773,"100206115","Roadrunner Elementary School",0.68115899999999996,0.10559,0.78674900000000003,483]
["Roadrunner Elementary School - 070406152","Maricopa",4260,"070406000","Washington Elementary School District",5265,"070406152","Roadrunner Elementary School",0.73487800000000003,0.11969100000000001,0.85456900000000002,767,"ROADRUNNER ELEMENTARY SCHOOL","7702 N. 39TH AVENUE","PHOENIX AZ 85051 6499","() -","() -"]
["Roadrunner Home - 102706004","Pima",80105,"102706000","Old Pueblo Childrens Services Inc.",80109,"102706004","Roadrunner Home",1,0,1,10]
["Roadrunner School - 070269055","Maricopa",4241,"070269000","Paradise Valley Unified District",5071,"070269055","Roadrunner School",0.42331299999999999,3.3742000000000001E-2,0.45705499999999999,282,"ROADRUNNER SCHOOL","3540 E. CHOLLA","PHOENIX AZ 85028","() -","( ) -"]
["Roanoke House - 072785001","Maricopa",90039,"072785000","Back To Life Inc.",90040,"072785001","Roanoke House",1,0,1,8]
["Robert and Danell Tarwater Elementary - 070280127","Maricopa",4242,"070280000","Chandler Unified District #80",6014,"070280127","Robert and Danell Tarwater Elementary",0.119867,4.5504999999999997E-2,0.16537199999999999,901,"ROBERT AND DANELL TARWATER ELEMENTARY","2300 SOUTH GARDNER DRIVE","CHANDLER AZ 85286","() -","( ) -"]
["Robert Bracker Elementary - 120201103","Santa Cruz",4457,"120201000","Nogales Unified District",6071,"120201103","Robert Bracker Elementary",0.62790699999999999,0.13289000000000001,0.76079699999999995,301]
["Robert Richardson Elementary School - 100208160","Pima",4405,"100208000","Flowing Wells Unified District",5789,"100208160","Robert Richardson Elementary School",0.47276699999999999,7.1895000000000001E-2,0.54466199999999998,459]
["Robins Elementary School - 100201351","Pima",4403,"100201000","Tucson Unified District",5712,"100201351","Robins Elementary School",0.369141,4.2969E-2,0.412109,512]
["Robison Elementary School - 100201353","Pima",4403,"100201000","Tucson Unified District",5713,"100201353","Robison Elementary School",0.84916199999999997,1.6760000000000001E-2,0.86592199999999997,358]
["Robles Elementary School - 100351100","Pima",4418,"100351000","Altar Valley Elementary District",84336,"100351100","Robles Elementary School",0.82045500000000005,7.9545000000000005E-2,0.9,440]
["Robson Elementary School - 070204134","Maricopa",4235,"070204000","Mesa Unified District",4946,"070204134","Robson Elementary School",0.74892999999999998,7.5606000000000007E-2,0.82453600000000005,696,"ROBSON ELEMENTARY SCHOOL","2122 EAST PUEBLO AVE","MESA AZ 85204","() -","() -"]
["Rock Point Community School - 013904001","Apache",80150,"013904000","Rock Point Community School",80151,"013904001","Rock Point Community School",0.68556700000000004,4.6392000000000003E-2,0.73195900000000003,383]
["Rocky Ridge Boarding School - 033904006","Coconino",9692,"094002000","Rocky Ridge Boarding School",80414,"033904006","Rocky Ridge Boarding School",0.81739099999999998,4.3478000000000003E-2,0.86087000000000002,115]
["Rogers Ranch School - 070459107","Maricopa",4276,"070459000","Laveen Elementary District",91310,"070459107","Rogers Ranch School",0.702538,9.9491999999999997E-2,0.80203000000000002,978,"ROGERS RANCH SCHOOL","6735 S. 47TH AVENUE","LAVEEN AZ 85339","(602) 304-2030","(602) 304-2035"]
["Ron Watson Middle School - 140401125","Yuma",4499,"140401000","Yuma Elementary District",85840,"140401125","Ron Watson Middle School",0.48661799999999999,8.0292000000000002E-2,0.56691000000000003,411]
["Ronald Reagan Fundamental School - 140413104","Yuma",4501,"140413000","Crane Elementary District",6173,"140413104","Ronald Reagan Fundamental School",0.556338,9.5774999999999999E-2,0.65211300000000005,710]
["Roosevelt Elementary School - 070204121","Maricopa",4235,"070204000","Mesa Unified District",4933,"070204121","Roosevelt Elementary School",0.82226999999999995,8.5653000000000007E-2,0.90792300000000004,463,"ROOSEVELT ELEMENTARY SCHOOL","828 S VALENCIA","MESA AZ 85202","() -","() -"]
["Roosevelt School - 140401109","Yuma",4499,"140401000","Yuma Elementary District",6155,"140401109","Roosevelt School",0.78443099999999999,0.101796,0.88622800000000002,364]
["Rose Linda School - 070466009","Maricopa",4279,"070466000","Roosevelt Elementary District",5370,"070466009","Rose Linda School",0.94579400000000002,3.1775999999999999E-2,0.97757000000000005,529,"ROSE LINDA SCHOOL","4610 S 12TH ST","PHOENIX AZ 85040","() -","() -"]
["Roskruge Bilingual Magnet Middle School - 100201595","Pima",4403,"100201000","Tucson Unified District",5755,"100201595","Roskruge Bilingual Magnet Middle School",0.69299599999999995,8.6438000000000001E-2,0.77943399999999996,671]
["Rough Rock High School - 014001201","Apache",8477,"014001000","Rough Rock School Board Inc.",78994,"014001201","Rough Rock High School",0.86024100000000003,5.7831E-2,0.918072,390]
["Round Rock Elementary School - 010227102","Apache",4159,"010227000","Red Mesa Unified District",4739,"010227102","Round Rock Elementary School",0.881579,7.2368000000000002E-2,0.95394699999999999,152,"ROUND ROCK ELEMENTARY SCHOOL","PO BOX CC","ROUND ROCK, ARIZONA AZ 86547","() -","() -"]
["Round Valley Elementary School - 010210102","Apache",4155,"010210000","Round Valley Unified District",4719,"010210102","Round Valley Elementary School",0.466312,0.13652500000000001,0.60283699999999996,564,"ROUND VALLEY ELEMENTARY SCHOOL","P.O. BOX 610","SPRINGERVILLE AZ 85938","() -","() -"]
["Round Valley High School - 010210210","Apache",4155,"010210000","Round Valley Unified District",4721,"010210210","Round Valley High School",0.34825899999999999,8.2089999999999996E-2,0.43034800000000001,402,"ROUND VALLEY HIGH SCHOOL","PO BOX 610","SPRINGERVILLE AZ 85938","() -","() -"]
["Round Valley Middle School - 010210103","Apache",4155,"010210000","Round Valley Unified District",4720,"010210103","Round Valley Middle School",0.43814399999999998,0.13917499999999999,0.57732000000000006,388,"ROUND VALLEY MIDDLE SCHOOL","BOX 610","SPRINGERVILLE AZ 85938","() -","() -"]
["Rover Elementary School - 070403129","Maricopa",4258,"070403000","Tempe School District",5227,"070403129","Rover Elementary School",0.34420299999999998,7.9710000000000003E-2,0.42391299999999998,552,"ROVER ELEMENTARY SCHOOL","1300 E. WATSON DRIVE","TEMPE AZ 85283","(480) 897-7122","(480) 820-8503"]
["Royal Palm Middle School - 070406154","Maricopa",4260,"070406000","Washington Elementary School District",5266,"070406154","Royal Palm Middle School",0.79203500000000004,6.7847000000000005E-2,0.85988200000000004,678,"ROYAL PALM MIDDLE SCHOOL","8520 N 19TH AVE","PHOENIX AZ 85021","(602) 347-3200","(602) 347-3220"]
["Rudy G Bologna Elementary - 070280124","Maricopa",4242,"070280000","Chandler Unified District #80",6013,"070280124","Rudy G Bologna Elementary",0.62804899999999997,6.9512000000000004E-2,0.69756099999999999,820,"RUDY G BOLOGNA ELEMENTARY","1625 EAST FRYE ROAD","CHANDLER AZ 85225","() -","( ) -"]
["Ruth Fisher Elementary School - 070290101","Maricopa",4254,"070290000","Saddle Mountain Unified School District",5192,"070290101","Ruth Fisher Elementary School",0.78133300000000006,5.3332999999999998E-2,0.83466700000000005,748,"RUTH FISHER ELEMENTARY SCHOOL","38201 W. INDIAN SCHOOL RD","TONOPAH AZ 85354","(623) 474-5500","(623) 474-5540"]
["Ruth Powell Elementary School - 050201103","Graham",4218,"050201000","Safford Unified District",79780,"050201103","Ruth Powell Elementary School",0.50634900000000005,9.8413E-2,0.60476200000000002,630,"RUTH POWELL ELEMENTARY SCHOOL","1041 S. 14TH AVENUE","SAFFORD AZ 85546","(928) 348-7030","(928) 348-7031"]
["S H A R P - 070204183","Maricopa",4235,"070204000","Mesa Unified District",4965,"070204183","S H A R P",0.63366299999999998,5.9406E-2,0.69306900000000005,100,"S H A R P","950 NORTH SUN VALLEY BLVD.","MESA AZ 85207 3801","() -","() -"]
["S.T.A.R. Academic Center - 100212513","Pima",4407,"100212000","Sunnyside Unified District",6288,"100212513","S.T.A.R. Academic Center",0.70547899999999997,5.8219E-2,0.76369900000000002,292]
["Sabino High School - 100201645","Pima",4403,"100201000","Tucson Unified District",5761,"100201645","Sabino High School",0.125115,1.9318999999999999E-2,0.14443400000000001,1087]
["SABIS International - 078716001","Maricopa",4340,"078716000","Phoenix Education Management LLC",5515,"078716001","SABIS International",0.79568300000000003,8.7770000000000001E-2,0.88345300000000004,695,"SABIS INTERNATIONAL","1903 E. ROESER RD","PHOENIX AZ 85040","(602) 305-8865","(602) 323-5526"]
["Sacaton Elementary - 110418001","Pinal",4449,"110418000","Sacaton Elementary District",5943,"110418001","Sacaton Elementary",0.79677399999999998,4.5161E-2,0.84193499999999999,310]
["Sacaton Middle School - 110418002","Pinal",4449,"110418000","Sacaton Elementary District",5944,"110418002","Sacaton Middle School",0.80645199999999995,3.7634000000000001E-2,0.844086,186]
["Sacred Heart Parish School - 139101017","Yavapai",4466,"130201000","Prescott Unified District",80184,"139101017","Sacred Heart Parish School",0.29530200000000001,0.100671,0.39597300000000002,149]
["Sacred Heart School - 122002001","Santa Cruz",80467,"122002000","Sacred Heart School",80468,"122002001","Sacred Heart School",0.87301600000000001,8.4655999999999995E-2,0.95767199999999997,189]
["Saddleback Elementary School - 110220109","Pinal",4441,"110220000","Maricopa Unified School District",89909,"110220109","Saddleback Elementary School",0.48305100000000001,0.105085,0.58813599999999999,590]
["Safford Engineering/Technology Magnet Middle School - 100201535","Pima",4403,"100201000","Tucson Unified District",5746,"100201535","Safford Engineering/Technology Magnet Middle School",0.80532999999999999,6.6048999999999997E-2,0.87137900000000001,863]
["Safford High School - 050201200","Graham",4218,"050201000","Safford Unified District",4884,"050201200","Safford High School",0.37082799999999999,6.7985000000000004E-2,0.43881300000000001,803,"SAFFORD HIGH SCHOOL","1400 W. 11TH STREET","SAFFORD AZ 85546","(928) 348-7050","(928) 348-7057"]
["Safford Middle School - 050201102","Graham",4218,"050201000","Safford Unified District",4883,"050201102","Safford Middle School",0.49390200000000001,9.7560999999999995E-2,0.59146299999999996,490,"SAFFORD MIDDLE SCHOOL","698 W. 11TH STREET","SAFFORD AZ 85546","(928) 348-7040","(928) 348-7041"]
["Sage Academy - 078688101","Maricopa",89414,"078688000","Sage Academy Inc.",89415,"078688101","Sage Academy",0.48,0.112,0.59199999999999997,125,"SAGE ACADEMY","1055 E HEARN RD","SCOTTSDALE AZ 85022","(602) 485-3402","(602) 485-7874"]
["Saguaro Elementary School - 110404105","Pinal",4446,"110404000","Casa Grande Elementary District",5933,"110404105","Saguaro Elementary School",0.80530999999999997,7.0795999999999998E-2,0.87610600000000005,564]
["Saguaro High School - 070248294","Maricopa",4240,"070248000","Scottsdale Unified District",5068,"070248294","Saguaro High School",0.20975199999999999,5.0310000000000001E-2,0.26006200000000002,1289,"SAGUARO HIGH SCHOOL","6250 N. 82ND STREET","SCOTTSDALE AZ 85250","() -","() -"]
["Sahuarita High School - 100230204","Pima",4411,"100230000","Sahuarita Unified District",5843,"100230204","Sahuarita High School",0.31370599999999998,8.5278999999999994E-2,0.39898499999999998,985]
["Sahuarita Primary School - 100230101","Pima",4411,"100230000","Sahuarita Unified District",5840,"100230101","Sahuarita Primary School",0.32953900000000003,7.6965000000000006E-2,0.40650399999999998,1845]
["Sahuaro High School - 100201650","Pima",4403,"100201000","Tucson Unified District",5762,"100201650","Sahuaro High School",0.331206,5.9165000000000002E-2,0.39037100000000002,1724]
["Sahuaro Ranch Elementary School - 070211114","Maricopa",4237,"070211000","Peoria Unified School District",5002,"070211114","Sahuaro Ranch Elementary School",0.60441400000000001,8.1493999999999997E-2,0.68590799999999996,589,"SAHUARO RANCH ELEMENTARY SCHOOL","10401 N 63RD AVE.","GLENDALE AZ 85302","(623) 412-4775","(623) 412-4786"]
["Sahuaro School - 070406156","Maricopa",4260,"070406000","Washington Elementary School District",5267,"070406156","Sahuaro School",0.74225099999999999,7.1777999999999995E-2,0.814029,613,"SAHUARO SCHOOL","12835 N 33RD AVE","PHOENIX AZ 85029","() -","() -"]
["Salida Del Sol Elementary - 140413109","Yuma",4501,"140413000","Crane Elementary District",85834,"140413109","Salida Del Sol Elementary",0.63165899999999997,0.111111,0.74277000000000004,680]
["Salk Elementary School - 070204124","Maricopa",4235,"070204000","Mesa Unified District",4936,"070204124","Salk Elementary School",0.71615700000000004,0.10917,0.82532799999999995,687,"SALK ELEMENTARY SCHOOL","7029 E BROWN ROAD","MESA AZ 85207 3707","() -","() -"]
["Salome Elementary School - 150430101","La Paz",4514,"150430000","Salome Consolidated Elementary District",6202,"150430101","Salome Elementary School",0.77049199999999995,8.1966999999999998E-2,0.85245899999999997,113]
["Salome High School - 150576201","La Paz",4515,"150576000","Bicentennial Union High School District",6203,"150576201","Salome High School",0.61290299999999998,0.137097,0.75,124]
["Salpointe Catholic High School - 102006001","Pima",80152,"102006000","Salpointe Catholic High School",80153,"102006001","Salpointe Catholic High School",6.3477000000000006E-2,5.8878E-2,0.12235500000000001,1087]
["Salt River Accelerated Learning Academy - 078656002","Maricopa",4320,"078656000","Salt River Pima-Maricopa  Community Schools",90159,"078656002","Salt River Accelerated Learning Academy",0.31578899999999999,5.2631999999999998E-2,0.368421,38,"SALT RIVER ACCELERATED LEARNING ACADEMY","10005 EAST OSBORN ROAD","SCOTTSDALE AZ 85256","(480) 362-2130","(480) 362-2131"]
["Salt River Elementary School - 104001010","Pima",4320,"078656000","Salt River Pima-Maricopa  Community Schools",81170,"104001010","Salt River Elementary School",0.58313800000000005,3.9813000000000001E-2,0.62295100000000003,427]
["Salt River High School - 078656001","Maricopa",4320,"078656000","Salt River Pima-Maricopa  Community Schools",5489,"078656001","Salt River High School",0.55601699999999998,3.3195000000000002E-2,0.58921199999999996,241,"SALT RIVER HIGH SCHOOL","10,005 E. OSBORN RD.","SCOTTSDALE AZ 85256","(480) 362-2000","(480) 362-2090"]
["Sam Hughes Elementary - 100201257","Pima",4403,"100201000","Tucson Unified District",5689,"100201257","Sam Hughes Elementary",0.26478099999999999,3.3418999999999997E-2,0.29820099999999999,389]
["San Carlos High School - 040220202","Gila",4210,"040220000","San Carlos Unified District",4864,"040220202","San Carlos High School",0.72924900000000004,6.1265E-2,0.79051400000000005,506,"SAN CARLOS HIGH SCHOOL","P.O. BOX 207","SAN CARLOS AZ 85550","(928) 475-2315","(928) 475-5626"]
["San Cayetano Elementary School - 120235110","Santa Cruz",4458,"120235000","Santa Cruz Valley Unified District",5963,"120235110","San Cayetano Elementary School",0.64285700000000001,9.8639000000000004E-2,0.74149699999999996,588]
["San Luis High School - 140570205","Yuma",4507,"140570000","Yuma Union High School District",80409,"140570205","San Luis High School",0.66571899999999995,6.4297999999999994E-2,0.73001799999999994,2401]
["San Luis Middle School - 140432103","Yuma",4505,"140432000","Gadsden Elementary District",6185,"140432103","San Luis Middle School",0.94880500000000001,4.6074999999999998E-2,0.99488100000000002,667]
["San Manuel High School - 110208281","Pinal",4439,"110208000","Mammoth-San Manuel Unified District",5904,"110208281","San Manuel High School",0.62391300000000005,0.108696,0.73260899999999995,460]
["San Marcos Elementary School - 070280105","Maricopa",4242,"070280000","Chandler Unified District #80",5111,"070280105","San Marcos Elementary School",0.89649699999999999,4.1401E-2,0.93789800000000001,628,"SAN MARCOS ELEMENTARY SCHOOL","451 WEST FRYE ROAD","CHANDLER AZ 85225","() -","() -"]
["San Miguel Catholic High School - 101908001","Pima",85926,"101908000","San Miguel of Tucson Corp.",85927,"101908001","San Miguel Catholic High School",0.51,0.15,0.66,300]
["San Pedro Valley High School - 020209701","Cochise",79226,"020209000","Benson Unified School District",85879,"020209701","San Pedro Valley High School",0.605263,5.2631999999999998E-2,0.65789500000000001,38,"SAN PEDRO VALLEY HIGH SCHOOL","260 S. PATAGONIA ST.","BENSON AZ 85602","(520) 720-6726","(520) 586-6189"]
["San Simon School - 104001001","Pima",80126,"104001000","Arizona South Education - Phoenix",80127,"104001001","San Simon School",0.84647300000000003,2.9045999999999999E-2,0.87551900000000005,241]
["San Simon School - 020218001","Cochise",4172,"020218000","San Simon Unified District",4760,"020218001","San Simon School",0.52066100000000004,9.9173999999999998E-2,0.61983500000000002,121,"SAN SIMON SCHOOL","P.O. BOX 38","SAN SIMON AZ 85632 0038","() -","() -"]
["San Tan Elementary - 070260103","Maricopa",4248,"070260000","Higley Unified School District",79375,"070260103","San Tan Elementary",0.19514599999999999,4.6601999999999998E-2,0.24174799999999999,1030,"SAN TAN ELEMENTARY","3443 E. CALISTOGA","GILBERT AZ 85297","() -","() -"]
["San Tan Foothills High School - 110221011","Pinal",4442,"110221000","Coolidge Unified District",89907,"110221011","San Tan Foothills High School",0.51204799999999995,0.10642600000000001,0.61847399999999997,498]
["San Tan Heights Elementary - 110221008","Pinal",4442,"110221000","Coolidge Unified District",80440,"110221008","San Tan Heights Elementary",0.64353700000000003,0.10204100000000001,0.74557799999999996,735]
["San Xavier Mission School - 102007001","Pima",80154,"102007000","San Xavier Mission School",80155,"102007001","San Xavier Mission School",0.66406299999999996,0.125,0.78906299999999996,128]
["Sanborn Elementary School - 070280113","Maricopa",4242,"070280000","Chandler Unified District #80",5118,"070280113","Sanborn Elementary School",0.42360199999999998,5.9626999999999999E-2,0.48322999999999999,805,"SANBORN ELEMENTARY SCHOOL","700 N SUPERSTITION BLVD","CHANDLER AZ 85225","() -","() -"]
["Sanders Elementary School - 010218001","Apache",4156,"010218000","Sanders Unified District",4722,"010218001","Sanders Elementary School",0.86538499999999996,4.3956000000000002E-2,0.90934099999999995,364,"SANDERS ELEMENTARY SCHOOL","P.O. BOX 250","SANDERS AZ 86512","() -","() -"]
["Sanders Middle School - 010218002","Apache",4156,"010218000","Sanders Unified District",4723,"010218002","Sanders Middle School",0.85520399999999996,4.0724000000000003E-2,0.89592799999999995,221,"SANDERS MIDDLE SCHOOL","PO BOX 250","SANDERS AZ 86512","() -","() -"]
["Sandpiper Elementary School - 070269156","Maricopa",4241,"070269000","Paradise Valley Unified District",5095,"070269156","Sandpiper Elementary School",0.16919699999999999,1.9522999999999999E-2,0.18872,427,"SANDPIPER ELEMENTARY SCHOOL","6724 E HEARN ROAD","SCOTTSDALE AZ 85254","(602) 449-6300","( ) -"]
["Sandra Day O'Connor High School - 070297241","Maricopa",4246,"070297000","Deer Valley Unified District",80317,"070297241","Sandra Day O'Connor High School",0.114657,3.5854999999999998E-2,0.15051200000000001,2535,"SANDRA DAY O'CONNOR HIGH SCHOOL","25250 N. 35TH AVENUE","GLENDALE AZ 85310","() -","() -"]
["Santa Clara Elementary School - 100212126","Pima",4407,"100212000","Sunnyside Unified District",5822,"100212126","Santa Clara Elementary School",0.84114999999999995,8.0182000000000003E-2,0.92133100000000001,661]
["Santa Cruz Elementary - 110220106","Pinal",4441,"110220000","Maricopa Unified School District",88405,"110220106","Santa Cruz Elementary",0.49684200000000001,9.4737000000000002E-2,0.59157899999999997,475]
["Santa Cruz Valley Union High School - 110540001","Pinal",4454,"110540000","Santa Cruz Valley Union High School District",5951,"110540001","Santa Cruz Valley Union High School",0.75714300000000001,7.4286000000000005E-2,0.83142899999999997,350]
["Santa Fe Elementary School - 070211121","Maricopa",4237,"070211000","Peoria Unified School District",5009,"070211121","Santa Fe Elementary School",0.57407399999999997,0.10052899999999999,0.67460299999999995,756,"SANTA FE ELEMENTARY SCHOOL","9880 N 77TH AVE","PEORIA AZ 85345","() -","() -"]
["Santa Maria Middle School - 070445103","Maricopa",4273,"070445000","Fowler Elementary District",5353,"070445103","Santa Maria Middle School",0.77272700000000005,7.7134999999999995E-2,0.84986200000000001,726,"SANTA MARIA MIDDLE SCHOOL","7250 W. LOWER BUCKEYE ROAD","PHOENIX AZ 85043","(623) 707-1000","(623) 707-1110"]
["Santa Rita High School - 100201655","Pima",4403,"100201000","Tucson Unified District",5763,"100201655","Santa Rita High School",0.49457699999999999,5.6398999999999998E-2,0.55097600000000002,922]
["Santa Rosa Boarding/Day School - 104001002","Pima",80126,"104001000","Arizona South Education - Phoenix",80454,"104001002","Santa Rosa Boarding/Day School",0.83870999999999996,5.3762999999999998E-2,0.89247299999999996,186]
["Santa Rosa Elementary School - 110220104","Pinal",4441,"110220000","Maricopa Unified School District",81058,"110220104","Santa Rosa Elementary School",0.38900200000000001,7.5356000000000006E-2,0.46435799999999999,491]
["Santan Elementary - 070280137","Maricopa",4242,"070280000","Chandler Unified District #80",87679,"070280137","Santan Elementary",6.1185000000000003E-2,1.2428E-2,7.3613999999999999E-2,1046,"SANTAN ELEMENTARY","1550 E. CHANDLER HEIGHTS ROAD","CHANDLER AZ 85249","(480) 883-4700","(480) 883-4720"]
["Santan Junior High School - 070280121","Maricopa",4242,"070280000","Chandler Unified District #80",79634,"070280121","Santan Junior High School",0.113636,3.0303E-2,0.14393900000000001,1320,"SANTAN JUNIOR HIGH SCHOOL","1550 E. CHANDLER HEIGHTS ROAD","CHANDLER AZ 85249","() -","() -"]
["Sarah Marley School - 020227106","Cochise",4174,"020227000","Douglas Unified District",4768,"020227106","Sarah Marley School",0.93050200000000005,6.1775999999999998E-2,0.99227799999999999,259,"SARAH MARLEY SCHOOL","735 7TH STREET","DOUGLAS AZ 85607","() -","() -"]
["Satori Charter School - 108719101","Pima",85454,"108719000","Satori Inc.",85455,"108719101","Satori Charter School",0.35882399999999998,8.2352999999999996E-2,0.44117600000000001,170]
["Sawmill Elementary School - 010208117","Apache",4154,"010208000","Window Rock Unified District",85883,"010208117","Sawmill Elementary School",0.93421100000000001,1.3158E-2,0.94736799999999999,47,"SAWMILL ELEMENTARY SCHOOL","P.O. BOX 559","FORT DEFIANCE AZ 86504","() -","() -"]
["Scales Technology Academy - 070403121","Maricopa",4258,"070403000","Tempe School District",5220,"070403121","Scales Technology Academy",0.75662300000000005,6.7880999999999997E-2,0.82450299999999999,596,"SCALES TECHNOLOGY ACADEMY","1115 W 5TH ST","TEMPE AZ 85281","() -","() -"]
["Schumaker Elementary School - 100201389","Pima",4403,"100201000","Tucson Unified District",5718,"100201389","Schumaker Elementary School",0.73391799999999996,8.1870999999999999E-2,0.81578899999999999,342]
["Scott L Libby Elementary School - 070479102","Maricopa",4281,"070479000","Litchfield Elementary District",5394,"070479102","Scott L Libby Elementary School",0.337094,7.1931999999999996E-2,0.40902699999999997,709,"SCOTT L LIBBY ELEMENTARY SCHOOL","272 E. SAGEBRUSH ST.","LITCHFIELD PARK AZ 85340","() -","( ) -"]
["Seba Dalkai School - 014012005","Apache",80158,"094013000","Seba Dalkai Boarding School",80159,"014012005","Seba Dalkai School",0.99212599999999995,0,0.99212599999999995,127]
["Second Mesa Day - 093906003","Navajo",88448,"099102000","Second Mesa Day School",80161,"093906003","Second Mesa Day",0.72092999999999996,0.112403,0.83333299999999999,257]
["Secrist Middle School - 100201537","Pima",4403,"100201000","Tucson Unified District",5747,"100201537","Secrist Middle School",0.48311700000000002,9.0909000000000004E-2,0.57402600000000004,385]
["Sedona Red Rock High School - 130209210","Yavapai",4467,"130209000","Sedona-Oak Creek JUSD #9",6085,"130209210","Sedona Red Rock High School",0.30971700000000002,4.6559000000000003E-2,0.35627500000000001,494]
["Seligman High School - 130240202","Yavapai",4472,"130240000","Seligman Unified District",6105,"130240202","Seligman High School",0.62251699999999999,5.9603000000000003E-2,0.68211900000000003,151]
["Senita Valley Elementary School - 100220113","Pima",4413,"100220000","Vail Unified District",89749,"100220113","Senita Valley Elementary School",0.17586599999999999,6.6752000000000006E-2,0.242619,779]
["Sentinel Elementary School - 070371101","Maricopa",4250,"070371000","Sentinel Elementary District",5188,"070371101","Sentinel Elementary School",0.77142900000000003,2.8570999999999999E-2,0.8,35,"SENTINEL ELEMENTARY SCHOOL","H.C 1 BOX 57","DATELAND AZ 85333","() -","() -"]
["Sentinel Peak High School - 100208020","Pima",4405,"100208000","Flowing Wells Unified District",6054,"100208020","Sentinel Peak High School",0.69902900000000001,9.7087000000000007E-2,0.79611699999999996,103]
["Sequoia Academics and Arts Charter School - 078916003","Maricopa",6446,"078915000","Edkey Inc. - Sequoia Charter School",90350,"078916003","Sequoia Academics and Arts Charter School",0.69117600000000001,5.8824000000000001E-2,0.75,68,"SEQUOIA ACADEMICS AND ARTS CHARTER SCHOOL","1460 SOUTH HORNE","MESA AZ 85204","(480) 461-3200","(480) 649-0747"]
["Sequoia Academics and Arts Elementary Charter School - 078916001","Maricopa",6446,"078915000","Edkey Inc. - Sequoia Charter School",78962,"078916001","Sequoia Academics and Arts Elementary Charter School",0.85863900000000004,7.3298000000000002E-2,0.93193700000000002,189,"SEQUOIA ACADEMICS AND ARTS ELEMENTARY CHARTER SCHOOL","1460 S. HORNE","MESA AZ 85204","(480) 446-9288","(480) 449-9565"]
["Sequoia Charter Elementary School - 078915005","Maricopa",6446,"078915000","Edkey Inc. - Sequoia Charter School",79697,"078915005","Sequoia Charter Elementary School",0.78234099999999995,7.3922000000000002E-2,0.856263,475,"SEQUOIA CHARTER ELEMENTARY SCHOOL","1460 S. HORNE","MESA AZ 85204","() -","() -"]
["Sequoia Pathway Academy - 138705005","Yavapai",6446,"078915000","Edkey Inc. - Sequoia Charter School",90377,"138705005","Sequoia Pathway Academy",0.31307299999999999,0.12729399999999999,0.44036700000000001,580]
["Sequoia Redwood Charter School - 078740101","Maricopa",81043,"078740000","Edkey Inc. - Redwood Academy",79263,"078740101","Sequoia Redwood Charter School",0.45769199999999999,8.0768999999999994E-2,0.538462,258,"SEQUOIA REDWOOD CHARTER SCHOOL","6810 W. THUNDERBIRD RD.","PEORIA AZ 85048","(623) 878-0986","(623) 776-7956"]
["Sequoia School for the Deaf and Hard of Hearing - 078744001","Maricopa",6446,"078915000","Edkey Inc. - Sequoia Charter School",79219,"078744001","Sequoia School for the Deaf and Hard of Hearing",0.47826099999999999,0.18840599999999999,0.66666700000000001,67,"SEQUOIA SCHOOL FOR THE DEAF AND HARD OF HEARING","1460 S. HORNE","MESA AZ 85204","() -","( ) -"]
["Sequoia Secondary School - 078915001","Maricopa",6446,"078915000","Edkey Inc. - Sequoia Charter School",10849,"078915001","Sequoia Secondary School",0.72921599999999998,9.9762000000000003E-2,0.82897900000000002,421,"SEQUOIA SECONDARY SCHOOL","1460 S. HORNE","MESA AZ 85204","() -","( ) -"]
["Sequoia Village School - 078917001","Maricopa",79211,"078917000","Edkey Inc. - Sequoia Village School",10848,"078917001","Sequoia Village School",0.57768900000000001,0.12748999999999999,0.705179,244,"SEQUOIA VILLAGE SCHOOL","982 FULL HOUSE LANE","SHOW LOW AZ 85901","(928) 537-1208","(928) 537-4275"]
["Sequoya Elementary School - 070248124","Maricopa",4240,"070248000","Scottsdale Unified District",5056,"070248124","Sequoya Elementary School",0.14902000000000001,3.5293999999999999E-2,0.18431400000000001,505,"SEQUOYA ELEMENTARY SCHOOL","11808 N. 64TH ST.","SCOTTSDALE AZ 85254","() -","() -"]
["Settlers Point Elementary - 070241158","Maricopa",4239,"070241000","Gilbert Unified District",78919,"070241158","Settlers Point Elementary",0.213315,5.4348E-2,0.26766299999999998,736,"SETTLERS POINT ELEMENTARY","423 E. SETTLERS POINT DRIVE","GILBERT AZ 85296","() -","( ) -"]
["Seven Mile School - 090220107","Navajo",4394,"090220000","Whiteriver Unified District",79698,"090220107","Seven Mile School",0.84143800000000002,7.8224000000000002E-2,0.91966199999999998,580,"SEVEN MILE SCHOOL","P.O. BOX190","WHITERIVER AZ 85941","() -","() -"]
["Sevilla Primary School - 070468112","Maricopa",4280,"070468000","Alhambra Elementary District",5390,"070468112","Sevilla Primary School",0.91117199999999998,4.3040000000000002E-2,0.95421199999999995,1092,"SEVILLA PRIMARY SCHOOL","3801 W. MISSOURI","PHOENIX AZ 85019","(602) 242-0281","(602) 242-2791"]
["Sevilla West School - 070468115","Maricopa",4280,"070468000","Alhambra Elementary District",79203,"070468115","Sevilla West School",0.89464999999999995,4.4443999999999997E-2,0.93909500000000001,1215,"SEVILLA WEST SCHOOL","3851 W. MISSOURI AVE.","PHOENIX AZ 85019","(602) 347-0232","(602) 347-9906"]
["Shadow Mountain High School - 070269295","Maricopa",4241,"070269000","Paradise Valley Unified District",5108,"070269295","Shadow Mountain High School",0.28895500000000002,5.4925000000000002E-2,0.34388099999999999,1514,"SHADOW MOUNTAIN HIGH SCHOOL","2902 EAST SHEA BOULEVARD","PHOENIX AZ 85028","(602) 449-3000","( ) -"]
["Shadow Ridge High School - 070289225","Maricopa",4243,"070289000","Dysart Unified District",90134,"070289225","Shadow Ridge High School",0.22506000000000001,8.3798999999999998E-2,0.30885899999999999,1253,"SHADOW RIDGE HIGH SCHOOL","10909 N. PERRYVILLE ROAD","SURPRISE AZ 85388","(623) 523-5100","( ) -"]
["Shaw Butte School - 070406160","Maricopa",4260,"070406000","Washington Elementary School District",5268,"070406160","Shaw Butte School",0.76082700000000003,6.7913000000000001E-2,0.82874000000000003,1052,"SHAW BUTTE SCHOOL","12202 N. 21ST AVE.","PHOENIX AZ 85029","() -","() -"]
["Shea Middle School - 070269180","Maricopa",4241,"070269000","Paradise Valley Unified District",5104,"070269180","Shea Middle School",0.41097899999999998,6.9733000000000003E-2,0.48071199999999997,646,"SHEA MIDDLE SCHOOL","2728 E. SHEA BLVD.","PHOENIX AZ 85028","(602) 449-3500","( ) -"]
["Sheely Farms Elementary School - 070417103","Maricopa",4264,"070417000","Tolleson Elementary District",79402,"070417103","Sheely Farms Elementary School",0.70581400000000005,9.1859999999999997E-2,0.79767399999999999,860,"SHEELY FARMS ELEMENTARY SCHOOL","9450 W. ENCANTO","PHOENIX AZ 85037","() -","( ) -"]
["Shepherd Junior High School - 070204260","Maricopa",4235,"070204000","Mesa Unified District",4977,"070204260","Shepherd Junior High School",0.33921800000000002,7.9445000000000002E-2,0.41866300000000001,789,"SHEPHERD JUNIOR HIGH SCHOOL","1407 NORTH ALTA MESA DR","MESA AZ 85205","(480) 472-1800","(480) 472-1888"]
["Shonto Preparatory School - 093917001","Navajo",90790,"093917000","Shonto Governing Board of Education Inc.",90791,"093917001","Shonto Preparatory School",0.75136599999999998,5.4644999999999999E-2,0.80601100000000003,352]
["Shonto Preparatory Technology High School - 098746001","Navajo",90790,"093917000","Shonto Governing Board of Education Inc.",5653,"098746001","Shonto Preparatory Technology High School",0.66666700000000001,1.9608E-2,0.68627499999999997,75,"SHONTO PREPARATORY TECHNOLOGY HIGH SCHOOL","P.O. BOX 7900","SHONTO AZ 86054","(928) 672-2852","(928) 672-2657"]
["Show Low High School - 090210225","Navajo",4393,"090210000","Show Low Unified District",5632,"090210225","Show Low High School",0.45,6.5789E-2,0.51578900000000005,760,"SHOW LOW HIGH SCHOOL","500 W. OLD LINDEN RD.","SHOW LOW AZ 85901","() -","() -"]
["Show Low Junior High School - 090210120","Navajo",4393,"090210000","Show Low Unified District",5631,"090210120","Show Low Junior High School",0.53151599999999999,4.7699999999999999E-2,0.57921599999999995,587,"SHOW LOW JUNIOR HIGH SCHOOL","500 W. OLD LINDEN RD.","SHOW LOW AZ 85901","(928) 537-6100","(928) 537-6149"]
["Shumway Elementary School - 070280119","Maricopa",4242,"070280000","Chandler Unified District #80",5124,"070280119","Shumway Elementary School",0.48655900000000002,6.4516000000000004E-2,0.55107499999999998,744,"SHUMWAY ELEMENTARY SCHOOL","1325 N. SHUMWAY AVENUE","CHANDLER AZ 85225 1558","() -","() -"]
["Sierra Linda High School - 070514205","Maricopa",4288,"070514000","Tolleson Union High School District",89908,"070514205","Sierra Linda High School",0.66920599999999997,9.5873E-2,0.76507899999999995,1575,"SIERRA LINDA HIGH SCHOOL","9801 W. VAN BUREN STREET","TOLLESON AZ 85353","() -","( ) -"]
["Sierra Middle School - 100212131","Pima",4407,"100212000","Sunnyside Unified District",5823,"100212131","Sierra Middle School",0.83,8.4000000000000005E-2,0.91400000000000003,1000]
["Sierra Verde Elementary - 070297139","Maricopa",4246,"070297000","Deer Valley Unified District",79574,"070297139","Sierra Verde Elementary",0.140984,5.3552000000000002E-2,0.19453599999999999,913,"SIERRA VERDE ELEMENTARY","7241 WEST ROSE GARDEN LANE","GLENDALE AZ 85308","() -","() -"]
["Silvestre S Herrera School - 070401113","Maricopa",4256,"070401000","Phoenix Elementary District",5204,"070401113","Silvestre S Herrera School",0.779528,0.12336,0.902887,762,"SILVESTRE S HERRERA SCHOOL","1350 S. 11TH STREET","PHOENIX AZ 85034","(602) 257-3885","( ) -"]
["Sinagua Middle School - 030201126","Coconino",4192,"030201000","Flagstaff Unified District",90191,"030201126","Sinagua Middle School",0.46087899999999998,7.1811E-2,0.53269,923,"SINAGUA MIDDLE SCHOOL","3950 EAST BUTLER AVENUE","FLAGSTAFF AZ 86004","(928) 527-5500","(928) 527-5561"]
["Sirrine Elementary School - 070204135","Maricopa",4235,"070204000","Mesa Unified District",4947,"070204135","Sirrine Elementary School",0.58823499999999995,6.2744999999999995E-2,0.65098,501,"SIRRINE ELEMENTARY SCHOOL","591 MESQUITE STREET","CHANDLER AZ 85225 2114","() -","() -"]
["Skull Valley Elementary School - 130315101","Yavapai",4478,"130315000","Skull Valley Elementary District",6113,"130315101","Skull Valley Elementary School",0.25,0.107143,0.35714299999999999,28]
["Sky View Elementary School - 070211117","Maricopa",4237,"070211000","Peoria Unified School District",5005,"070211117","Sky View Elementary School",0.40298499999999998,0.10281899999999999,0.50580400000000003,603,"SKY VIEW ELEMENTARY SCHOOL","8624 W SWEETWATER AVE.","PEORIA AZ 85381","(623) 412-4850","(623) 412-4861"]
["Skyline D5 - 078566001","Maricopa",79084,"078914000","Skyline Schools Inc.",89941,"078566001","Skyline D5",0.88297899999999996,4.2553000000000001E-2,0.92553200000000002,94,"SKYLINE D5","17667 N. 91ST AVE.","PEORIA AZ 85382","(480) 763-8425","(480) 705-9045"]
["Skyline High School - 070204276","Maricopa",4235,"070204000","Mesa Unified District",78917,"070204276","Skyline High School",0.43290899999999999,0.10792,0.540829,2436,"SKYLINE HIGH SCHOOL","845 S CRISMON","MESA AZ 85208","() -","() -"]
["Skyline Prep High School - 078914201","Maricopa",79084,"078914000","Skyline Schools Inc.",79092,"078914201","Skyline Prep High School",0.67441899999999999,0.15503900000000001,0.829457,129,"SKYLINE PREP HIGH SCHOOL","15220 SOUTH 50TH STREET SUITE 109","PHOENIX AZ 85244","(480) 763-8425","(480) 763-8427"]
["Skyline Ranch Elementary School - 110201104","Pinal",4437,"110201000","Florence Unified School District",87537,"110201104","Skyline Ranch Elementary School",0.50477499999999997,0.113233,0.618008,733]
["Skyview High School - 108706001","Pima",79880,"108706000","Kaizen Education Foundation dba Skyview High School",6350,"108706001","Skyview High School",0.44094499999999998,4.7244000000000001E-2,0.48818899999999998,127]
["Smith Junior High School - 070204263","Maricopa",4235,"070204000","Mesa Unified District",79489,"070204263","Smith Junior High School",0.480383,9.6651000000000001E-2,0.57703300000000002,1042,"SMITH JUNIOR HIGH SCHOOL","10100 E. ADOBE RD","MESA AZ 85207","() -","() -"]
["Smoketree Elementary School - 080201101","Mohave",4368,"080201000","Lake Havasu Unified District",5559,"080201101","Smoketree Elementary School",0.63710999999999995,7.0608000000000004E-2,0.70771799999999996,609,"SMOKETREE ELEMENTARY SCHOOL","2395 SMOKETREE AVE","LAKE HAVASU CITY AZ 86403","() -","() -"]
["Snowflake High School - 090205005","Navajo",4391,"090205000","Snowflake Unified District",5618,"090205005","Snowflake High School",0.31656800000000002,9.0236999999999998E-2,0.40680500000000003,676,"SNOWFLAKE HIGH SCHOOL","682 SCHOOL BUS LANE","SNOWFLAKE AZ 85937","() -","() -"]
["Snowflake Intermediate School - 090205001","Navajo",4391,"090205000","Snowflake Unified District",5614,"090205001","Snowflake Intermediate School",0.43279600000000001,0.10215100000000001,0.53494600000000003,372,"SNOWFLAKE INTERMEDIATE SCHOOL","682 SCHOOL BUS LANE","SNOWFLAKE AZ 85937","() -","() -"]
["Snowflake Junior High School - 090205003","Navajo",4391,"090205000","Snowflake Unified District",5616,"090205003","Snowflake Junior High School",0.40206199999999997,0.11082500000000001,0.51288699999999998,388,"SNOWFLAKE JUNIOR HIGH SCHOOL","682 SCHOOL BUS LANE","SNOWFLAKE AZ 85937","() -","() -"]
["Solano School - 070408106","Maricopa",4262,"070408000","Osborn Elementary District",5281,"070408106","Solano School",0.89619400000000005,2.7681999999999998E-2,0.923875,576,"SOLANO SCHOOL","1526 WEST MISSOURI AVE","PHOENIX AZ 85015","() -","() -"]
["Soleng Tom Elementary School - 100201410","Pima",4403,"100201000","Tucson Unified District",5721,"100201410","Soleng Tom Elementary School",0.218638,4.4803000000000003E-2,0.26344099999999998,558]
["Solomon Elementary School - 050305101","Graham",4222,"050305000","Solomon Elementary District",4894,"050305101","Solomon Elementary School",0.467337,0.165829,0.63316600000000001,199,"SOLOMON ELEMENTARY SCHOOL","P.O. BOX 167","SOLOMON AZ 85551","() -","() -"]
["Somerton Middle School - 140411101","Yuma",4500,"140411000","Somerton Elementary District",6164,"140411101","Somerton Middle School",0.73625099999999999,0.124579,0.86083100000000001,891]
["Sonoma Ranch Elementary School - 070241154","Maricopa",4239,"070241000","Gilbert Unified District",5036,"070241154","Sonoma Ranch Elementary School",0.215278,6.25E-2,0.27777800000000002,576,"SONOMA RANCH ELEMENTARY SCHOOL","601 NORTH KEY BISCAYNE","GILBERT AZ 85234","() -","( ) -"]
["Sonoran Heights Elementary - 070289120","Maricopa",4243,"070289000","Dysart Unified District",88414,"070289120","Sonoran Heights Elementary",0.17555599999999999,4.7778000000000001E-2,0.223333,900,"SONORAN HEIGHTS ELEMENTARY","11405 N. GREER RANCH PARKWAY","SURPRISE AZ 85379","(623) 523-8550","(623) 523-8561"]
["Sonoran Science Academy - Ahwatukee - 078569001","Maricopa",90332,"078569000","Daisy Education Corporation dba Sonoran Science Academy - Ahwatukee",89856,"078569001","Sonoran Science Academy - Ahwatukee",0.45945900000000001,6.757E-3,0.46621600000000002,148,"SONORAN SCIENCE ACADEMY - AHWATUKEE","14647 S. 50TH STREET BUILDING 1, SUITE 125","PHOENIX AZ 85044","(480) 961-5370","(480) 961-5397"]
["Sonoran Science Academy - Broadway - 108503101","Pima",89915,"108503000","Sonoran Science Academy - Broadway",89916,"108503101","Sonoran Science Academy - Broadway",0.47936499999999999,6.3492000000000007E-2,0.54285700000000003,315]
["Sonoran Science Academy - Davis Monthan - 108504001","Pima",90284,"108504000","Sonoran Science Academy - Davis Monthan",90285,"108504001","Sonoran Science Academy - Davis Monthan",0.17085400000000001,0.165829,0.33668300000000001,199]
["Sonoran Science Academy - Phoenix - 108502101","Pima",89914,"108502000","Daisy Education Corporation dba Sonoran Science Academy - Phoenix",80974,"108502101","Sonoran Science Academy - Phoenix",0.94881899999999997,2.3622000000000001E-2,0.972441,254]
["Sonoran Science Academy - Phoenix Metro - 078577001","Maricopa",90541,"078577000","Sonoran Science Academy - Phoenix Metro",90639,"078577001","Sonoran Science Academy - Phoenix Metro",0.93835599999999997,1.3698999999999999E-2,0.95205499999999998,146,"SONORAN SCIENCE ACADEMY - PHOENIX METRO","17667 N. 91ST AVENUE","PEORIA AZ 85382","(480) 940-5440","(480) 940-5458"]
["Sonoran Science Academy - Tucson - 108666001","Pima",79049,"108666000","Daisy Education Corporation dba Sonoran Science Academy",79127,"108666001","Sonoran Science Academy - Tucson",0.2417,5.0465000000000003E-2,0.29216500000000001,753]
["Sonoran Sky Elementary School - 070269129","Maricopa",4241,"070269000","Paradise Valley Unified District",5084,"070269129","Sonoran Sky Elementary School",5.9417999999999999E-2,1.5171E-2,7.4589000000000003E-2,732,"SONORAN SKY ELEMENTARY SCHOOL","12990 NORTH 75TH STREET","SCOTTSDALE AZ 85260","(602) 449-6500","( ) -"]
["Sonoran Sky Elementary School - 070492020","Maricopa",4283,"070492000","Pendergast Elementary District",79642,"070492020","Sonoran Sky Elementary School",0.52080300000000002,0.13342899999999999,0.65423200000000004,696,"SONORAN SKY ELEMENTARY SCHOOL","10150 W. MISSOURI AVE.","GLENDALE AZ 85307","() -","( ) -"]
["Sonoran Trails Middle School - 070293101","Maricopa",4244,"070293000","Cave Creek Unified District",78911,"070293101","Sonoran Trails Middle School",9.4497999999999999E-2,2.3923E-2,0.118421,836,"SONORAN TRAILS MIDDLE SCHOOL","P.O.BOX 426","CAVE CREEK AZ 85327","() -","() -"]
["Sopori Elementary School - 100230102","Pima",4411,"100230000","Sahuarita Unified District",5841,"100230102","Sopori Elementary School",0.75961500000000004,6.7308000000000007E-2,0.82692299999999996,208]
["Sousa Elementary School - 070204142","Maricopa",4235,"070204000","Mesa Unified District",4954,"070204142","Sousa Elementary School",0.47048000000000001,7.5646000000000005E-2,0.54612499999999997,538,"SOUSA ELEMENTARY SCHOOL","616 N MOUNTAIN","MESA AZ 85207 2303","() -","() -"]
["South Mountain High School - 070510260","Maricopa",4286,"070510000","Phoenix Union High School District",5443,"070510260","South Mountain High School",0.82772599999999996,2.3202E-2,0.85092800000000002,1724,"SOUTH MOUNTAIN HIGH SCHOOL","5401 S 7TH STREET","PHOENIX AZ 85040 3104","() -","() -"]
["South Phoenix Prep and Arts Academy - 078599301","Maricopa",79084,"078914000","Skyline Schools Inc.",91109,"078599301","South Phoenix Prep and Arts Academy",0.73912999999999995,7.9050999999999996E-2,0.81818199999999996,253,"SOUTH PHOENIX PREP AND ARTS ACADEMY","4039 E RAYMOND STREET #3","PHOENIX AZ 85040","(480) 763-4032","(480) 705-9045"]
["South Pointe High School - 078983201","Maricopa",80989,"078983000","American Charter Schools Foundation d.b.a. South Pointe High School",80990,"078983201","South Pointe High School",0.80854999999999999,4.4609999999999997E-2,0.85316000000000003,538,"SOUTH POINTE HIGH SCHOOL","8325 SOUTH CENTRAL AVENUE","PHOENIX AZ 85042","(602) 243-0600","(602) 243-0800"]
["South Pointe Junior High School - 078765103","Maricopa",78965,"078765000","Kaizen Education Foundation dba South Pointe Junior High School",79178,"078765103","South Pointe Junior High School",0.72440899999999997,6.6929000000000002E-2,0.79133900000000001,254,"SOUTH POINTE JUNIOR HIGH SCHOOL","7878 N. 16TH ST. 150","PHOENIX AZ 85020","(602) 953-2933","(602) 953-0831"]
["South Ridge High School - 078517201","Maricopa",88334,"078517000","American Charter Schools Foundation d.b.a. South Ridge High School",88335,"078517201","South Ridge High School",0.69351200000000002,0.147651,0.84116299999999999,447,"SOUTH RIDGE HIGH SCHOOL","1122 S. 67TH AVE.","PHOENIX AZ 85043","(602) 953-2933","(602) 953-0831"]
["South Valley Jr. High - 070241125","Maricopa",4239,"070241000","Gilbert Unified District",85847,"070241125","South Valley Jr. High",0.13381399999999999,5.6890999999999997E-2,0.19070500000000001,1248,"SOUTH VALLEY JR. HIGH","140 SOUTH GILBERT ROAD","GILBERT AZ 85296","() -","( ) -"]
["South Valley Prep and Arts School - 078578301","Maricopa",79084,"078914000","Skyline Schools Inc.",91122,"078578301","South Valley Prep and Arts School",0.709924,9.9237000000000006E-2,0.80915999999999999,131,"SOUTH VALLEY PREP AND ARTS SCHOOL","4039 E RAYMOND STREET #3","PHOENIX AZ 85040","(480) 763-4032","(480) 705-9045"]
["Southern Arizona Community High School - 108772201","Pima",79000,"108772000","Southern Arizona Community Academy Inc.",79028,"108772201","Southern Arizona Community High School",0.82987599999999995,6.2240999999999998E-2,0.89211600000000002,260]
["Southgate Academy - 108779101","Pima",79085,"108779000","Southgate Academy Inc.",79091,"108779101","Southgate Academy",0.888679,5.6600000000000001E-3,0.89434000000000002,530]
["Southside Community School - 108785001","Pima",79426,"108785000","Aprender Tucson",79432,"108785001","Southside Community School",0.96399999999999997,2.8000000000000001E-2,0.99199999999999999,250]
["Southwest Alternative Middle School - 100201580","Pima",4403,"100201000","Tucson Unified District",5754,"100201580","Southwest Alternative Middle School",0.88059699999999996,1.4925000000000001E-2,0.89552200000000004,67]
["Southwest Education Center - 072146004","Maricopa",7347,"072146000","Southwest Education Center",84296,"072146004","Southwest Education Center",0.67857100000000004,3.5714000000000003E-2,0.71428599999999998,24]
["Southwest Education Center - Casa Grande - 072146002","Maricopa",7347,"072146000","Southwest Education Center",7349,"072146002","Southwest Education Center - Casa Grande",0.86111099999999996,0,0.86111099999999996,30]
["Southwest Elementary School - 070466020","Maricopa",4279,"070466000","Roosevelt Elementary District",5380,"070466020","Southwest Elementary School",0.85951900000000003,5.7300999999999998E-2,0.916821,502,"SOUTHWEST ELEMENTARY SCHOOL","1111 W. DOBBINS ROAD","PHOENIX AZ 85041","() -","() -"]
["Southwest Jr. High School - 140432107","Yuma",4505,"140432000","Gadsden Elementary District",81105,"140432107","Southwest Jr. High School",0.81655199999999994,0.12,0.93655200000000005,703]
["Spectrum Elementary - 070241164","Maricopa",4239,"070241000","Gilbert Unified District",81145,"070241164","Spectrum Elementary",0.158831,3.6849E-2,0.19567999999999999,787,"SPECTRUM ELEMENTARY","2846 S. SPECTRUM WAY","GILBERT AZ 85295","() -","( ) -"]
["Splash 10 - 102707013","Pima",85892,"102707000","Gap Ministries",87531,"102707013","Splash 10",1,0,1,6]
["Splash 11 - 102707014","Pima",85892,"102707000","Gap Ministries",91247,"102707014","Splash 11",1,0,1,11]
["Splash 12 - 102707015","Pima",85892,"102707000","Gap Ministries",91853,"102707015","Splash 12",1,0,1,9]
["Splash House - 102707011","Pima",85892,"102707000","Gap Ministries",85902,"102707011","Splash House",1,0,1,11]
["Splash House 2 - 102707003","Pima",85892,"102707000","Gap Ministries",85894,"102707003","Splash House 2",1,0,1,11]
["Splash House 3 - 102707004","Pima",85892,"102707000","Gap Ministries",85895,"102707004","Splash House 3",1,0,1,9]
["Splash House 4 - 102707005","Pima",85892,"102707000","Gap Ministries",85896,"102707005","Splash House 4",1,0,1,17]
["Splash House 5 - 102707006","Pima",85892,"102707000","Gap Ministries",85897,"102707006","Splash House 5",1,0,1,9]
["Splash House 6 - 102707007","Pima",85892,"102707000","Gap Ministries",85898,"102707007","Splash House 6",1,0,1,9]
["Splash House 7 - 102707008","Pima",85892,"102707000","Gap Ministries",85899,"102707008","Splash House 7",1,0,1,10]
["Splash House 8 - 102707009","Pima",85892,"102707000","Gap Ministries",85900,"102707009","Splash House 8",1,0,1,8]
["Splash House 9 - 102707010","Pima",85892,"102707000","Gap Ministries",85901,"102707010","Splash House 9",1,0,1,14]
["St David Elementary School - 020221101","Cochise",4173,"020221000","St David Unified District",4761,"020221101","St David Elementary School",0.55367200000000005,7.3445999999999997E-2,0.62711899999999998,177,"ST DAVID ELEMENTARY SCHOOL","PO BOX 70","ST DAVID AZ 85630","() -","() -"]
["St David High School - 020221202","Cochise",4173,"020221000","St David Unified District",4762,"020221202","St David High School",0.53061199999999997,0.10204100000000001,0.63265300000000002,49,"ST DAVID HIGH SCHOOL","PO BOX 70","ST. DAVID AZ 85630","() -","( ) -"]
["St Johns High School - 010201205","Apache",4153,"010201000","St Johns Unified District",4711,"010201205","St Johns High School",0.40069700000000003,8.7108000000000005E-2,0.48780499999999999,287,"ST JOHNS HIGH SCHOOL","360 S. REDSKIN DRIVE","ST JOHNS AZ 85936 0429","() -","() -"]
["St Johns Middle School - 010201104","Apache",4153,"010201000","St Johns Unified District",4710,"010201104","St Johns Middle School",0.47826099999999999,0.114907,0.59316800000000003,322,"ST JOHNS MIDDLE SCHOOL","P O BOX 3060","ST JOHNS AZ 85936","() -","() -"]
["ST MICHAELS ASSOC FOR SPEC ED - 012101001","Apache",6470,"012101000","St. Michaels Association for Special Education Inc.",6471,"012101001","ST MICHAELS ASSOC FOR SPEC ED",0.6875,6.25E-2,0.75,32]
["St. Agnes School - 072034101","Maricopa",88412,"072034000","St. Agnes School",88413,"072034101","St. Agnes School",0.49541299999999999,0.13761499999999999,0.63302800000000004,218]
["St. Anthony of Padua Catholic School - 112002001","Pinal",80170,"112002000","St. Anthony of Padua Catholic School",80171,"112002001","St. Anthony of Padua Catholic School",0.155172,2.5862E-2,0.181034,232]
["St. Catherine's School - 072013001","Maricopa",80172,"072013000","St. Catherine of Siena Catholic School",80173,"072013001","St. Catherine's School",0.46222200000000002,0.22666700000000001,0.68888899999999997,225]
["St. Charles School - 042003001","Gila",89301,"042003000","St. Charles School",89302,"042003001","St. Charles School",0.80800000000000005,0.128,0.93600000000000005,125]
["St. Jerome School - 072014001","Maricopa",80176,"072014000","St. Jerome School",80177,"072014001","St. Jerome School",0.25087100000000001,4.8779999999999997E-2,0.29965199999999997,287]
["St. John School - 102004001","Pima",80178,"102004000","St. John the Evangelist",80179,"102004001","St. John School",0.70891999999999999,0.169014,0.87793399999999999,213]
["St. John Vianney Catholic School - 072084001","Maricopa",4272,"070444000","Avondale Elementary District",80181,"072084001","St. John Vianney Catholic School",0.40271499999999999,8.5972999999999994E-2,0.48868800000000001,221]
["St. Louis the King Catholic School - 072094001","Maricopa",91814,"072094000","St. Louis the King Catholic School",91849,"072094001","St. Louis the King Catholic School",0.52071000000000001,0.112426,0.63313600000000003,169]
["St. Mary's Roman Catholic High School - 072093001","Maricopa",91795,"072093000","St. Mary's Roman Catholic High School Phoenix",91804,"072093001","St. Mary's Roman Catholic High School",0.30252099999999998,7.5630000000000003E-2,0.37815100000000001,476]
["St. Matthew School - 072015001","Maricopa",4265,"070421000","Murphy Elementary District",80183,"072015001","St. Matthew School",0.82843100000000003,6.8626999999999994E-2,0.89705900000000005,204]
["St. Michaels School - 012003001","Apache",80190,"012003000","St. Michaels Elementary & High School",80191,"012003001","St. Michaels School",0.36571399999999998,0.19714300000000001,0.56285700000000005,350]
["St. Peter Indian Mission School - 112001001","Pinal",80192,"112001000","St. Peter Indian Mission School",80193,"112001001","St. Peter Indian Mission School",0.73295500000000002,7.9545000000000005E-2,0.8125,176]
["St. Thomas the Apostle - 072017001","Maricopa",80194,"072017000","St. Thomas the Apostle",80195,"072017001","St. Thomas the Apostle",2.8226000000000001E-2,3.4273999999999999E-2,6.25E-2,496]
["St. Vincent de Paul - 079083593","Maricopa",4282,"070483000","Cartwright Elementary District",80352,"079083593","St. Vincent de Paul",0.67910400000000004,0.184701,0.86380599999999996,536]
["Stanfield Elementary School - 110424001","Pinal",4451,"110424000","Stanfield Elementary District",5946,"110424001","Stanfield Elementary School",0.76423799999999997,0.10728500000000001,0.87152300000000005,588]
["Stapley Junior High School - 070204262","Maricopa",4235,"070204000","Mesa Unified District",4979,"070204262","Stapley Junior High School",0.23681099999999999,4.6892999999999997E-2,0.28370499999999998,851,"STAPLEY JUNIOR HIGH SCHOOL","3250 EAST HERMOSA VISTA DR","MESA AZ 85213","() -","() -"]
["STAR Charter School - 038753101","Coconino",79086,"038753000","Painted Desert Demonstration Projects Inc.",79090,"038753101","STAR Charter School",0.64843799999999996,0.171875,0.82031299999999996,128,"STAR CHARTER SCHOOL","145 LEUPP ROAD","FLAGSTAFF AZ 86004","(602) 412-3533","(928) 255-2179"]
["Starlight Park School - 070483107","Maricopa",4282,"070483000","Cartwright Elementary District",5404,"070483107","Starlight Park School",0.842391,5.8695999999999998E-2,0.90108699999999997,920,"STARLIGHT PARK SCHOOL","7960 W. OSBORN RD.","PHOENIX AZ 85033","(623) 691-4700","(623) 691-4720"]
["Starline Elementary School - 080201104","Mohave",4368,"080201000","Lake Havasu Unified District",5562,"080201104","Starline Elementary School",0.43576399999999998,6.0763999999999999E-2,0.49652800000000002,576,"STARLINE ELEMENTARY SCHOOL","3150 STARLINE DR.","LAKE HAVASU CITY AZ 86406","(928) 855-4088","(928) 505-1940"]
["StarShine Academy - 078992001","Maricopa",85807,"078992000","StarShine Academy",80475,"078992001","StarShine Academy",0.95299100000000003,1.7094000000000002E-2,0.97008499999999998,234,"STARSHINE ACADEMY","3535 EAST MCDOWELL ROAD","PHOENIX AZ 85008","(602) 957-9557","(602) 956-0065"]
["STEP UP SCHOOL - 078634202","Maricopa",78845,"078904000","Mission Charter School Inc.",91788,"078634202","STEP UP SCHOOL",0.86585400000000001,6.0976000000000002E-2,0.92682900000000001,82,"STEP UP SCHOOL","44 EAST 5TH STREET","MESA AZ 85201","(480) 606-8674","(480) 813-9537"]
["Stetson Hills Elementary - 070297140","Maricopa",4246,"070297000","Deer Valley Unified District",79573,"070297140","Stetson Hills Elementary",0.136937,6.0359999999999997E-2,0.197297,1106,"STETSON HILLS ELEMENTARY","25475 N. STETSON HILLS LOOP","GLENDALE AZ 85310","() -","() -"]
["Steven R. Jasinski Elementary School - 070433104","Maricopa",4269,"070433000","Buckeye Elementary District",89572,"070433104","Steven R. Jasinski Elementary School",0.65208100000000002,0.11953,0.77161199999999996,937,"STEVEN R. JASINSKI ELEMENTARY SCHOOL","210 S. 6TH STREET","BUCKEYE AZ 85326","() -","( ) -"]
["Stevenson Elementary School - 020227107","Cochise",4174,"020227000","Douglas Unified District",4769,"020227107","Stevenson Elementary School",0.67099600000000004,0.12554100000000001,0.79653700000000005,462,"STEVENSON ELEMENTARY SCHOOL","2200 11TH STREET","DOUGLAS AZ 85607","(520) 364-2442","( ) -"]
["Stevenson Elementary School - 070204127","Maricopa",4235,"070204000","Mesa Unified District",4939,"070204127","Stevenson Elementary School",0.78770300000000004,7.3085999999999998E-2,0.86078900000000003,860,"STEVENSON ELEMENTARY SCHOOL","638 S. 96TH STREET","MESA AZ 85208","() -","() -"]
["Sturgeon Cromer Elementary School - 030201111","Coconino",4192,"030201000","Flagstaff Unified District",4805,"030201111","Sturgeon Cromer Elementary School",0.42978699999999997,8.2269999999999996E-2,0.51205699999999998,702,"STURGEON CROMER ELEMENTARY SCHOOL","7150 E SILVER SADDLE ROAD","FLAGSTAFF AZ 86004","() -","( ) -"]
["Successful Beginnings Charter School - 098751001","Navajo",4393,"090210000","Show Low Unified District",90198,"098751001","Successful Beginnings Charter School",0.58536600000000005,0.17073199999999999,0.75609800000000005,41,"SUCCESSFUL BEGINNINGS CHARTER SCHOOL","841 E. MCNEIL ST.","SHOW LOW AZ 85901","(928) 537-2365","(928) 537-2365"]
["Summit Academy - 070204193","Maricopa",4235,"070204000","Mesa Unified District",90753,"070204193","Summit Academy",0.436116,9.3697000000000003E-2,0.52981299999999998,1171,"SUMMIT ACADEMY","1550 WEST SUMMIT PLACE","CHANDLER AZ 85224","(480) 472-3300","(480) 472-3320"]
["Summit High School - 030201066","Coconino",4192,"030201000","Flagstaff Unified District",4803,"030201066","Summit High School",0.68085099999999998,9.2199000000000003E-2,0.77305000000000001,133,"SUMMIT HIGH SCHOOL","4000 N. CUMMINGS STREET","FLAGSTAFF AZ 86004","(928) 773-8427","( ) -"]
["Summit View Elementary - 100212123","Pima",4407,"100212000","Sunnyside Unified District",5821,"100212123","Summit View Elementary",0.89642900000000003,4.8214E-2,0.94464300000000001,560]
["Sun Canyon School - 070445104","Maricopa",4273,"070445000","Fowler Elementary District",80315,"070445104","Sun Canyon School",0.71820799999999996,0.101156,0.81936399999999998,692,"SUN CANYON SCHOOL","8150 W. DURANGO","PHOENIX AZ 85043","(623) 707-2000","( ) -"]
["Sun Valley Charter School - 078556001","Maricopa",90192,"078556000","Morrison Education Group Inc.",90193,"078556001","Sun Valley Charter School",0.66938799999999998,0.118367,0.78775499999999998,245,"SUN VALLEY CHARTER SCHOOL","5806 S. 35TH AVE., BLDG E","PHOENIX AZ 85041","(602) 692-4914","(866) 612-2196"]
["Sun Valley Elementary School - 070211116","Maricopa",4237,"070211000","Peoria Unified School District",5004,"070211116","Sun Valley Elementary School",0.56698800000000005,8.3600999999999995E-2,0.65058899999999997,933,"SUN VALLEY ELEMENTARY SCHOOL","8361 N 95TH AVE","PEORIA AZ 85345","(623) 412-4825","(623) 412-4837"]
["Sun Valley High School - 078953001","Maricopa",79877,"078953000","American Charter Schools Foundation d.b.a. Sun Valley High School",6347,"078953001","Sun Valley High School",0.74821199999999999,7.7253000000000002E-2,0.825465,699,"SUN VALLEY HIGH SCHOOL","1143 S LINDSAY RD","MESA AZ 85204","() -","() -"]
["Sun Valley Indian School - 092006001","Navajo",80278,"092006000","Sun Valley Indian School",80279,"092006001","Sun Valley Indian School",0.67857100000000004,0.14285700000000001,0.82142899999999996,28]
["Sunburst School - 070406162","Maricopa",4260,"070406000","Washington Elementary School District",5269,"070406162","Sunburst School",0.50077799999999995,0.11508599999999999,0.61586300000000005,643,"SUNBURST SCHOOL","14218 N 47TH AVE","GLENDALE AZ 85306","() -","() -"]
["Sundance Elementary - 070433105","Maricopa",4269,"070433000","Buckeye Elementary District",87471,"070433105","Sundance Elementary",0.61419400000000002,0.15096799999999999,0.76516099999999998,775,"SUNDANCE ELEMENTARY","23800 WEST HADLEY","BUCKEYE AZ 85326","() -","() -"]
["Sundance Elementary School - 070211110","Maricopa",4237,"070211000","Peoria Unified School District",4998,"070211110","Sundance Elementary School",0.57123800000000002,8.6551000000000003E-2,0.65778999999999999,751,"SUNDANCE ELEMENTARY SCHOOL","7051 W CHOLLA ST.","PEORIA AZ 85345","(623) 412-4675","(623) 412-4685"]
["Sunland Elementary School - 070466004","Maricopa",4279,"070466000","Roosevelt Elementary District",5365,"070466004","Sunland Elementary School",0.878521,5.1055999999999997E-2,0.92957699999999999,565,"SUNLAND ELEMENTARY SCHOOL","5401 S. 7TH AVE.","PHOENIX AZ 85041","() -","() -"]
["Sunnyside Charter and Montessori School - 138767001","Yavapai",79912,"138767000","Sunnyside Charter and Montessori School",79913,"138767001","Sunnyside Charter and Montessori School",0.72972999999999999,0,0.72972999999999999,37]
["Sunnyside High School - 100212230","Pima",4407,"100212000","Sunnyside Unified District",5827,"100212230","Sunnyside High School",0.70302500000000001,9.9907999999999997E-2,0.80293300000000001,2182]
["Sunnyslope Elementary School - 070406164","Maricopa",4260,"070406000","Washington Elementary School District",5271,"070406164","Sunnyslope Elementary School",0.84697500000000003,6.1684000000000003E-2,0.90866000000000002,888,"SUNNYSLOPE ELEMENTARY SCHOOL","240 E. VOGEL AVENUE","PHOENIX AZ 85020","(602) 347-4300","(602) 347-4320"]
["Sunnyslope High School - 070505202","Maricopa",4285,"070505000","Glendale Union High School District",5427,"070505202","Sunnyslope High School",0.45741300000000001,4.3638000000000003E-2,0.50105200000000005,1902,"SUNNYSLOPE HIGH SCHOOL","35 WEST DUNLAP","PHOENIX AZ 85021","() -","( ) -"]
["Sunridge Elementary School - 070445102","Maricopa",4273,"070445000","Fowler Elementary District",5352,"070445102","Sunridge Elementary School",0.90816300000000005,3.9358999999999998E-2,0.94752199999999998,686,"SUNRIDGE ELEMENTARY SCHOOL","6244 W ROOSEVELT ST","PHOENIX AZ 85043","(623) 707-4600","( ) -"]
["Sunrise Drive Elementary School - 100216101","Pima",4410,"100216000","Catalina Foothills Unified District",5832,"100216101","Sunrise Drive Elementary School",0.129496,4.6762999999999999E-2,0.176259,556]
["Sunrise Elementary - 080415104","Mohave",4378,"080415000","Bullhead City School District",79655,"080415104","Sunrise Elementary",0.69408700000000001,5.9125999999999998E-2,0.75321300000000002,389,"SUNRISE ELEMENTARY","2645 WEST LANDON DRIVE","BULLHEAD CITY AZ 86429","(928) 754-1815","(928) 754-1820"]
["Sunrise Elementary School - 070297117","Maricopa",4246,"070297000","Deer Valley Unified District",5147,"070297117","Sunrise Elementary School",0.70620400000000005,9.6714999999999995E-2,0.80291999999999997,544,"SUNRISE ELEMENTARY SCHOOL","17624 N. 31ST AV","PHOENIX AZ 85053","() -","() -"]
["Sunrise Elementary School - 140401114","Yuma",4499,"140401000","Yuma Elementary District",87622,"140401114","Sunrise Elementary School",0.37101400000000001,0.104348,0.47536200000000001,690]
["Sunrise Middle School - 070269178","Maricopa",4241,"070269000","Paradise Valley Unified District",5103,"070269178","Sunrise Middle School",0.23416000000000001,5.6474000000000003E-2,0.290634,686,"SUNRISE MIDDLE SCHOOL","4960 EAST ACOMA DRIVE","SCOTTSDALE AZ 85254","(602) 449-6100","( ) -"]
["Sunrise Mountain High School - 070211264","Maricopa",4237,"070211000","Peoria Unified School District",5017,"070211264","Sunrise Mountain High School",0.121116,2.6633E-2,0.14774899999999999,1577,"SUNRISE MOUNTAIN HIGH SCHOOL","21200 N 83RD AVE","PEORIA AZ 85382","(623) 487-5125","(623) 487-5140"]
["Suns-Diamondbacks Education Academy - 070510280","Maricopa",4286,"070510000","Phoenix Union High School District",79617,"070510280","Suns-Diamondbacks Education Academy",0.83185799999999999,3.5397999999999999E-2,0.86725699999999994,226,"SUNS-DIAMONDBACKS EDUCATION ACADEMY","2920 N.7TH STREET","PHOENIX AZ 85014","(602) 764-0050","(602) 744-1221"]
["Sunset Canyon School - 070269142","Maricopa",4241,"070269000","Paradise Valley Unified District",78920,"070269142","Sunset Canyon School",0.48043799999999998,7.8246999999999997E-2,0.55868499999999999,581,"SUNSET CANYON SCHOOL","2727 E SIESTA LANE","PHOENIX AZ 85050","(602) 449-5100","( ) -"]
["Sunset Hills Elementary - 070289118","Maricopa",4243,"070289000","Dysart Unified District",87620,"070289118","Sunset Hills Elementary",0.273729,8.4746000000000002E-2,0.35847499999999999,1180,"SUNSET HILLS ELEMENTARY","17825 W. SIERRA MONTANA LOOP","SURPRISE AZ 85379","(623) 523-8700","( ) -"]
["Sunset House - 072785003","Maricopa",90039,"072785000","Back To Life Inc.",90042,"072785003","Sunset House",1,0,1,5]
["Sunset Ridge Elementary - 070297144","Maricopa",4246,"070297000","Deer Valley Unified District",81017,"070297144","Sunset Ridge Elementary",0.134158,3.0446999999999998E-2,0.164605,1049,"SUNSET RIDGE ELEMENTARY","35707 N. 33RD LANE","PHOENIX AZ 85086","() -","() -"]
["Sunset Ridge Elementary School - 070492022","Maricopa",4283,"070492000","Pendergast Elementary District",80418,"070492022","Sunset Ridge Elementary School",0.61561600000000005,0.12762799999999999,0.74324299999999999,664,"SUNSET RIDGE ELEMENTARY SCHOOL","8490 W. MISSOURI AVE.","GLENDALE AZ 85305","() -","( ) -"]
["Sunset School - 070483106","Maricopa",4282,"070483000","Cartwright Elementary District",5403,"070483106","Sunset School",0.86596399999999996,5.7229000000000002E-2,0.92319300000000004,664,"SUNSET SCHOOL","6602 W. OSBORN ROAD","PHOENIX AZ 85033","() -","( ) -"]
["Sunset School - 070406165","Maricopa",4260,"070406000","Washington Elementary School District",5272,"070406165","Sunset School",0.72037899999999999,7.109E-2,0.79146899999999998,633,"SUNSET SCHOOL","4626 W MOUNTAIN VIEW RD","GLENDALE AZ 85302","() -","() -"]
["Sunset Vista - 070440117","Maricopa",4271,"070440000","Glendale Elementary District",79816,"070440117","Sunset Vista",0.81154999999999999,4.4580000000000002E-2,0.85612999999999995,973,"SUNSET VISTA","7775 W ORANGEWOOD AVENUE","GLENDALE AZ 85303","() -","() -"]
["Supai Middle School - 070248161","Maricopa",4240,"070248000","Scottsdale Unified District",5060,"070248161","Supai Middle School",0.72138199999999997,7.9913999999999999E-2,0.80129600000000001,460,"SUPAI MIDDLE SCHOOL","6720 EAST CONTINENTAL","SCOTTSDALE AZ 85257","() -","() -"]
["Superior Junior High School - 110215102","Pinal",4440,"110215000","Superior Unified School District",5906,"110215102","Superior Junior High School",0.85714299999999999,3.5714000000000003E-2,0.89285700000000001,84]
["Superior Senior High School - 110215205","Pinal",4440,"110215000","Superior Unified School District",5907,"110215205","Superior Senior High School",0.68468499999999999,5.4053999999999998E-2,0.73873900000000003,111]
["Superstition High School - 070204280","Maricopa",4235,"070204000","Mesa Unified District",78933,"070204280","Superstition High School",0.7,0.06,0.76,99,"SUPERSTITION HIGH SCHOOL","10222 E. SOUTHERN AVE.","MESA AZ 85208","() -","() -"]
["Superstition Mountain Elementary School - 110243101","Pinal",4443,"110243000","Apache Junction Unified District",5919,"110243101","Superstition Mountain Elementary School",0.63994700000000004,9.0670000000000001E-2,0.73061799999999999,761]
["Superstition Springs Elementary - 070241155","Maricopa",4239,"070241000","Gilbert Unified District",5037,"070241155","Superstition Springs Elementary",0.312583,8.6093000000000003E-2,0.398675,755,"SUPERSTITION SPRINGS ELEMENTARY","7125 E. MONTEREY AVE.","MESA AZ 85009","(480) 641-6413","( ) -"]
["Surprise Elementary School - 070289104","Maricopa",4243,"070289000","Dysart Unified District",5131,"070289104","Surprise Elementary School",0.72267999999999999,7.5258000000000005E-2,0.79793800000000004,970,"SURPRISE ELEMENTARY SCHOOL","12907 W. GREENWAY RD.","EL MIRAGE AZ 85335","() -","() -"]
["Sweetwater School - 070406163","Maricopa",4260,"070406000","Washington Elementary School District",5270,"070406163","Sweetwater School",0.52929700000000002,6.25E-2,0.59179700000000002,512,"SWEETWATER SCHOOL","4602 W SWEETWATER","GLENDALE AZ 85304 1505","() -","() -"]
["Sycamore Canyon Ctr for Youth - 072107002","Maricopa",79302,"072107000","Canyon State Academy",89565,"072107002","Sycamore Canyon Ctr for Youth",1,0,1,40]
["Sycamore Elementary School - 100220109","Pima",4413,"100220000","Vail Unified District",80871,"100220109","Sycamore Elementary School",0.21198700000000001,8.9899999999999994E-2,0.30188700000000002,901]
["T G Barr School - 070466012","Maricopa",4279,"070466000","Roosevelt Elementary District",5372,"070466012","T G Barr School",0.90085499999999996,4.1026E-2,0.94188000000000005,543,"T G BARR SCHOOL","2041 EAST VINEYARD","PHOENIX AZ 85042","() -","() -"]
["T. Dale Hancock Elementary School - 070280131","Maricopa",4242,"070280000","Chandler Unified District #80",79635,"070280131","T. Dale Hancock Elementary School",0.31296099999999999,4.215E-2,0.35511100000000001,949,"T. DALE HANCOCK ELEMENTARY SCHOOL","2425 S. PLEASANT DRIVE","CHANDLER AZ 85286","() -","( ) -"]
["Taft Elementary School - 070204118","Maricopa",4235,"070204000","Mesa Unified District",4930,"070204118","Taft Elementary School",0.66044099999999994,7.6400999999999997E-2,0.736842,585,"TAFT ELEMENTARY SCHOOL","9800 E QUARTERLINE ROAD","MESA AZ 85207","(480) 472-9100","(480) 472-9090"]
["Tanque Verde Elementary School - 100213103","Pima",4408,"100213000","Tanque Verde Unified District",5829,"100213103","Tanque Verde Elementary School",0.15079400000000001,3.4921000000000001E-2,0.18571399999999999,630]
["Tanque Verde High School - 100213201","Pima",4408,"100213000","Tanque Verde Unified District",87466,"100213201","Tanque Verde High School",0.111857,2.0133999999999999E-2,0.131991,447]
["Tartesso Elementary School - 070290102","Maricopa",4254,"070290000","Saddle Mountain Unified School District",89596,"070290102","Tartesso Elementary School",0.368421,0.123839,0.49225999999999998,321,"TARTESSO ELEMENTARY SCHOOL","29677 W. INDIANOLA ROAD","BUCKEYE AZ 85322","() -","( ) -"]
["Tavan Elementary School - 070248103","Maricopa",4240,"070248000","Scottsdale Unified District",5044,"070248103","Tavan Elementary School",0.63320900000000002,5.9479999999999998E-2,0.692689,805,"TAVAN ELEMENTARY SCHOOL","4610 E. OSBORN","PHOENIX AZ 85018 6018","() -","() -"]
["Taylor Elementary School - 090205002","Navajo",4391,"090205000","Snowflake Unified District",5615,"090205002","Taylor Elementary School",0.46598600000000001,0.108844,0.57482999999999995,294,"TAYLOR ELEMENTARY SCHOOL","682 SCHOOL BUS LANE","SNOWFLAKE AZ 85937","(928) 536-4156","(928) 536-2642"]
["Taylor Hicks School - 130201014","Yavapai",4466,"130201000","Prescott Unified District",8130,"130201014","Taylor Hicks School",0.34607599999999999,9.4566999999999998E-2,0.44064399999999998,497]
["Taylor Intermediate School - 090205004","Navajo",4391,"090205000","Snowflake Unified District",5617,"090205004","Taylor Intermediate School",0.483871,0.12903200000000001,0.61290299999999998,248,"TAYLOR INTERMEDIATE SCHOOL","682 SCHOOL BUS LANE","SNOWFLAKE AZ 85937","() -","() -"]
["Taylor Junior High School - 070204258","Maricopa",4235,"070204000","Mesa Unified District",4975,"070204258","Taylor Junior High School",0.58112600000000003,9.2715000000000006E-2,0.67384100000000002,1206,"TAYLOR JUNIOR HIGH SCHOOL","705 S 32ND STREET","MESA AZ 85204","() -","() -"]
["Teenage Parent Program - TAPP - 100201676","Pima",4403,"100201000","Tucson Unified District",6272,"100201676","Teenage Parent Program - TAPP",0.92405099999999996,6.3291E-2,0.98734200000000005,79]
["Telesis Preparatory Academy - 088702001","Mohave",79218,"088702000","Telesis Center for Learning Inc.",78857,"088702001","Telesis Preparatory Academy",0.51656899999999994,0.101365,0.61793399999999998,449,"TELESIS PREPARATORY ACADEMY","2598 STARLITE LANE","LAKE HAVASU CITY AZ 86403","() -","() -"]
["Tempe High School - 070513091","Maricopa",4287,"070513000","Tempe Union High School District",5444,"070513091","Tempe High School",0.64746700000000001,7.7724000000000001E-2,0.72519100000000003,1441,"TEMPE HIGH SCHOOL","1730 S. MILL AVE.","TEMPE AZ 85281","() -","() -"]
["Terramar Elementary - 070297143","Maricopa",4246,"070297000","Deer Valley Unified District",81016,"070297143","Terramar Elementary",0.15498200000000001,3.8129999999999997E-2,0.19311200000000001,812,"TERRAMAR ELEMENTARY","7000 W. HAPPY VALLEY RD.","PEORIA AZ 85383","() -","() -"]
["Territorial Elementary School - 130251103","Yavapai",4474,"130251000","Chino Valley Unified District",78928,"130251103","Territorial Elementary School",0.77129999999999999,0.100897,0.872197,443]
["Thatcher Elementary School - 050204101","Graham",4219,"050204000","Thatcher Unified District",4887,"050204101","Thatcher Elementary School",0.34042600000000001,0.103723,0.44414900000000002,376,"THATCHER ELEMENTARY SCHOOL","P.O. BOX 610","THATCHER AZ 85552 0610","() -","() -"]
["Thatcher High School - 050204200","Graham",4219,"050204000","Thatcher Unified District",4889,"050204200","Thatcher High School",0.19230800000000001,6.6667000000000004E-2,0.25897399999999998,390,"THATCHER HIGH SCHOOL","P O BOX 610","THATCHER AZ 85552","() -","() -"]
["Thatcher Middle School - 050204102","Graham",4219,"050204000","Thatcher Unified District",4888,"050204102","Thatcher Middle School",0.27065499999999998,9.4017000000000003E-2,0.364672,351,"THATCHER MIDDLE SCHOOL","PO BOX 610","THATCHER AZ 85552 0610","() -","() -"]
["THE ACES - 072190001","Maricopa",4278,"070465000","Littleton Elementary District",7408,"072190001","THE ACES",0.62589899999999998,7.1942000000000006E-2,0.69784199999999996,417]
["The ACES-East - 072190002","Maricopa",4263,"070414000","Creighton Elementary District",87058,"072190002","The ACES-East",0.58536600000000005,5.3658999999999998E-2,0.63902400000000004,205]
["THE ACES-LITTLETON - 072190003","Maricopa",4278,"070465000","Littleton Elementary District",90771,"072190003","THE ACES-LITTLETON",0.66666700000000001,6.25E-2,0.72916700000000001,96]
["The Berean Schools - 028701001","Cochise",81027,"028701000","Cochise Community Development Corporation",81028,"028701001","The Berean Schools",0.41605799999999998,9.0024000000000007E-2,0.50608299999999995,411,"THE BEREAN SCHOOLS","1169 N. COLOMBO DRIVE","SIERRA VISTA AZ 85365","(520) 459-4113","(520) 459-4121"]
["The Childrens Center for Neurodevelopmental Studies - 072167001","Maricopa",4271,"070440000","Glendale Elementary District",7364,"072167001","The Childrens Center for Neurodevelopmental Studies",0.709677,6.4516000000000004E-2,0.77419400000000005,31]
["The Gloria Dusek Compass School - 211019001",null,79589,"211019000","Mohave County Juvenile Detention",79429,"211019001","The Gloria Dusek Compass School",1,0,1,85]
["THE NEW FOUNDATION - 072135001","Maricopa",7332,"072135000","THE NEW FOUNDATION",7333,"072135001","THE NEW FOUNDATION",1,0,1,38]
["The Paideia Academy of South Phoenix - 078206001","Maricopa",91250,"078206000","The Paideia Academies Inc",91775,"078206001","The Paideia Academy of South Phoenix",0.78132699999999999,9.8280000000000006E-2,0.87960700000000003,407,"THE PAIDEIA ACADEMY OF SOUTH PHOENIX","7777 SOUTH 15TH TERRACE","PHOENIX AZ 85042","(602) 343-3040","(800) 381-9029"]
["The Peak School - 038702101","Coconino",79866,"038702000","PEAK School Inc.",79884,"038702101","The Peak School",0.70198700000000003,0.139073,0.84106000000000003,151,"THE PEAK SCHOOL","2016 NORTH FIRST STREET A & B","FLAGSTAFF AZ 86004","(928) 779-0771","(928) 779-0774"]
["Theodore Roosevelt - 104001006","Pima",78760,"093905000","Theodore Roosevelt School",78761,"104001006","Theodore Roosevelt",0.86021499999999995,4.3011000000000001E-2,0.90322599999999997,93]
["Theresa Wing a Satellite Home - 072708003","Maricopa",84331,"072708000","Child Crisis Center -  East Valley Inc.",84334,"072708003","Theresa Wing a Satellite Home",1,0,1,15]
["Thomas A Edison School - 070401105","Maricopa",4256,"070401000","Phoenix Elementary District",5198,"070401105","Thomas A Edison School",0.95050900000000005,1.8922999999999999E-2,0.96943199999999996,687,"THOMAS A EDISON SCHOOL","804 N. 18TH STREET","PHOENIX AZ 85006","(602) 257-3867","( ) -"]
["Thomas M Knoles Elementary School - 030201122","Coconino",4192,"030201000","Flagstaff Unified District",4815,"030201122","Thomas M Knoles Elementary School",0.30489699999999997,5.3712000000000003E-2,0.35860999999999998,625,"THOMAS M KNOLES ELEMENTARY SCHOOL","4005 E BUTLER","FLAGSTAFF AZ 86004","() -","( ) -"]
["Thompson Ranch Elementary - 070289117","Maricopa",4243,"070289000","Dysart Unified District",84684,"070289117","Thompson Ranch Elementary",0.79533900000000002,7.0921999999999999E-2,0.86626099999999995,987,"THOMPSON RANCH ELEMENTARY","11800 WEST THOMPSON RANCH ROAD","EL MIRAGE AZ 85335","() -","() -"]
["Thornydale Elementary School - 100206113","Pima",4404,"100206000","Marana Unified District",5771,"100206113","Thornydale Elementary School",0.46633400000000003,8.4788000000000002E-2,0.551122,401]
["Thunderbird High School - 070505207","Maricopa",4285,"070505000","Glendale Union High School District",5432,"070505207","Thunderbird High School",0.39722200000000002,5.6944000000000002E-2,0.45416699999999999,1440,"THUNDERBIRD HIGH SCHOOL","1750 W. THUNDERBIRD","PHOENIX AZ 85023","() -","( ) -"]
["Thunderbolt Middle School - 080201102","Mohave",4368,"080201000","Lake Havasu Unified District",5560,"080201102","Thunderbolt Middle School",0.50702700000000001,8.3242999999999998E-2,0.59026999999999996,925,"THUNDERBOLT MIDDLE SCHOOL","695 THUNDERBOLT AVENUE","LAKE HAVASU CITY AZ 86406","(928) 854-7224","(928) 854-7482"]
["TIA East - 108714103","Pima",79979,"108714000","Tucson International Academy Inc.",90044,"108714103","TIA East",0.64102599999999998,3.8462000000000003E-2,0.67948699999999995,78]
["TIA West - 108714104","Pima",79979,"108714000","Tucson International Academy Inc.",90045,"108714104","TIA West",0.71428599999999998,0.1,0.81428599999999995,140]
["Tierra Del Sol Elementary School - 140411104","Yuma",4500,"140411000","Somerton Elementary District",6167,"140411104","Tierra Del Sol Elementary School",0.75480800000000003,0.11418300000000001,0.86899000000000004,832]
["Tiisyaakin Residential Hall Inc. - 094012001","Navajo",80081,"094012000","Tiisyaakin Residential Hall Inc",80082,"094012001","Tiisyaakin Residential Hall Inc.",0.63888900000000004,0.16666700000000001,0.80555600000000005,108]
["Tolleson Union High School - 070514201","Maricopa",4288,"070514000","Tolleson Union High School District",5452,"070514201","Tolleson Union High School",0.57958799999999999,0.116573,0.69616100000000003,2136,"TOLLESON UNION HIGH SCHOOL","9419 WEST VAN BUREN","TOLLESON AZ 85353 2804","() -","() -"]
["Tolson Elementary School - 100201417","Pima",4403,"100201000","Tucson Unified District",5724,"100201417","Tolson Elementary School",0.84237700000000004,4.3928000000000002E-2,0.88630500000000001,387]
["Toltec Elementary School - 110422102","Pinal",4450,"110422000","Toltec Elementary District",80312,"110422102","Toltec Elementary School",0.762463,8.9442999999999995E-2,0.85190600000000005,682]
["Toltec Middle School - 110422101","Pinal",4450,"110422000","Toltec Elementary District",5945,"110422101","Toltec Middle School",0.82135100000000005,0.106754,0.92810499999999996,459]
["Toltecali High School - 108793201","Pima",80032,"108793000","CPLC Community Schools dba Toltecalli High School",80033,"108793201","Toltecali High School",0.88461500000000004,8.9744000000000004E-2,0.97435899999999998,78]
["Tomahawk School - 070483118","Maricopa",4282,"070483000","Cartwright Elementary District",5415,"070483118","Tomahawk School",0.84231900000000004,5.4933999999999997E-2,0.89725299999999997,983,"TOMAHAWK SCHOOL","7820 WEST TURNEY AVENUE","PHOENIX AZ 85033","() -","( ) -"]
["Tombstone High School - 020201207","Cochise",4168,"020201000","Tombstone Unified District",4751,"020201207","Tombstone High School",0.38522400000000001,4.7493E-2,0.43271799999999999,367,"TOMBSTONE HIGH SCHOOL","P.O. BOX 1000","TOMBSTONE AZ 85638","(520) 457-2215","( ) -"]
["Tonalea Elementary School - 070248109","Maricopa",4240,"070248000","Scottsdale Unified District",5047,"070248109","Tonalea Elementary School",0.75551800000000002,5.7724999999999999E-2,0.81324300000000005,587,"TONALEA ELEMENTARY SCHOOL","6801 E. OAK STREET","SCOTTSDALE AZ 85257","(480) 484-3600","(480) 484-3601"]
["Tonalea School - 033904005","Coconino",8577,"034001000","Tonalea School",80405,"033904005","Tonalea School",0.96571399999999996,1.1429E-2,0.97714299999999998,208]
["Tonopah Valley High School - 070290002","Maricopa",4254,"070290000","Saddle Mountain Unified School District",85819,"070290002","Tonopah Valley High School",0.56498700000000002,7.6923000000000005E-2,0.64190999999999998,372,"TONOPAH VALLEY HIGH SCHOOL","38201 W. INDIAN SCHOOL RD.","TONOPAH AZ 85354","() -","() -"]
["Tonto Basin Elementary - 040333101","Gila",4215,"040333000","Tonto Basin Elementary District",4877,"040333101","Tonto Basin Elementary",0.75675700000000001,8.1081E-2,0.83783799999999997,74,"TONTO BASIN ELEMENTARY","P.O. BOX 337","TONTO BASIN AZ 85553 0337","() -","() -"]
["Topock Elementary School - 080412012","Mohave",4376,"080412000","Topock Elementary District",5581,"080412012","Topock Elementary School",0.78289500000000001,5.2631999999999998E-2,0.83552599999999999,147,"TOPOCK ELEMENTARY SCHOOL","P.O.BOX 370","TOPOCK AZ 86436","() -","( ) -"]
["Tortolita Middle School - 100206131","Pima",4404,"100206000","Marana Unified District",5780,"100206131","Tortolita Middle School",0.326681,9.4537999999999997E-2,0.42121799999999998,952]
["Town & Country Elementary School - 020268130","Cochise",4175,"020268000","Sierra Vista Unified District",4779,"020268130","Town & Country Elementary School",0.41162199999999999,5.8111000000000003E-2,0.46973399999999998,413,"TOWN & COUNTRY ELEMENTARY SCHOOL","1313 S. LENZNER AVE","SIERRA VISTA AZ 85635","() -","() -"]
["Towne Meadows Elementary School - 070241152","Maricopa",4239,"070241000","Gilbert Unified District",5035,"070241152","Towne Meadows Elementary School",0.20433000000000001,6.9012000000000004E-2,0.27334199999999997,739,"TOWNE MEADOWS ELEMENTARY SCHOOL","1101 N. RECKER ROAD","HIGLEY AZ 85234","() -","( ) -"]
["Townsend Middle School - 100201545","Pima",4403,"100201000","Tucson Unified District",5748,"100201545","Townsend Middle School",0.82906000000000002,3.6325000000000003E-2,0.86538499999999996,468]
["Trailside Point Elementary - 070459105","Maricopa",4276,"070459000","Laveen Elementary District",88421,"070459105","Trailside Point Elementary",0.64733700000000005,7.2189000000000003E-2,0.71952700000000003,845,"TRAILSIDE POINT ELEMENTARY","7275 W. VINEYARD ROAD","LAVEEN AZ 85339","(602) 605-8540","(602) 605-8545"]
["Tres Rios Elementary School - 070465108","Maricopa",4278,"070465000","Littleton Elementary District",89924,"070465108","Tres Rios Elementary School",0.69892500000000002,0.12414500000000001,0.82306900000000005,1021,"TRES RIOS ELEMENTARY SCHOOL","5025 S. 103RD AVENUE","TOLLESON AZ 85353","(623) 478-6300","(623) 478-6320"]
["Trevor Browne High School - 070510220","Maricopa",4286,"070510000","Phoenix Union High School District",5437,"070510220","Trevor Browne High School",0.76841400000000004,5.6526E-2,0.82494000000000001,2919,"TREVOR BROWNE HIGH SCHOOL","7402 W. CATALINA","PHOENIX AZ 85033","() -","() -"]
["Trinity Lutheran Church and School - 072059001","Maricopa",4281,"070479000","Litchfield Elementary District",90023,"072059001","Trinity Lutheran Church and School",3.4247E-2,2.3973000000000001E-2,5.8219E-2,292]
["Tsaile Elementary School - 010224165","Apache",4158,"010224000","Chinle Unified District",4735,"010224165","Tsaile Elementary School",0.74149699999999996,9.9773000000000001E-2,0.84126999999999996,425,"TSAILE ELEMENTARY SCHOOL","PO BOX 587","CHINLE AZ 86503","() -","( ) -"]
["Tse Ho Tso Primary Learning Center - 010208112","Apache",4154,"010208000","Window Rock Unified District",4715,"010208112","Tse Ho Tso Primary Learning Center",0.74573100000000003,9.2979000000000006E-2,0.83870999999999996,484,"TSE HO TSO PRIMARY LEARNING CENTER","P.O. BOX 559","FT DEFIANCE AZ 86504","() -","() -"]
["Tsehootsooi Middle School - 010208115","Apache",4154,"010208000","Window Rock Unified District",4716,"010208115","Tsehootsooi Middle School",0.66006100000000001,8.2317000000000001E-2,0.74237799999999998,508,"TSEHOOTSOOI MIDDLE SCHOOL","P.O. BOX 559","FT. DEFIANCE AZ 86504","(928) 729-6805","(928) 729-7572"]
["Tse'yaato' High School - 030199006","Coconino",4196,"030208000","Page Unified District",81127,"030199006","Tse'yaato' High School",0.73584899999999998,7.5471999999999997E-2,0.81132099999999996,50]
["Tuba City Alternative School - 030215140","Coconino",4197,"030215000","Tuba City Unified District",78916,"030215140","Tuba City Alternative School",0.79545500000000002,6.8182000000000006E-2,0.86363599999999996,40,"TUBA CITY ALTERNATIVE SCHOOL","P.O. BOX 67","TUBA CITY AZ 86045","() -","() -"]
["Tuba City Boarding School - 033904007","Coconino",8578,"034002000","Tuba City Boarding School",80411,"033904007","Tuba City Boarding School",0.70078099999999999,9.375E-2,0.79453099999999999,1280]
["Tuba City High School - 030215240","Coconino",4197,"030215000","Tuba City Unified District",4838,"030215240","Tuba City High School",0.64255300000000004,0.102128,0.74468100000000004,684,"TUBA CITY HIGH SCHOOL","P.O. BOX 67","TUBA CITY AZ 86045","() -","() -"]
["Tuba City Junior High School - 030215130","Coconino",4197,"030215000","Tuba City Unified District",4837,"030215130","Tuba City Junior High School",0.75720200000000004,0.102881,0.86008200000000001,253,"TUBA CITY JUNIOR HIGH SCHOOL","P. O. BOX 67","TUBA CITY AZ 86045","() -","() -"]
["Tuba City Primary School - 030215110","Coconino",4197,"030215000","Tuba City Unified District",4833,"030215110","Tuba City Primary School",0.75757600000000003,6.3131000000000007E-2,0.82070699999999996,448,"TUBA CITY PRIMARY SCHOOL","BOX 67","TUBA CITY AZ 86045","() -","() -"]
["Tucson International Academy - 108714101","Pima",79979,"108714000","Tucson International Academy Inc.",79980,"108714101","Tucson International Academy",0.77868899999999996,0.14754100000000001,0.92623,122]
["Tucson International Academy Midvale - 108714102","Pima",79979,"108714000","Tucson International Academy Inc.",84297,"108714102","Tucson International Academy Midvale",0.86014000000000002,9.0909000000000004E-2,0.95104900000000003,143]
["Tucson Magnet High School - 100201660","Pima",4403,"100201000","Tucson Unified District",5764,"100201660","Tucson Magnet High School",0.52384200000000003,6.4254000000000006E-2,0.58809599999999995,2957]
["Tully Elementary Accelerated Magnet School - 100201419","Pima",4403,"100201000","Tucson Unified District",5725,"100201419","Tully Elementary Accelerated Magnet School",0.82027600000000001,4.3778999999999998E-2,0.86405500000000002,434]
["Tumbleweed Elementary School - 070406166","Maricopa",4260,"070406000","Washington Elementary School District",5273,"070406166","Tumbleweed Elementary School",0.716418,9.1417999999999999E-2,0.807836,536,"TUMBLEWEED ELEMENTARY SCHOOL","4001 W LAUREL LN","PHOENIX AZ 85029 3031","() -","() -"]
["Tumbleweed Group Home I - 072704001","Maricopa",80214,"072704000","Tumbleweed Center for Youth",80215,"072704001","Tumbleweed Group Home I",1,0,1,29]
["Tumbleweed Group Home II - 072704002","Maricopa",80214,"072704000","Tumbleweed Center for Youth",80216,"072704002","Tumbleweed Group Home II",1,0,1,17]
["Tumbleweed Group Home III - 072704003","Maricopa",80214,"072704000","Tumbleweed Center for Youth",80217,"072704003","Tumbleweed Group Home III",1,0,1,18]
["Tumbleweed Group Home IV - 072704004","Maricopa",80214,"072704000","Tumbleweed Center for Youth",80218,"072704004","Tumbleweed Group Home IV",1,0,1,13]
["Tumbleweed Shelter - 072704005","Maricopa",80214,"072704000","Tumbleweed Center for Youth",90811,"072704005","Tumbleweed Shelter",1,0,1,19]
["Turning Point Shelter - 102703009","Pima",80110,"102703000","Open-Inn Inc",80119,"102703009","Turning Point Shelter",1,0,1,7]
["Tuscano Elementary School - 070445107","Maricopa",4273,"070445000","Fowler Elementary District",87521,"070445107","Tuscano Elementary School",0.720445,7.2322999999999998E-2,0.79276800000000003,719,"TUSCANO ELEMENTARY SCHOOL","3850 S 79TH AVE","PHOENIX AZ 85043","(623) 707-2300","( ) -"]
["Twin Peaks Elementary School - 100206121","Pima",4404,"100206000","Marana Unified District",79445,"100206121","Twin Peaks Elementary School",0.23936199999999999,7.0921999999999999E-2,0.310284,564]
["Union Elementary School - 070462101","Maricopa",4277,"070462000","Union Elementary District",5359,"070462101","Union Elementary School",0.83018899999999995,4.4025000000000002E-2,0.87421400000000005,159,"UNION ELEMENTARY SCHOOL","3834 S. 91ST AVE.","TOLLESON AZ 85353","() -","() -"]
["Unity House - 072785005","Maricopa",90039,"072785000","Back To Life Inc.",90544,"072785005","Unity House",1,0,1,10]
["Utterback Middle School - 100201550","Pima",4403,"100201000","Tucson Unified District",5749,"100201550","Utterback Middle School",0.82032400000000005,5.8909999999999997E-2,0.87923399999999996,679]
["V H Lassen Elementary School - 070466013","Maricopa",4279,"070466000","Roosevelt Elementary District",5373,"070466013","V H Lassen Elementary School",0.91148799999999996,6.0263999999999998E-2,0.97175100000000003,530,"V H LASSEN ELEMENTARY SCHOOL","909 W VINEYARD","PHOENIX AZ 85041","() -","() -"]
["Vail Academy & High School - 100220701","Pima",4413,"100220000","Vail Unified District",10855,"100220701","Vail Academy & High School",0.17982500000000001,0.10087699999999999,0.28070200000000001,456]
["Val Vista Lakes Elementary School - 070241148","Maricopa",4239,"070241000","Gilbert Unified District",5031,"070241148","Val Vista Lakes Elementary School",0.19263,6.1976999999999997E-2,0.254606,597,"VAL VISTA LAKES ELEMENTARY SCHOOL","1030 NORTH BLUE GROTTO","GILBERT AZ 85234","() -","( ) -"]
["Valencia Middle School - 100201557","Pima",4403,"100201000","Tucson Unified District",5751,"100201557","Valencia Middle School",0.78390499999999996,6.5573999999999993E-2,0.84947799999999996,671]
["Valle Del Encanto Learning Center - 140411105","Yuma",4500,"140411000","Somerton Elementary District",87330,"140411105","Valle Del Encanto Learning Center",0.71389599999999998,0.12534100000000001,0.83923700000000001,367]
["Valley High School - 010218003","Apache",4156,"010218000","Sanders Unified District",4724,"010218003","Valley High School",0.827206,4.7794000000000003E-2,0.875,272,"VALLEY HIGH SCHOOL","P O BOX 250","SANDERS AZ 86512","(928) 688-4200","(928) 688-4202"]
["Valley Horizon Elementary School - 140413106","Yuma",4501,"140413000","Crane Elementary District",6175,"140413106","Valley Horizon Elementary School",0.61129599999999995,0.12292400000000001,0.73421899999999996,602]
["Valley Union High School - 020522201","Cochise",4190,"020522000","Valley Union High School District",4800,"020522201","Valley Union High School",0.57723599999999997,0.138211,0.71544700000000006,123,"VALLEY UNION HIGH SCHOOL","PO BOX 158","ELFRIDA AZ 85610","() -","( ) -"]
["Valley View Elementary School - 020349103","Cochise",4180,"020349000","Palominas Elementary District",78914,"020349103","Valley View Elementary School",0.38812799999999997,8.2192000000000001E-2,0.47032000000000002,219,"VALLEY VIEW ELEMENTARY SCHOOL","P.O. BOX 38","HEREFORD AZ 85615","() -","( ) -"]
["Valley View School - 070466006","Maricopa",4279,"070466000","Roosevelt Elementary District",5367,"070466006","Valley View School",0.848306,7.6582999999999998E-2,0.92488999999999999,671,"VALLEY VIEW SCHOOL","8220 S 7TH AVE","PHOENIX AZ 85041","() -","() -"]
["Valley Vista High School - 070289220","Maricopa",4243,"070289000","Dysart Unified District",88417,"070289220","Valley Vista High School",0.40971299999999999,9.8455000000000001E-2,0.50816799999999995,2265,"VALLEY VISTA HIGH SCHOOL","15550 N. PARKVIEW PLACE","SURPRISE AZ 85374","(623) 523-8800","(623) 523-8811"]
["Valor Group Home - 072102003","Maricopa",7295,"072102000","Devereux Arizona",85809,"072102003","Valor Group Home",1,0,1,10]
["Van Buskirk Elementary School - 100201431","Pima",4403,"100201000","Tucson Unified District",5726,"100201431","Van Buskirk Elementary School",0.91606699999999996,3.8369E-2,0.95443599999999995,417]
["Vasquez De Coronado Francisco School - 120201108","Santa Cruz",4457,"120201000","Nogales Unified District",5955,"120201108","Vasquez De Coronado Francisco School",0.508108,0.106306,0.61441400000000002,555]
["Vechij Himdag MashchamakuD - 118707001","Pinal",4455,"118707000","Vechij Himdag Alternative School Inc.",5952,"118707001","Vechij Himdag MashchamakuD",0.57142899999999996,5.7142999999999999E-2,0.62857099999999999,70]
["Vector Prep and Arts Academy - 078562001","Maricopa",79084,"078914000","Skyline Schools Inc.",90318,"078562001","Vector Prep and Arts Academy",0.75968999999999998,7.7519000000000005E-2,0.83720899999999998,129,"VECTOR PREP AND ARTS ACADEMY","2020 N. ARIZONA AVE. 62","CHANDLER AZ 85225","(480) 779-2000","(480) 779-2099"]
["Ventana Vista Elementary School - 100216108","Pima",4410,"100216000","Catalina Foothills Unified District",5838,"100216108","Ventana Vista Elementary School",0.121212,2.2221999999999999E-2,0.14343400000000001,495]
["Vernon Elementary School - 010309101","Apache",4153,"010201000","St Johns Unified District",4744,"010309101","Vernon Elementary School",0.71559600000000001,3.6697E-2,0.75229400000000002,109,"VERNON ELEMENTARY SCHOOL","P. O. BOX 89","VERNON AZ 85940","(928) 537-5463","(928) 537-1820"]
["Verrado Elementary School - 070479113","Maricopa",4281,"070479000","Litchfield Elementary District",89586,"070479113","Verrado Elementary School",0.16481100000000001,6.1247000000000003E-2,0.22605800000000001,898,"VERRADO ELEMENTARY SCHOOL","272 E. SAGEBRUSH ST.","LITCHFIELD PARK AZ 85340","(623) 547-1600","( ) -"]
["Verrado High School - 070516204","Maricopa",4289,"070516000","Agua Fria Union High School District",87903,"070516204","Verrado High School",0.21962000000000001,9.3037999999999996E-2,0.31265799999999999,1580,"VERRADO HIGH SCHOOL","20050 W. INDIAN SCHOOL ROAD","BUCKEYE AZ 85326","() -","() -"]
["Verrado Middle School - 070479110","Maricopa",4281,"070479000","Litchfield Elementary District",85844,"070479110","Verrado Middle School",0.22311600000000001,7.2361999999999996E-2,0.29547699999999999,995,"VERRADO MIDDLE SCHOOL","272 E. SAGEBRUSH ST.","LITCHFIELD PARK AZ 85340","() -","( ) -"]
["Vesey Elementary School - 100201435","Pima",4403,"100201000","Tucson Unified District",5728,"100201435","Vesey Elementary School",0.70397600000000005,9.4256000000000006E-2,0.79823299999999997,679]
["Victoria - 102133009","Pima",7909,"102133000","LA PALOMA FAMILY SERVICES Inc.",80448,"102133009","Victoria",1,0,1,6]
["Victory High School - Campus - 078757202","Maricopa",4358,"078757000","Victory High School Inc.",78822,"078757202","Victory High School - Campus",0.85714299999999999,0,0.85714299999999999,14,"VICTORY HIGH SCHOOL - CAMPUS","P O BOX 8374","PHOENIX AZ 85066","() -","( ) -"]
["Villa De Paz Elementary School - 070492015","Maricopa",4283,"070492000","Pendergast Elementary District",5420,"070492015","Villa De Paz Elementary School",0.73007699999999998,7.0694000000000007E-2,0.80077100000000001,763,"VILLA DE PAZ ELEMENTARY SCHOOL","4940 NORTH 103RD AVENUE","PHOENIX AZ 85037","() -","( ) -"]
["Villa Oasis Interscholastic Center For Education (voice) - 110100003","Pinal",4435,"110100000","Mary C O'Brien Accommodation District",6067,"110100003","Villa Oasis Interscholastic Center For Education (voice)",0.63302800000000004,9.1743000000000005E-2,0.72477100000000005,87]
["Village Meadows Elementary School - 070297112","Maricopa",4246,"070297000","Deer Valley Unified District",5143,"070297112","Village Meadows Elementary School",0.75849100000000003,8.4905999999999995E-2,0.84339600000000003,524,"VILLAGE MEADOWS ELEMENTARY SCHOOL","2020 WEST MORNINGSIDE DRIVE","PHOENIX AZ 85023","(602) 467-6300","(602) 467-3680"]
["Village Meadows Elementary School - 020268135","Cochise",4175,"020268000","Sierra Vista Unified District",4780,"020268135","Village Meadows Elementary School",0.45119300000000001,5.8568000000000002E-2,0.50976100000000002,461,"VILLAGE MEADOWS ELEMENTARY SCHOOL","905 EL CAMINO REAL","SIERRA VISTA AZ 85635","() -","() -"]
["Village Vista Elementary School - 070269158","Maricopa",4241,"070269000","Paradise Valley Unified District",5097,"070269158","Village Vista Elementary School",0.50117599999999995,0.11529399999999999,0.61647099999999999,380,"VILLAGE VISTA ELEMENTARY SCHOOL","4215 E. ANDORA DR.","PHOENIX AZ 85032","(602) 449-3600","(602) 493-6239"]
["Villago Middle School - 110404131","Pinal",4446,"110404000","Casa Grande Elementary District",89579,"110404131","Villago Middle School",0.58343199999999995,8.8757000000000003E-2,0.67218900000000004,840]
["Vineyard Place - 072770002","Maricopa",86874,"072770000","Grace of Serenity Living Inc.",87282,"072770002","Vineyard Place",1,0,1,5]
["Vista Alternative School - 140570204","Yuma",4507,"140570000","Yuma Union High School District",6302,"140570204","Vista Alternative School",0.71590900000000002,0.102273,0.81818199999999996,264]
["Vista Del Sur Traditional School - 070459103","Maricopa",4276,"070459000","Laveen Elementary District",5358,"070459103","Vista Del Sur Traditional School",0.38773000000000002,0.12515299999999999,0.51288299999999998,814,"VISTA DEL SUR TRADITIONAL SCHOOL","3908 W. SOUTH MOUNTAIN AVE","LAVEEN AZ 85339","(602) 237-3046","(602) 237-1976"]
["Vista Grande High School - 110502004","Pinal",4453,"110502000","Casa Grande Union High School District",90084,"110502004","Vista Grande High School",0.50509300000000001,0.13181499999999999,0.63690800000000003,1669]
["Vista Grove Preparatory Academy Middle School - 078946001","Maricopa",79871,"078946000","Kaizen Education Foundation dba Vista Grove Preparatory Academy Middle School",79177,"078946001","Vista Grove Preparatory Academy Middle School",0.83544300000000005,3.7975000000000002E-2,0.87341800000000003,79,"VISTA GROVE PREPARATORY ACADEMY MIDDLE SCHOOL","2929 E. MCKELLIPS ROAD","MESA AZ 85213","(480) 288-0337","(480) 288-0340"]
["Vista Verde Middle School - 070269171","Maricopa",4241,"070269000","Paradise Valley Unified District",5100,"070269171","Vista Verde Middle School",0.548813,9.8945000000000005E-2,0.64775700000000003,684,"VISTA VERDE MIDDLE SCHOOL","2826 E GROVERS","PHOENIX AZ 85032","(602) 449-5300","( ) -"]
["Vistancia Elementary School - 070211130","Maricopa",4237,"070211000","Peoria Unified School District",88397,"070211130","Vistancia Elementary School",9.8778000000000005E-2,3.1567999999999999E-2,0.13034599999999999,982,"VISTANCIA ELEMENTARY SCHOOL","30009 N. SUNRISE POINT","PEORIA AZ 85383","(623) 773-6500","(623) 773-6507"]
["Vulture Peak School - 070209103","Maricopa",4236,"070209000","Wickenburg Unified District",4986,"070209103","Vulture Peak School",0.54198500000000005,5.7251999999999997E-2,0.59923700000000002,262,"VULTURE PEAK SCHOOL","920 SOUTH VULTURE MINE RD.","WICKENBURG AZ 85390","() -","() -"]
["W Arthur Sewel Elementary School - 100201395","Pima",4403,"100201000","Tucson Unified District",5719,"100201395","W Arthur Sewel Elementary School",0.57714299999999996,5.1429000000000002E-2,0.62857099999999999,350]
["W F Killip Elementary School - 030201114","Coconino",4192,"030201000","Flagstaff Unified District",4808,"030201114","W F Killip Elementary School",0.66254400000000002,8.4806000000000006E-2,0.74734999999999996,462,"W F KILLIP ELEMENTARY SCHOOL","2300 E 6TH AVE","FLAGSTAFF AZ 86004","() -","( ) -"]
["W V Whitmore Elementary School - 100201455","Pima",4403,"100201000","Tucson Unified District",5732,"100201455","W V Whitmore Elementary School",0.58589000000000002,4.2944999999999997E-2,0.628834,326]
["Wade Carpenter Middle School - 120201111","Santa Cruz",4457,"120201000","Nogales Unified District",5956,"120201111","Wade Carpenter Middle School",0.88153800000000004,5.5384999999999997E-2,0.93692299999999995,650]
["Wakefield Middle School - 100201560","Pima",4403,"100201000","Tucson Unified District",5752,"100201560","Wakefield Middle School",0.95853699999999997,2.1950999999999998E-2,0.98048800000000003,410]
["Walden Grove High School - 100230205","Pima",4411,"100230000","Sahuarita Unified District",90824,"100230205","Walden Grove High School",0.25316499999999997,6.6456000000000001E-2,0.31962000000000002,632]
["Walker Butte K-8 - 110201102","Pinal",4437,"110201000","Florence Unified School District",79415,"110201102","Walker Butte K-8",0.50411499999999998,0.108025,0.61214000000000002,972]
["Wallace Elementary School - 150227102","La Paz",4510,"150227000","Parker Unified School District",6195,"150227102","Wallace Elementary School",0.62694300000000003,0.115717,0.74265999999999999,579]
["Walter Douglas Elementary School - 100208130","Pima",4405,"100208000","Flowing Wells Unified District",5786,"100208130","Walter Douglas Elementary School",0.86506700000000003,4.7975999999999998E-2,0.91304300000000005,667]
["Walter J Meyer School - 020201102","Cochise",4168,"020201000","Tombstone Unified District",4750,"020201102","Walter J Meyer School",0.50666699999999998,0.08,0.58666700000000005,75,"WALTER J MEYER SCHOOL","P.O. BOX 1000","TOMBSTONE AZ 85638","() -","() -"]
["Ward Traditional Academy - 070403161","Maricopa",4258,"070403000","Tempe School District",81057,"070403161","Ward Traditional Academy",0.20588200000000001,4.4117999999999997E-2,0.25,471,"WARD TRADITIONAL ACADEMY","1965 EAST HERMOSA DRIVE","TEMPE AZ 85282","() -","() -"]
["Washington Elementary School - 070204126","Maricopa",4235,"070204000","Mesa Unified District",4938,"070204126","Washington Elementary School",0.52941199999999999,8.9076000000000002E-2,0.61848700000000001,592,"WASHINGTON ELEMENTARY SCHOOL","2260 WEST ISABELLA AVE","MESA AZ 85202","() -","() -"]
["Washington Elementary School - 070406168","Maricopa",4260,"070406000","Washington Elementary School District",5275,"070406168","Washington Elementary School",0.79354199999999997,6.3601000000000005E-2,0.85714299999999999,960,"WASHINGTON ELEMENTARY SCHOOL","8033 N 27TH AVE","PHOENIX AZ 85051","() -","() -"]
["Washington High School - 070505203","Maricopa",4285,"070505000","Glendale Union High School District",5428,"070505203","Washington High School",0.63980800000000004,7.8172000000000005E-2,0.71797999999999995,1663,"WASHINGTON HIGH SCHOOL","2217 W. GLENDALE AVE.","PHOENIX AZ 85021","() -","( ) -"]
["Washington School - 090201104","Navajo",4387,"090201000","Winslow Unified District",5602,"090201104","Washington School",0.64827599999999996,9.3103000000000005E-2,0.74137900000000001,340,"WASHINGTON SCHOOL","P.O. BOX 580","WINSLOW AZ 86047","() -","() -"]
["Washington Traditional School - 130201015","Yavapai",4466,"130201000","Prescott Unified District",8131,"130201015","Washington Traditional School",0.52941199999999999,7.4302999999999994E-2,0.603715,323]
["Webster Elementary School - 070204115","Maricopa",4235,"070204000","Mesa Unified District",4927,"070204115","Webster Elementary School",0.85142099999999998,4.6511999999999998E-2,0.89793299999999998,774,"WEBSTER ELEMENTARY SCHOOL","202 N SYCAMORE","MESA AZ 85201","() -","() -"]
["Weinberg Elementary School - 070280115","Maricopa",4242,"070280000","Chandler Unified District #80",5120,"070280115","Weinberg Elementary School",0.17063999999999999,4.8933999999999998E-2,0.21957299999999999,797,"WEINBERG ELEMENTARY SCHOOL","5245 SOUTH VAL VISTA DRIVE","GILBERT AZ 85298","(480) 812-7500","(480) 812-7520"]
["Weitzel's Puente de Hozho Bilingual Magnet School - 030201121","Coconino",4192,"030201000","Flagstaff Unified District",79665,"030201121","Weitzel's Puente de Hozho Bilingual Magnet School",0.45526299999999997,7.8947000000000003E-2,0.53421099999999999,372,"WEITZEL'S PUENTE DE HOZHO BILINGUAL MAGNET SCHOOL","3401 N. FOURTH STREET","FLAGSTAFF AZ 86004","() -","( ) -"]
["Wellton Elementary School - 140424101","Yuma",4504,"140424000","Wellton Elementary District",6182,"140424101","Wellton Elementary School",0.66279100000000002,0.14534900000000001,0.80813999999999997,344]
["Wenden Elementary School - 150419101","La Paz",4512,"150419000","Wenden Elementary District",6200,"150419101","Wenden Elementary School",0.26388899999999998,0.27777800000000002,0.54166700000000001,114]
["West Elementary School - 110221001","Pinal",4442,"110221000","Coolidge Unified District",5911,"110221001","West Elementary School",0.84881899999999999,4.5669000000000001E-2,0.89448799999999995,635]
["West Phoenix High School - 078956001","Maricopa",79879,"078956000","American Charter Schools Foundation d.b.a. West Phoenix High School",6348,"078956001","West Phoenix High School",0.88316799999999995,3.1683000000000003E-2,0.91485099999999997,660,"WEST PHOENIX HIGH SCHOOL","3835 WEST THOMAS ROAD","PHOENIX AZ 85019","(602) 269-1110","(602) 269-1112"]
["West Point Elementary - 070289108","Maricopa",4243,"070289000","Dysart Unified District",79632,"070289108","West Point Elementary",0.38173299999999999,8.6651000000000006E-2,0.46838400000000002,854,"WEST POINT ELEMENTARY","13700 W. GREENWAY ROAD","SURPRISE AZ 85374","() -","() -"]
["West Sedona Elementary School - 130209120","Yavapai",4467,"130209000","Sedona-Oak Creek JUSD #9",6083,"130209120","West Sedona Elementary School",0.57709299999999997,6.6078999999999999E-2,0.64317199999999997,454]
["West Wing Elementary - 070297147","Maricopa",4246,"070297000","Deer Valley Unified District",87528,"070297147","West Wing Elementary",8.4761000000000003E-2,3.6068999999999997E-2,0.12083000000000001,1103,"WEST WING ELEMENTARY","26716 N HIGH DESERT DRIVE","PEORIA AZ 85383","() -","( ) -"]
["Westar Elementary School - 070425104","Maricopa",4266,"070425000","Liberty Elementary District",79846,"070425104","Westar Elementary School",0.146067,6.4204999999999998E-2,0.21027299999999999,623,"WESTAR ELEMENTARY SCHOOL","19818 W. HWY 85","BUCKEYE AZ 85326","() -","() -"]
["Western Peaks Elementary - 070289121","Maricopa",4243,"070289000","Dysart Unified District",88415,"070289121","Western Peaks Elementary",0.30740699999999999,0.11358,0.42098799999999997,810,"WESTERN PEAKS ELEMENTARY","18063 W SURPRISE FARMS LOOP SOUTH","SURPRISE AZ 85388","() -","() -"]
["Western Sky Middle School - 070479103","Maricopa",4281,"070479000","Litchfield Elementary District",5395,"070479103","Western Sky Middle School",0.29864299999999999,4.9773999999999999E-2,0.348416,884,"WESTERN SKY MIDDLE SCHOOL","272 E. SAGEBRUSH ST.","LITCHFIELD PARK AZ 85340","() -","( ) -"]
["Western Valley Elementary School - 070445105","Maricopa",4273,"070445000","Fowler Elementary District",80915,"070445105","Western Valley Elementary School",0.79270099999999999,7.2993000000000002E-2,0.86569300000000005,685,"WESTERN VALLEY ELEMENTARY SCHOOL","6250 W. DURANGO","PHOENIX AZ 85043","(623) 707-2100","( ) -"]
["Western Valley Middle School - 070445106","Maricopa",4273,"070445000","Fowler Elementary District",80916,"070445106","Western Valley Middle School",0.81559400000000004,8.0446000000000004E-2,0.89603999999999995,808,"WESTERN VALLEY MIDDLE SCHOOL","6250 WEST DURANGO","PHOENIX AZ 85043","(623) 707-2200","( ) -"]
["Westland School - 078995001","Maricopa",5186,"078995000","Cholla Academy",10801,"078995001","Westland School",0.72284599999999999,6.3670000000000004E-2,0.78651700000000002,267,"WESTLAND SCHOOL","4141 N. 67TH AVE","PHOENIX AZ 85033","() -","() -"]
["Westpark Elementary School - 070433103","Maricopa",4269,"070433000","Buckeye Elementary District",88398,"070433103","Westpark Elementary School",0.54584500000000002,0.13037199999999999,0.67621799999999999,698,"WESTPARK ELEMENTARY SCHOOL","210 S. 6TH STREET","BUCKEYE AZ 85326","() -","( ) -"]
["Westview High School - 070514202","Maricopa",4288,"070514000","Tolleson Union High School District",5453,"070514202","Westview High School",0.44050899999999998,0.108635,0.54914399999999997,2513,"WESTVIEW HIGH SCHOOL","10850 W. GARDEN LAKES PARKWAY","AVONDALE AZ 85353","(623) 478-4600","( ) -"]
["Westwind Elementary School - 070492023","Maricopa",4283,"070492000","Pendergast Elementary District",80417,"070492023","Westwind Elementary School",0.70622399999999996,7.4689000000000005E-2,0.78091299999999997,1203,"WESTWIND ELEMENTARY SCHOOL","3802 N 91ST AVE","PHOENIX AZ 85037","(623) 772-2700","(623) 772-8464"]
["Westwood High School - 070204272","Maricopa",4235,"070204000","Mesa Unified District",4981,"070204272","Westwood High School",0.62339,8.3535999999999999E-2,0.70692699999999997,2870,"WESTWOOD HIGH SCHOOL","945 W 8TH STREET","MESA AZ 85201","() -","() -"]
["Westwood Primary School - 070468114","Maricopa",4280,"070468000","Alhambra Elementary District",5392,"070468114","Westwood Primary School",0.954461,2.2304999999999998E-2,0.97676600000000002,1076,"WESTWOOD PRIMARY SCHOOL","4711 N. 23RD AVE.","PHOENIX AZ 85015","(602) 242-2442","(602) 242-2514"]
["Wheeler Elementary School - 100201443","Pima",4403,"100201000","Tucson Unified District",5730,"100201443","Wheeler Elementary School",0.64601799999999998,5.0146999999999997E-2,0.69616500000000003,339]
["Whipple Ranch Elementary School - 090210111","Navajo",4393,"090210000","Show Low Unified District",5626,"090210111","Whipple Ranch Elementary School",0.61771100000000001,4.7516000000000003E-2,0.66522700000000001,463,"WHIPPLE RANCH ELEMENTARY SCHOOL","500 WEST OLD LINDEN ROAD","SHOW LOW AZ 85901","() -","() -"]
["Whispering Wind Academy - 070269139","Maricopa",4241,"070269000","Paradise Valley Unified District",5088,"070269139","Whispering Wind Academy",0.28006900000000001,3.7801000000000001E-2,0.31786900000000001,533,"WHISPERING WIND ACADEMY","15844 NORTH 43RD STREET","PHOENIX AZ 85032","(602) 449-7300","( ) -"]
["White Cliffs Middle School - 080220118","Mohave",79598,"080220000","Kingman Unified School District",88409,"080220118","White Cliffs Middle School",0.56586800000000004,7.1856000000000003E-2,0.63772499999999999,665,"WHITE CLIFFS MIDDLE SCHOOL","400 GRANDVIEW AVENUE","KINGMAN AZ 86401","(928) 753-6238","(928) 753-4042"]
["Whiteriver Elementary - 090220101","Navajo",4394,"090220000","Whiteriver Unified District",5633,"090220101","Whiteriver Elementary",0.77892600000000001,0.10124,0.88016499999999998,598,"WHITERIVER ELEMENTARY","BOX 190","WHITERIVER AZ 85941","() -","( ) -"]
["Whitman Elementary School - 070204117","Maricopa",4235,"070204000","Mesa Unified District",4929,"070204117","Whitman Elementary School",0.83499999999999996,6.6250000000000003E-2,0.90125,792,"WHITMAN ELEMENTARY SCHOOL","1829 N GRAND","MESA AZ 85201","() -","() -"]
["Whittier Elementary School - 070204116","Maricopa",4235,"070204000","Mesa Unified District",4928,"070204116","Whittier Elementary School",0.71006899999999995,8.5069000000000006E-2,0.79513900000000004,574,"WHITTIER ELEMENTARY SCHOOL","733 N LONGMORE","MESA AZ 85201","() -","() -"]
["Whittier Elementary School - 070401125","Maricopa",4256,"070401000","Phoenix Elementary District",5209,"070401125","Whittier Elementary School",0.86206899999999997,6.7151000000000002E-2,0.92922000000000005,551,"WHITTIER ELEMENTARY SCHOOL","2000 N. 16TH STREET","PHOENIX AZ 85006","(602) 257-3925","( ) -"]
["Wickenburg High School - 070209201","Maricopa",4236,"070209000","Wickenburg Unified District",4987,"070209201","Wickenburg High School",0.43952799999999997,6.7847000000000005E-2,0.50737500000000002,678,"WICKENBURG HIGH SCHOOL","1090 SOUTH VULTURE MINE ROAD","WICKENBURG AZ 85390","() -","() -"]
["Wide Ruins Community School - 014012003","Apache",80222,"014010000","Wide Ruins Community School",80223,"014012003","Wide Ruins Community School",0.84821400000000002,0.107143,0.95535700000000001,113]
["Wigwam Creek Middle School - 070479107","Maricopa",4281,"070479000","Litchfield Elementary District",79221,"070479107","Wigwam Creek Middle School",0.39581,0.13120200000000001,0.52701200000000004,907,"WIGWAM CREEK MIDDLE SCHOOL","272 E. SAGEBRUSH ST.","LITCHFIELD PARK AZ 85340","() -","( ) -"]
["Wildcat School - 108729101","Pima",88227,"108729000","Wildcat Secondary School",88228,"108729101","Wildcat School",0.78325100000000003,4.4334999999999999E-2,0.82758600000000004,203]
["Wildfire Elementary School - 070269132","Maricopa",4241,"070269000","Paradise Valley Unified District",88406,"070269132","Wildfire Elementary School",5.4974000000000002E-2,6.5449999999999996E-3,6.1518000000000003E-2,709,"WILDFIRE ELEMENTARY SCHOOL","3997 E. LOCKWOOD DRIVE","PHOENIX AZ 85050","() -","( ) -"]
["Wildflower School - 070444106","Maricopa",4272,"070444000","Avondale Elementary District",78924,"070444106","Wildflower School",0.51669900000000002,0.121807,0.63850700000000005,508,"WILDFLOWER SCHOOL","325 S. WILDFLOWER DRIVE","GOODYEAR AZ 85338","(623) 772-5200","(623) 772-5220"]
["Willcox Elementary School - 020213101","Cochise",4170,"020213000","Willcox Unified District",4755,"020213101","Willcox Elementary School",0.74315799999999999,0.08,0.82315799999999995,475,"WILLCOX ELEMENTARY SCHOOL","501 W DELOS STREET","WILLCOX AZ 85643","(520) 384-8603","(520) 386-6039"]
["Willcox High School - 020213201","Cochise",4170,"020213000","Willcox Unified District",4757,"020213201","Willcox High School",0.55619600000000002,6.9164000000000003E-2,0.62536000000000003,347,"WILLCOX HIGH SCHOOL","240 N BISBEE AVE","WILLCOX AZ 85643","(520) 384-8601","( ) -"]
["Willcox Middle School - 020213102","Cochise",4170,"020213000","Willcox Unified District",4756,"020213102","Willcox Middle School",0.7,9.1666999999999998E-2,0.79166700000000001,360,"WILLCOX MIDDLE SCHOOL","360 N BISBEE AVE","WILLCOX AZ 85643","(520) 384-8602","(520) 384-6322"]
["William C Jack School - 070440105","Maricopa",4271,"070440000","Glendale Elementary District",5336,"070440105","William C Jack School",0.92764599999999997,4.3196999999999999E-2,0.97084199999999998,914,"WILLIAM C JACK SCHOOL","6600 WEST MISSOURI AVENUE","GLENDALE AZ 85301 5541","() -","() -"]
["William R Sullivan Elementary School - 070421103","Maricopa",4265,"070421000","Murphy Elementary District",5292,"070421103","William R Sullivan Elementary School",0.94020899999999996,2.2422000000000001E-2,0.96263100000000001,669,"WILLIAM R SULLIVAN ELEMENTARY SCHOOL","2 N. 31 AVE.","PHOENIX AZ 85009","() -","() -"]
["William T Machan Elementary School - 070414150","Maricopa",4263,"070414000","Creighton Elementary District",5286,"070414150","William T Machan Elementary School",0.94675500000000001,2.4958000000000001E-2,0.97171399999999997,585,"WILLIAM T MACHAN ELEMENTARY SCHOOL","2140 E. VIRGINIA AVE.","PHOENIX AZ 85006","() -","() -"]
["Williams Elementary/Middle School - 030202102","Coconino",4193,"030202000","Williams Unified District",4822,"030202102","Williams Elementary/Middle School",0.62043800000000005,8.5157999999999998E-2,0.705596,411,"WILLIAMS ELEMENTARY/MIDDLE SCHOOL","601 N. 7TH ST","WILLIAMS AZ 86046","() -","() -"]
["Williams Field High School - 070260202","Maricopa",4248,"070260000","Higley Unified School District",89581,"070260202","Williams Field High School",0.15953800000000001,6.2458E-2,0.221996,1473,"WILLIAMS FIELD HIGH SCHOOL","2076 S. HIGLEY ROAD","HIGLEY AZ 85236","(480) 279-8000","(480) 279-8005"]
["Williams High School - 030202201","Coconino",4193,"030202000","Williams Unified District",4823,"030202201","Williams High School",0.45871600000000001,6.4219999999999999E-2,0.52293599999999996,218,"WILLIAMS HIGH SCHOOL","440 S 7TH STREET","WILLIAMS AZ 86046","() -","() -"]
["Willie & Coy Payne Jr. High - 070280110","Maricopa",4242,"070280000","Chandler Unified District #80",87519,"070280110","Willie & Coy Payne Jr. High",0.11853900000000001,4.8243000000000001E-2,0.16678200000000001,1451,"WILLIE & COY PAYNE JR. HIGH","7655 S. HIGLEY RD.","QUEEN CREEK AZ 85142","() -","( ) -"]
["Willis Junior High School - 070280104","Maricopa",4242,"070280000","Chandler Unified District #80",5110,"070280104","Willis Junior High School",0.561056,7.0406999999999997E-2,0.631463,909,"WILLIS JUNIOR HIGH SCHOOL","401 S. MCQUEEN ROAD","CHANDLER AZ 85225","() -","( ) -"]
["Willow Canyon High School - 070289210","Maricopa",4243,"070289000","Dysart Unified District",81113,"070289210","Willow Canyon High School",0.27944099999999999,8.5828000000000002E-2,0.36526900000000001,2004,"WILLOW CANYON HIGH SCHOOL","17901 W LUNDBERG ST","SURPRISE AZ 85374","() -","() -"]
["Wilson Elementary School - 070204151","Maricopa",4235,"070204000","Mesa Unified District",6229,"070204151","Wilson Elementary School",0.50262499999999999,8.1365000000000007E-2,0.58399000000000001,757,"WILSON ELEMENTARY SCHOOL","5619 EAST GLADE AVE","MESA AZ 85206","() -","() -"]
["Wilson Elementary School - 070407101","Maricopa",4261,"070407000","Wilson Elementary District",5276,"070407101","Wilson Elementary School",0.89297700000000002,6.3545000000000004E-2,0.95652199999999998,612,"WILSON ELEMENTARY SCHOOL","2929 E FILLMORE ST","PHOENIX AZ 85008","() -","() -"]
["Wilson Primary School - 070407102","Maricopa",4261,"070407000","Wilson Elementary District",5277,"070407102","Wilson Primary School",0.92686199999999996,3.4574000000000001E-2,0.96143599999999996,725,"WILSON PRIMARY SCHOOL","415 N. 30TH STREET","PHOENIX AZ 85008","() -","() -"]
["Window Rock Elementary School - 010208105","Apache",4154,"010208000","Window Rock Unified District",4712,"010208105","Window Rock Elementary School",0.716387,9.8738999999999993E-2,0.81512600000000002,358,"WINDOW ROCK ELEMENTARY SCHOOL","P O BOX 559","WINDOW ROCK AZ 86515","(928) 810-7733","(928) 810-7718"]
["Window Rock High School - 010208201","Apache",4154,"010208000","Window Rock Unified District",4717,"010208201","Window Rock High School",0.68154400000000004,9.7708000000000003E-2,0.77925199999999994,613,"WINDOW ROCK HIGH SCHOOL","POST OFFICE BOX 559","FT. DEFIANCE AZ 86504 0559","() -","() -"]
["Winifred Harelson Elementary School - 100210107","Pima",4406,"100210000","Amphitheater Unified District",5793,"100210107","Winifred Harelson Elementary School",0.173653,1.1976000000000001E-2,0.18562899999999999,501]
["Winkelman Elementary School - 040241001","Gila",4212,"040241000","Hayden-Winkelman Unified District",4870,"040241001","Winkelman Elementary School",0.75333300000000003,0.08,0.83333299999999999,150,"WINKELMAN ELEMENTARY SCHOOL","P.O. BOX 409","WINKELMAN AZ 85292","(520) 356-7876","(520) 356-7303"]
["Winslow High School - 090201206","Navajo",4387,"090201000","Winslow Unified District",5604,"090201206","Winslow High School",0.443548,0.13037599999999999,0.57392500000000002,704,"WINSLOW HIGH SCHOOL","P. O. BOX 580","WINSLOW AZ 86047","(928) 288-8101","(928) 288-8290"]
["Winslow Junior High School - 090201105","Navajo",4387,"090201000","Winslow Unified District",5603,"090201105","Winslow Junior High School",0.56111100000000003,0.105556,0.66666700000000001,333,"WINSLOW JUNIOR HIGH SCHOOL","PO BOX 580","WINSLOW AZ 86047","() -","( ) -"]
["Winslow Residential Hall - 092701001","Navajo",80224,"092701000","Winslow Residential Hall",80225,"092701001","Winslow Residential Hall",0.66115699999999999,0.18181800000000001,0.84297500000000003,121]
["Wood School - 070403127","Maricopa",4258,"070403000","Tempe School District",5225,"070403127","Wood School",0.72712100000000002,9.1513999999999998E-2,0.81863600000000003,598,"WOOD SCHOOL","727 W CORNELL DR","TEMPE AZ 85283","() -","() -"]
["Yarnell Elementary School - 130352101","Yavapai",4485,"130352000","Yarnell Elementary District",6121,"130352101","Yarnell Elementary School",0.55813999999999997,0.20930199999999999,0.76744199999999996,43]
["Yavapai Elementary School - 070248115","Maricopa",4240,"070248000","Scottsdale Unified District",5052,"070248115","Yavapai Elementary School",0.76104700000000003,0.11293,0.873977,607,"YAVAPAI ELEMENTARY SCHOOL","701 NORTH MILLER ROAD","SCOTTSDALE AZ 85257","() -","() -"]
["Young Elementary School - 040305001","Gila",4213,"040305000","Young Elementary District",4874,"040305001","Young Elementary School",0.72727299999999995,0.13636400000000001,0.86363599999999996,22,"YOUNG ELEMENTARY SCHOOL","PO BOX 390","YOUNG AZ 85554","(928) 462-3244","(928) 462-3283"]
["Young High School - 040305002","Gila",4213,"040305000","Young Elementary District",4875,"040305002","Young High School",0.83333299999999999,8.3333000000000004E-2,0.91666700000000001,24,"YOUNG HIGH SCHOOL","PO BOX 390","YOUNG AZ 85554","(928) 462-3244","(928) 462-3283"]
["Youngker High School - 070501204","Maricopa",4284,"070501000","Buckeye Union High School District",89573,"070501204","Youngker High School",0.45766699999999999,0.13262299999999999,0.59028999999999998,1689,"YOUNGKER HIGH SCHOOL","3000 S. APACHE ROAD","BUCKEYE AZ 85326","(623) 474-0100","(623) 386-9705"]
["YOUTH DEVELOPMENT INSTITUTE - 072155001","Maricopa",7351,"072155000","YOUTH DEVELOPMENT INSTITUTE",7352,"072155001","YOUTH DEVELOPMENT INSTITUTE",1,0,1,121]
["Yucca Elementary School - 080313101","Mohave",4377,"080313000","Yucca Elementary District",5582,"080313101","Yucca Elementary School",0.85185200000000005,0,0.85185200000000005,27,"YUCCA ELEMENTARY SCHOOL","P O BOX 128","YUCCA AZ 86438","() -","() -"]
["Yuma County Juvenile Court Center - 141001001","Yuma",10165,"141001000","Yuma County Juvenile Court Center",10166,"141001001","Yuma County Juvenile Court Center",1,0,1,53]
["Yuma High School - 140570201","Yuma",4507,"140570000","Yuma Union High School District",6189,"140570201","Yuma High School",0.52132400000000001,7.9125000000000001E-2,0.60044900000000001,1371]
["Zaharis Elementary - 070204157","Maricopa",4235,"070204000","Mesa Unified District",79807,"070204157","Zaharis Elementary",0.176534,4.3056999999999998E-2,0.21959100000000001,929,"ZAHARIS ELEMENTARY","9410 E. MCKELLIPS ROAD","MESA AZ 85207","(480) 308-7241","(480) 308-7255"]
["Zuni Hills Elementary School - 070211128","Maricopa",4237,"070211000","Peoria Unified School District",79645,"070211128","Zuni Hills Elementary School",0.27818399999999999,3.8066999999999997E-2,0.31625199999999998,683,"ZUNI HILLS ELEMENTARY SCHOOL","10851 W. WILLIAMS ROAD","SUN CITY AZ 85373","() -","() -"]

{"sheet":"NSLP 2013 March","index":2,"n_rows":2255,"n_cols":15,"rows_kept":2255,"cut":false,"hidden":true,"merged":[]}
["Calendar Year","Calendar Month","Sponsor Entity ID","Sponsor CTDS","Sponsor Name","Site Entity ID","Site CTDS","Site Name","Pct. Elig. Free","Pct. Elig. Red.","Pct. Elig. Free/Red.","Enroll","Sponsor Pct. Free/Red.","State Pct. Free/Red.","Enrollment Adjusted Free and Reduced-Price Eligible Students"]
[2013,3,null,{"$f":"\"\"","v":""},null,null,{"$f":"\"\"","v":""},null,null,null,null,null,null,0.58876799999999996]
[2013,3,7320,{"$f":"\"072122000\"","v":"072122000"},"A New Leaf",7322,{"$f":"\"072122002\"","v":"072122002"},"D Mitchell RES",1,0,1,8,null,null,8]
[2013,3,7320,{"$f":"\"072122000\"","v":"072122000"},"A New Leaf",80289,{"$f":"\"072122006\"","v":"072122006"},"Larry Simmons Residence",1,0,1,3,null,null,3]
[2013,3,7320,{"$f":"\"072122000\"","v":"072122000"},"A New Leaf",80290,{"$f":"\"072122007\"","v":"072122007"},"Alice Peterson Residence",1,0,1,11,null,null,11]
[2013,3,7320,{"$f":"\"072122000\"","v":"072122000"},"A New Leaf",null,{"$f":"\"\"","v":""},null,null,null,null,null,1]
[2013,3,90199,{"$f":"\"108734000\"","v":"108734000"},"Academy Del Sol Inc.",90200,{"$f":"\"108734001\"","v":"108734001"},"Academy Del Sol",0.45945900000000001,8.1081E-2,0.54054100000000005,37,null,null,20]
[2013,3,90199,{"$f":"\"108734000\"","v":"108734000"},"Academy Del Sol Inc.",90770,{"$f":"\"108734002\"","v":"108734002"},"Academy Del Sol - Hope",0.60975599999999996,0,0.60975599999999996,41,null,null,25]
[2013,3,90199,{"$f":"\"108734000\"","v":"108734000"},"Academy Del Sol Inc.",null,{"$f":"\"\"","v":""},null,null,null,null,null,0.57692299999999996]
[2013,3,4296,{"$f":"\"078604000\"","v":"078604000"},"Academy Of Excellence Inc.",5461,{"$f":"\"078604101\"","v":"078604101"},"Academy Of Excellence",0.98165100000000005,9.1739999999999999E-3,0.99082599999999998,109,null,null,108]
[2013,3,4296,{"$f":"\"078604000\"","v":"078604000"},"Academy Of Excellence Inc.",85863,{"$f":"\"078604004\"","v":"078604004"},"Academy of Excellence - Central Arizona",0.5,0.45454499999999998,0.95454499999999998,22,null,null,21]
[2013,3,4296,{"$f":"\"078604000\"","v":"078604000"},"Academy Of Excellence Inc.",null,{"$f":"\"\"","v":""},null,null,null,null,null,0.98473299999999997]
[2013,3,79961,{"$f":"\"108713000\"","v":"108713000"},"Academy of Mathematics and Science Inc.",79094,{"$f":"\"108713101\"","v":"108713101"},"Academy of Math and Science",0.53783800000000004,0.108108,0.64594600000000002,370,null,null,239]
[2013,3,79961,{"$f":"\"108713000\"","v":"108713000"},"Academy of Mathematics and Science Inc.",null,{"$f":"\"\"","v":""},null,null,null,null,null,0.64594600000000002]
[2013,3,4325,{"$f":"\"078701000\"","v":"078701000"},"Acclaim Charter School",5496,{"$f":"\"078701101\"","v":"078701101"},"ACCLAIM Academy",0.89647100000000002,8.9412000000000005E-2,0.98588200000000004,425,null,null,419]
[2013,3,4325,{"$f":"\"078701000\"","v":"078701000"},"Acclaim Charter School",null,{"$f":"\"\"","v":""},null,null,null,null,null,0.98588200000000004]
[2013,3,79437,{"$f":"\"138760000\"","v":"138760000"},"Acorn Montessori Charter School",79438,{"$f":"\"138760101\"","v":"138760101"},"Acorn Montessori Charter School",0.65660399999999997,0.128302,0.78490599999999999,265,null,null,208]
[2013,3,79437,{"$f":"\"138760000\"","v":"138760000"},"Acorn Montessori Charter School",88180,{"$f":"\"138760102\"","v":"138760102"},"Acorn Montessori Charter School Inc. - West",0.48372100000000001,0.134884,0.61860499999999996,215,null,null,133]
[2013,3,79437,{"$f":"\"138760000\"","v":"138760000"},"Acorn Montessori Charter School",null,{"$f":"\"\"","v":""},null,null,null,null,null,0.71041699999999997]
[2013,3,80381,{"$f":"\"219101001\"","v":"219101001"},"Adobe Mountain School",8327,{"$f":"\"211001001\"","v":"211001001"},"Adobe Mountain School",1,0,1,369,null,null,369]
[2013,3,80381,{"$f":"\"219101001\"","v":"219101001"},"Adobe Mountain School",null,{"$f":"\"\"","v":""},null,null,null,null,null,1]
[2013,3,78768,{"$f":"\"112751000\"","v":"112751000"},"Against Abuse",78769,{"$f":"\"112751001\"","v":"112751001"},"La Casita de Paz",1,0,1,16,null,null,16]
[2013,3,78768,{"$f":"\"112751000\"","v":"112751000"},"Against Abuse",78771,{"$f":"\"112751003\"","v":"112751003"},"A Casa de Paz",1,0,1,35,null,null,35]
[2013,3,78768,{"$f":"\"112751000\"","v":"112751000"},"Against Abuse",null,{"$f":"\"\"","v":""},null,null,null,null,null,1]
[2013,3,4289,{"$f":"\"070516000\"","v":"070516000"},"Agua Fria Union High School District",5454,{"$f":"\"070516201\"","v":"070516201"},"Agua Fria High School",0.52820500000000004,0.10320500000000001,0.63141000000000003,1560,null,null,985]
[2013,3,4289,{"$f":"\"070516000\"","v":"070516000"},"Agua Fria Union High School District",78926,{"$f":"\"070516202\"","v":"070516202"},"Millennium High School",0.21237200000000001,7.0627999999999996E-2,0.28299999999999997,2053,null,null,581]
[2013,3,4289,{"$f":"\"070516000\"","v":"070516000"},"Agua Fria Union High School District",79799,{"$f":"\"070516203\"","v":"070516203"},"Desert Edge High School",0.40012900000000001,0.10278,0.50290900000000005,1547,null,null,778]
[2013,3,4289,{"$f":"\"070516000\"","v":"070516000"},"Agua Fria Union High School District",87903,{"$f":"\"070516204\"","v":"070516204"},"Verrado High School",0.21962000000000001,9.3037999999999996E-2,0.31265799999999999,1580,null,null,494]
[2013,3,4289,{"$f":"\"070516000\"","v":"070516000"},"Agua Fria Union High School District",null,{"$f":"\"\"","v":""},null,null,null,null,null,0.421068]
[2013,3,4249,{"$f":"\"070363000\"","v":"070363000"},"Aguila Elementary District",5187,{"$f":"\"070363101\"","v":"070363101"},"Aguila Elementary School",0.80219799999999997,0.120879,0.92307700000000004,182,null,null,168]
[2013,3,4249,{"$f":"\"070363000\"","v":"070363000"},"Aguila Elementary District",null,{"$f":"\"\"","v":""},null,null,null,null,null,0.92307700000000004]
[2013,3,85875,{"$f":"\"078501000\"","v":"078501000"},"Ahwatukee Foothills Prep Inc.",85881,{"$f":"\"078501001\"","v":"078501001"},"Mosaica Preparatory Academy of Chandler",0.55729200000000001,8.3333000000000004E-2,0.640625,162,null,null,123]
[2013,3,85875,{"$f":"\"078501000\"","v":"078501000"},"Ahwatukee Foothills Prep Inc.",null,{"$f":"\"\"","v":""},null,null,null,null,null,0.640625]
[2013,3,79053,{"$f":"\"078793000\"","v":"078793000"},"AIBT Non-Profit Charter High School - Phoenix",79123,{"$f":"\"078793201\"","v":"078793201"},"RCB Medical Arts Academy",0.72208399999999995,1.9851000000000001E-2,0.74193500000000001,401,null,null,299]
[2013,3,79053,{"$f":"\"078793000\"","v":"078793000"},"AIBT Non-Profit Charter High School - Phoenix",null,{"$f":"\"\"","v":""},null,null,null,null,null,0.74193500000000001]
[2013,3,4409,{"$f":"\"100215000\"","v":"100215000"},"Ajo Unified District",5831,{"$f":"\"100215001\"","v":"100215001"},"Ajo Elementary School",0.71917799999999998,9.3606999999999996E-2,0.81278499999999998,438,null,null,356]
[2013,3,4409,{"$f":"\"100215000\"","v":"100215000"},"Ajo Unified District",null,{"$f":"\"\"","v":""},null,null,null,null,null,0.81278499999999998]
[2013,3,4280,{"$f":"\"070468000\"","v":"070468000"},"Alhambra Elementary District",5381,{"$f":"\"070468101\"","v":"070468101"},"Alhambra Traditional School",0.36680600000000002,0.10320799999999999,0.47001399999999999,717,null,null,337]
[2013,3,4280,"070468000","Alhambra Elementary District",5382,{"$f":"\"070468102\"","v":"070468102"},"Andalucia Middle School",0.93085600000000002,3.8893999999999998E-2,0.96974899999999997,1157,null,null,1122]
[2013,3,4280,"070468000","Alhambra Elementary District",5383,{"$f":"\"070468103\"","v":"070468103"},"James W. Rice Primary School",0.86070000000000002,4.6692999999999998E-2,0.90739300000000001,1285,null,null,1166]
[2013,3,4280,"070468000","Alhambra Elementary District",5384,{"$f":"\"070468104\"","v":"070468104"},"Barcelona Middle School",0.90836700000000004,4.5152999999999999E-2,0.95351900000000001,753,null,null,718]
[2013,3,4280,"070468000","Alhambra Elementary District",5385,{"$f":"\"070468106\"","v":"070468106"},"Catalina Ventura School",0.83972100000000005,7.2300000000000003E-2,0.91202099999999997,1148,null,null,1047]
[2013,3,4280,"070468000","Alhambra Elementary District",5386,{"$f":"\"070468107\"","v":"070468107"},"Cordova Middle School",0.93161499999999997,3.6670000000000001E-2,0.96828499999999995,1009,null,null,977]
[2013,3,4280,"070468000","Alhambra Elementary District",5387,{"$f":"\"070468109\"","v":"070468109"},"Granada East School",0.93298999999999999,4.0377999999999997E-2,0.97336800000000001,1164,null,null,1133]
[2013,3,4280,"070468000","Alhambra Elementary District",5388,{"$f":"\"070468110\"","v":"070468110"},"Granada Primary School",0.94218599999999997,3.8843999999999997E-2,0.98102999999999996,1107,null,null,1086]
[2013,3,4280,"070468000","Alhambra Elementary District",5389,{"$f":"\"070468111\"","v":"070468111"},"Montebello School",0.95210399999999995,2.4673E-2,0.97677800000000004,1378,null,null,1346]
[2013,3,4280,"070468000","Alhambra Elementary District",5390,{"$f":"\"070468112\"","v":"070468112"},"Sevilla Primary School",0.91117199999999998,4.3040000000000002E-2,0.95421199999999995,1092,null,null,1042]
[2013,3,4280,"070468000","Alhambra Elementary District",5391,{"$f":"\"070468113\"","v":"070468113"},"R E Simpson School",0.93184400000000001,2.6816E-2,0.95865900000000004,895,null,null,858]
[2013,3,4280,"070468000","Alhambra Elementary District",5392,{"$f":"\"070468114\"","v":"070468114"},"Westwood Primary School",0.954461,2.2304999999999998E-2,0.97676600000000002,1076,null,null,1051]
[2013,3,4280,"070468000","Alhambra Elementary District",6030,{"$f":"\"070468105\"","v":"070468105"},"Carol G. Peck Elementary School",0.89416600000000002,3.3921E-2,0.928087,737,null,null,684]
[2013,3,4280,"070468000","Alhambra Elementary District",6031,{"$f":"\"070468108\"","v":"070468108"},"Cordova Primary School",0.95294100000000004,2.1849E-2,0.97479000000000005,595,null,null,580]
[2013,3,4280,"070468000","Alhambra Elementary District",79203,{"$f":"\"070468115\"","v":"070468115"},"Sevilla West School",0.89464999999999995,4.4443999999999997E-2,0.93909500000000001,1215,null,null,1141]
[2013,3,4280,"070468000","Alhambra Elementary District",null,{"$f":"\"\"","v":""},null,null,null,null,null,0.93215000000000003]
[2013,3,79969,{"$f":"\"078967000\"","v":"078967000"},"All Aboard Charter School",79970,{"$f":"\"078967101\"","v":"078967101"},"All Aboard Charter School",0.67961199999999999,0.12621399999999999,0.80582500000000001,103,null,null,83]
[2013,3,79969,{"$f":"\"078967000\"","v":"078967000"},"All Aboard Charter School",null,{"$f":"\"\"","v":""},null,null,null,null,null,0.80582500000000001]
[2013,3,86569,{"$f":"\"072769000\"","v":"072769000"},"All My Children Inc.",86572,{"$f":"\"072769001\"","v":"072769001"},"All My Children #1 a Satellite Home",1,0,1,10,null,null,10]
[2013,3,86569,"072769000","All My Children Inc.",86574,{"$f":"\"072769002\"","v":"072769002"},"All My Children #2 a Satellite Home",1,0,1,10,null,null,10]
[2013,3,86569,"072769000","All My Children Inc.",86575,{"$f":"\"072769003\"","v":"072769003"},"All My Children #3 a Satellite Home",1,0,1,10,null,null,10]
[2013,3,86569,"072769000","All My Children Inc.",86576,{"$f":"\"072769004\"","v":"072769004"},"All My Children #4 a Satellite Home",1,0,1,10,null,null,10]
[2013,3,86569,"072769000","All My Children Inc.",86577,{"$f":"\"072769005\"","v":"072769005"},"All My Children #5 a Satellite Home",1,0,1,10,null,null,10]
[2013,3,86569,"072769000","All My Children Inc.",null,{"$f":"\"\"","v":""},null,null,null,null,null,1]
[2013,3,81031,{"$f":"\"108716000\"","v":"108716000"},"Allsport Academy",79681,{"$f":"\"108716001\"","v":"108716001"},"Allsport Academy",0.85714299999999999,5.1020000000000003E-2,0.90816300000000005,98,null,null,89]
[2013,3,81031,{"$f":"\"108716000\"","v":"108716000"},"Allsport Academy",null,{"$f":"\"\"","v":""},null,null,null,null,null,0.90816300000000005]
[2013,3,4418,{"$f":"\"100351000\"","v":"100351000"},"Altar Valley Elementary District",5859,{"$f":"\"100351103\"","v":"100351103"},"Altar Valley Middle School",0.76946999999999999,8.7226999999999999E-2,0.85669799999999996,321,null,null,275]
[2013,3,4418,{"$f":"\"100351000\"","v":"100351000"},"Altar Valley Elementary District",84336,{"$f":"\"100351100\"","v":"100351100"},"Robles Elementary School",0.82045500000000005,7.9545000000000005E-2,0.9,440,null,null,396]
[2013,3,4418,{"$f":"\"100351000\"","v":"100351000"},"Altar Valley Elementary District",null,{"$f":"\"\"","v":""},null,null,null,null,null,0.88173400000000002]
[2013,3,79215,{"$f":"\"078989000\"","v":"078989000"},"American Basic Schools LLC",78788,{"$f":"\"078989101\"","v":"078989101"},"Burke Basic School",0.86276799999999998,7.1598999999999996E-2,0.93436799999999998,838,null,null,783]
[2013,3,79215,{"$f":"\"078989000\"","v":"078989000"},"American Basic Schools LLC",null,{"$f":"\"\"","v":""},null,null,null,null,null,0.93436799999999998]
[2013,3,80995,{"$f":"\"108794000\"","v":"108794000"},"American Charter Schools Foundation d.b.a. Alta Vista High School",80996,{"$f":"\"108794201\"","v":"108794201"},"Alta Vista High School",0.79481599999999997,6.2634999999999996E-2,0.85745099999999996,463,null,null,397]
[2013,3,80995,{"$f":"\"108794000\"","v":"108794000"},"American Charter Schools Foundation d.b.a. Alta Vista High School",null,{"$f":"\"\"","v":""},null,null,null,null,null,0.85745099999999996]
[2013,3,79883,{"$f":"\"118703000\"","v":"118703000"},"American Charter Schools Foundation d.b.a. Apache Trail High School",6346,{"$f":"\"118703001\"","v":"118703001"},"Apache Trail High School",0.70175399999999999,6.4326999999999995E-2,0.76608200000000004,171,null,null,131]
[2013,3,79883,{"$f":"\"118703000\"","v":"118703000"},"American Charter Schools Foundation d.b.a. Apache Trail High School",null,{"$f":"\"\"","v":""},null,null,null,null,null,0.76608200000000004]
[2013,3,79874,{"$f":"\"078950000\"","v":"078950000"},"American Charter Schools Foundation d.b.a. Crestview College Preparatory High Sc",78813,{"$f":"\"078950001\"","v":"078950001"},"Crestview College Preparatory High School",0.73626400000000003,8.0586000000000005E-2,0.81684999999999997,262,null,null,223]
[2013,3,79874,{"$f":"\"078950000\"","v":"078950000"},"American Charter Schools Foundation d.b.a. Crestview College Preparatory High Sc",null,{"$f":"\"\"","v":""},null,null,null,null,null,0.81684999999999997]
[2013,3,79872,{"$f":"\"078947000\"","v":"078947000"},"American Charter Schools Foundation d.b.a. Desert Hills High School",78901,{"$f":"\"078947001\"","v":"078947001"},"Desert Hills High School",0.42036600000000002,0.114883,0.53524799999999995,383,null,null,205]
[2013,3,79872,{"$f":"\"078947000\"","v":"078947000"},"American Charter Schools Foundation d.b.a. Desert Hills High School",null,{"$f":"\"\"","v":""},null,null,null,null,null,0.53524799999999995]
[2013,3,79873,{"$f":"\"078948000\"","v":"078948000"},"American Charter Schools Foundation d.b.a. Estrella High School",78900,{"$f":"\"078948001\"","v":"078948001"},"Estrella High School",0.72222200000000003,9.4907000000000005E-2,0.81713000000000002,432,null,null,353]
[2013,3,79873,{"$f":"\"078948000\"","v":"078948000"},"American Charter Schools Foundation d.b.a. Estrella High School",null,{"$f":"\"\"","v":""},null,null,null,null,null,0.81713000000000002]
[2013,3,79875,{"$f":"\"078951000\"","v":"078951000"},"American Charter Schools Foundation d.b.a. Peoria Accelerated High School",78817,{"$f":"\"078951001\"","v":"078951001"},"Peoria Accelerated High School",0.78339400000000003,4.1515999999999997E-2,0.82491000000000003,554,null,null,457]
[2013,3,79875,{"$f":"\"078951000\"","v":"078951000"},"American Charter Schools Foundation d.b.a. Peoria Accelerated High School",null,{"$f":"\"\"","v":""},null,null,null,null,null,0.82491000000000003]
[2013,3,80989,{"$f":"\"078983000\"","v":"078983000"},"American Charter Schools Foundation d.b.a. South Pointe High School",80990,{"$f":"\"078983201\"","v":"078983201"},"South Pointe High School",0.80854999999999999,4.4609999999999997E-2,0.85316000000000003,538,null,null,459]
[2013,3,80989,{"$f":"\"078983000\"","v":"078983000"},"American Charter Schools Foundation d.b.a. South Pointe High School",null,{"$f":"\"\"","v":""},null,null,null,null,null,0.85316000000000003]
[2013,3,88334,{"$f":"\"078517000\"","v":"078517000"},"American Charter Schools Foundation d.b.a. South Ridge High School",88335,{"$f":"\"078517201\"","v":"078517201"},"South Ridge High School",0.69351200000000002,0.147651,0.84116299999999999,447,null,null,376]
[2013,3,88334,{"$f":"\"078517000\"","v":"078517000"},"American Charter Schools Foundation d.b.a. South Ridge High School",null,{"$f":"\"\"","v":""},null,null,null,null,null,0.84116299999999999]
[2013,3,79877,{"$f":"\"078953000\"","v":"078953000"},"American Charter Schools Foundation d.b.a. Sun Valley High School",6347,{"$f":"\"078953001\"","v":"078953001"},"Sun Valley High School",0.74821199999999999,7.7253000000000002E-2,0.825465,699,null,null,577]
[2013,3,79877,{"$f":"\"078953000\"","v":"078953000"},"American Charter Schools Foundation d.b.a. Sun Valley High School",null,{"$f":"\"\"","v":""},null,null,null,null,null,0.825465]
[2013,3,79879,{"$f":"\"078956000\"","v":"078956000"},"American Charter Schools Foundation d.b.a. West Phoenix High School",6348,{"$f":"\"078956001\"","v":"078956001"},"West Phoenix High School",0.88316799999999995,3.1683000000000003E-2,0.91485099999999997,660,null,null,462]
[2013,3,79879,{"$f":"\"078956000\"","v":"078956000"},"American Charter Schools Foundation d.b.a. West Phoenix High School",null,{"$f":"\"\"","v":""},null,null,null,null,null,0.91485099999999997]
[2013,3,9655,{"$f":"\"092001000\"","v":"092001000"},"American Indian Christian Mission",80313,{"$f":"\"092001101\"","v":"092001101"},"American Indian Christian Mission",0.83333299999999999,4.1667000000000003E-2,0.875,23,null,null,21]
[2013,3,9655,{"$f":"\"092001000\"","v":"092001000"},"American Indian Christian Mission",null,{"$f":"\"\"","v":""},null,null,null,null,null,0.875]
[2013,3,4406,{"$f":"\"100210000\"","v":"100210000"},"Amphitheater Unified District",5792,{"$f":"\"100210106\"","v":"100210106"},"Marion Donaldson Elementary School",0.46173500000000001,4.3367000000000003E-2,0.50510200000000005,392,null,null,198]
[2013,3,4406,"100210000","Amphitheater Unified District",5793,{"$f":"\"100210107\"","v":"100210107"},"Winifred Harelson Elementary School",0.173653,1.1976000000000001E-2,0.18562899999999999,501,null,null,93]
[2013,3,4406,"100210000","Amphitheater Unified District",5794,{"$f":"\"100210108\"","v":"100210108"},"Frances Owen Holaway Elementary School",0.85106400000000004,2.1277000000000001E-2,0.87234,376,null,null,328]
[2013,3,4406,"100210000","Amphitheater Unified District",5795,{"$f":"\"100210109\"","v":"100210109"},"Helen Keeling Elementary School",0.91352500000000003,3.7693999999999998E-2,0.95121999999999995,451,null,null,429]
[2013,3,4406,"100210000","Amphitheater Unified District",5796,{"$f":"\"100210110\"","v":"100210110"},"E C Nash School",0.95454499999999998,2.8139000000000001E-2,0.982684,462,null,null,454]
[2013,3,4406,"100210000","Amphitheater Unified District",5797,{"$f":"\"100210111\"","v":"100210111"},"L M Prince School",0.91851899999999997,2.8147999999999999E-2,0.94666700000000004,675,null,null,639]
[2013,3,4406,"100210000","Amphitheater Unified District",5798,{"$f":"\"100210112\"","v":"100210112"},"Lulu Walker School",0.60358900000000004,5.5465E-2,0.65905400000000003,613,null,null,404]
[2013,3,4406,"100210000","Amphitheater Unified District",5799,{"$f":"\"100210115\"","v":"100210115"},"Coronado K-8 School",0.38622800000000002,4.5907999999999997E-2,0.43213600000000002,1002,null,null,433]
[2013,3,4406,"100210000","Amphitheater Unified District",5800,{"$f":"\"100210116\"","v":"100210116"},"Mesa Verde Elementary School",0.311392,8.6076E-2,0.39746799999999999,395,null,null,157]
[2013,3,4406,"100210000","Amphitheater Unified District",5801,{"$f":"\"100210117\"","v":"100210117"},"Rio Vista Elementary School",0.82248500000000002,3.5503E-2,0.85798799999999997,507,null,null,435]
[2013,3,4406,"100210000","Amphitheater Unified District",5802,{"$f":"\"100210118\"","v":"100210118"},"Copper Creek Elementary School",0.199382,3.4002999999999999E-2,0.23338500000000001,647,null,null,151]
[2013,3,4406,"100210000","Amphitheater Unified District",5803,{"$f":"\"100210125\"","v":"100210125"},"Rillito Center",0.54545500000000002,3.4091000000000003E-2,0.57954499999999998,88,null,null,51]
[2013,3,4406,"100210000","Amphitheater Unified District",5804,{"$f":"\"100210165\"","v":"100210165"},"La Cima Middle School",0.72232600000000002,6.5666000000000002E-2,0.78799200000000003,533,null,null,420]
[2013,3,4406,"100210000","Amphitheater Unified District",5805,{"$f":"\"100210166\"","v":"100210166"},"Amphitheater Middle School",0.87539900000000004,5.2715999999999999E-2,0.92811500000000002,626,null,null,581]
[2013,3,4406,"100210000","Amphitheater Unified District",5806,{"$f":"\"100210167\"","v":"100210167"},"Lawrence W Cross Middle School",0.28627999999999998,4.6174E-2,0.33245400000000003,758,null,null,252]
[2013,3,4406,"100210000","Amphitheater Unified District",5807,{"$f":"\"100210168\"","v":"100210168"},"Richard B Wilson Jr School",0.135495,1.7455999999999999E-2,0.152951,1203,null,null,184]
[2013,3,4406,"100210000","Amphitheater Unified District",5808,{"$f":"\"100210282\"","v":"100210282"},"Canyon Del Oro High School",0.20369200000000001,4.2647999999999998E-2,0.24634,1571,null,null,387]
[2013,3,4406,"100210000","Amphitheater Unified District",6055,{"$f":"\"100210281\"","v":"100210281"},"Amphitheater High School",0.77395999999999998,5.6961999999999999E-2,0.83092200000000005,1106,null,null,919]
[2013,3,4406,"100210000","Amphitheater Unified District",79282,{"$f":"\"100210114\"","v":"100210114"},"Painted Sky Elementary School",9.3931000000000001E-2,1.3006E-2,0.106936,692,null,null,74]
[2013,3,4406,"100210000","Amphitheater Unified District",79378,{"$f":"\"100210280\"","v":"100210280"},"Ironwood Ridge High School",0.11503099999999999,2.5051E-2,0.14008200000000001,1956,null,null,274]
[2013,3,4406,"100210000","Amphitheater Unified District",null,{"$f":"\"\"","v":""},null,null,null,null,null,0.47155399999999997]
[2013,3,4506,{"$f":"\"140550000\"","v":"140550000"},"Antelope Union High School District",6188,{"$f":"\"140550201\"","v":"140550201"},"Antelope Union High School",0.669014,0.13380300000000001,0.802817,284,null,null,228]
[2013,3,4506,{"$f":"\"140550000\"","v":"140550000"},"Antelope Union High School District",null,{"$f":"\"\"","v":""},null,null,null,null,null,0.802817]
[2013,3,4443,{"$f":"\"110243000\"","v":"110243000"},"Apache Junction Unified District",5919,{"$f":"\"110243101\"","v":"110243101"},"Superstition Mountain Elementary School",0.63994700000000004,9.0670000000000001E-2,0.73061799999999999,761,null,null,556]
[2013,3,4443,"110243000","Apache Junction Unified District",5920,{"$f":"\"110243102\"","v":"110243102"},"Four Peaks Elementary School",0.68270699999999995,0.105263,0.78796999999999995,665,null,null,524]
[2013,3,4443,"110243000","Apache Junction Unified District",5922,{"$f":"\"110243104\"","v":"110243104"},"Desert Vista Elementary School",0.56838900000000003,8.5106000000000001E-2,0.65349500000000005,658,null,null,430]
[2013,3,4443,"110243000","Apache Junction Unified District",5923,{"$f":"\"110243151\"","v":"110243151"},"Cactus Canyon Junior High",0.52884600000000004,9.8901000000000003E-2,0.62774700000000005,728,null,null,457]
[2013,3,4443,"110243000","Apache Junction Unified District",5925,{"$f":"\"110243201\"","v":"110243201"},"Apache Junction High School",0.33965000000000001,9.6938999999999997E-2,0.436589,1264,null,null,599]
[2013,3,4443,"110243000","Apache Junction Unified District",79631,{"$f":"\"110243105\"","v":"110243105"},"Peralta Trail Elementary School",0.43738300000000002,8.4112000000000006E-2,0.52149500000000004,535,null,null,279]
[2013,3,4443,"110243000","Apache Junction Unified District",80091,{"$f":"\"110243153\"","v":"110243153"},"Mountain Shadows Education Center",0.55813999999999997,6.9766999999999996E-2,0.62790699999999999,129,null,null,81]
[2013,3,4443,"110243000","Apache Junction Unified District",null,{"$f":"\"\"","v":""},null,null,null,null,null,0.60735099999999997]
[2013,3,79426,{"$f":"\"108785000\"","v":"108785000"},"Aprender Tucson",79432,{"$f":"\"108785001\"","v":"108785001"},"Southside Community School",0.96399999999999997,2.8000000000000001E-2,0.99199999999999999,250,null,null,248]
[2013,3,79426,{"$f":"\"108785000\"","v":"108785000"},"Aprender Tucson",null,{"$f":"\"\"","v":""},null,null,null,null,null,0.99199999999999999]
[2013,3,6378,{"$f":"\"078665000\"","v":"078665000"},"Arizona Academy of Science And Technology Inc.",10755,{"$f":"\"078665001\"","v":"078665001"},"Arizona Academy of Science and Technology",0.69403000000000004,4.4776000000000003E-2,0.73880599999999996,134,null,null,99]
[2013,3,6378,{"$f":"\"078665000\"","v":"078665000"},"Arizona Academy of Science And Technology Inc.",null,{"$f":"\"\"","v":""},null,null,null,null,null,0.73880599999999996]
[2013,3,79947,{"$f":"\"108709000\"","v":"108709000"},"Arizona Community Development Corporation",79950,{"$f":"\"108709101\"","v":"108709101"},"La Paloma Academy",0.61213700000000004,9.8945000000000005E-2,0.71108199999999999,758,null,null,539]
[2013,3,79947,{"$f":"\"108709000\"","v":"108709000"},"Arizona Community Development Corporation",81187,{"$f":"\"108709103\"","v":"108709103"},"La Paloma Academy (Lakeside)",0.55971899999999997,0.12997700000000001,0.68969599999999998,854,null,null,589]
[2013,3,79947,{"$f":"\"108709000\"","v":"108709000"},"Arizona Community Development Corporation",91805,{"$f":"\"108709104\"","v":"108709104"},"La Paloma Academy-South",0.79916299999999996,7.5314000000000006E-2,0.87447699999999995,239,null,null,209]
[2013,3,79947,{"$f":"\"108709000\"","v":"108709000"},"Arizona Community Development Corporation",null,{"$f":"\"\"","v":""},null,null,null,null,null,0.72231199999999995]
[2013,3,85749,{"$f":"\"078991000\"","v":"078991000"},"Arizona Montessori Charter School at Anthem",78816,{"$f":"\"138755101\"","v":"138755101"},"Park View Middle School",0.42470999999999998,0.15443999999999999,0.57915099999999997,259,null,null,150]
[2013,3,85749,{"$f":"\"078991000\"","v":"078991000"},"Arizona Montessori Charter School at Anthem",85750,{"$f":"\"078991101\"","v":"078991101"},"AMCS at Anthem dba Caurus Academy",0.114007,4.2345000000000001E-2,0.15635199999999999,307,null,null,48]
[2013,3,85749,{"$f":"\"078991000\"","v":"078991000"},"Arizona Montessori Charter School at Anthem",null,{"$f":"\"\"","v":""},null,null,null,null,null,0.349823]
[2013,3,80077,{"$f":"\"014005000\"","v":"014005000"},"Arizona Navajo Central Education Line Office",87926,{"$f":"\"014005005\"","v":"014005005"},"Lukachukai Community School",0.93733,2.4523E-2,0.96185299999999996,367,null,null,353]
[2013,3,80077,{"$f":"\"014005000\"","v":"014005000"},"Arizona Navajo Central Education Line Office",null,{"$f":"\"\"","v":""},null,null,null,null,null,0.96185299999999996]
[2013,3,80126,{"$f":"\"104001000\"","v":"104001000"},"Arizona South Education - Phoenix",80127,{"$f":"\"104001001\"","v":"104001001"},"San Simon School",0.84647300000000003,2.9045999999999999E-2,0.87551900000000005,241,null,null,211]
[2013,3,80126,{"$f":"\"104001000\"","v":"104001000"},"Arizona South Education - Phoenix",80454,{"$f":"\"104001002\"","v":"104001002"},"Santa Rosa Boarding/Day School",0.83870999999999996,5.3762999999999998E-2,0.89247299999999996,186,null,null,166]
[2013,3,80126,{"$f":"\"104001000\"","v":"104001000"},"Arizona South Education - Phoenix",null,{"$f":"\"\"","v":""},null,null,null,null,null,0.88290400000000002]
[2013,3,6393,{"$f":"\"001202000\"","v":"001202000"},"Arizona State School for the Deaf and Blind",80462,{"$f":"\"001202058\"","v":"001202058"},"ASDB/Child Nutrition Program - Closed",0.589862,9.2165999999999998E-2,0.68202799999999997,217,null,null,148]
[2013,3,6393,{"$f":"\"001202000\"","v":"001202000"},"Arizona State School for the Deaf and Blind",null,{"$f":"\"\"","v":""},null,null,null,null,null,0.68202799999999997]
[2013,3,4274,{"$f":"\"070447000\"","v":"070447000"},"Arlington Elementary District",5354,{"$f":"\"070447101\"","v":"070447101"},"Arlington Elementary School",0.78210100000000005,7.3929999999999996E-2,0.85603099999999999,257,null,null,220]
[2013,3,4274,{"$f":"\"070447000\"","v":"070447000"},"Arlington Elementary District",null,{"$f":"\"\"","v":""},null,null,null,null,null,0.85603099999999999]
[2013,3,4187,{"$f":"\"020453000\"","v":"020453000"},"Ash Creek Elementary District",4797,{"$f":"\"020453101\"","v":"020453101"},"Ash Creek Elementary",0.7,0.05,0.75,20,null,null,15]
[2013,3,4187,{"$f":"\"020453000\"","v":"020453000"},"Ash Creek Elementary District",null,{"$f":"\"\"","v":""},null,null,null,null,null,0.75]
[2013,3,4471,{"$f":"\"130231000\"","v":"130231000"},"Ash Fork Joint Unified District",6101,{"$f":"\"130231101\"","v":"130231101"},"Ash Fork Elementary School",0.45454499999999998,0.102273,0.55681800000000004,231,null,null,196]
[2013,3,4471,{"$f":"\"130231000\"","v":"130231000"},"Ash Fork Joint Unified District",null,{"$f":"\"\"","v":""},null,null,null,null,null,0.55681800000000004]
[2013,3,4272,{"$f":"\"070444000\"","v":"070444000"},"Avondale Elementary District",5347,{"$f":"\"070444102\"","v":"070444102"},"Michael Anderson",0.88083500000000003,5.6510999999999999E-2,0.93734600000000001,802,null,null,763]
[2013,3,4272,"070444000","Avondale Elementary District",5348,{"$f":"\"070444103\"","v":"070444103"},"Eliseo C. Felix School",0.88045499999999999,3.7950999999999999E-2,0.91840599999999994,520,null,null,484]
[2013,3,4272,"070444000","Avondale Elementary District",5349,{"$f":"\"070444104\"","v":"070444104"},"Lattie Coor",0.86136800000000002,4.6211000000000002E-2,0.90757900000000002,1061,null,null,982]
[2013,3,4272,"070444000","Avondale Elementary District",78924,{"$f":"\"070444106\"","v":"070444106"},"Wildflower School",0.51669900000000002,0.121807,0.63850700000000005,508,null,null,325]
[2013,3,4272,"070444000","Avondale Elementary District",79670,{"$f":"\"070444107\"","v":"070444107"},"Desert Star",0.47026299999999999,0.109267,0.57952999999999999,715,null,null,419]
[2013,3,4272,"070444000","Avondale Elementary District",79792,{"$f":"\"070444108\"","v":"070444108"},"Desert Thunder",0.43128699999999998,0.106725,0.53801200000000005,679,null,null,368]
[2013,3,4272,"070444000","Avondale Elementary District",80181,{"$f":"\"072084001\"","v":"072084001"},"St. John Vianney Catholic School",0.40271499999999999,8.5972999999999994E-2,0.48868800000000001,221,null,null,108]
[2013,3,4272,"070444000","Avondale Elementary District",87619,{"$f":"\"070444111\"","v":"070444111"},"Centerra Mirage",0.52678599999999998,0.15476200000000001,0.68154800000000004,670,null,null,458]
[2013,3,4272,"070444000","Avondale Elementary District",90028,{"$f":"\"070444110\"","v":"070444110"},"Copper Trails",0.35058099999999998,0.11298800000000001,0.46356900000000001,946,null,null,439]
[2013,3,4272,"070444000","Avondale Elementary District",null,{"$f":"\"\"","v":""},null,null,null,null,null,0.70229799999999998]
[2013,3,4508,{"$f":"\"148757000\"","v":"148757000"},"Az-Tec High School",6192,{"$f":"\"148757001\"","v":"148757001"},"AZTEC High School",0.91139199999999998,2.5316000000000002E-2,0.93670900000000001,158,null,null,148]
[2013,3,4508,{"$f":"\"148757000\"","v":"148757000"},"Az-Tec High School",null,{"$f":"\"\"","v":""},null,null,null,null,null,0.93670900000000001]
[2013,3,4412,{"$f":"\"100240000\"","v":"100240000"},"Baboquivari Unified School District #40",5844,{"$f":"\"100240101\"","v":"100240101"},"Indian Oasis Elementary School",0.78253399999999995,5.4795000000000003E-2,0.83732899999999999,584,null,null,489]
[2013,3,4412,{"$f":"\"100240000\"","v":"100240000"},"Baboquivari Unified School District #40",5845,{"$f":"\"100240102\"","v":"100240102"},"Indian Oasis Intermediate School to Baboquivari Middle School - Closed",0.735043,6.8376000000000006E-2,0.80341899999999999,234,null,null,188]
[2013,3,4412,{"$f":"\"100240000\"","v":"100240000"},"Baboquivari Unified School District #40",5847,{"$f":"\"100240204\"","v":"100240204"},"Baboquivari High School",0.67017499999999997,5.9649000000000001E-2,0.72982499999999995,285,null,null,208]
[2013,3,4412,{"$f":"\"100240000\"","v":"100240000"},"Baboquivari Unified School District #40",null,{"$f":"\"\"","v":""},null,null,null,null,null,0.80235699999999999]
[2013,3,90039,{"$f":"\"072785000\"","v":"072785000"},"Back To Life Inc.",90040,{"$f":"\"072785001\"","v":"072785001"},"Roanoke House",1,0,1,8,null,null,8]
[2013,3,90039,{"$f":"\"072785000\"","v":"072785000"},"Back To Life Inc.",90042,{"$f":"\"072785003\"","v":"072785003"},"Sunset House",1,0,1,5,null,null,5]
[2013,3,90039,{"$f":"\"072785000\"","v":"072785000"},"Back To Life Inc.",90544,{"$f":"\"072785005\"","v":"072785005"},"Unity House",1,0,1,10,null,null,10]
[2013,3,90039,{"$f":"\"072785000\"","v":"072785000"},"Back To Life Inc.",null,{"$f":"\"\"","v":""},null,null,null,null,null,1]
[2013,3,4468,{"$f":"\"130220000\"","v":"130220000"},"Bagdad Unified District",6088,{"$f":"\"130220101\"","v":"130220101"},"Bagdad Elementary School",0.32807599999999998,0.23028399999999999,0.55835999999999997,317,null,null,177]
[2013,3,4468,{"$f":"\"130220000\"","v":"130220000"},"Bagdad Unified District",6089,{"$f":"\"130220202\"","v":"130220202"},"Bagdad High School",0.26086999999999999,0.2,0.46087,115,null,null,53]
[2013,3,4468,{"$f":"\"130220000\"","v":"130220000"},"Bagdad Unified District",null,{"$f":"\"\"","v":""},null,null,null,null,null,0.53240699999999996]
[2013,3,79204,{"$f":"\"078988000\"","v":"078988000"},"Ball Charter Schools (Dobson)",10729,{"$f":"\"078988102\"","v":"078988102"},"Dobson Academy - A Ball Charter School",0.27738499999999999,7.4204999999999993E-2,0.35159000000000001,566,null,null,199]
[2013,3,79204,{"$f":"\"078988000\"","v":"078988000"},"Ball Charter Schools (Dobson)",null,{"$f":"\"\"","v":""},null,null,null,null,null,0.35159000000000001]
[2013,3,4294,{"$f":"\"078987000\"","v":"078987000"},"Ball Charter Schools (Hearn)",10730,{"$f":"\"078987103\"","v":"078987103"},"Hearn Academy - A Ball Charter School",0.46608699999999997,9.0435000000000001E-2,0.55652199999999996,575,null,null,320]
[2013,3,4294,{"$f":"\"078987000\"","v":"078987000"},"Ball Charter Schools (Hearn)",null,{"$f":"\"\"","v":""},null,null,null,null,null,0.55652199999999996]
[2013,3,4268,{"$f":"\"070431000\"","v":"070431000"},"Balsz Elementary District",5319,{"$f":"\"070431101\"","v":"070431101"},"Balsz School",0.87738899999999997,4.1401E-2,0.91879,628,null,null,577]
[2013,3,4268,"070431000","Balsz Elementary District",5320,{"$f":"\"070431102\"","v":"070431102"},"David Crockett School",0.89837400000000001,4.0649999999999999E-2,0.93902399999999997,492,null,null,462]
[2013,3,4268,"070431000","Balsz Elementary District",5321,{"$f":"\"070431103\"","v":"070431103"},"Griffith Elementary School",0.79789100000000002,6.5026E-2,0.86291700000000005,569,null,null,491]
[2013,3,4268,"070431000","Balsz Elementary District",5322,{"$f":"\"070431104\"","v":"070431104"},"Orangedale Junior High Prep Academy",0.853132,5.6155999999999998E-2,0.90928699999999996,463,null,null,421]
[2013,3,4268,"070431000","Balsz Elementary District",81141,{"$f":"\"070431105\"","v":"070431105"},"Brunson-Lee Elementary School",0.90927000000000002,2.5641000000000001E-2,0.93491100000000005,507,null,null,474]
[2013,3,4268,"070431000","Balsz Elementary District",null,{"$f":"\"\"","v":""},null,null,null,null,null,0.91199600000000003]
[2013,3,4481,{"$f":"\"130326000\"","v":"130326000"},"Beaver Creek Elementary District",6116,{"$f":"\"130326101\"","v":"130326101"},"Beaver Creek School",0.87709499999999996,8.3798999999999998E-2,0.96089400000000003,358,null,null,344]
[2013,3,4481,{"$f":"\"130326000\"","v":"130326000"},"Beaver Creek Elementary District",null,{"$f":"\"\"","v":""},null,null,null,null,null,0.96089400000000003]
[2013,3,79983,{"$f":"\"078972000\"","v":"078972000"},"Bell Canyon Charter School Inc",79507,{"$f":"\"078972101\"","v":"078972101"},"Imagine Bell Canyon",0.481319,0.116484,0.59780199999999994,455,null,null,272]
[2013,3,79983,{"$f":"\"078972000\"","v":"078972000"},"Bell Canyon Charter School Inc",null,{"$f":"\"\"","v":""},null,null,null,null,null,0.59780199999999994]
[2013,3,79226,{"$f":"\"020209000\"","v":"020209000"},"Benson Unified School District",4793,{"$f":"\"020209101\"","v":"020209101"},"Benson Primary School",0.54359000000000002,9.2308000000000001E-2,0.63589700000000005,390,null,null,248]
[2013,3,79226,{"$f":"\"020209000\"","v":"020209000"},"Benson Unified School District",4794,{"$f":"\"020209102\"","v":"020209102"},"Benson Middle School",0.46438699999999999,7.4074000000000001E-2,0.538462,351,null,null,189]
[2013,3,79226,{"$f":"\"020209000\"","v":"020209000"},"Benson Unified School District",4799,{"$f":"\"020209201\"","v":"020209201"},"Benson High School",0.29213499999999998,9.8315E-2,0.39044899999999999,356,null,null,139]
[2013,3,79226,{"$f":"\"020209000\"","v":"020209000"},"Benson Unified School District",85879,{"$f":"\"020209701\"","v":"020209701"},"San Pedro Valley High School",0.605263,5.2631999999999998E-2,0.65789500000000001,38,null,null,25]
[2013,3,79226,{"$f":"\"020209000\"","v":"020209000"},"Benson Unified School District",null,{"$f":"\"\"","v":""},null,null,null,null,null,0.52951499999999996]
[2013,3,4515,{"$f":"\"150576000\"","v":"150576000"},"Bicentennial Union High School District",6203,{"$f":"\"150576201\"","v":"150576201"},"Salome High School",0.61290299999999998,0.137097,0.75,124,null,null,93]
[2013,3,4515,{"$f":"\"150576000\"","v":"150576000"},"Bicentennial Union High School District",null,{"$f":"\"\"","v":""},null,null,null,null,null,0.75]
[2013,3,4169,{"$f":"\"020202000\"","v":"020202000"},"Bisbee Unified District",4752,{"$f":"\"020202103\"","v":"020202103"},"Greenway Primary School",0.66449499999999995,8.7947999999999998E-2,0.75244299999999997,307,null,null,231]
[2013,3,4169,{"$f":"\"020202000\"","v":"020202000"},"Bisbee Unified District",4753,{"$f":"\"020202105\"","v":"020202105"},"Lowell School",0.58078600000000002,0.113537,0.69432300000000002,229,null,null,159]
[2013,3,4169,{"$f":"\"020202000\"","v":"020202000"},"Bisbee Unified District",4754,{"$f":"\"020202201\"","v":"020202201"},"Bisbee High School",0.55084699999999998,8.4746000000000002E-2,0.63559299999999996,354,null,null,225]
[2013,3,4169,{"$f":"\"020202000\"","v":"020202000"},"Bisbee Unified District",null,{"$f":"\"\"","v":""},null,null,null,null,null,0.69101100000000004]
[2013,3,9688,{"$f":"\"093901000\"","v":"093901000"},"Black Mesa Community School",80426,{"$f":"\"093901001\"","v":"093901001"},"Black Mesa Community School",0.95833299999999999,0,0.95833299999999999,48,null,null,46]
[2013,3,9688,{"$f":"\"093901000\"","v":"093901000"},"Black Mesa Community School",null,{"$f":"\"\"","v":""},null,null,null,null,null,0.95833299999999999]
[2013,3,91760,{"$f":"\"114002000\"","v":"114002000"},"Blackwater Community School Inc.",91761,{"$f":"\"114002001\"","v":"114002001"},"Blackwater Community School",0.73115600000000003,0.140704,0.87185900000000005,398,null,null,347]
[2013,3,91760,{"$f":"\"114002000\"","v":"114002000"},"Blackwater Community School Inc.",null,{"$f":"\"\"","v":""},null,null,null,null,null,0.87185900000000005]
[2013,3,4397,{"$f":"\"090232000\"","v":"090232000"},"Blue Ridge Unified District",5645,{"$f":"\"090232101\"","v":"090232101"},"Blue Ridge Elementary School",0.52180700000000002,6.5421000000000007E-2,0.58722700000000005,642,null,null,377]
[2013,3,4397,{"$f":"\"090232000\"","v":"090232000"},"Blue Ridge Unified District",5646,{"$f":"\"090232102\"","v":"090232102"},"Blue Ridge Middle School",0.498973,8.4189E-2,0.58316199999999996,487,null,null,284]
[2013,3,4397,{"$f":"\"090232000\"","v":"090232000"},"Blue Ridge Unified District",5647,{"$f":"\"090232103\"","v":"090232103"},"Blue Ridge Jr High School",0.48051899999999997,6.7531999999999995E-2,0.54805199999999998,385,null,null,211]
[2013,3,4397,{"$f":"\"090232000\"","v":"090232000"},"Blue Ridge Unified District",5648,{"$f":"\"090232204\"","v":"090232204"},"Blue Ridge High School",0.367925,5.3907999999999998E-2,0.42183300000000001,742,null,null,313]
[2013,3,4397,{"$f":"\"090232000\"","v":"090232000"},"Blue Ridge Unified District",null,{"$f":"\"\"","v":""},null,null,null,null,null,0.52526499999999998]
[2013,3,4224,{"$f":"\"050316000\"","v":"050316000"},"Bonita Elementary District",4896,{"$f":"\"050316101\"","v":"050316101"},"Bonita Elementary School",0.35922300000000001,0.14563100000000001,0.50485400000000002,103,null,null,52]
[2013,3,4224,{"$f":"\"050316000\"","v":"050316000"},"Bonita Elementary District",null,{"$f":"\"\"","v":""},null,null,null,null,null,0.50485400000000002]
[2013,3,4513,{"$f":"\"150426000\"","v":"150426000"},"Bouse Elementary District",6201,{"$f":"\"150426101\"","v":"150426101"},"Bouse Elementary School",0.8125,0.125,0.9375,48,null,null,45]
[2013,3,4513,{"$f":"\"150426000\"","v":"150426000"},"Bouse Elementary District",null,{"$f":"\"\"","v":""},null,null,null,null,null,0.9375]
[2013,3,4171,{"$f":"\"020214000\"","v":"020214000"},"Bowie Unified District",4758,{"$f":"\"020214100\"","v":"020214100"},"Bowie Elementary School",0.84482800000000002,5.1723999999999999E-2,0.89655200000000002,58,null,null,52]
[2013,3,4171,{"$f":"\"020214000\"","v":"020214000"},"Bowie Unified District",4759,{"$f":"\"020214200\"","v":"020214200"},"Bowie High School",0.77777799999999997,5.5556000000000001E-2,0.83333299999999999,18,null,null,15]
[2013,3,4171,{"$f":"\"020214000\"","v":"020214000"},"Bowie Unified District",null,{"$f":"\"\"","v":""},null,null,null,null,null,0.881579]
[2013,3,4305,{"$f":"\"078613000\"","v":"078613000"},"Boys & Girls Clubs of the East Valley dba Mesa Arts Academy",5470,{"$f":"\"078613101\"","v":"078613101"},"Mesa Arts Academy",0.73706899999999997,9.9138000000000004E-2,0.83620700000000003,232,null,null,194]
[2013,3,4305,{"$f":"\"078613000\"","v":"078613000"},"Boys & Girls Clubs of the East Valley dba Mesa Arts Academy",null,{"$f":"\"\"","v":""},null,null,null,null,null,0.83620700000000003]
[2013,3,4269,{"$f":"\"070433000\"","v":"070433000"},"Buckeye Elementary District",81110,{"$f":"\"070433102\"","v":"070433102"},"Bales Elementary School",0.71052599999999999,0.10657899999999999,0.81710499999999997,760,null,null,621]
[2013,3,4269,"070433000","Buckeye Elementary District",87471,{"$f":"\"070433105\"","v":"070433105"},"Sundance Elementary",0.61419400000000002,0.15096799999999999,0.76516099999999998,775,null,null,593]
[2013,3,4269,"070433000","Buckeye Elementary District",87473,{"$f":"\"070433109\"","v":"070433109"},"Buckeye Elementary School",0.77479299999999995,7.5412999999999994E-2,0.85020700000000005,968,null,null,823]
[2013,3,4269,"070433000","Buckeye Elementary District",88398,{"$f":"\"070433103\"","v":"070433103"},"Westpark Elementary School",0.54584500000000002,0.13037199999999999,0.67621799999999999,698,null,null,472]
[2013,3,4269,"070433000","Buckeye Elementary District",89572,{"$f":"\"070433104\"","v":"070433104"},"Steven R. Jasinski Elementary School",0.65208100000000002,0.11953,0.77161199999999996,937,null,null,723]
[2013,3,4269,"070433000","Buckeye Elementary District",90341,{"$f":"\"070433107\"","v":"070433107"},"Inca Elementary School",0.56120999999999999,0.10729,0.66850100000000001,727,null,null,486]
[2013,3,4269,"070433000","Buckeye Elementary District",null,{"$f":"\"\"","v":""},null,null,null,null,null,0.76423399999999997]
[2013,3,4284,{"$f":"\"070501000\"","v":"070501000"},"Buckeye Union High School District",5424,{"$f":"\"070501201\"","v":"070501201"},"Buckeye Union High School",0.55400700000000003,0.10975600000000001,0.66376299999999999,1148,null,null,762]
[2013,3,4284,{"$f":"\"070501000\"","v":"070501000"},"Buckeye Union High School District",79376,{"$f":"\"070501202\"","v":"070501202"},"Estrella Foothills High School",0.27489599999999997,9.6473000000000003E-2,0.371369,964,null,null,358]
[2013,3,4284,{"$f":"\"070501000\"","v":"070501000"},"Buckeye Union High School District",89573,{"$f":"\"070501204\"","v":"070501204"},"Youngker High School",0.45766699999999999,0.13262299999999999,0.59028999999999998,1689,null,null,997]
[2013,3,4284,{"$f":"\"070501000\"","v":"070501000"},"Buckeye Union High School District",null,{"$f":"\"\"","v":""},null,null,null,null,null,0.55695799999999995]
[2013,3,4378,{"$f":"\"080415000\"","v":"080415000"},"Bullhead City School District",5583,{"$f":"\"080415103\"","v":"080415103"},"Coyote Canyon School",0.82926800000000001,5.5285000000000001E-2,0.88455300000000003,625,null,null,544]
[2013,3,4378,"080415000","Bullhead City School District",5584,{"$f":"\"080415105\"","v":"080415105"},"Desert Valley School",0.83218700000000001,7.9780000000000004E-2,0.91196699999999997,683,null,null,663]
[2013,3,4378,"080415000","Bullhead City School District",5585,{"$f":"\"080415107\"","v":"080415107"},"Diamondback Elementary School",0.63825799999999999,6.6288E-2,0.70454499999999998,528,null,null,372]
[2013,3,4378,"080415000","Bullhead City School District",5587,{"$f":"\"080415130\"","v":"080415130"},"Bullhead City Jr High School",0.80289299999999997,8.8608000000000006E-2,0.89150099999999999,526,null,null,493]
[2013,3,4378,"080415000","Bullhead City School District",6048,{"$f":"\"080415110\"","v":"080415110"},"Fox Creek Jr High School",0.58410399999999996,5.9150000000000001E-2,0.64325299999999996,541,null,null,348]
[2013,3,4378,"080415000","Bullhead City School District",79510,{"$f":"\"088758001\"","v":"088758001"},"Mohave Accelerated Learning Center",0.62652200000000002,7.4425000000000005E-2,0.70094699999999999,739,null,null,518]
[2013,3,4378,"080415000","Bullhead City School District",79655,{"$f":"\"080415104\"","v":"080415104"},"Sunrise Elementary",0.69408700000000001,5.9125999999999998E-2,0.75321300000000002,389,null,null,293]
[2013,3,4378,"080415000","Bullhead City School District",90194,{"$f":"\"088703102\"","v":"088703102"},"Mohave Accelerated Elementary School East",0.31818200000000002,6.3635999999999998E-2,0.38181799999999999,110,null,null,42]
[2013,3,4378,"080415000","Bullhead City School District",null,{"$f":"\"\"","v":""},null,null,null,null,null,0.77702099999999996]
[2013,3,90328,{"$f":"\"078565000\"","v":"078565000"},"CAFA Inc. dba Learning Foundation and Performing Arts Alta Mesa",88290,{"$f":"\"078565001\"","v":"078565001"},"Learning Foundation and Performing Arts Alta Mesa",0.61344500000000002,0.10084,0.71428599999999998,238,null,null,170]
[2013,3,90328,{"$f":"\"078565000\"","v":"078565000"},"CAFA Inc. dba Learning Foundation and Performing Arts Alta Mesa",null,{"$f":"\"\"","v":""},null,null,null,null,null,0.71428599999999998]
[2013,3,90327,{"$f":"\"078564000\"","v":"078564000"},"CAFA Inc. dba Learning Foundation and Performing Arts Gilbert",88289,{"$f":"\"078564001\"","v":"078564001"},"Learning Foundation and Performing Arts Gilbert",0.4,6.7646999999999999E-2,0.46764699999999998,340,null,null,159]
[2013,3,90327,{"$f":"\"078564000\"","v":"078564000"},"CAFA Inc. dba Learning Foundation and Performing Arts Gilbert",null,{"$f":"\"\"","v":""},null,null,null,null,null,0.46764699999999998]
[2013,3,79971,{"$f":"\"098749000\"","v":"098749000"},"CAFA Inc. dba Learning Foundation Performing Arts School",81102,{"$f":"\"098749002\"","v":"098749002"},"Learning Foundation",0.81203000000000003,0.13533800000000001,0.94736799999999999,133,null,null,126]
[2013,3,79971,{"$f":"\"098749000\"","v":"098749000"},"CAFA Inc. dba Learning Foundation Performing Arts School",null,{"$f":"\"\"","v":""},null,null,null,null,null,0.94736799999999999]
[2013,3,79055,{"$f":"\"078909000\"","v":"078909000"},"Calibre Academy",80463,{"$f":"\"078909102\"","v":"078909102"},"Calibre Academy Surprise",0.36022500000000002,0.16135099999999999,0.52157600000000004,533,null,null,278]
[2013,3,79055,{"$f":"\"078909000\"","v":"078909000"},"Calibre Academy",91172,{"$f":"\"078909104\"","v":"078909104"},"Calibre Academy of Glendale",0.61589400000000005,0.112583,0.72847700000000004,151,null,null,110]
[2013,3,79055,{"$f":"\"078909000\"","v":"078909000"},"Calibre Academy",null,{"$f":"\"\"","v":""},null,null,null,null,null,0.56725099999999995]
[2013,3,79905,{"$f":"\"078959000\"","v":"078959000"},"Camelback Education Inc",79906,{"$f":"\"078959001\"","v":"078959001"},"Camelback Academy",0.66347999999999996,0.166348,0.82982800000000001,523,null,null,434]
[2013,3,79905,{"$f":"\"078959000\"","v":"078959000"},"Camelback Education Inc",null,{"$f":"\"\"","v":""},null,null,null,null,null,0.82982800000000001]
[2013,3,4470,{"$f":"\"130228000\"","v":"130228000"},"Camp Verde Unified District",6098,{"$f":"\"130228101\"","v":"130228101"},"Camp Verde Elementary School",0.70105799999999996,7.1429000000000006E-2,0.77248700000000003,756,null,null,584]
[2013,3,4470,{"$f":"\"130228000\"","v":"130228000"},"Camp Verde Unified District",6099,{"$f":"\"130228102\"","v":"130228102"},"Camp Verde Middle School",0.64307700000000001,9.2308000000000001E-2,0.73538499999999996,325,null,null,239]
[2013,3,4470,{"$f":"\"130228000\"","v":"130228000"},"Camp Verde Unified District",6100,{"$f":"\"130228203\"","v":"130228203"},"Camp Verde High School",0.48166300000000001,7.8240000000000004E-2,0.55990200000000001,409,null,null,229]
[2013,3,4470,{"$f":"\"130228000\"","v":"130228000"},"Camp Verde Unified District",null,{"$f":"\"\"","v":""},null,null,null,null,null,0.70604]
[2013,3,4484,{"$f":"\"130350000\"","v":"130350000"},"Canon Elementary District",6119,{"$f":"\"130350101\"","v":"130350101"},"Canon School",0.67307700000000004,2.5641000000000001E-2,0.69871799999999995,156,null,null,109]
[2013,3,4484,{"$f":"\"130350000\"","v":"130350000"},"Canon Elementary District",null,{"$f":"\"\"","v":""},null,null,null,null,null,0.69871799999999995]
[2013,3,79302,{"$f":"\"072107000\"","v":"072107000"},"Canyon State Academy",79303,{"$f":"\"072107001\"","v":"072107001"},"Canyon State Academy",1,0,1,320,null,null,320]
[2013,3,79302,{"$f":"\"072107000\"","v":"072107000"},"Canyon State Academy",89565,{"$f":"\"072107002\"","v":"072107002"},"Sycamore Canyon Ctr for Youth",1,0,1,40,null,null,40]
[2013,3,79302,{"$f":"\"072107000\"","v":"072107000"},"Canyon State Academy",null,{"$f":"\"\"","v":""},null,null,null,null,null,1]
[2013,3,4400,{"$f":"\"098745000\"","v":"098745000"},"Career Development Inc.",5650,{"$f":"\"098745201\"","v":"098745201"},"Northern AZ Academy for Career Dev. - Winslow",0.80487799999999998,4.8779999999999997E-2,0.85365899999999995,41,null,null,35]
[2013,3,4400,{"$f":"\"098745000\"","v":"098745000"},"Career Development Inc.",5652,{"$f":"\"098745204\"","v":"098745204"},"Northern AZ Academy for Career Dev. - Taylor",0.80701800000000001,7.0175000000000001E-2,0.877193,57,null,null,50]
[2013,3,4400,{"$f":"\"098745000\"","v":"098745000"},"Career Development Inc.",null,{"$f":"\"\"","v":""},null,null,null,null,null,0.86734699999999998]
[2013,3,4282,{"$f":"\"070483000\"","v":"070483000"},"Cartwright Elementary District",5398,{"$f":"\"070483101\"","v":"070483101"},"Cartwright School",0.87128700000000003,5.6931000000000002E-2,0.92821799999999999,808,null,null,750]
[2013,3,4282,"070483000","Cartwright Elementary District",5399,{"$f":"\"070483102\"","v":"070483102"},"Glenn L. Downs School",0.89566400000000002,6.0976000000000002E-2,0.95664000000000005,738,null,null,706]
[2013,3,4282,"070483000","Cartwright Elementary District",5400,{"$f":"\"070483103\"","v":"070483103"},"John F. Long",0.92982500000000001,3.6256999999999998E-2,0.966082,855,null,null,826]
[2013,3,4282,"070483000","Cartwright Elementary District",5401,{"$f":"\"070483104\"","v":"070483104"},"Justine Spitalny School",0.91945299999999996,4.8632000000000002E-2,0.96808499999999997,658,null,null,637]
[2013,3,4282,"070483000","Cartwright Elementary District",5402,{"$f":"\"070483105\"","v":"070483105"},"Holiday Park School",0.88228300000000004,5.4697000000000003E-2,0.93698000000000004,841,null,null,788]
[2013,3,4282,"070483000","Cartwright Elementary District",5403,{"$f":"\"070483106\"","v":"070483106"},"Sunset School",0.86596399999999996,5.7229000000000002E-2,0.92319300000000004,664,null,null,613]
[2013,3,4282,"070483000","Cartwright Elementary District",5404,{"$f":"\"070483107\"","v":"070483107"},"Starlight Park School",0.842391,5.8695999999999998E-2,0.90108699999999997,920,null,null,829]
[2013,3,4282,"070483000","Cartwright Elementary District",5405,{"$f":"\"070483108\"","v":"070483108"},"Charles W. Harris School",0.88260099999999997,3.8850999999999997E-2,0.92145299999999997,1184,null,null,1091]
[2013,3,4282,"070483000","Cartwright Elementary District",5406,{"$f":"\"070483109\"","v":"070483109"},"Desert Sands Middle School",0.86797299999999999,8.4326999999999999E-2,0.95230000000000004,1174,null,null,1118]
[2013,3,4282,"070483000","Cartwright Elementary District",5407,{"$f":"\"070483110\"","v":"070483110"},"Frank Borman School",0.87119899999999995,6.0823000000000002E-2,0.93202099999999999,1118,null,null,1042]
[2013,3,4282,"070483000","Cartwright Elementary District",5409,{"$f":"\"070483112\"","v":"070483112"},"Heatherbrae School",0.92847100000000005,3.9271E-2,0.96774199999999999,713,null,null,690]
[2013,3,4282,"070483000","Cartwright Elementary District",5411,{"$f":"\"070483114\"","v":"070483114"},"Estrella Middle School",0.84124600000000005,5.638E-2,0.89762600000000003,1348,null,null,1210]
[2013,3,4282,"070483000","Cartwright Elementary District",5412,{"$f":"\"070483115\"","v":"070483115"},"Palm Lane",0.883212,5.4223E-2,0.93743500000000002,959,null,null,899]
[2013,3,4282,"070483000","Cartwright Elementary District",5413,{"$f":"\"070483116\"","v":"070483116"},"Peralta School",0.85909599999999997,6.6245999999999999E-2,0.925342,951,null,null,880]
[2013,3,4282,"070483000","Cartwright Elementary District",5415,{"$f":"\"070483118\"","v":"070483118"},"Tomahawk School",0.84231900000000004,5.4933999999999997E-2,0.89725299999999997,983,null,null,882]
[2013,3,4282,"070483000","Cartwright Elementary District",6032,{"$f":"\"070483120\"","v":"070483120"},"G. Frank Davidson",0.84989400000000004,7.3996000000000006E-2,0.92388999999999999,946,null,null,874]
[2013,3,4282,"070483000","Cartwright Elementary District",78980,{"$f":"\"070483121\"","v":"070483121"},"Marc T. Atkinson Middle School",0.862645,4.6511999999999998E-2,0.90915699999999999,1376,null,null,1251]
[2013,3,4282,"070483000","Cartwright Elementary District",79283,{"$f":"\"070483122\"","v":"070483122"},"Bret R. Tarver",0.89416399999999996,3.8575999999999999E-2,0.93274000000000001,1011,null,null,943]
[2013,3,4282,"070483000","Cartwright Elementary District",80352,{"$f":"\"079083593\"","v":"079083593"},"St. Vincent de Paul",0.67910400000000004,0.184701,0.86380599999999996,536,null,null,463]
[2013,3,4282,"070483000","Cartwright Elementary District",81109,{"$f":"\"070483123\"","v":"070483123"},"Manuel Pena Jr. School",0.84508499999999998,7.4786000000000005E-2,0.91987200000000002,936,null,null,861]
[2013,3,4282,"070483000","Cartwright Elementary District",89955,{"$f":"\"070483129\"","v":"070483129"},"Raul H. Castro Middle School",0.88387099999999996,6.3440999999999997E-2,0.94731200000000004,930,null,null,881]
[2013,3,4282,"070483000","Cartwright Elementary District",null,{"$f":"\"\"","v":""},null,null,null,null,null,0.92798599999999998]
[2013,3,80246,{"$f":"\"114001000\"","v":"114001000"},"Casa Blanca Community School",80247,{"$f":"\"114001001\"","v":"114001001"},"Casa Blanca Elementary School",0.85185200000000005,6.5844E-2,0.91769500000000004,273,null,null,223]
[2013,3,80246,{"$f":"\"114001000\"","v":"114001000"},"Casa Blanca Community School",null,{"$f":"\"\"","v":""},null,null,null,null,null,0.91769500000000004]
[2013,3,79389,{"$f":"\"102261000\"","v":"102261000"},"Casa de los Ninos",80314,{"$f":"\"102261002\"","v":"102261002"},"Casa de los Ninos",1,0,1,62,null,null,62]
[2013,3,79389,{"$f":"\"102261000\"","v":"102261000"},"Casa de los Ninos",null,{"$f":"\"\"","v":""},null,null,null,null,null,1]
[2013,3,4446,{"$f":"\"110404000\"","v":"110404000"},"Casa Grande Elementary District",5929,{"$f":"\"110404101\"","v":"110404101"},"Cottonwood Elementary School",0.76356599999999997,7.3643E-2,0.83720899999999998,516,null,null,432]
[2013,3,4446,"110404000","Casa Grande Elementary District",5930,{"$f":"\"110404102\"","v":"110404102"},"Evergreen Elementary School",0.739819,8.1448000000000007E-2,0.82126699999999997,441,null,null,363]
[2013,3,4446,"110404000","Casa Grande Elementary District",5932,{"$f":"\"110404104\"","v":"110404104"},"Palo Verde School",0.84475800000000001,6.0484000000000003E-2,0.90524199999999999,496,null,null,449]
[2013,3,4446,"110404000","Casa Grande Elementary District",5933,{"$f":"\"110404105\"","v":"110404105"},"Saguaro Elementary School",0.80530999999999997,7.0795999999999998E-2,0.87610600000000005,564,null,null,495]
[2013,3,4446,"110404000","Casa Grande Elementary District",5934,{"$f":"\"110404106\"","v":"110404106"},"Casa Grande Middle School",0.77777799999999997,7.5498999999999997E-2,0.85327600000000003,699,null,null,599]
[2013,3,4446,"110404000","Casa Grande Elementary District",5935,{"$f":"\"110404107\"","v":"110404107"},"Cholla Elementary School",0.58739799999999998,0.103659,0.69105700000000003,490,null,null,340]
[2013,3,4446,"110404000","Casa Grande Elementary District",5936,{"$f":"\"110404108\"","v":"110404108"},"Ironwood School",0.51388900000000004,0.107143,0.62103200000000003,502,null,null,313]
[2013,3,4446,"110404000","Casa Grande Elementary District",5937,{"$f":"\"110404109\"","v":"110404109"},"Mesquite Elementary School",0.72038800000000003,7.1845000000000006E-2,0.79223299999999997,514,null,null,408]
[2013,3,4446,"110404000","Casa Grande Elementary District",79692,{"$f":"\"110404110\"","v":"110404110"},"Cactus Middle School",0.54477600000000004,0.10234500000000001,0.64712199999999998,935,null,null,607]
[2013,3,4446,"110404000","Casa Grande Elementary District",87948,{"$f":"\"110404130\"","v":"110404130"},"Desert Willow Elementary School",0.50671100000000002,8.0536999999999997E-2,0.58724799999999999,593,null,null,350]
[2013,3,4446,"110404000","Casa Grande Elementary District",89578,{"$f":"\"110404132\"","v":"110404132"},"McCartney Ranch Elementary School",0.57162299999999999,6.9577E-2,0.64120100000000002,732,null,null,470]
[2013,3,4446,"110404000","Casa Grande Elementary District",89579,{"$f":"\"110404131\"","v":"110404131"},"Villago Middle School",0.58343199999999995,8.8757000000000003E-2,0.67218900000000004,840,null,null,568]
[2013,3,4446,"110404000","Casa Grande Elementary District",null,{"$f":"\"\"","v":""},null,null,null,null,null,0.73458299999999999]
[2013,3,4453,{"$f":"\"110502000\"","v":"110502000"},"Casa Grande Union High School District",5948,{"$f":"\"110502001\"","v":"110502001"},"Casa Grande Union High School",0.47468399999999999,9.8891999999999994E-2,0.57357599999999997,1264,null,null,725]
[2013,3,4453,{"$f":"\"110502000\"","v":"110502000"},"Casa Grande Union High School District",5950,{"$f":"\"110502003\"","v":"110502003"},"Desert Winds High School",0.76258999999999999,5.0360000000000002E-2,0.81294999999999995,278,null,null,226]
[2013,3,4453,{"$f":"\"110502000\"","v":"110502000"},"Casa Grande Union High School District",79658,{"$f":"\"110502701\"","v":"110502701"},"Casa Verde High School",0.55000000000000004,8.8888999999999996E-2,0.63888900000000004,180,null,null,115]
[2013,3,4453,{"$f":"\"110502000\"","v":"110502000"},"Casa Grande Union High School District",90084,{"$f":"\"110502004\"","v":"110502004"},"Vista Grande High School",0.50509300000000001,0.13181499999999999,0.63690800000000003,1669,null,null,1063]
[2013,3,4453,{"$f":"\"110502000\"","v":"110502000"},"Casa Grande Union High School District",null,{"$f":"\"\"","v":""},null,null,null,null,null,0.62783800000000001]
[2013,3,4410,{"$f":"\"100216000\"","v":"100216000"},"Catalina Foothills Unified District",5832,{"$f":"\"100216101\"","v":"100216101"},"Sunrise Drive Elementary School",0.129496,4.6762999999999999E-2,0.176259,556,null,null,98]
[2013,3,4410,"100216000","Catalina Foothills Unified District",5833,{"$f":"\"100216102\"","v":"100216102"},"Manzanita School",6.4516000000000004E-2,2.3040999999999999E-2,8.7557999999999997E-2,651,null,null,57]
[2013,3,4410,"100216000","Catalina Foothills Unified District",5834,{"$f":"\"100216103\"","v":"100216103"},"Orange Grove Middle School",0.101523,2.7073E-2,0.12859599999999999,591,null,null,76]
[2013,3,4410,"100216000","Catalina Foothills Unified District",5835,{"$f":"\"100216104\"","v":"100216104"},"Canyon View Elementary School",9.4687999999999994E-2,2.5403999999999999E-2,0.120092,433,null,null,52]
[2013,3,4410,"100216000","Catalina Foothills Unified District",5837,{"$f":"\"100216107\"","v":"100216107"},"Esperero Canyon Middle School",9.5960000000000004E-2,2.0202000000000001E-2,0.116162,594,null,null,69]
[2013,3,4410,"100216000","Catalina Foothills Unified District",5838,{"$f":"\"100216108\"","v":"100216108"},"Ventana Vista Elementary School",0.121212,2.2221999999999999E-2,0.14343400000000001,495,null,null,71]
[2013,3,4410,"100216000","Catalina Foothills Unified District",5839,{"$f":"\"100216206\"","v":"100216206"},"Catalina Foothills High School",7.2749999999999995E-2,1.8495999999999999E-2,9.1245000000000007E-2,1622,null,null,148]
[2013,3,4410,"100216000","Catalina Foothills Unified District",null,{"$f":"\"\"","v":""},null,null,null,null,null,0.11554]
[2013,3,80292,{"$f":"\"102702000\"","v":"102702000"},"Catholic Community School",80293,{"$f":"\"102702001\"","v":"102702001"},"Catholic Community School",1,0,1,6,null,null,6]
[2013,3,80292,{"$f":"\"102702000\"","v":"102702000"},"Catholic Community School",null,{"$f":"\"\"","v":""},null,null,null,null,null,1]
[2013,3,4244,{"$f":"\"070293000\"","v":"070293000"},"Cave Creek Unified District",5134,{"$f":"\"070293102\"","v":"070293102"},"Black Mountain Elementary School",9.3632999999999994E-2,2.4344999999999999E-2,0.117978,534,null,null,63]
[2013,3,4244,"070293000","Cave Creek Unified District",5136,{"$f":"\"070293706\"","v":"070293706"},"Desert Sun Academy",0.108738,9.7090000000000006E-3,0.118447,515,null,null,61]
[2013,3,4244,"070293000","Cave Creek Unified District",5137,{"$f":"\"070293204\"","v":"070293204"},"Cactus Shadows High School",8.3424999999999999E-2,1.7680000000000001E-2,0.101105,1810,null,null,183]
[2013,3,4244,"070293000","Cave Creek Unified District",78911,{"$f":"\"070293101\"","v":"070293101"},"Sonoran Trails Middle School",9.4497999999999999E-2,2.3923E-2,0.118421,836,null,null,99]
[2013,3,4244,"070293000","Cave Creek Unified District",78912,{"$f":"\"070293705\"","v":"070293705"},"Desert Willow Elementary School",9.3278E-2,1.6461E-2,0.109739,729,null,null,80]
[2013,3,4244,"070293000","Cave Creek Unified District",80056,{"$f":"\"070293707\"","v":"070293707"},"Lone Mountain Elementary School",7.3094999999999993E-2,1.8662999999999999E-2,9.1757000000000005E-2,643,null,null,59]
[2013,3,4244,"070293000","Cave Creek Unified District",87477,{"$f":"\"070293708\"","v":"070293708"},"Horseshoe Trails Elementary School",5.9249000000000003E-2,1.4451E-2,7.3699000000000001E-2,692,null,null,51]
[2013,3,4244,"070293000","Cave Creek Unified District",null,{"$f":"\"\"","v":""},null,null,null,null,null,0.10349]
[2013,3,4395,{"$f":"\"090225000\"","v":"090225000"},"Cedar Unified District",5638,{"$f":"\"090225001\"","v":"090225001"},"Jeddito School",0.92972999999999995,4.3242999999999997E-2,0.97297299999999998,185,null,null,180]
[2013,3,4395,{"$f":"\"090225000\"","v":"090225000"},"Cedar Unified District",null,{"$f":"\"\"","v":""},null,null,null,null,null,0.97297299999999998]
[2013,3,4191,{"$f":"\"028750000\"","v":"028750000"},"Center for Academic Success Inc.",4801,{"$f":"\"028750201\"","v":"028750201"},"Center for Academic Success #1",0.47933900000000002,9.0909000000000004E-2,0.57024799999999998,121,null,null,69]
[2013,3,4191,"028750000","Center for Academic Success Inc.",4802,{"$f":"\"028750202\"","v":"028750202"},"Center for Academic Success #2",0.8125,1.7857000000000001E-2,0.83035700000000001,112,null,null,93]
[2013,3,4191,"028750000","Center for Academic Success Inc.",5877,{"$f":"\"108744205\"","v":"108744205"},"PPEP TEC - Raul H. Castro Learning Center",0.94017099999999998,3.4188000000000003E-2,0.97435899999999998,117,null,null,114]
[2013,3,4191,"028750000","Center for Academic Success Inc.",79039,{"$f":"\"028750203\"","v":"028750203"},"Center for Academic Success #3",0.85855300000000001,1.9737000000000001E-2,0.87828899999999999,304,null,null,267]
[2013,3,4191,"028750000","Center for Academic Success Inc.",85876,{"$f":"\"028750204\"","v":"028750204"},"Center for Academic Success #4",0.92783499999999997,1.5464E-2,0.943299,194,null,null,183]
[2013,3,4191,"028750000","Center for Academic Success Inc.",85877,{"$f":"\"028750205\"","v":"028750205"},"Center for Academic Success #5",0.534161,0.124224,0.658385,322,null,null,212]
[2013,3,4191,"028750000","Center for Academic Success Inc.",91204,{"$f":"\"078784104\"","v":"078784104"},"Liberty Traditional Charter School - Saddleback",0.59055100000000005,7.8740000000000004E-2,0.66929099999999997,127,null,null,85]
[2013,3,4191,"028750000","Center for Academic Success Inc.",null,{"$f":"\"\"","v":""},null,null,null,null,null,0.78874299999999997]
[2013,3,90140,{"$f":"\"078550000\"","v":"078550000"},"Challenge Foundation Academies of Arizona Inc.",90141,{"$f":"\"078550001\"","v":"078550001"},"Pioneer Preparatory - A Challenge Foundation",0.90312999999999999,4.0238000000000003E-2,0.94336799999999998,671,null,null,633]
[2013,3,90140,{"$f":"\"078550000\"","v":"078550000"},"Challenge Foundation Academies of Arizona Inc.",null,{"$f":"\"\"","v":""},null,null,null,null,null,0.94336799999999998]
[2013,3,6362,{"$f":"\"078772000\"","v":"078772000"},"Challenge School Inc.",5555,{"$f":"\"078772001\"","v":"078772001"},"Challenge Charter School",0.14596300000000001,4.9688999999999997E-2,0.19565199999999999,644,null,null,126]
[2013,3,6362,{"$f":"\"078772000\"","v":"078772000"},"Challenge School Inc.",null,{"$f":"\"\"","v":""},null,null,null,null,null,0.19565199999999999]
[2013,3,4242,{"$f":"\"070280000\"","v":"070280000"},"Chandler Unified District #80",5110,{"$f":"\"070280104\"","v":"070280104"},"Willis Junior High School",0.561056,7.0406999999999997E-2,0.631463,909,null,null,574]
[2013,3,4242,"070280000","Chandler Unified District #80",5111,{"$f":"\"070280105\"","v":"070280105"},"San Marcos Elementary School",0.89649699999999999,4.1401E-2,0.93789800000000001,628,null,null,589]
[2013,3,4242,"070280000","Chandler Unified District #80",5113,{"$f":"\"070280107\"","v":"070280107"},"Galveston Elementary School",0.89620299999999997,5.3164999999999997E-2,0.94936699999999996,790,null,null,750]
[2013,3,4242,"070280000","Chandler Unified District #80",5114,{"$f":"\"070280108\"","v":"070280108"},"Hartford Sylvia Encinas Elementary",0.86854500000000001,4.6947999999999997E-2,0.915493,852,null,null,780]
[2013,3,4242,"070280000","Chandler Unified District #80",5115,{"$f":"\"070280109\"","v":"070280109"},"Knox Gifted Academy",0.39577499999999999,3.3803E-2,0.42957699999999999,710,null,null,305]
[2013,3,4242,"070280000","Chandler Unified District #80",5116,{"$f":"\"070280111\"","v":"070280111"},"Frye Elementary School",0.82768399999999998,5.0847000000000003E-2,0.87853099999999995,708,null,null,622]
[2013,3,4242,"070280000","Chandler Unified District #80",5117,{"$f":"\"070280112\"","v":"070280112"},"Anna Marie Jacobson  Elementary School",0.10909099999999999,3.2086000000000003E-2,0.141176,935,null,null,132]
[2013,3,4242,"070280000","Chandler Unified District #80",5118,{"$f":"\"070280113\"","v":"070280113"},"Sanborn Elementary School",0.42360199999999998,5.9626999999999999E-2,0.48322999999999999,805,null,null,389]
[2013,3,4242,"070280000","Chandler Unified District #80",5119,{"$f":"\"070280114\"","v":"070280114"},"Chandler Traditional Academy - Goodman",0.14574899999999999,3.9135999999999997E-2,0.18488499999999999,741,null,null,137]
[2013,3,4242,"070280000","Chandler Unified District #80",5120,{"$f":"\"070280115\"","v":"070280115"},"Weinberg Elementary School",0.17063999999999999,4.8933999999999998E-2,0.21957299999999999,797,null,null,175]
[2013,3,4242,"070280000","Chandler Unified District #80",5121,{"$f":"\"070280116\"","v":"070280116"},"John M Andersen Elementary School",0.374224,6.5216999999999997E-2,0.43944100000000003,644,null,null,283]
[2013,3,4242,"070280000","Chandler Unified District #80",5122,{"$f":"\"070280117\"","v":"070280117"},"Chandler Traditional Academy-Humphrey",0.41279100000000002,7.5580999999999995E-2,0.48837199999999997,516,null,null,252]
[2013,3,4242,"070280000","Chandler Unified District #80",5123,{"$f":"\"070280118\"","v":"070280118"},"John M Andersen Jr High School",0.48803800000000003,7.3683999999999999E-2,0.56172200000000005,1045,null,null,587]
[2013,3,4242,"070280000","Chandler Unified District #80",5124,{"$f":"\"070280119\"","v":"070280119"},"Shumway Elementary School",0.48655900000000002,6.4516000000000004E-2,0.55107499999999998,744,null,null,410]
[2013,3,4242,"070280000","Chandler Unified District #80",5125,{"$f":"\"070280120\"","v":"070280120"},"Bogle Junior High School",0.24268799999999999,4.2687999999999997E-2,0.28537499999999999,1265,null,null,361]
[2013,3,4242,"070280000","Chandler Unified District #80",5126,{"$f":"\"070280122\"","v":"070280122"},"Dr Howard K Conley Elementary School",0.38973799999999997,8.5153000000000006E-2,0.47489100000000001,916,null,null,435]
[2013,3,4242,"070280000","Chandler Unified District #80",5127,{"$f":"\"070280202\"","v":"070280202"},"Chandler High School",0.37413299999999999,5.2156000000000001E-2,0.42628899999999997,3317,null,null,1414]
[2013,3,4242,"070280000","Chandler Unified District #80",6013,{"$f":"\"070280124\"","v":"070280124"},"Rudy G Bologna Elementary",0.62804899999999997,6.9512000000000004E-2,0.69756099999999999,820,null,null,572]
[2013,3,4242,"070280000","Chandler Unified District #80",6014,{"$f":"\"070280127\"","v":"070280127"},"Robert and Danell Tarwater Elementary",0.119867,4.5504999999999997E-2,0.16537199999999999,901,null,null,149]
[2013,3,4242,"070280000","Chandler Unified District #80",6015,{"$f":"\"070280223\"","v":"070280223"},"Hamilton High School",0.198654,3.6878000000000001E-2,0.23553199999999999,3715,null,null,875]
[2013,3,4242,"070280000","Chandler Unified District #80",79247,{"$f":"\"070280129\"","v":"070280129"},"Basha Elementary",0.12870300000000001,2.3493E-2,0.152196,979,null,null,149]
[2013,3,4242,"070280000","Chandler Unified District #80",79633,{"$f":"\"070280203\"","v":"070280203"},"Basha High School",0.12548400000000001,4.1052999999999999E-2,0.16653799999999999,2582,null,null,430]
[2013,3,4242,"070280000","Chandler Unified District #80",79634,{"$f":"\"070280121\"","v":"070280121"},"Santan Junior High School",0.113636,3.0303E-2,0.14393900000000001,1320,null,null,190]
[2013,3,4242,"070280000","Chandler Unified District #80",79635,{"$f":"\"070280131\"","v":"070280131"},"T. Dale Hancock Elementary School",0.31296099999999999,4.215E-2,0.35511100000000001,949,null,null,337]
[2013,3,4242,"070280000","Chandler Unified District #80",79636,{"$f":"\"070280132\"","v":"070280132"},"Navarrete Elementary",0.12670600000000001,3.8986E-2,0.16569200000000001,1026,null,null,170]
[2013,3,4242,"070280000","Chandler Unified District #80",79653,{"$f":"\"070280130\"","v":"070280130"},"Jane D. Hull Elementary",0.13885900000000001,5.0591999999999998E-2,0.18945100000000001,929,null,null,176]
[2013,3,4242,"070280000","Chandler Unified District #80",80102,{"$f":"\"070280133\"","v":"070280133"},"Chandler Traditional Academy - Liberty Campus",7.9503000000000004E-2,3.8509000000000002E-2,0.11801200000000001,805,null,null,95]
[2013,3,4242,"070280000","Chandler Unified District #80",85837,{"$f":"\"070280134\"","v":"070280134"},"Chandler Traditional Academy-Freedom",9.7192000000000001E-2,2.8077999999999999E-2,0.12526999999999999,926,null,null,116]
[2013,3,4242,"070280000","Chandler Unified District #80",85838,{"$f":"\"070280135\"","v":"070280135"},"Audrey & Robert Ryan Elementary",5.1902999999999998E-2,2.6527999999999999E-2,7.8431000000000001E-2,867,null,null,68]
[2013,3,4242,"070280000","Chandler Unified District #80",87519,{"$f":"\"070280110\"","v":"070280110"},"Willie & Coy Payne Jr. High",0.11853900000000001,4.8243000000000001E-2,0.16678200000000001,1451,null,null,242]
[2013,3,4242,"070280000","Chandler Unified District #80",87679,{"$f":"\"070280137\"","v":"070280137"},"Santan Elementary",6.1185000000000003E-2,1.2428E-2,7.3613999999999999E-2,1046,null,null,77]
[2013,3,4242,"070280000","Chandler Unified District #80",88404,{"$f":"\"070280136\"","v":"070280136"},"Chandler Traditional Academy - Independence",2.7956999999999999E-2,9.6769999999999998E-3,3.7634000000000001E-2,930,null,null,35]
[2013,3,4242,"070280000","Chandler Unified District #80",89589,{"$f":"\"070280139\"","v":"070280139"},"Riggs Elementary",0.101879,2.2749999999999999E-2,0.124629,1011,null,null,126]
[2013,3,4242,"070280000","Chandler Unified District #80",89590,{"$f":"\"070280138\"","v":"070280138"},"Ira A. Fulton Elementary",7.6923000000000005E-2,2.1978000000000001E-2,9.8901000000000003E-2,1001,null,null,99]
[2013,3,4242,"070280000","Chandler Unified District #80",89591,{"$f":"\"070280243\"","v":"070280243"},"Arizona College Prep Erie Campus",6.9638000000000005E-2,3.3425999999999997E-2,0.103064,359,null,null,37]
[2013,3,4242,"070280000","Chandler Unified District #80",89613,{"$f":"\"070280228\"","v":"070280228"},"Perry High School",0.105503,4.4023E-2,0.14952599999999999,2635,null,null,394]
[2013,3,4242,"070280000","Chandler Unified District #80",89925,{"$f":"\"070280141\"","v":"070280141"},"Haley Elementary",0.118938,2.5403999999999999E-2,0.144342,866,null,null,125]
[2013,3,4242,"070280000","Chandler Unified District #80",89926,{"$f":"\"070280140\"","v":"070280140"},"Charlotte Patterson Elementary",0.14043,3.0578000000000001E-2,0.17100799999999999,883,null,null,151]
[2013,3,4242,"070280000","Chandler Unified District #80",90027,{"$f":"\"070280244\"","v":"070280244"},"Ken 'Chief' Hill Learning Academy",0.601329,6.6445000000000004E-2,0.66777399999999998,301,null,null,201]
[2013,3,4242,"070280000","Chandler Unified District #80",90302,{"$f":"\"070280145\"","v":"070280145"},"Arizona College Prep Oakland Campus",4.6753000000000003E-2,1.5584000000000001E-2,6.2337999999999998E-2,385,null,null,24]
[2013,3,4242,"070280000","Chandler Unified District #80",91794,{"$f":"\"070280142\"","v":"070280142"},"John & Carol Carlson Elementary",9.1295000000000001E-2,1.2739E-2,0.104034,471,null,null,49]
[2013,3,4242,"070280000","Chandler Unified District #80",null,{"$f":"\"\"","v":""},null,null,null,null,null,0.300873]
[2013,3,80242,{"$f":"\"094006000\"","v":"094006000"},"Chilchinbeto Community School",80378,{"$f":"\"033904009\"","v":"033904009"},"Chilchinbeto Community School",0.92,0,0.92,125,null,null,115]
[2013,3,80242,{"$f":"\"094006000\"","v":"094006000"},"Chilchinbeto Community School",null,{"$f":"\"\"","v":""},null,null,null,null,null,0.92]
[2013,3,84331,{"$f":"\"072708000\"","v":"072708000"},"Child Crisis Center -  East Valley Inc.",84333,{"$f":"\"072708002\"","v":"072708002"},"Mahnah Wing a Satellite Home",1,0,1,27,null,null,27]
[2013,3,84331,{"$f":"\"072708000\"","v":"072708000"},"Child Crisis Center -  East Valley Inc.",84334,{"$f":"\"072708003\"","v":"072708003"},"Theresa Wing a Satellite Home",1,0,1,15,null,null,15]
[2013,3,84331,{"$f":"\"072708000\"","v":"072708000"},"Child Crisis Center -  East Valley Inc.",null,{"$f":"\"\"","v":""},null,null,null,null,null,1]
[2013,3,4158,{"$f":"\"010224000\"","v":"010224000"},"Chinle Unified District",4731,{"$f":"\"010224145\"","v":"010224145"},"Chinle Junior High School",0.71331800000000001,9.2550999999999994E-2,0.80586899999999995,429,null,null,357]
[2013,3,4158,"010224000","Chinle Unified District",4732,{"$f":"\"010224150\"","v":"010224150"},"Chinle Elementary School",0.68787299999999996,0.12325999999999999,0.81113299999999999,467,null,null,408]
[2013,3,4158,"010224000","Chinle Unified District",4733,{"$f":"\"010224155\"","v":"010224155"},"Canyon De Chelly Elementary School",0.78435500000000002,9.0909000000000004E-2,0.87526400000000004,416,null,null,414]
[2013,3,4158,"010224000","Chinle Unified District",4734,{"$f":"\"010224160\"","v":"010224160"},"Many Farms Elementary School",0.69264099999999995,8.8745000000000004E-2,0.781385,447,null,null,361]
[2013,3,4158,"010224000","Chinle Unified District",4735,{"$f":"\"010224165\"","v":"010224165"},"Tsaile Elementary School",0.74149699999999996,9.9773000000000001E-2,0.84126999999999996,425,null,null,371]
[2013,3,4158,"010224000","Chinle Unified District",4736,{"$f":"\"010224170\"","v":"010224170"},"Mesa View Elementary",0.72577700000000001,9.6892000000000006E-2,0.82266899999999998,435,null,null,450]
[2013,3,4158,"010224000","Chinle Unified District",4737,{"$f":"\"010224240\"","v":"010224240"},"Chinle High School",0.67456099999999997,0.12193,0.79649099999999995,976,null,null,908]
[2013,3,4158,"010224000","Chinle Unified District",null,{"$f":"\"\"","v":""},null,null,null,null,null,0.81520999999999999]
[2013,3,4474,{"$f":"\"130251000\"","v":"130251000"},"Chino Valley Unified District",6108,{"$f":"\"130251101\"","v":"130251101"},"Del Rio Elementary School",0.580488,0.10569099999999999,0.68617899999999998,599,null,null,422]
[2013,3,4474,{"$f":"\"130251000\"","v":"130251000"},"Chino Valley Unified District",6109,{"$f":"\"130251102\"","v":"130251102"},"Heritage Middle School",0.58833599999999997,7.3756000000000002E-2,0.66209300000000004,540,null,null,386]
[2013,3,4474,{"$f":"\"130251000\"","v":"130251000"},"Chino Valley Unified District",6110,{"$f":"\"130251203\"","v":"130251203"},"Chino Valley High School",0.51566299999999998,8.1928000000000001E-2,0.59758999999999995,739,null,null,496]
[2013,3,4474,{"$f":"\"130251000\"","v":"130251000"},"Chino Valley Unified District",78928,{"$f":"\"130251103\"","v":"130251103"},"Territorial Elementary School",0.77129999999999999,0.100897,0.872197,443,null,null,389]
[2013,3,4474,{"$f":"\"130251000\"","v":"130251000"},"Chino Valley Unified District",null,{"$f":"\"\"","v":""},null,null,null,null,null,0.68787299999999996]
[2013,3,90138,{"$f":"\"078549000\"","v":"078549000"},"Choice Academies Inc.",90139,{"$f":"\"078549001\"","v":"078549001"},"Adams Traditional Academy",0.10288600000000001,2.2585000000000001E-2,0.125471,797,null,null,100]
[2013,3,90138,{"$f":"\"078549000\"","v":"078549000"},"Choice Academies Inc.",null,{"$f":"\"\"","v":""},null,null,null,null,null,0.125471]
[2013,3,5186,{"$f":"\"078995000\"","v":"078995000"},"Cholla Academy",10801,{"$f":"\"078995001\"","v":"078995001"},"Westland School",0.72284599999999999,6.3670000000000004E-2,0.78651700000000002,267,null,null,210]
[2013,3,5186,{"$f":"\"078995000\"","v":"078995000"},"Cholla Academy",null,{"$f":"\"\"","v":""},null,null,null,null,null,0.78651700000000002]
[2013,3,80415,{"$f":"\"093916000\"","v":"093916000"},"Cibecue Community School Inc.",80416,{"$f":"\"104001005\"","v":"104001005"},"Cibecue",0.85346999999999995,3.0848E-2,0.88431899999999997,389,null,null,344]
[2013,3,80415,{"$f":"\"093916000\"","v":"093916000"},"Cibecue Community School Inc.",null,{"$f":"\"\"","v":""},null,null,null,null,null,0.88431899999999997]
[2013,3,4486,{"$f":"\"130403000\"","v":"130403000"},"Clarkdale-Jerome Elementary District",6122,{"$f":"\"130403101\"","v":"130403101"},"Clarkdale-Jerome Elementary School",0.44698500000000002,9.3554999999999999E-2,0.54054100000000005,481,null,null,260]
[2013,3,4486,{"$f":"\"130403000\"","v":"130403000"},"Clarkdale-Jerome Elementary District",null,{"$f":"\"\"","v":""},null,null,null,null,null,0.54054100000000005]
[2013,3,4229,{"$f":"\"060203000\"","v":"060203000"},"Clifton Unified District",4904,{"$f":"\"060203101\"","v":"060203101"},"Laugharn Elementary School",0.59090900000000002,0.204545,0.79545500000000002,44,null,null,35]
[2013,3,4229,{"$f":"\"060203000\"","v":"060203000"},"Clifton Unified District",4905,{"$f":"\"060203202\"","v":"060203202"},"Clifton High School",0.70588200000000001,8.8234999999999994E-2,0.79411799999999999,34,null,null,27]
[2013,3,4229,{"$f":"\"060203000\"","v":"060203000"},"Clifton Unified District",null,{"$f":"\"\"","v":""},null,null,null,null,null,0.79487200000000002]
[2013,3,81027,{"$f":"\"028701000\"","v":"028701000"},"Cochise Community Development Corporation",81028,{"$f":"\"028701001\"","v":"028701001"},"The Berean Schools",0.41605799999999998,9.0024000000000007E-2,0.50608299999999995,411,null,null,208]
[2013,3,81027,{"$f":"\"028701000\"","v":"028701000"},"Cochise Community Development Corporation",null,{"$f":"\"\"","v":""},null,null,null,null,null,0.50608299999999995]
[2013,3,79462,{"$f":"\"211012000\"","v":"211012000"},"Cochise County Juvenile Detention",79466,{"$f":"\"211012001\"","v":"211012001"},"AOC-Cochise County Juvenile Dentention Centre",1,0,1,15,null,null,15]
[2013,3,79462,{"$f":"\"211012000\"","v":"211012000"},"Cochise County Juvenile Detention",null,{"$f":"\"\"","v":""},null,null,null,null,null,1]
[2013,3,4177,{"$f":"\"020326000\"","v":"020326000"},"Cochise Elementary District",4785,{"$f":"\"020326101\"","v":"020326101"},"Cochise Elementary School",0.46511599999999997,5.8139999999999997E-2,0.52325600000000005,86,null,null,45]
[2013,3,4177,{"$f":"\"020326000\"","v":"020326000"},"Cochise Elementary District",null,{"$f":"\"\"","v":""},null,null,null,null,null,0.52325600000000005]
[2013,3,79464,{"$f":"\"211013000\"","v":"211013000"},"Coconino County Juvenile Detention",79526,{"$f":"\"211013001\"","v":"211013001"},"AOC-Coconino County Juvenile Detention Center",0.88888900000000004,0,0.88888900000000004,63,null,null,56]
[2013,3,79464,{"$f":"\"211013000\"","v":"211013000"},"Coconino County Juvenile Detention",null,{"$f":"\"\"","v":""},null,null,null,null,null,0.88888900000000004]
[2013,3,4370,{"$f":"\"080214000\"","v":"080214000"},"Colorado City Unified District",5567,{"$f":"\"080214101\"","v":"080214101"},"El Capitan Public School",0.80042500000000005,5.9448000000000001E-2,0.859873,471,null,null,405]
[2013,3,4370,{"$f":"\"080214000\"","v":"080214000"},"Colorado City Unified District",null,{"$f":"\"\"","v":""},null,null,null,null,null,0.859873]
[2013,3,4381,{"$f":"\"080502000\"","v":"080502000"},"Colorado River Union High School District",5592,{"$f":"\"080502001\"","v":"080502001"},"Mohave High School",0.53706600000000004,6.7822999999999994E-2,0.60489000000000004,1268,null,null,767]
[2013,3,4381,{"$f":"\"080502000\"","v":"080502000"},"Colorado River Union High School District",5593,{"$f":"\"080502002\"","v":"080502002"},"River Valley High School",0.47625699999999999,8.7988999999999998E-2,0.56424600000000003,716,null,null,404]
[2013,3,4381,{"$f":"\"080502000\"","v":"080502000"},"Colorado River Union High School District",null,{"$f":"\"\"","v":""},null,null,null,null,null,0.59022200000000002]
[2013,3,4160,{"$f":"\"010306000\"","v":"010306000"},"Concho Elementary District",4742,{"$f":"\"010306101\"","v":"010306101"},"Concho Elementary School",0.74316899999999997,0.10929,0.85245899999999997,183,null,null,156]
[2013,3,4160,{"$f":"\"010306000\"","v":"010306000"},"Concho Elementary District",null,{"$f":"\"\"","v":""},null,null,null,null,null,0.85245899999999997]
[2013,3,89556,{"$f":"\"078530000\"","v":"078530000"},"Concordia Charter School Inc.",89557,{"$f":"\"078530101\"","v":"078530101"},"Concordia Charter School",0.87777799999999995,6.6667000000000004E-2,0.94444399999999995,90,null,null,85]
[2013,3,89556,{"$f":"\"078530000\"","v":"078530000"},"Concordia Charter School Inc.",null,{"$f":"\"\"","v":""},null,null,null,null,null,0.94444399999999995]
[2013,3,4479,{"$f":"\"130317000\"","v":"130317000"},"Congress Elementary District",6114,{"$f":"\"130317001\"","v":"130317001"},"Congress Elementary School",0.65517199999999998,6.8966E-2,0.72413799999999995,116,null,null,84]
[2013,3,4479,{"$f":"\"130317000\"","v":"130317000"},"Congress Elementary District",null,{"$f":"\"\"","v":""},null,null,null,null,null,0.72413799999999995]
[2013,3,4416,{"$f":"\"100339000\"","v":"100339000"},"Continental Elementary District",5855,{"$f":"\"100339001\"","v":"100339001"},"Continental Elementary School",0.30892900000000001,0.107143,0.41607100000000002,560,null,null,233]
[2013,3,4416,{"$f":"\"100339000\"","v":"100339000"},"Continental Elementary District",null,{"$f":"\"\"","v":""},null,null,null,null,null,0.41607100000000002]
[2013,3,4442,{"$f":"\"110221000\"","v":"110221000"},"Coolidge Unified District",5911,{"$f":"\"110221001\"","v":"110221001"},"West Elementary School",0.84881899999999999,4.5669000000000001E-2,0.89448799999999995,635,null,null,568]
[2013,3,4442,"110221000","Coolidge Unified District",5914,{"$f":"\"110221005\"","v":"110221005"},"HoHoKam Middle School",0.82212600000000002,6.0738E-2,0.88286299999999995,461,null,null,407]
[2013,3,4442,"110221000","Coolidge Unified District",5916,{"$f":"\"110221007\"","v":"110221007"},"Coolidge High School",0.66816799999999998,5.4053999999999998E-2,0.72222200000000003,666,null,null,481]
[2013,3,4442,"110221000","Coolidge Unified District",80440,{"$f":"\"110221008\"","v":"110221008"},"San Tan Heights Elementary",0.64353700000000003,0.10204100000000001,0.74557799999999996,735,null,null,548]
[2013,3,4442,"110221000","Coolidge Unified District",88427,{"$f":"\"110221009\"","v":"110221009"},"Mountain Vista Middle School",0.62784099999999998,0.125,0.75284099999999998,352,null,null,265]
[2013,3,4442,"110221000","Coolidge Unified District",89577,{"$f":"\"110221010\"","v":"110221010"},"Heartland Ranch Elementary School",0.90453499999999998,6.6825999999999997E-2,0.97136,419,null,null,407]
[2013,3,4442,"110221000","Coolidge Unified District",89907,{"$f":"\"110221011\"","v":"110221011"},"San Tan Foothills High School",0.51204799999999995,0.10642600000000001,0.61847399999999997,498,null,null,308]
[2013,3,4442,"110221000","Coolidge Unified District",null,{"$f":"\"\"","v":""},null,null,null,null,null,0.79235199999999995]
[2013,3,79988,{"$f":"\"078975000\"","v":"078975000"},"Cortez Park Charter Middle School Inc.",79989,{"$f":"\"078975101\"","v":"078975101"},"Imagine Cortez Park Middle",0.85585599999999995,6.3062999999999994E-2,0.91891900000000004,222,null,null,204]
[2013,3,79988,{"$f":"\"078975000\"","v":"078975000"},"Cortez Park Charter Middle School Inc.",null,{"$f":"\"\"","v":""},null,null,null,null,null,0.91891900000000004]
[2013,3,6570,{"$f":"\"014305000\"","v":"014305000"},"Cottonwood Day School",6571,{"$f":"\"014305001\"","v":"014305001"},"Cottonwood Day School",0.85714299999999999,6.7460000000000006E-2,0.92460299999999995,252,null,null,233]
[2013,3,6570,{"$f":"\"014305000\"","v":"014305000"},"Cottonwood Day School",null,{"$f":"\"\"","v":""},null,null,null,null,null,0.92460299999999995]
[2013,3,4487,{"$f":"\"130406000\"","v":"130406000"},"Cottonwood-Oak Creek Elementary District",6123,{"$f":"\"130406101\"","v":"130406101"},"Cottonwood Elementary School",0.72222200000000003,9.8291000000000003E-2,0.82051300000000005,468,null,null,384]
[2013,3,4487,"130406000","Cottonwood-Oak Creek Elementary District",6124,{"$f":"\"130406102\"","v":"130406102"},"Cottonwood Middle School",0.60967199999999999,9.8446000000000006E-2,0.708117,579,null,null,410]
[2013,3,4487,"130406000","Cottonwood-Oak Creek Elementary District",6125,{"$f":"\"130406103\"","v":"130406103"},"Oak Creek School",0.62055300000000002,7.5098999999999999E-2,0.69565200000000005,253,null,null,176]
[2013,3,4487,"130406000","Cottonwood-Oak Creek Elementary District",6126,{"$f":"\"130406104\"","v":"130406104"},"Dr Daniel Bright Elementary School",0.75609800000000005,7.1138000000000007E-2,0.82723599999999997,492,null,null,407]
[2013,3,4487,"130406000","Cottonwood-Oak Creek Elementary District",10856,{"$f":"\"138654001\"","v":"138654001"},"New Visions Academy",0.61666699999999997,0.05,0.66666700000000001,60,null,null,40]
[2013,3,4487,"130406000","Cottonwood-Oak Creek Elementary District",90934,{"$f":"\"130406106\"","v":"130406106"},"Mountain View Preparatory",0.38964599999999999,0.111717,0.50136199999999997,367,null,null,184]
[2013,3,4487,"130406000","Cottonwood-Oak Creek Elementary District",null,{"$f":"\"\"","v":""},null,null,null,null,null,0.72149600000000003]
[2013,3,90331,{"$f":"\"108505000\"","v":"108505000"},"CPLC Community Schools dba Hiaki High School",87412,{"$f":"\"108505001\"","v":"108505001"},"Hiaki High School",0.75,0.11666700000000001,0.86666699999999997,60,null,null,52]
[2013,3,90331,{"$f":"\"108505000\"","v":"108505000"},"CPLC Community Schools dba Hiaki High School",null,{"$f":"\"\"","v":""},null,null,null,null,null,0.86666699999999997]
[2013,3,80032,{"$f":"\"108793000\"","v":"108793000"},"CPLC Community Schools dba Toltecalli High School",80033,{"$f":"\"108793201\"","v":"108793201"},"Toltecali High School",0.88461500000000004,8.9744000000000004E-2,0.97435899999999998,78,null,null,76]
[2013,3,80032,{"$f":"\"108793000\"","v":"108793000"},"CPLC Community Schools dba Toltecalli High School",null,{"$f":"\"\"","v":""},null,null,null,null,null,0.97435899999999998]
[2013,3,4501,{"$f":"\"140413000\"","v":"140413000"},"Crane Elementary District",6168,{"$f":"\"140413101\"","v":"140413101"},"Pueblo Elementary School",0.54893599999999998,0.11773,0.66666700000000001,705,null,null,470]
[2013,3,4501,"140413000","Crane Elementary District",6169,{"$f":"\"140413102\"","v":"140413102"},"Rancho Viejo Elementary School",0.72246699999999997,8.8106000000000004E-2,0.81057299999999999,425,null,null,368]
[2013,3,4501,"140413000","Crane Elementary District",6172,{"$f":"\"140413103\"","v":"140413103"},"Crane Middle School",0.5625,0.14215700000000001,0.70465699999999998,770,null,null,575]
[2013,3,4501,"140413000","Crane Elementary District",6173,{"$f":"\"140413104\"","v":"140413104"},"Ronald Reagan Fundamental School",0.556338,9.5774999999999999E-2,0.65211300000000005,710,null,null,463]
[2013,3,4501,"140413000","Crane Elementary District",6174,{"$f":"\"140413105\"","v":"140413105"},"H L Suverkrup Elementary School",0.589862,0.12212000000000001,0.711982,498,null,null,309]
[2013,3,4501,"140413000","Crane Elementary District",6175,{"$f":"\"140413106\"","v":"140413106"},"Valley Horizon Elementary School",0.61129599999999995,0.12292400000000001,0.73421899999999996,602,null,null,442]
[2013,3,4501,"140413000","Crane Elementary District",78935,{"$f":"\"140413107\"","v":"140413107"},"Centennial Middle School",0.60055899999999995,9.2178999999999997E-2,0.69273700000000005,716,null,null,496]
[2013,3,4501,"140413000","Crane Elementary District",85833,{"$f":"\"140413108\"","v":"140413108"},"Gary A. Knox Elementary School",0.67073199999999999,8.6721000000000006E-2,0.75745300000000004,738,null,null,559]
[2013,3,4501,"140413000","Crane Elementary District",85834,{"$f":"\"140413109\"","v":"140413109"},"Salida Del Sol Elementary",0.63165899999999997,0.111111,0.74277000000000004,680,null,null,488]
[2013,3,4501,"140413000","Crane Elementary District",89582,{"$f":"\"140413130\"","v":"140413130"},"Mesquite Elementary",0.41826200000000002,7.2165000000000007E-2,0.490427,679,null,null,333]
[2013,3,4501,"140413000","Crane Elementary District",null,{"$f":"\"\"","v":""},null,null,null,null,null,0.69135800000000003]
[2013,3,4263,{"$f":"\"070414000\"","v":"070414000"},"Creighton Elementary District",5283,{"$f":"\"070414110\"","v":"070414110"},"Creighton Elementary School",0.94969300000000001,1.5951E-2,0.96564399999999995,793,null,null,787]
[2013,3,4263,"070414000","Creighton Elementary District",5284,{"$f":"\"070414130\"","v":"070414130"},"Larry C Kennedy School",0.90053099999999997,3.4483E-2,0.93501299999999998,719,null,null,705]
[2013,3,4263,"070414000","Creighton Elementary District",5285,{"$f":"\"070414140\"","v":"070414140"},"Loma Linda Elementary School",0.86031299999999999,5.3525000000000003E-2,0.91383800000000004,764,null,null,700]
[2013,3,4263,"070414000","Creighton Elementary District",5286,{"$f":"\"070414150\"","v":"070414150"},"William T Machan Elementary School",0.94675500000000001,2.4958000000000001E-2,0.97171399999999997,585,null,null,584]
[2013,3,4263,"070414000","Creighton Elementary District",5287,{"$f":"\"070414160\"","v":"070414160"},"Monte Vista Elementary School",0.91855200000000004,3.5068000000000002E-2,0.95362000000000002,858,null,null,843]
[2013,3,4263,"070414000","Creighton Elementary District",5288,{"$f":"\"070414170\"","v":"070414170"},"Papago School",0.84791300000000003,4.4732000000000001E-2,0.89264399999999999,1006,null,null,898]
[2013,3,4263,"070414000","Creighton Elementary District",5289,{"$f":"\"070414180\"","v":"070414180"},"Biltmore Preparatory Academy",0.41646499999999997,6.5375000000000003E-2,0.48183999999999999,403,null,null,199]
[2013,3,4263,"070414000","Creighton Elementary District",6023,{"$f":"\"070414120\"","v":"070414120"},"Gateway School",0.93032300000000001,2.0645E-2,0.95096800000000004,739,null,null,737]
[2013,3,4263,"070414000","Creighton Elementary District",79285,{"$f":"\"070414190\"","v":"070414190"},"Excelencia School",0.90131600000000001,4.4956000000000003E-2,0.946272,883,null,null,863]
[2013,3,4263,"070414000","Creighton Elementary District",80050,{"$f":"\"078524001\"","v":"078524001"},"Career Success School -- Sage Campus",0.71,6.5000000000000002E-2,0.77500000000000002,200,null,null,155]
[2013,3,4263,"070414000","Creighton Elementary District",87058,{"$f":"\"072190002\"","v":"072190002"},"The ACES-East",0.58536600000000005,5.3658999999999998E-2,0.63902400000000004,205,null,null,131]
[2013,3,4263,"070414000","Creighton Elementary District",null,{"$f":"\"\"","v":""},null,null,null,null,null,0.89998100000000003]
[2013,3,80235,{"$f":"\"072702000\"","v":"072702000"},"Crisis Nursery Inc.",80236,{"$f":"\"072702001\"","v":"072702001"},"Crisis Nursery Inc.",1,0,1,36,null,null,396]
[2013,3,80235,{"$f":"\"072702000\"","v":"072702000"},"Crisis Nursery Inc.",null,{"$f":"\"\"","v":""},null,null,null,null,null,1]
[2013,3,79049,{"$f":"\"108666000\"","v":"108666000"},"Daisy Education Corporation dba Sonoran Science Academy",79127,{"$f":"\"108666001\"","v":"108666001"},"Sonoran Science Academy - Tucson",0.2417,5.0465000000000003E-2,0.29216500000000001,753,null,null,220]
[2013,3,79049,{"$f":"\"108666000\"","v":"108666000"},"Daisy Education Corporation dba Sonoran Science Academy",null,{"$f":"\"\"","v":""},null,null,null,null,null,0.29216500000000001]
[2013,3,90332,{"$f":"\"078569000\"","v":"078569000"},"Daisy Education Corporation dba Sonoran Science Academy - Ahwatukee",89856,{"$f":"\"078569001\"","v":"078569001"},"Sonoran Science Academy - Ahwatukee",0.45945900000000001,6.757E-3,0.46621600000000002,148,null,null,69]
[2013,3,90332,{"$f":"\"078569000\"","v":"078569000"},"Daisy Education Corporation dba Sonoran Science Academy - Ahwatukee",null,{"$f":"\"\"","v":""},null,null,null,null,null,0.46621600000000002]
[2013,3,89914,{"$f":"\"108502000\"","v":"108502000"},"Daisy Education Corporation dba Sonoran Science Academy - Phoenix",80974,{"$f":"\"108502101\"","v":"108502101"},"Sonoran Science Academy - Phoenix",0.94881899999999997,2.3622000000000001E-2,0.972441,254,null,null,247]
[2013,3,89914,{"$f":"\"108502000\"","v":"108502000"},"Daisy Education Corporation dba Sonoran Science Academy - Phoenix",null,{"$f":"\"\"","v":""},null,null,null,null,null,0.972441]
[2013,3,4328,{"$f":"\"078704000\"","v":"078704000"},"DCS Partner Inc. dba Destiny Community School.",5499,{"$f":"\"078704101\"","v":"078704101"},"Destiny Community School",0.70588200000000001,0.117647,0.82352899999999996,51,null,null,42]
[2013,3,4328,{"$f":"\"078704000\"","v":"078704000"},"DCS Partner Inc. dba Destiny Community School.",null,{"$f":"\"\"","v":""},null,null,null,null,null,0.82352899999999996]
[2013,3,4246,{"$f":"\"070297000\"","v":"070297000"},"Deer Valley Unified District",5142,{"$f":"\"070297111\"","v":"070297111"},"Deer Valley Middle School",0.62142900000000001,0.105714,0.72714299999999998,696,null,null,509]
[2013,3,4246,"070297000","Deer Valley Unified District",5143,{"$f":"\"070297112\"","v":"070297112"},"Village Meadows Elementary School",0.75849100000000003,8.4905999999999995E-2,0.84339600000000003,524,null,null,447]
[2013,3,4246,"070297000","Deer Valley Unified District",5144,{"$f":"\"070297113\"","v":"070297113"},"New River Elementary School",0.34057999999999999,3.6232E-2,0.37681199999999998,275,null,null,104]
[2013,3,4246,"070297000","Deer Valley Unified District",5145,{"$f":"\"070297114\"","v":"070297114"},"Park Meadows Elementary School",0.46804800000000002,9.4991000000000006E-2,0.56303999999999998,573,null,null,326]
[2013,3,4246,"070297000","Deer Valley Unified District",5146,{"$f":"\"070297115\"","v":"070297115"},"Constitution Elementary School",0.80713100000000004,7.4553999999999995E-2,0.88168599999999997,614,null,null,544]
[2013,3,4246,"070297000","Deer Valley Unified District",5147,{"$f":"\"070297117\"","v":"070297117"},"Sunrise Elementary School",0.70620400000000005,9.6714999999999995E-2,0.80291999999999997,544,null,null,440]
[2013,3,4246,"070297000","Deer Valley Unified District",5148,{"$f":"\"070297118\"","v":"070297118"},"Desert Winds Elementary School",0.59686899999999998,4.6967000000000002E-2,0.64383599999999996,509,null,null,329]
[2013,3,4246,"070297000","Deer Valley Unified District",5149,{"$f":"\"070297120\"","v":"070297120"},"Mirage Elementary School",0.44791700000000001,0.15,0.59791700000000003,477,null,null,287]
[2013,3,4246,"070297000","Deer Valley Unified District",5150,{"$f":"\"070297121\"","v":"070297121"},"Desert Sky Middle School",0.40670600000000001,0.119534,0.52623900000000001,683,null,null,361]
[2013,3,4246,"070297000","Deer Valley Unified District",5151,{"$f":"\"070297122\"","v":"070297122"},"Bellair Elementary School",0.39271299999999998,9.7166000000000002E-2,0.48987900000000001,489,null,null,242]
[2013,3,4246,"070297000","Deer Valley Unified District",5152,{"$f":"\"070297123\"","v":"070297123"},"Greenbrier Elementary School",0.21603600000000001,5.1225E-2,0.26726100000000003,446,null,null,120]
[2013,3,4246,"070297000","Deer Valley Unified District",5153,{"$f":"\"070297125\"","v":"070297125"},"Mountain Shadows Elementary School",0.37872299999999998,0.119149,0.49787199999999998,470,null,null,234]
[2013,3,4246,"070297000","Deer Valley Unified District",5154,{"$f":"\"070297127\"","v":"070297127"},"Arrowhead Elementary School",0.18821599999999999,5.7283000000000001E-2,0.245499,610,null,null,150]
[2013,3,4246,"070297000","Deer Valley Unified District",5155,{"$f":"\"070297128\"","v":"070297128"},"Hillcrest Middle School",0.117143,5.1429000000000002E-2,0.168571,1046,null,null,177]
[2013,3,4246,"070297000","Deer Valley Unified District",5156,{"$f":"\"070297129\"","v":"070297129"},"Desert Sage Elementary School",0.248811,6.9731000000000001E-2,0.31854199999999999,628,null,null,201]
[2013,3,4246,"070297000","Deer Valley Unified District",5157,{"$f":"\"070297130\"","v":"070297130"},"Esperanza Elementary School",0.51467300000000005,6.9976999999999998E-2,0.58465,438,null,null,259]
[2013,3,4246,"070297000","Deer Valley Unified District",5158,{"$f":"\"070297131\"","v":"070297131"},"Las Brisas Elementary School",0.135876,4.5291999999999999E-2,0.181168,837,null,null,152]
[2013,3,4246,"070297000","Deer Valley Unified District",5159,{"$f":"\"070297132\"","v":"070297132"},"Desert Mountain School",0.22786300000000001,5.0767E-2,0.27862999999999999,845,null,null,236]
[2013,3,4246,"070297000","Deer Valley Unified District",5160,{"$f":"\"070297134\"","v":"070297134"},"Copper Creek Elementary",0.121354,3.6172999999999997E-2,0.157526,856,null,null,135]
[2013,3,4246,"070297000","Deer Valley Unified District",5161,{"$f":"\"070297219\"","v":"070297219"},"Deer Valley High School",0.27589900000000001,9.0714000000000003E-2,0.36661300000000002,1860,null,null,683]
[2013,3,4246,"070297000","Deer Valley Unified District",5162,{"$f":"\"070297224\"","v":"070297224"},"Barry Goldwater High School",0.42473100000000003,9.1397999999999993E-2,0.51612899999999995,1850,null,null,960]
[2013,3,4246,"070297000","Deer Valley Unified District",5163,{"$f":"\"070297233\"","v":"070297233"},"Mountain Ridge High School",0.100671,3.4452000000000003E-2,0.13512299999999999,2231,null,null,302]
[2013,3,4246,"070297000","Deer Valley Unified District",6016,{"$f":"\"070297135\"","v":"070297135"},"Paseo Hills Elementary",0.495504,7.9920000000000005E-2,0.57542499999999996,996,null,null,576]
[2013,3,4246,"070297000","Deer Valley Unified District",78921,{"$f":"\"070297136\"","v":"070297136"},"Highland Lakes School",0.17857100000000001,5.5357000000000003E-2,0.233929,1116,null,null,262]
[2013,3,4246,"070297000","Deer Valley Unified District",78922,{"$f":"\"070297137\"","v":"070297137"},"Anthem School",0.110345,6.4367999999999995E-2,0.17471300000000001,869,null,null,152]
[2013,3,4246,"070297000","Deer Valley Unified District",79290,{"$f":"\"070297138\"","v":"070297138"},"Legend Springs Elementary",0.118087,2.9895000000000001E-2,0.147982,667,null,null,99]
[2013,3,4246,"070297000","Deer Valley Unified District",79573,{"$f":"\"070297140\"","v":"070297140"},"Stetson Hills Elementary",0.136937,6.0359999999999997E-2,0.197297,1106,null,null,219]
[2013,3,4246,"070297000","Deer Valley Unified District",79574,{"$f":"\"070297139\"","v":"070297139"},"Sierra Verde Elementary",0.140984,5.3552000000000002E-2,0.19453599999999999,913,null,null,178]
[2013,3,4246,"070297000","Deer Valley Unified District",80317,{"$f":"\"070297241\"","v":"070297241"},"Sandra Day O'Connor High School",0.114657,3.5854999999999998E-2,0.15051200000000001,2535,null,null,382]
[2013,3,4246,"070297000","Deer Valley Unified District",80318,{"$f":"\"070297142\"","v":"070297142"},"Gavilan Peak Elementary",9.3602000000000005E-2,3.7914999999999997E-2,0.131517,841,null,null,111]
[2013,3,4246,"070297000","Deer Valley Unified District",81016,{"$f":"\"070297143\"","v":"070297143"},"Terramar Elementary",0.15498200000000001,3.8129999999999997E-2,0.19311200000000001,812,null,null,157]
[2013,3,4246,"070297000","Deer Valley Unified District",81017,{"$f":"\"070297144\"","v":"070297144"},"Sunset Ridge Elementary",0.134158,3.0446999999999998E-2,0.164605,1049,null,null,173]
[2013,3,4246,"070297000","Deer Valley Unified District",85850,{"$f":"\"070297245\"","v":"070297245"},"Boulder Creek High School",0.123058,4.3258999999999999E-2,0.16631699999999999,2377,null,null,396]
[2013,3,4246,"070297000","Deer Valley Unified District",85851,{"$f":"\"070297146\"","v":"070297146"},"Diamond Canyon Elementary",0.109745,4.0681000000000002E-2,0.150426,1053,null,null,159]
[2013,3,4246,"070297000","Deer Valley Unified District",87528,{"$f":"\"070297147\"","v":"070297147"},"West Wing Elementary",8.4761000000000003E-2,3.6068999999999997E-2,0.12083000000000001,1103,null,null,134]
[2013,3,4246,"070297000","Deer Valley Unified District",88399,{"$f":"\"070297148\"","v":"070297148"},"Canyon Springs",0.23960899999999999,7.9462000000000005E-2,0.31907099999999999,813,null,null,261]
[2013,3,4246,"070297000","Deer Valley Unified District",89953,{"$f":"\"070297149\"","v":"070297149"},"Norterra Canyon K-8",0.15536700000000001,5.5556000000000001E-2,0.210923,1060,null,null,224]
[2013,3,4246,"070297000","Deer Valley Unified District",null,{"$f":"\"\"","v":""},null,null,null,null,null,0.30542000000000002]
[2013,3,9693,{"$f":"\"094003000\"","v":"094003000"},"Dennehotso Boarding School",80377,{"$f":"\"033904011\"","v":"033904011"},"Dennehotso Boarding School",0.77914099999999997,2.4539999999999999E-2,0.80368099999999998,163,null,null,131]
[2013,3,9693,{"$f":"\"094003000\"","v":"094003000"},"Dennehotso Boarding School",null,{"$f":"\"\"","v":""},null,null,null,null,null,0.80368099999999998]
[2013,3,6258,{"$f":"\"048701000\"","v":"048701000"},"Destiny School Inc.",10807,{"$f":"\"048701001\"","v":"048701001"},"Destiny School",0.65870300000000004,0.11262800000000001,0.77133099999999999,293,null,null,226]
[2013,3,6258,{"$f":"\"048701000\"","v":"048701000"},"Destiny School Inc.",null,{"$f":"\"\"","v":""},null,null,null,null,null,0.77133099999999999]
[2013,3,7295,{"$f":"\"072102000\"","v":"072102000"},"Devereux Arizona",7296,{"$f":"\"072102001\"","v":"072102001"},"Devereux",0.83076899999999998,0,0.83076899999999998,65,null,null,54]
[2013,3,7295,{"$f":"\"072102000\"","v":"072102000"},"Devereux Arizona",80424,{"$f":"\"072102002\"","v":"072102002"},"EnSueno Group Home",1,0,1,9,null,null,9]
[2013,3,7295,{"$f":"\"072102000\"","v":"072102000"},"Devereux Arizona",85809,{"$f":"\"072102003\"","v":"072102003"},"Valor Group Home",1,0,1,10,null,null,10]
[2013,3,7295,{"$f":"\"072102000\"","v":"072102000"},"Devereux Arizona",null,{"$f":"\"\"","v":""},null,null,null,null,null,0.86904700000000001]
[2013,3,80274,{"$f":"\"094016000\"","v":"094016000"},"Dilcon Community School Inc.",80275,{"$f":"\"014012006\"","v":"014012006"},"Dilcon Community School Inc.",0.82962999999999998,5.1852000000000002E-2,0.88148099999999996,135,null,null,119]
[2013,3,80274,{"$f":"\"094016000\"","v":"094016000"},"Dilcon Community School Inc.",null,{"$f":"\"\"","v":""},null,null,null,null,null,0.88148099999999996]
[2013,3,6357,{"$f":"\"058703000\"","v":"058703000"},"Discovery Plus Academy",4898,{"$f":"\"058703001\"","v":"058703001"},"Discovery Plus Academy",0.56617600000000001,8.8234999999999994E-2,0.65441199999999999,119,null,null,89]
[2013,3,6357,{"$f":"\"058703000\"","v":"058703000"},"Discovery Plus Academy",null,{"$f":"\"\"","v":""},null,null,null,null,null,0.65441199999999999]
[2013,3,4174,{"$f":"\"020227000\"","v":"020227000"},"Douglas Unified District",4765,{"$f":"\"020227102\"","v":"020227102"},"Clawson School",0.77745699999999995,8.0924999999999997E-2,0.85838199999999998,346,null,null,297]
[2013,3,4174,"020227000","Douglas Unified District",4766,{"$f":"\"020227104\"","v":"020227104"},"Joe Carlson Elementary School",0.89238799999999996,5.7743000000000003E-2,0.95013099999999995,381,null,null,362]
[2013,3,4174,"020227000","Douglas Unified District",4767,{"$f":"\"020227105\"","v":"020227105"},"Faras Elementary School",0.86206899999999997,4.4334999999999999E-2,0.90640399999999999,203,null,null,184]
[2013,3,4174,"020227000","Douglas Unified District",4768,{"$f":"\"020227106\"","v":"020227106"},"Sarah Marley School",0.93050200000000005,6.1775999999999998E-2,0.99227799999999999,259,null,null,257]
[2013,3,4174,"020227000","Douglas Unified District",4769,{"$f":"\"020227107\"","v":"020227107"},"Stevenson Elementary School",0.67099600000000004,0.12554100000000001,0.79653700000000005,462,null,null,368]
[2013,3,4174,"020227000","Douglas Unified District",4770,{"$f":"\"020227108\"","v":"020227108"},"Ray Borane Middle School",0.89712899999999995,5.0238999999999999E-2,0.94736799999999999,418,null,null,396]
[2013,3,4174,"020227000","Douglas Unified District",4771,{"$f":"\"020227109\"","v":"020227109"},"Paul H Huber Jr High School",0.68842099999999995,0.109474,0.79789500000000002,475,null,null,379]
[2013,3,4174,"020227000","Douglas Unified District",4773,{"$f":"\"020227210\"","v":"020227210"},"Douglas High School",0.71210899999999999,8.5805999999999993E-2,0.79791500000000004,1247,null,null,995]
[2013,3,4174,"020227000","Douglas Unified District",null,{"$f":"\"\"","v":""},null,null,null,null,null,0.854128]
[2013,3,4228,{"$f":"\"060202000\"","v":"060202000"},"Duncan Unified District",4902,{"$f":"\"060202102\"","v":"060202102"},"Duncan Elementary",0.451737,0.158301,0.610039,259,null,null,158]
[2013,3,4228,{"$f":"\"060202000\"","v":"060202000"},"Duncan Unified District",4903,{"$f":"\"060202203\"","v":"060202203"},"Duncan High School",0.25600000000000001,0.128,0.38400000000000001,125,null,null,48]
[2013,3,4228,{"$f":"\"060202000\"","v":"060202000"},"Duncan Unified District",null,{"$f":"\"\"","v":""},null,null,null,null,null,0.53645799999999999]
[2013,3,4243,{"$f":"\"070289000\"","v":"070289000"},"Dysart Unified District",5128,{"$f":"\"070289101\"","v":"070289101"},"Dysart Elementary School",0.66903599999999996,9.0355000000000005E-2,0.75939100000000004,985,null,null,748]
[2013,3,4243,"070289000","Dysart Unified District",5129,{"$f":"\"070289102\"","v":"070289102"},"El Mirage School",0.63739699999999999,3.2024999999999998E-2,0.66942100000000004,968,null,null,648]
[2013,3,4243,"070289000","Dysart Unified District",5130,{"$f":"\"070289103\"","v":"070289103"},"Luke School",0.59199000000000002,0.117647,0.70963699999999996,799,null,null,567]
[2013,3,4243,"070289000","Dysart Unified District",5131,{"$f":"\"070289104\"","v":"070289104"},"Surprise Elementary School",0.72267999999999999,7.5258000000000005E-2,0.79793800000000004,970,null,null,774]
[2013,3,4243,"070289000","Dysart Unified District",5132,{"$f":"\"070289106\"","v":"070289106"},"Kingswood Elementary School",0.478431,9.9346000000000004E-2,0.57777800000000001,765,null,null,442]
[2013,3,4243,"070289000","Dysart Unified District",5133,{"$f":"\"070289205\"","v":"070289205"},"Dysart High School",0.54812499999999997,0.10249999999999999,0.65062500000000001,1600,null,null,1041]
[2013,3,4243,"070289000","Dysart Unified District",79632,{"$f":"\"070289108\"","v":"070289108"},"West Point Elementary",0.38173299999999999,8.6651000000000006E-2,0.46838400000000002,854,null,null,400]
[2013,3,4243,"070289000","Dysart Unified District",80052,{"$f":"\"070289109\"","v":"070289109"},"Countryside Elementary",0.41600900000000002,9.0191999999999994E-2,0.50620100000000001,887,null,null,449]
[2013,3,4243,"070289000","Dysart Unified District",81111,{"$f":"\"070289111\"","v":"070289111"},"Ashton Ranch Elementary School",0.35250500000000001,9.6475000000000005E-2,0.44897999999999999,1078,null,null,484]
[2013,3,4243,"070289000","Dysart Unified District",81112,{"$f":"\"070289112\"","v":"070289112"},"Cimarron Springs Elementary",0.323625,0.11219,0.43581399999999998,927,null,null,404]
[2013,3,4243,"070289000","Dysart Unified District",81113,{"$f":"\"070289210\"","v":"070289210"},"Willow Canyon High School",0.27944099999999999,8.5828000000000002E-2,0.36526900000000001,2004,null,null,732]
[2013,3,4243,"070289000","Dysart Unified District",84683,{"$f":"\"070289116\"","v":"070289116"},"Marley Park Elementary",0.209453,9.6385999999999999E-2,0.30583900000000003,1079,null,null,330]
[2013,3,4243,"070289000","Dysart Unified District",84684,{"$f":"\"070289117\"","v":"070289117"},"Thompson Ranch Elementary",0.79533900000000002,7.0921999999999999E-2,0.86626099999999995,987,null,null,855]
[2013,3,4243,"070289000","Dysart Unified District",87620,{"$f":"\"070289118\"","v":"070289118"},"Sunset Hills Elementary",0.273729,8.4746000000000002E-2,0.35847499999999999,1180,null,null,423]
[2013,3,4243,"070289000","Dysart Unified District",87621,{"$f":"\"070289119\"","v":"070289119"},"Rancho Gabriela",0.26342300000000002,7.2148000000000004E-2,0.33556999999999998,1192,null,null,400]
[2013,3,4243,"070289000","Dysart Unified District",88414,{"$f":"\"070289120\"","v":"070289120"},"Sonoran Heights Elementary",0.17555599999999999,4.7778000000000001E-2,0.223333,900,null,null,201]
[2013,3,4243,"070289000","Dysart Unified District",88415,{"$f":"\"070289121\"","v":"070289121"},"Western Peaks Elementary",0.30740699999999999,0.11358,0.42098799999999997,810,null,null,341]
[2013,3,4243,"070289000","Dysart Unified District",88416,{"$f":"\"070289122\"","v":"070289122"},"Parkview Elementary",0.41122700000000001,0.105744,0.51697099999999996,766,null,null,396]
[2013,3,4243,"070289000","Dysart Unified District",88417,{"$f":"\"070289220\"","v":"070289220"},"Valley Vista High School",0.40971299999999999,9.8455000000000001E-2,0.50816799999999995,2265,null,null,1151]
[2013,3,4243,"070289000","Dysart Unified District",89600,{"$f":"\"070289124\"","v":"070289124"},"Canyon Ridge",0.194942,8.1138000000000002E-2,0.27607999999999999,949,null,null,262]
[2013,3,4243,"070289000","Dysart Unified District",89604,{"$f":"\"070289123\"","v":"070289123"},"Mountain View",0.23805799999999999,6.1081000000000003E-2,0.29913899999999999,1277,null,null,382]
[2013,3,4243,"070289000","Dysart Unified District",89821,{"$f":"\"070289127\"","v":"070289127"},"Riverview School",0.72437099999999999,0.119923,0.84429399999999999,1034,null,null,873]
[2013,3,4243,"070289000","Dysart Unified District",89822,{"$f":"\"070289126\"","v":"070289126"},"Desert Moon School",0.50543499999999997,8.9674000000000004E-2,0.595109,368,null,null,219]
[2013,3,4243,"070289000","Dysart Unified District",90134,{"$f":"\"070289225\"","v":"070289225"},"Shadow Ridge High School",0.22506000000000001,8.3798999999999998E-2,0.30885899999999999,1253,null,null,387]
[2013,3,4243,"070289000","Dysart Unified District",null,{"$f":"\"\"","v":""},null,null,null,null,null,0.49847399999999997]
[2013,3,91170,{"$f":"\"078202000\"","v":"078202000"},"EAGLE College Prep II Inc. dba EAGLE College Prep Harmony",91171,{"$f":"\"078202001\"","v":"078202001"},"EAGLE College Prep Harmony",0.54601200000000005,6.7485000000000003E-2,0.61349699999999996,163,null,null,100]
[2013,3,91170,{"$f":"\"078202000\"","v":"078202000"},"EAGLE College Prep II Inc. dba EAGLE College Prep Harmony",null,{"$f":"\"\"","v":""},null,null,null,null,null,0.61349699999999996]
[2013,3,89850,{"$f":"\"078541000\"","v":"078541000"},"EAGLE South Mountain Charter Inc.",89851,{"$f":"\"078541101\"","v":"078541101"},"EAGLE College Prep",0.34595500000000001,0.12220300000000001,0.46815800000000002,581,null,null,272]
[2013,3,89850,{"$f":"\"078541000\"","v":"078541000"},"EAGLE South Mountain Charter Inc.",null,{"$f":"\"\"","v":""},null,null,null,null,null,0.46815800000000002]
[2013,3,80233,{"$f":"\"092003000\"","v":"092003000"},"East Fork Lutheran School",80234,{"$f":"\"092003001\"","v":"092003001"},"East Fork Lutheran School",0.618421,0.18421100000000001,0.80263200000000001,76,null,null,61]
[2013,3,80233,{"$f":"\"092003000\"","v":"092003000"},"East Fork Lutheran School",null,{"$f":"\"\"","v":""},null,null,null,null,null,0.80263200000000001]
[2013,3,87401,{"$f":"\"078509000\"","v":"078509000"},"East Mesa Charter Elementary School Inc.",87402,{"$f":"\"078509101\"","v":"078509101"},"Imagine East Mesa Elementary",0.490284,8.6696999999999996E-2,0.57698099999999997,669,null,null,386]
[2013,3,87401,{"$f":"\"078509000\"","v":"078509000"},"East Mesa Charter Elementary School Inc.",null,{"$f":"\"\"","v":""},null,null,null,null,null,0.57698099999999997]
[2013,3,90506,{"$f":"\"108506000\"","v":"108506000"},"Ed Ahead",90507,{"$f":"\"108506101\"","v":"108506101"},"Academy Adventures Midtown",0.86315799999999998,3.1579000000000003E-2,0.894737,95,null,null,85]
[2013,3,90506,{"$f":"\"108506000\"","v":"108506000"},"Ed Ahead",null,{"$f":"\"\"","v":""},null,null,null,null,null,0.894737]
[2013,3,79981,{"$f":"\"078971000\"","v":"078971000"},"Edkey Inc. - Arizona Conservatory for Arts and Academics",79982,{"$f":"\"078971001\"","v":"078971001"},"Arizona Conservatory for Arts and Academics",0.34027800000000002,8.6805999999999994E-2,0.42708299999999999,214,null,null,123]
[2013,3,79981,{"$f":"\"078971000\"","v":"078971000"},"Edkey Inc. - Arizona Conservatory for Arts and Academics",90349,{"$f":"\"078971002\"","v":"078971002"},"Arizona Conservatory for Arts and Academics Middle School",0.26890799999999998,2.521E-2,0.29411799999999999,112,null,null,35]
[2013,3,79981,{"$f":"\"078971000\"","v":"078971000"},"Edkey Inc. - Arizona Conservatory for Arts and Academics",null,{"$f":"\"\"","v":""},null,null,null,null,null,0.38140099999999999]
[2013,3,81043,{"$f":"\"078740000\"","v":"078740000"},"Edkey Inc. - Redwood Academy",79263,{"$f":"\"078740101\"","v":"078740101"},"Sequoia Redwood Charter School",0.45769199999999999,8.0768999999999994E-2,0.538462,258,null,null,140]
[2013,3,81043,{"$f":"\"078740000\"","v":"078740000"},"Edkey Inc. - Redwood Academy",null,{"$f":"\"\"","v":""},null,null,null,null,null,0.538462]
[2013,3,6446,{"$f":"\"078915000\"","v":"078915000"},"Edkey Inc. - Sequoia Charter School",10849,{"$f":"\"078915001\"","v":"078915001"},"Sequoia Secondary School",0.72921599999999998,9.9762000000000003E-2,0.82897900000000002,421,null,null,349]
[2013,3,6446,"078915000","Edkey Inc. - Sequoia Charter School",78962,{"$f":"\"078916001\"","v":"078916001"},"Sequoia Academics and Arts Elementary Charter School",0.85863900000000004,7.3298000000000002E-2,0.93193700000000002,189,null,null,178]
[2013,3,6446,"078915000","Edkey Inc. - Sequoia Charter School",79219,{"$f":"\"078744001\"","v":"078744001"},"Sequoia School for the Deaf and Hard of Hearing",0.47826099999999999,0.18840599999999999,0.66666700000000001,67,null,null,46]
[2013,3,6446,"078915000","Edkey Inc. - Sequoia Charter School",79697,{"$f":"\"078915005\"","v":"078915005"},"Sequoia Charter Elementary School",0.78234099999999995,7.3922000000000002E-2,0.856263,475,null,null,417]
[2013,3,6446,"078915000","Edkey Inc. - Sequoia Charter School",90350,{"$f":"\"078916003\"","v":"078916003"},"Sequoia Academics and Arts Charter School",0.69117600000000001,5.8824000000000001E-2,0.75,68,null,null,51]
[2013,3,6446,"078915000","Edkey Inc. - Sequoia Charter School",90377,{"$f":"\"138705005\"","v":"138705005"},"Sequoia Pathway Academy",0.31307299999999999,0.12729399999999999,0.44036700000000001,580,null,null,384]
[2013,3,6446,"078915000","Edkey Inc. - Sequoia Charter School",null,{"$f":"\"\"","v":""},null,null,null,null,null,0.71274400000000004]
[2013,3,81052,{"$f":"\"138705000\"","v":"138705000"},"Edkey Inc. - Sequoia Ranch School",89920,{"$f":"\"138705003\"","v":"138705003"},"Children First Academy - Phoenix",1,0,1,301,null,null,314]
[2013,3,81052,{"$f":"\"138705000\"","v":"138705000"},"Edkey Inc. - Sequoia Ranch School",null,{"$f":"\"\"","v":""},null,null,null,null,null,1]
[2013,3,79211,{"$f":"\"078917000\"","v":"078917000"},"Edkey Inc. - Sequoia Village School",10848,{"$f":"\"078917001\"","v":"078917001"},"Sequoia Village School",0.57768900000000001,0.12748999999999999,0.705179,244,null,null,177]
[2013,3,79211,{"$f":"\"078917000\"","v":"078917000"},"Edkey Inc. - Sequoia Village School",null,{"$f":"\"\"","v":""},null,null,null,null,null,0.705179]
[2013,3,81123,{"$f":"\"108717000\"","v":"108717000"},"Educational Impact Inc.",81124,{"$f":"\"108717101\"","v":"108717101"},"Academy Adventures Primary School",0.80219799999999997,0.13186800000000001,0.93406599999999995,91,null,null,85]
[2013,3,81123,{"$f":"\"108717000\"","v":"108717000"},"Educational Impact Inc.",87415,{"$f":"\"108717102\"","v":"108717102"},"Adventure School",0.52222199999999996,0.14444399999999999,0.66666700000000001,90,null,null,60]
[2013,3,81123,{"$f":"\"108717000\"","v":"108717000"},"Educational Impact Inc.",null,{"$f":"\"\"","v":""},null,null,null,null,null,0.80110499999999996]
[2013,3,4341,{"$f":"\"078717000\"","v":"078717000"},"EduPreneurship Inc.",10752,{"$f":"\"078717102\"","v":"078717102"},"EduPreneurship Student Center (ESC) Phoenix",0.89690700000000001,3.0928000000000001E-2,0.92783499999999997,97,null,null,90]
[2013,3,4341,{"$f":"\"078717000\"","v":"078717000"},"EduPreneurship Inc.",null,{"$f":"\"\"","v":""},null,null,null,null,null,0.92783499999999997]
[2013,3,4185,{"$f":"\"020412000\"","v":"020412000"},"Elfrida Elementary District",4795,{"$f":"\"020412101\"","v":"020412101"},"Elfrida Elementary School",0.69105700000000003,0.11382100000000001,0.80487799999999998,123,null,null,99]
[2013,3,4185,{"$f":"\"020412000\"","v":"020412000"},"Elfrida Elementary District",null,{"$f":"\"\"","v":""},null,null,null,null,null,0.80487799999999998]
[2013,3,4448,{"$f":"\"110411000\"","v":"110411000"},"Eloy Elementary District",5940,{"$f":"\"110411103\"","v":"110411103"},"Curiel School",0.897872,4.2553000000000001E-2,0.94042599999999998,470,null,null,442]
[2013,3,4448,{"$f":"\"110411000\"","v":"110411000"},"Eloy Elementary District",5941,{"$f":"\"110411104\"","v":"110411104"},"Eloy Intermediate School",0.868502,6.4219999999999999E-2,0.93272200000000005,327,null,null,305]
[2013,3,4448,{"$f":"\"110411000\"","v":"110411000"},"Eloy Elementary District",5942,{"$f":"\"110411105\"","v":"110411105"},"Eloy Junior High School",0.86274499999999998,3.1372999999999998E-2,0.89411799999999997,255,null,null,228]
[2013,3,4448,{"$f":"\"110411000\"","v":"110411000"},"Eloy Elementary District",null,{"$f":"\"\"","v":""},null,null,null,null,null,0.92680600000000002]
[2013,3,6375,{"$f":"\"078664000\"","v":"078664000"},"Employ-Ability Unlimited Inc.",5495,{"$f":"\"078664001\"","v":"078664001"},"Copper Canyon Academy",0.57364300000000001,0.124031,0.69767400000000002,258,null,null,180]
[2013,3,6375,{"$f":"\"078664000\"","v":"078664000"},"Employ-Ability Unlimited Inc.",null,{"$f":"\"\"","v":""},null,null,null,null,null,0.69767400000000002]
[2013,3,91277,{"$f":"\"078401000\"","v":"078401000"},"Empower College Prep",91783,{"$f":"\"078401001\"","v":"078401001"},"Empower College Prep",0.95774599999999999,0,0.95774599999999999,71,null,null,68]
[2013,3,91277,{"$f":"\"078401000\"","v":"078401000"},"Empower College Prep",null,{"$f":"\"\"","v":""},null,null,null,null,null,0.95774599999999999]
[2013,3,87336,{"$f":"\"078505000\"","v":"078505000"},"Esperanza Community Collegial Academy",87337,{"$f":"\"078505201\"","v":"078505201"},"Esperanza Community Collegial Academy",0.93181800000000004,4.5455000000000002E-2,0.97727299999999995,44,null,null,43]
[2013,3,87336,{"$f":"\"078505000\"","v":"078505000"},"Esperanza Community Collegial Academy",null,{"$f":"\"\"","v":""},null,null,null,null,null,0.97727299999999995]
[2013,3,4335,{"$f":"\"078711000\"","v":"078711000"},"Espiritu Community Development Corp.",5507,{"$f":"\"078711001\"","v":"078711001"},"NFL YET College Prep Academy",0.82116800000000001,5.4745000000000002E-2,0.87591200000000002,281,null,null,240]
[2013,3,4335,{"$f":"\"078711000\"","v":"078711000"},"Espiritu Community Development Corp.",85886,{"$f":"\"078711004\"","v":"078711004"},"Reyes Maria Ruiz Leadership Academy",0.83510600000000001,5.3191000000000002E-2,0.88829800000000003,174,null,null,167]
[2013,3,4335,{"$f":"\"078711000\"","v":"078711000"},"Espiritu Community Development Corp.",85887,{"$f":"\"078711005\"","v":"078711005"},"Esperanza Montessori Academy",0.82520300000000002,2.4389999999999998E-2,0.84959300000000004,260,null,null,209]
[2013,3,4335,{"$f":"\"078711000\"","v":"078711000"},"Espiritu Community Development Corp.",null,{"$f":"\"\"","v":""},null,null,null,null,null,0.86935499999999999]
[2013,3,79214,{"$f":"\"078901000\"","v":"078901000"},"Excalibur Charter Schools Inc.",10339,{"$f":"\"078901001\"","v":"078901001"},"Excalibur Charter School",0.56410300000000002,0.102564,0.66666700000000001,39,null,null,26]
[2013,3,79214,{"$f":"\"078901000\"","v":"078901000"},"Excalibur Charter Schools Inc.",81173,{"$f":"\"078901003\"","v":"078901003"},"Avalon Elementary",0.81971799999999995,5.9154999999999999E-2,0.87887300000000002,355,null,null,312]
[2013,3,79214,{"$f":"\"078901000\"","v":"078901000"},"Excalibur Charter Schools Inc.",null,{"$f":"\"\"","v":""},null,null,null,null,null,0.85786700000000005]
[2013,3,88452,{"$f":"\"099104000\"","v":"099104000"},"First Mesa Elementary School",80145,{"$f":"\"093906004\"","v":"093906004"},"First Mesa Elementary",0.67597799999999997,0.11731800000000001,0.793296,139,null,null,142]
[2013,3,88452,{"$f":"\"099104000\"","v":"099104000"},"First Mesa Elementary School",null,{"$f":"\"\"","v":""},null,null,null,null,null,0.793296]
[2013,3,78783,{"$f":"\"078785000\"","v":"078785000"},"Fit Kids Inc. dba Champion Schools",78820,{"$f":"\"078785101\"","v":"078785101"},"Champion Schools",0.83789100000000005,9.9609000000000003E-2,0.9375,512,null,null,480]
[2013,3,78783,{"$f":"\"078785000\"","v":"078785000"},"Fit Kids Inc. dba Champion Schools",null,{"$f":"\"\"","v":""},null,null,null,null,null,0.9375]
[2013,3,4192,{"$f":"\"030201000\"","v":"030201000"},"Flagstaff Unified District",4803,{"$f":"\"030201066\"","v":"030201066"},"Summit High School",0.68085099999999998,9.2199000000000003E-2,0.77305000000000001,133,null,null,109]
[2013,3,4192,"030201000","Flagstaff Unified District",4804,{"$f":"\"030201110\"","v":"030201110"},"Manuel DeMiguel Elementary School",0.238095,3.4225999999999999E-2,0.27232099999999998,657,null,null,183]
[2013,3,4192,"030201000","Flagstaff Unified District",4805,{"$f":"\"030201111\"","v":"030201111"},"Sturgeon Cromer Elementary School",0.42978699999999997,8.2269999999999996E-2,0.51205699999999998,702,null,null,361]
[2013,3,4192,"030201000","Flagstaff Unified District",4806,{"$f":"\"030201112\"","v":"030201112"},"Lura Kinsey Elementary School",0.740541,8.6485999999999993E-2,0.82702699999999996,356,null,null,306]
[2013,3,4192,"030201000","Flagstaff Unified District",4807,{"$f":"\"030201113\"","v":"030201113"},"Eva Marshall Elementary School",0.439523,0.11414000000000001,0.55366300000000002,583,null,null,325]
[2013,3,4192,"030201000","Flagstaff Unified District",4808,{"$f":"\"030201114\"","v":"030201114"},"W F Killip Elementary School",0.66254400000000002,8.4806000000000006E-2,0.74734999999999996,462,null,null,423]
[2013,3,4192,"030201000","Flagstaff Unified District",4811,{"$f":"\"030201117\"","v":"030201117"},"Charles W Sechrist Elementary School",0.20675099999999999,4.2194000000000002E-2,0.248945,469,null,null,118]
[2013,3,4192,"030201000","Flagstaff Unified District",4812,{"$f":"\"030201118\"","v":"030201118"},"John Q Thomas Elementary School",0.65252500000000002,7.2727E-2,0.72525300000000004,485,null,null,359]
[2013,3,4192,"030201000","Flagstaff Unified District",4814,{"$f":"\"030201120\"","v":"030201120"},"Leupp Public School",0.90476199999999996,4.7619000000000002E-2,0.95238100000000003,114,null,null,120]
[2013,3,4192,"030201000","Flagstaff Unified District",4815,{"$f":"\"030201122\"","v":"030201122"},"Thomas M Knoles Elementary School",0.30489699999999997,5.3712000000000003E-2,0.35860999999999998,625,null,null,227]
[2013,3,4192,"030201000","Flagstaff Unified District",4817,{"$f":"\"030201124\"","v":"030201124"},"Mount Elden Middle School",0.46724399999999999,5.9332999999999997E-2,0.52657600000000004,797,null,null,426]
[2013,3,4192,"030201000","Flagstaff Unified District",4819,{"$f":"\"030201281\"","v":"030201281"},"Flagstaff High School",0.27315400000000001,5.1006999999999997E-2,0.32416099999999998,1454,null,null,483]
[2013,3,4192,"030201000","Flagstaff Unified District",4820,{"$f":"\"030201282\"","v":"030201282"},"Coconino High School",0.32282300000000003,5.1802000000000001E-2,0.37462499999999999,1303,null,null,499]
[2013,3,4192,"030201000","Flagstaff Unified District",79665,{"$f":"\"030201121\"","v":"030201121"},"Weitzel's Puente de Hozho Bilingual Magnet School",0.45526299999999997,7.8947000000000003E-2,0.53421099999999999,372,null,null,203]
[2013,3,4192,"030201000","Flagstaff Unified District",90191,{"$f":"\"030201126\"","v":"030201126"},"Sinagua Middle School",0.46087899999999998,7.1811E-2,0.53269,923,null,null,497]
[2013,3,4192,"030201000","Flagstaff Unified District",90766,{"$f":"\"030201285\"","v":"030201285"},"Continental Project",0.63636400000000004,9.0909000000000004E-2,0.72727299999999995,11,null,null,8]
[2013,3,4192,"030201000","Flagstaff Unified District",null,{"$f":"\"\"","v":""},null,null,null,null,null,0.47453200000000001]
[2013,3,91865,{"$f":"\"072795000\"","v":"072795000"},"Florence Crittenton Service of Arizona Inc.",91866,{"$f":"\"072795001\"","v":"072795001"},"Florence Crittenton Therapeutic Group Home",1,0,1,40,null,null,40]
[2013,3,91865,{"$f":"\"072795000\"","v":"072795000"},"Florence Crittenton Service of Arizona Inc.",null,{"$f":"\"\"","v":""},null,null,null,null,null,1]
[2013,3,4300,{"$f":"\"078608000\"","v":"078608000"},"Florence Crittenton Services of Arizona Inc.",5466,{"$f":"\"078608001\"","v":"078608001"},"Girls Leadership Academy of Arizona",0.76851899999999995,9.2592999999999995E-2,0.86111099999999996,108,null,null,93]
[2013,3,4300,{"$f":"\"078608000\"","v":"078608000"},"Florence Crittenton Services of Arizona Inc.",null,{"$f":"\"\"","v":""},null,null,null,null,null,0.86111099999999996]
[2013,3,4437,{"$f":"\"110201000\"","v":"110201000"},"Florence Unified School District",5895,{"$f":"\"110201101\"","v":"110201101"},"Florence K-8",0.53826499999999999,8.9286000000000004E-2,0.62755099999999997,784,null,null,492]
[2013,3,4437,"110201000","Florence Unified School District",5897,{"$f":"\"110201201\"","v":"110201201"},"Florence High School",0.389685,7.4498999999999996E-2,0.46418300000000001,698,null,null,324]
[2013,3,4437,"110201000","Florence Unified School District",79415,{"$f":"\"110201102\"","v":"110201102"},"Walker Butte K-8",0.50411499999999998,0.108025,0.61214000000000002,972,null,null,595]
[2013,3,4437,"110201000","Florence Unified School District",85853,{"$f":"\"110201103\"","v":"110201103"},"Copper Basin",0.47496899999999997,0.101343,0.57631299999999996,819,null,null,472]
[2013,3,4437,"110201000","Florence Unified School District",87537,{"$f":"\"110201104\"","v":"110201104"},"Skyline Ranch Elementary School",0.50477499999999997,0.113233,0.618008,733,null,null,453]
[2013,3,4437,"110201000","Florence Unified School District",88400,{"$f":"\"110201105\"","v":"110201105"},"Anthem Elementary School",0.45317499999999999,0.11948300000000001,0.57265900000000003,929,null,null,532]
[2013,3,4437,"110201000","Florence Unified School District",89587,{"$f":"\"110201106\"","v":"110201106"},"Circle Cross Ranch K8 School",0.47228599999999998,0.116628,0.58891499999999997,866,null,null,510]
[2013,3,4437,"110201000","Florence Unified School District",89858,{"$f":"\"110201107\"","v":"110201107"},"Magma Ranch K8 School",0.647594,0.11053300000000001,0.758127,769,null,null,583]
[2013,3,4437,"110201000","Florence Unified School District",90309,{"$f":"\"110201202\"","v":"110201202"},"Poston Butte High School",0.41460399999999997,9.4677999999999998E-2,0.50928200000000001,1616,null,null,823]
[2013,3,4437,"110201000","Florence Unified School District",null,{"$f":"\"\"","v":""},null,null,null,null,null,0.58441200000000004]
[2013,3,4405,{"$f":"\"100208000\"","v":"100208000"},"Flowing Wells Unified District",5784,{"$f":"\"100208110\"","v":"100208110"},"Centennial Elementary School",0.73417699999999997,8.0169000000000004E-2,0.81434600000000001,474,null,null,386]
[2013,3,4405,"100208000","Flowing Wells Unified District",5785,{"$f":"\"100208120\"","v":"100208120"},"Homer Davis Elementary School",0.80293499999999995,5.8700000000000002E-2,0.86163500000000004,477,null,null,411]
[2013,3,4405,"100208000","Flowing Wells Unified District",5786,{"$f":"\"100208130\"","v":"100208130"},"Walter Douglas Elementary School",0.86506700000000003,4.7975999999999998E-2,0.91304300000000005,667,null,null,609]
[2013,3,4405,"100208000","Flowing Wells Unified District",5787,{"$f":"\"100208140\"","v":"100208140"},"J  Robert Hendricks Elementary School",0.56913800000000003,0.1002,0.66933900000000002,499,null,null,334]
[2013,3,4405,"100208000","Flowing Wells Unified District",5788,{"$f":"\"100208150\"","v":"100208150"},"Laguna Elementary School",0.83716100000000004,7.0981000000000002E-2,0.908142,479,null,null,435]
[2013,3,4405,"100208000","Flowing Wells Unified District",5789,{"$f":"\"100208160\"","v":"100208160"},"Robert Richardson Elementary School",0.47276699999999999,7.1895000000000001E-2,0.54466199999999998,459,null,null,250]
[2013,3,4405,"100208000","Flowing Wells Unified District",5790,{"$f":"\"100208170\"","v":"100208170"},"Flowing Wells Junior High School",0.66337900000000005,9.9876999999999994E-2,0.76325500000000002,811,null,null,619]
[2013,3,4405,"100208000","Flowing Wells Unified District",5791,{"$f":"\"100208210\"","v":"100208210"},"Flowing Wells High School",0.566689,8.0956E-2,0.647644,1507,null,null,976]
[2013,3,4405,"100208000","Flowing Wells Unified District",6054,{"$f":"\"100208020\"","v":"100208020"},"Sentinel Peak High School",0.69902900000000001,9.7087000000000007E-2,0.79611699999999996,103,null,null,82]
[2013,3,4405,"100208000","Flowing Wells Unified District",null,{"$f":"\"\"","v":""},null,null,null,null,null,0.74908600000000003]
[2013,3,4167,{"$f":"\"020100000\"","v":"020100000"},"Fort Huachuca Accommodation District",4747,{"$f":"\"020100102\"","v":"020100102"},"Colonel Johnston Elementary School",0.17886199999999999,0.246612,0.42547400000000002,369,null,null,157]
[2013,3,4167,{"$f":"\"020100000\"","v":"020100000"},"Fort Huachuca Accommodation District",4748,{"$f":"\"020100103\"","v":"020100103"},"Colonel Smith Middle School",8.5033999999999998E-2,0.14965999999999999,0.23469400000000001,294,null,null,69]
[2013,3,4167,{"$f":"\"020100000\"","v":"020100000"},"Fort Huachuca Accommodation District",5982,{"$f":"\"020100101\"","v":"020100101"},"General Myer Elementary School",0.108824,0.22352900000000001,0.33235300000000001,340,null,null,113]
[2013,3,4167,{"$f":"\"020100000\"","v":"020100000"},"Fort Huachuca Accommodation District",null,{"$f":"\"\"","v":""},null,null,null,null,null,0.33798600000000001]
[2013,3,4221,{"$f":"\"050207000\"","v":"050207000"},"Fort Thomas Unified District",4892,{"$f":"\"050207101\"","v":"050207101"},"Fort Thomas Elementary School",0.841615,5.2795000000000002E-2,0.89441000000000004,322,null,null,288]
[2013,3,4221,{"$f":"\"050207000\"","v":"050207000"},"Fort Thomas Unified District",4893,{"$f":"\"050207202\"","v":"050207202"},"Fort Thomas High School",0.75124400000000002,8.4576999999999999E-2,0.83582100000000004,201,null,null,168]
[2013,3,4221,{"$f":"\"050207000\"","v":"050207000"},"Fort Thomas Unified District",90064,{"$f":"\"050207701\"","v":"050207701"},"Mt. Turnbull Academy",1,0,1,22,null,null,22]
[2013,3,4221,{"$f":"\"050207000\"","v":"050207000"},"Fort Thomas Unified District",null,{"$f":"\"\"","v":""},null,null,null,null,null,0.87706399999999995]
[2013,3,79973,{"$f":"\"098750000\"","v":"098750000"},"Founding Fathers Academies Inc",79974,{"$f":"\"098750001\"","v":"098750001"},"Jefferson Academy of Advanced Learning",0.54787200000000003,0.101064,0.64893599999999996,188,null,null,122]
[2013,3,79973,{"$f":"\"098750000\"","v":"098750000"},"Founding Fathers Academies Inc",null,{"$f":"\"\"","v":""},null,null,null,null,null,0.64893599999999996]
[2013,3,4247,{"$f":"\"070298000\"","v":"070298000"},"Fountain Hills Unified District",5165,{"$f":"\"070298102\"","v":"070298102"},"McDowell Mountain Elementary School",0.34931499999999999,8.2192000000000001E-2,0.43150699999999997,292,null,null,126]
[2013,3,4247,{"$f":"\"070298000\"","v":"070298000"},"Fountain Hills Unified District",5166,{"$f":"\"070298104\"","v":"070298104"},"Fountain Hills Middle School",0.461538,6.8825999999999998E-2,0.53036399999999995,247,null,null,131]
[2013,3,4247,{"$f":"\"070298000\"","v":"070298000"},"Fountain Hills Unified District",5167,{"$f":"\"070298205\"","v":"070298205"},"Fountain Hills High School",0.394231,3.8462000000000003E-2,0.43269200000000002,104,null,null,45]
[2013,3,4247,{"$f":"\"070298000\"","v":"070298000"},"Fountain Hills Unified District",null,{"$f":"\"\"","v":""},null,null,null,null,null,0.46967300000000001]
[2013,3,4273,{"$f":"\"070445000\"","v":"070445000"},"Fowler Elementary District",5351,{"$f":"\"070445101\"","v":"070445101"},"Fowler Elementary School",0.917404,4.7197999999999997E-2,0.96460199999999996,678,null,null,654]
[2013,3,4273,"070445000","Fowler Elementary District",5352,{"$f":"\"070445102\"","v":"070445102"},"Sunridge Elementary School",0.90816300000000005,3.9358999999999998E-2,0.94752199999999998,686,null,null,650]
[2013,3,4273,"070445000","Fowler Elementary District",5353,{"$f":"\"070445103\"","v":"070445103"},"Santa Maria Middle School",0.77272700000000005,7.7134999999999995E-2,0.84986200000000001,726,null,null,617]
[2013,3,4273,"070445000","Fowler Elementary District",80315,{"$f":"\"070445104\"","v":"070445104"},"Sun Canyon School",0.71820799999999996,0.101156,0.81936399999999998,692,null,null,567]
[2013,3,4273,"070445000","Fowler Elementary District",80915,{"$f":"\"070445105\"","v":"070445105"},"Western Valley Elementary School",0.79270099999999999,7.2993000000000002E-2,0.86569300000000005,685,null,null,593]
[2013,3,4273,"070445000","Fowler Elementary District",80916,{"$f":"\"070445106\"","v":"070445106"},"Western Valley Middle School",0.81559400000000004,8.0446000000000004E-2,0.89603999999999995,808,null,null,724]
[2013,3,4273,"070445000","Fowler Elementary District",87521,{"$f":"\"070445107\"","v":"070445107"},"Tuscano Elementary School",0.720445,7.2322999999999998E-2,0.79276800000000003,719,null,null,570]
[2013,3,4273,"070445000","Fowler Elementary District",null,{"$f":"\"\"","v":""},null,null,null,null,null,0.87605100000000002]
[2013,3,4195,{"$f":"\"030206000\"","v":"030206000"},"Fredonia-Moccasin Unified District",4826,{"$f":"\"030206101\"","v":"030206101"},"Fredonia Elementary School",0.6,0.14000000000000001,0.74,250,null,null,185]
[2013,3,4195,{"$f":"\"030206000\"","v":"030206000"},"Fredonia-Moccasin Unified District",null,{"$f":"\"\"","v":""},null,null,null,null,null,0.74]
[2013,3,4303,{"$f":"\"078611000\"","v":"078611000"},"Friendly House Inc.",6036,{"$f":"\"078611001\"","v":"078611001"},"Friendly House Academia Del Pueblo Elem",0.93895300000000004,3.7790999999999998E-2,0.97674399999999995,344,null,null,336]
[2013,3,4303,{"$f":"\"078611000\"","v":"078611000"},"Friendly House Inc.",null,{"$f":"\"\"","v":""},null,null,null,null,null,0.97674399999999995]
[2013,3,4505,{"$f":"\"140432000\"","v":"140432000"},"Gadsden Elementary District",6183,{"$f":"\"140432101\"","v":"140432101"},"Gadsden Elementary School",0.91115299999999999,6.6163E-2,0.97731599999999996,572,null,null,517]
[2013,3,4505,"140432000","Gadsden Elementary District",6184,{"$f":"\"140432102\"","v":"140432102"},"Rio Colorado Elementary School",0.95161300000000004,3.4562000000000002E-2,0.98617500000000002,878,null,null,856]
[2013,3,4505,"140432000","Gadsden Elementary District",6185,{"$f":"\"140432103\"","v":"140432103"},"San Luis Middle School",0.94880500000000001,4.6074999999999998E-2,0.99488100000000002,667,null,null,583]
[2013,3,4505,"140432000","Gadsden Elementary District",6187,{"$f":"\"140432105\"","v":"140432105"},"Arizona Desert Elementary School",0.93548399999999998,3.6465999999999998E-2,0.97194999999999998,761,null,null,693]
[2013,3,4505,"140432000","Gadsden Elementary District",79724,{"$f":"\"140432106\"","v":"140432106"},"Cesar Chavez Elementary",0.85230399999999995,0.107046,0.95935000000000004,793,null,null,708]
[2013,3,4505,"140432000","Gadsden Elementary District",81096,{"$f":"\"140432108\"","v":"140432108"},"Desert View Elementary",0.91409399999999996,5.6376000000000002E-2,0.97047000000000005,790,null,null,723]
[2013,3,4505,"140432000","Gadsden Elementary District",81105,{"$f":"\"140432107\"","v":"140432107"},"Southwest Jr. High School",0.81655199999999994,0.12,0.93655200000000005,703,null,null,679]
[2013,3,4505,"140432000","Gadsden Elementary District",81106,{"$f":"\"140432109\"","v":"140432109"},"Ed Pastor Elementary 4",0.92255900000000002,5.3872000000000003E-2,0.97643100000000005,268,null,null,290]
[2013,3,4505,"140432000","Gadsden Elementary District",null,{"$f":"\"\"","v":""},null,null,null,null,null,0.97121500000000005]
[2013,3,4157,{"$f":"\"010220000\"","v":"010220000"},"Ganado Unified School District",4725,{"$f":"\"010220101\"","v":"010220101"},"Ganado Primary School",0.77672200000000002,7.8384999999999996E-2,0.85510699999999995,421,null,null,360]
[2013,3,4157,{"$f":"\"010220000\"","v":"010220000"},"Ganado Unified School District",4726,{"$f":"\"010220102\"","v":"010220102"},"Ganado Intermediate School",0.74832200000000004,0.12416099999999999,0.87248300000000001,298,null,null,260]
[2013,3,4157,{"$f":"\"010220000\"","v":"010220000"},"Ganado Unified School District",4727,{"$f":"\"010220103\"","v":"010220103"},"Ganado Middle School",0.80232599999999998,6.5891000000000005E-2,0.86821700000000002,258,null,null,224]
[2013,3,4157,{"$f":"\"010220000\"","v":"010220000"},"Ganado Unified School District",4728,{"$f":"\"010220204\"","v":"010220204"},"Ganado High School",0.74239699999999997,0.110912,0.85330899999999998,559,null,null,477]
[2013,3,4157,{"$f":"\"010220000\"","v":"010220000"},"Ganado Unified School District",null,{"$f":"\"\"","v":""},null,null,null,null,null,0.86002500000000004]
[2013,3,85892,{"$f":"\"102707000\"","v":"102707000"},"Gap Ministries",85894,{"$f":"\"102707003\"","v":"102707003"},"Splash House 2",1,0,1,11,null,null,11]
[2013,3,85892,"102707000","Gap Ministries",85895,{"$f":"\"102707004\"","v":"102707004"},"Splash House 3",1,0,1,9,null,null,9]
[2013,3,85892,"102707000","Gap Ministries",85896,{"$f":"\"102707005\"","v":"102707005"},"Splash House 4",1,0,1,17,null,null,17]
[2013,3,85892,"102707000","Gap Ministries",85897,{"$f":"\"102707006\"","v":"102707006"},"Splash House 5",1,0,1,9,null,null,9]
[2013,3,85892,"102707000","Gap Ministries",85898,{"$f":"\"102707007\"","v":"102707007"},"Splash House 6",1,0,1,9,null,null,9]
[2013,3,85892,"102707000","Gap Ministries",85899,{"$f":"\"102707008\"","v":"102707008"},"Splash House 7",1,0,1,10,null,null,10]
[2013,3,85892,"102707000","Gap Ministries",85900,{"$f":"\"102707009\"","v":"102707009"},"Splash House 8",1,0,1,8,null,null,8]
[2013,3,85892,"102707000","Gap Ministries",85901,{"$f":"\"102707010\"","v":"102707010"},"Splash House 9",1,0,1,14,null,null,14]
[2013,3,85892,"102707000","Gap Ministries",85902,{"$f":"\"102707011\"","v":"102707011"},"Splash House",1,0,1,11,null,null,11]
[2013,3,85892,"102707000","Gap Ministries",87531,{"$f":"\"102707013\"","v":"102707013"},"Splash 10",1,0,1,6,null,null,6]
[2013,3,85892,"102707000","Gap Ministries",91247,{"$f":"\"102707014\"","v":"102707014"},"Splash 11",1,0,1,11,null,null,11]
[2013,3,85892,"102707000","Gap Ministries",91853,{"$f":"\"102707015\"","v":"102707015"},"Splash 12",1,0,1,9,null,null,9]
[2013,3,85892,"102707000","Gap Ministries",null,{"$f":"\"\"","v":""},null,null,null,null,null,1]
[2013,3,90884,{"$f":"\"078585000\"","v":"078585000"},"George Gervin Youth Center Inc.",91712,{"$f":"\"078585001\"","v":"078585001"},"George Gervin Prep Academy",0.90076299999999998,7.6336000000000001E-2,0.97709900000000005,131,null,null,128]
[2013,3,90884,{"$f":"\"078585000\"","v":"078585000"},"George Gervin Youth Center Inc.",null,{"$f":"\"\"","v":""},null,null,null,null,null,0.97709900000000005]
[2013,3,4238,{"$f":"\"070224000\"","v":"070224000"},"Gila Bend Unified District",5018,{"$f":"\"070224001\"","v":"070224001"},"Gila Bend Elementary",0.61599999999999999,0.126,0.74199999999999999,458,null,null,371]
[2013,3,4238,{"$f":"\"070224000\"","v":"070224000"},"Gila Bend Unified District",null,{"$f":"\"\"","v":""},null,null,null,null,null,0.74199999999999999]
[2013,3,80406,{"$f":"\"073901000\"","v":"073901000"},"Gila Crossing Community School",80407,{"$f":"\"073901001\"","v":"073901001"},"Gila Crossing Community School",0.87429599999999996,7.1294999999999997E-2,0.94559099999999996,533,null,null,504]
[2013,3,80406,{"$f":"\"073901000\"","v":"073901000"},"Gila Crossing Community School",null,{"$f":"\"\"","v":""},null,null,null,null,null,0.94559099999999996]
[2013,3,4239,{"$f":"\"070241000\"","v":"070241000"},"Gilbert Unified District",5020,{"$f":"\"070241120\"","v":"070241120"},"Gilbert Junior High School",0.39721800000000002,8.1917000000000004E-2,0.479134,647,null,null,310]
[2013,3,4239,"070241000","Gilbert Unified District",5021,{"$f":"\"070241121\"","v":"070241121"},"Mesquite Jr High School",0.27770699999999998,6.4967999999999998E-2,0.34267500000000001,785,null,null,269]
[2013,3,4239,"070241000","Gilbert Unified District",5022,{"$f":"\"070241122\"","v":"070241122"},"Greenfield Junior High School",0.16752800000000001,6.515E-2,0.232678,967,null,null,225]
[2013,3,4239,"070241000","Gilbert Unified District",5023,{"$f":"\"070241140\"","v":"070241140"},"Gilbert Elementary School",0.41550399999999998,7.7519000000000005E-2,0.49302299999999999,645,null,null,318]
[2013,3,4239,"070241000","Gilbert Unified District",5024,{"$f":"\"070241141\"","v":"070241141"},"Greenfield Elementary School",8.1550999999999998E-2,3.0748999999999999E-2,0.112299,748,null,null,84]
[2013,3,4239,"070241000","Gilbert Unified District",5025,{"$f":"\"070241142\"","v":"070241142"},"Patterson Elementary School",0.20980099999999999,0.10872900000000001,0.31852999999999998,653,null,null,208]
[2013,3,4239,"070241000","Gilbert Unified District",5026,{"$f":"\"070241143\"","v":"070241143"},"Neely Traditional Academy",8.2524E-2,3.2766999999999998E-2,0.115291,824,null,null,95]
[2013,3,4239,"070241000","Gilbert Unified District",5027,{"$f":"\"070241144\"","v":"070241144"},"Pioneer Elementary School",0.27992600000000001,6.0773000000000001E-2,0.3407,543,null,null,185]
[2013,3,4239,"070241000","Gilbert Unified District",5028,{"$f":"\"070241145\"","v":"070241145"},"Islands Elementary School",0.28773599999999999,9.1194999999999998E-2,0.37893100000000002,636,null,null,241]
[2013,3,4239,"070241000","Gilbert Unified District",5029,{"$f":"\"070241146\"","v":"070241146"},"Houston Elementary School",0.30769200000000002,0.121646,0.429338,559,null,null,240]
[2013,3,4239,"070241000","Gilbert Unified District",5030,{"$f":"\"070241147\"","v":"070241147"},"Burk Elementary School",0.45330700000000002,8.9494000000000004E-2,0.54280200000000001,514,null,null,279]
[2013,3,4239,"070241000","Gilbert Unified District",5031,{"$f":"\"070241148\"","v":"070241148"},"Val Vista Lakes Elementary School",0.19263,6.1976999999999997E-2,0.254606,597,null,null,152]
[2013,3,4239,"070241000","Gilbert Unified District",5032,{"$f":"\"070241149\"","v":"070241149"},"Mesquite Elementary School",0.25035000000000002,7.6923000000000005E-2,0.32727299999999998,715,null,null,234]
[2013,3,4239,"070241000","Gilbert Unified District",5033,{"$f":"\"070241150\"","v":"070241150"},"Harris Elementary School",0.70566700000000004,7.8611E-2,0.78427800000000003,547,null,null,429]
[2013,3,4239,"070241000","Gilbert Unified District",5034,{"$f":"\"070241151\"","v":"070241151"},"Playa del Rey Elementary School",0.29069800000000001,8.8039999999999993E-2,0.37873800000000002,602,null,null,228]
[2013,3,4239,"070241000","Gilbert Unified District",5035,{"$f":"\"070241152\"","v":"070241152"},"Towne Meadows Elementary School",0.20433000000000001,6.9012000000000004E-2,0.27334199999999997,739,null,null,202]
[2013,3,4239,"070241000","Gilbert Unified District",5036,{"$f":"\"070241154\"","v":"070241154"},"Sonoma Ranch Elementary School",0.215278,6.25E-2,0.27777800000000002,576,null,null,160]
[2013,3,4239,"070241000","Gilbert Unified District",5037,{"$f":"\"070241155\"","v":"070241155"},"Superstition Springs Elementary",0.312583,8.6093000000000003E-2,0.398675,755,null,null,301]
[2013,3,4239,"070241000","Gilbert Unified District",5038,{"$f":"\"070241156\"","v":"070241156"},"Finley Farms Elementary",0.18817900000000001,8.4439E-2,0.27261800000000003,829,null,null,226]
[2013,3,4239,"070241000","Gilbert Unified District",5039,{"$f":"\"070241210\"","v":"070241210"},"Gilbert High School",0.20327500000000001,6.7093E-2,0.27036700000000002,2504,null,null,677]
[2013,3,4239,"070241000","Gilbert Unified District",5040,{"$f":"\"070241211\"","v":"070241211"},"Highland High School",0.114927,3.6721999999999998E-2,0.15164900000000001,2941,null,null,446]
[2013,3,4239,"070241000","Gilbert Unified District",6006,{"$f":"\"070241123\"","v":"070241123"},"Highland Jr High School",0.20160800000000001,6.1843000000000002E-2,0.26345099999999999,1617,null,null,426]
[2013,3,4239,"070241000","Gilbert Unified District",6007,{"$f":"\"070241212\"","v":"070241212"},"Mesquite High School",0.21859000000000001,7.7630000000000005E-2,0.29622100000000001,1958,null,null,580]
[2013,3,4239,"070241000","Gilbert Unified District",78918,{"$f":"\"070241157\"","v":"070241157"},"Oak Tree Elementary",0.421296,8.7963E-2,0.50925900000000002,648,null,null,330]
[2013,3,4239,"070241000","Gilbert Unified District",78919,{"$f":"\"070241158\"","v":"070241158"},"Settlers Point Elementary",0.213315,5.4348E-2,0.26766299999999998,736,null,null,197]
[2013,3,4239,"070241000","Gilbert Unified District",79144,{"$f":"\"070241159\"","v":"070241159"},"Carol Rae Ranch Elementary",0.16959099999999999,7.3098999999999997E-2,0.24268999999999999,684,null,null,166]
[2013,3,4239,"070241000","Gilbert Unified District",79145,{"$f":"\"070241160\"","v":"070241160"},"Boulder Creek Elementary",0.33426600000000001,8.6712999999999998E-2,0.42097899999999999,715,null,null,301]
[2013,3,4239,"070241000","Gilbert Unified District",79181,{"$f":"\"070241161\"","v":"070241161"},"Ashland Elementary",0.139353,4.5707999999999999E-2,0.185061,897,null,null,166]
[2013,3,4239,"070241000","Gilbert Unified District",79629,{"$f":"\"070241124\"","v":"070241124"},"Desert Ridge Jr. High",0.21096100000000001,8.9339000000000002E-2,0.30030000000000001,1332,null,null,400]
[2013,3,4239,"070241000","Gilbert Unified District",79630,{"$f":"\"070241162\"","v":"070241162"},"Augusta Ranch Elementary",0.180621,8.6548E-2,0.26716800000000002,1063,null,null,284]
[2013,3,4239,"070241000","Gilbert Unified District",79823,{"$f":"\"070241213\"","v":"070241213"},"Desert Ridge High",0.20285400000000001,8.1758999999999998E-2,0.28461199999999998,2593,null,null,738]
[2013,3,4239,"070241000","Gilbert Unified District",79829,{"$f":"\"070241163\"","v":"070241163"},"Canyon Rim Elem",0.27332699999999999,0.11310099999999999,0.38642799999999999,1061,null,null,410]
[2013,3,4239,"070241000","Gilbert Unified District",81145,{"$f":"\"070241164\"","v":"070241164"},"Spectrum Elementary",0.158831,3.6849E-2,0.19567999999999999,787,null,null,154]
[2013,3,4239,"070241000","Gilbert Unified District",81146,{"$f":"\"070241233\"","v":"070241233"},"Gilbert Classical Academy",5.9458999999999998E-2,3.5135E-2,9.4594999999999999E-2,370,null,null,35]
[2013,3,4239,"070241000","Gilbert Unified District",85847,{"$f":"\"070241125\"","v":"070241125"},"South Valley Jr. High",0.13381399999999999,5.6890999999999997E-2,0.19070500000000001,1248,null,null,238]
[2013,3,4239,"070241000","Gilbert Unified District",87533,{"$f":"\"070241165\"","v":"070241165"},"Meridian",0.19630700000000001,8.8435E-2,0.284742,1029,null,null,293]
[2013,3,4239,"070241000","Gilbert Unified District",88401,{"$f":"\"070241166\"","v":"070241166"},"Highland Park Elementary",0.13522400000000001,4.7982999999999998E-2,0.18320600000000001,917,null,null,168]
[2013,3,4239,"070241000","Gilbert Unified District",89594,{"$f":"\"070241167\"","v":"070241167"},"Quartz Hill Elementary",9.2227000000000003E-2,4.0842999999999997E-2,0.13306999999999999,759,null,null,101]
[2013,3,4239,"070241000","Gilbert Unified District",89921,{"$f":"\"138705004\"","v":"138705004"},"Children First Academy - Tempe",1,0,1,221,null,null,221]
[2013,3,4239,"070241000","Gilbert Unified District",90124,{"$f":"\"070241214\"","v":"070241214"},"Campo Verde High School",0.115619,5.3245000000000001E-2,0.16886399999999999,1972,null,null,333]
[2013,3,4239,"070241000","Gilbert Unified District",null,{"$f":"\"\"","v":""},null,null,null,null,null,0.28382000000000002]
[2013,3,4271,{"$f":"\"070440000\"","v":"070440000"},"Glendale Elementary District",5332,{"$f":"\"070440101\"","v":"070440101"},"Glendale Landmark Middle School",0.90101500000000001,5.3298999999999999E-2,0.95431500000000002,746,null,null,752]
[2013,3,4271,"070440000","Glendale Elementary District",5333,{"$f":"\"070440102\"","v":"070440102"},"Isaac E Imes School",0.90557299999999996,2.9412000000000001E-2,0.93498499999999996,644,null,null,604]
[2013,3,4271,"070440000","Glendale Elementary District",5334,{"$f":"\"070440103\"","v":"070440103"},"Harold W Smith School",0.96162000000000003,2.2388000000000002E-2,0.98400900000000002,930,null,null,923]
[2013,3,4271,"070440000","Glendale Elementary District",5335,{"$f":"\"070440104\"","v":"070440104"},"Melvin E Sine School",0.85199499999999995,5.2767000000000001E-2,0.90476199999999996,760,null,null,703]
[2013,3,4271,"070440000","Glendale Elementary District",5336,{"$f":"\"070440105\"","v":"070440105"},"William C Jack School",0.92764599999999997,4.3196999999999999E-2,0.97084199999999998,914,null,null,899]
[2013,3,4271,"070440000","Glendale Elementary District",5337,{"$f":"\"070440106\"","v":"070440106"},"Don Mensendick School",0.90793699999999999,6.1376E-2,0.96931199999999995,934,null,null,916]
[2013,3,4271,"070440000","Glendale Elementary District",5338,{"$f":"\"070440107\"","v":"070440107"},"Glenn F Burton School",0.913771,4.8905999999999998E-2,0.962677,774,null,null,748]
[2013,3,4271,"070440000","Glendale Elementary District",5339,{"$f":"\"070440108\"","v":"070440108"},"Glendale American School",0.73543700000000001,7.6455999999999996E-2,0.81189299999999998,802,null,null,669]
[2013,3,4271,"070440000","Glendale Elementary District",5340,{"$f":"\"070440109\"","v":"070440109"},"Bicentennial North School",0.82741699999999996,9.3022999999999995E-2,0.92044099999999995,811,null,null,752]
[2013,3,4271,"070440000","Glendale Elementary District",5341,{"$f":"\"070440110\"","v":"070440110"},"Horizon School",0.64726399999999995,8.8474999999999998E-2,0.73573900000000003,841,null,null,632]
[2013,3,4271,"070440000","Glendale Elementary District",5342,{"$f":"\"070440111\"","v":"070440111"},"Challenger Middle School",0.87553000000000003,6.2234999999999999E-2,0.93776499999999996,696,null,null,663]
[2013,3,4271,"070440000","Glendale Elementary District",5343,{"$f":"\"070440112\"","v":"070440112"},"Bicentennial South School",0.80626799999999998,9.1167999999999999E-2,0.89743600000000001,697,null,null,630]
[2013,3,4271,"070440000","Glendale Elementary District",5344,{"$f":"\"070440113\"","v":"070440113"},"Discovery School",0.76221099999999997,9.3829999999999997E-2,0.85604100000000005,774,null,null,666]
[2013,3,4271,"070440000","Glendale Elementary District",5345,{"$f":"\"070440114\"","v":"070440114"},"Desert Garden Elementary School",0.88340799999999997,3.2510999999999998E-2,0.91591900000000004,874,null,null,817]
[2013,3,4271,"070440000","Glendale Elementary District",7364,{"$f":"\"072167001\"","v":"072167001"},"The Childrens Center for Neurodevelopmental Studies",0.709677,6.4516000000000004E-2,0.77419400000000005,31,null,null,24]
[2013,3,4271,"070440000","Glendale Elementary District",79782,{"$f":"\"070440115\"","v":"070440115"},"Coyote Ridge",0.69750500000000004,0.13513500000000001,0.83264000000000005,946,null,null,801]
[2013,3,4271,"070440000","Glendale Elementary District",79815,{"$f":"\"070440116\"","v":"070440116"},"Desert Spirit",0.81263600000000002,7.8431000000000001E-2,0.89106799999999997,902,null,null,818]
[2013,3,4271,"070440000","Glendale Elementary District",79816,{"$f":"\"070440117\"","v":"070440117"},"Sunset Vista",0.81154999999999999,4.4580000000000002E-2,0.85612999999999995,973,null,null,845]
[2013,3,4271,"070440000","Glendale Elementary District",null,{"$f":"\"\"","v":""},null,null,null,null,null,0.90117999999999998]
[2013,3,4285,{"$f":"\"070505000\"","v":"070505000"},"Glendale Union High School District",5426,{"$f":"\"070505201\"","v":"070505201"},"Glendale High School",0.758355,5.2056999999999999E-2,0.81041099999999999,1556,null,null,1261]
[2013,3,4285,"070505000","Glendale Union High School District",5427,{"$f":"\"070505202\"","v":"070505202"},"Sunnyslope High School",0.45741300000000001,4.3638000000000003E-2,0.50105200000000005,1902,null,null,953]
[2013,3,4285,"070505000","Glendale Union High School District",5428,{"$f":"\"070505203\"","v":"070505203"},"Washington High School",0.63980800000000004,7.8172000000000005E-2,0.71797999999999995,1663,null,null,1194]
[2013,3,4285,"070505000","Glendale Union High School District",5429,{"$f":"\"070505204\"","v":"070505204"},"Cortez High School",0.704044,8.3640000000000006E-2,0.78768400000000005,1088,null,null,857]
[2013,3,4285,"070505000","Glendale Union High School District",5430,{"$f":"\"070505205\"","v":"070505205"},"Moon Valley High School",0.50385400000000002,0.100911,0.604765,1427,null,null,863]
[2013,3,4285,"070505000","Glendale Union High School District",5431,{"$f":"\"070505206\"","v":"070505206"},"Apollo High School",0.550543,7.5542999999999999E-2,0.62608699999999995,1840,null,null,1152]
[2013,3,4285,"070505000","Glendale Union High School District",5432,{"$f":"\"070505207\"","v":"070505207"},"Thunderbird High School",0.39722200000000002,5.6944000000000002E-2,0.45416699999999999,1440,null,null,654]
[2013,3,4285,"070505000","Glendale Union High School District",5433,{"$f":"\"070505208\"","v":"070505208"},"Greenway High School",0.35242000000000001,6.3395000000000007E-2,0.41581499999999999,1467,null,null,610]
[2013,3,4285,"070505000","Glendale Union High School District",5434,{"$f":"\"070505209\"","v":"070505209"},"Independence High School",0.63409300000000002,0.100434,0.73452799999999996,1842,null,null,1353]
[2013,3,4285,"070505000","Glendale Union High School District",null,{"$f":"\"\"","v":""},null,null,null,null,null,0.625448]
[2013,3,4208,{"$f":"\"040201000\"","v":"040201000"},"Globe Unified District",4854,{"$f":"\"040201003\"","v":"040201003"},"Copper Rim Elementary School",0.43417099999999997,5.0250999999999997E-2,0.48442200000000002,695,null,null,482]
[2013,3,4208,{"$f":"\"040201000\"","v":"040201000"},"Globe Unified District",4855,{"$f":"\"040201004\"","v":"040201004"},"Globe High School",0.418651,6.1508E-2,0.480159,504,null,null,242]
[2013,3,4208,{"$f":"\"040201000\"","v":"040201000"},"Globe Unified District",85831,{"$f":"\"040201105\"","v":"040201105"},"High Desert Middle School",0.576017,0.10706599999999999,0.68308400000000002,467,null,null,319]
[2013,3,4208,{"$f":"\"040201000\"","v":"040201000"},"Globe Unified District",null,{"$f":"\"\"","v":""},null,null,null,null,null,0.53881900000000005]
[2013,3,86874,{"$f":"\"072770000\"","v":"072770000"},"Grace of Serenity Living Inc.",86875,{"$f":"\"072770001\"","v":"072770001"},"Grace of Serenity Living Inc.",1,0,1,9,null,null,9]
[2013,3,86874,{"$f":"\"072770000\"","v":"072770000"},"Grace of Serenity Living Inc.",87282,{"$f":"\"072770002\"","v":"072770002"},"Vineyard Place",1,0,1,5,null,null,5]
[2013,3,86874,{"$f":"\"072770000\"","v":"072770000"},"Grace of Serenity Living Inc.",null,{"$f":"\"\"","v":""},null,null,null,null,null,1]
[2013,3,79539,{"$f":"\"211015000\"","v":"211015000"},"Graham County Juvenile Detention",79588,{"$f":"\"211015001\"","v":"211015001"},"AOC-Graham County Juvenile Detention Center",1,0,1,34,null,null,34]
[2013,3,79539,{"$f":"\"211015000\"","v":"211015000"},"Graham County Juvenile Detention",null,{"$f":"\"\"","v":""},null,null,null,null,null,1]
[2013,3,4194,{"$f":"\"030204000\"","v":"030204000"},"Grand Canyon Unified District",4824,{"$f":"\"030204001\"","v":"030204001"},"Grand Canyon Elementary",0.41612900000000003,0.164516,0.58064499999999997,310,null,null,180]
[2013,3,4194,{"$f":"\"030204000\"","v":"030204000"},"Grand Canyon Unified District",null,{"$f":"\"\"","v":""},null,null,null,null,null,0.58064499999999997]
[2013,3,9691,{"$f":"\"094001000\"","v":"094001000"},"Greasewood Springs Community School Inc.",80421,{"$f":"\"014012004\"","v":"014012004"},"Greasewood Springs Community School",0.85714299999999999,4.1474999999999998E-2,0.89861800000000003,217,null,null,195]
[2013,3,9691,{"$f":"\"094001000\"","v":"094001000"},"Greasewood Springs Community School Inc.",null,{"$f":"\"\"","v":""},null,null,null,null,null,0.89861800000000003]
[2013,3,79793,{"$f":"\"033903000\"","v":"033903000"},"Greyhills Academy",4840,{"$f":"\"033904003\"","v":"033904003"},"Greyhills Academy High School",0.69387799999999999,6.4626000000000003E-2,0.75850300000000004,294,null,null,223]
[2013,3,79793,{"$f":"\"033903000\"","v":"033903000"},"Greyhills Academy",null,{"$f":"\"\"","v":""},null,null,null,null,null,0.75850300000000004]
[2013,3,79500,{"$f":"\"108789000\"","v":"108789000"},"Griffin Foundation Inc. The",79512,{"$f":"\"108789101\"","v":"108789101"},"Children Reaching for the Sky Preparatory",0.79653700000000005,8.6580000000000004E-2,0.88311700000000004,231,null,null,204]
[2013,3,79500,{"$f":"\"108789000\"","v":"108789000"},"Griffin Foundation Inc. The",90470,{"$f":"\"108789102\"","v":"108789102"},"Future Investment Middle School",0.79787200000000003,0.10638300000000001,0.90425500000000003,94,null,null,85]
[2013,3,79500,{"$f":"\"108789000\"","v":"108789000"},"Griffin Foundation Inc. The",null,{"$f":"\"\"","v":""},null,null,null,null,null,0.88922999999999996]
[2013,3,6369,{"$f":"\"108726000\"","v":"108726000"},"Ha:san Educational Services",5872,{"$f":"\"108726001\"","v":"108726001"},"Ha:san Preparatory & Leadership School",0.69531299999999996,7.8130000000000005E-3,0.703125,128,null,null,90]
[2013,3,6369,{"$f":"\"108726000\"","v":"108726000"},"Ha:san Educational Services",null,{"$f":"\"\"","v":""},null,null,null,null,null,0.703125]
[2013,3,80066,{"$f":"\"072701000\"","v":"072701000"},"Hacienda INC",80069,{"$f":"\"072701003\"","v":"072701003"},"Hacienda De Los Angeles",1,0,1,18,null,null,18]
[2013,3,80066,{"$f":"\"072701000\"","v":"072701000"},"Hacienda INC",null,{"$f":"\"\"","v":""},null,null,null,null,null,1]
[2013,3,4371,{"$f":"\"080303000\"","v":"080303000"},"Hackberry School District",5570,{"$f":"\"080303002\"","v":"080303002"},"Cedar Hills School",0.77500000000000002,7.4999999999999997E-2,0.85,40,null,null,34]
[2013,3,4371,{"$f":"\"080303000\"","v":"080303000"},"Hackberry School District",null,{"$f":"\"\"","v":""},null,null,null,null,null,0.85]
[2013,3,79081,{"$f":"\"078998000\"","v":"078998000"},"Happy Valley School Inc.",79095,{"$f":"\"078998001\"","v":"078998001"},"Happy Valley School",0.13360900000000001,3.8566999999999997E-2,0.172176,726,null,null,125]
[2013,3,79081,{"$f":"\"078998000\"","v":"078998000"},"Happy Valley School Inc.",null,{"$f":"\"\"","v":""},null,null,null,null,null,0.172176]
[2013,3,79501,{"$f":"\"148760000\"","v":"148760000"},"Harvest Power Community Development Group Inc.",79513,{"$f":"\"148760101\"","v":"148760101"},"Harvest Preparatory Academy",0.73899999999999999,0.105,0.84399999999999997,1000,null,null,844]
[2013,3,79501,{"$f":"\"148760000\"","v":"148760000"},"Harvest Power Community Development Group Inc.",90277,{"$f":"\"148760102\"","v":"148760102"},"Harvest Preparatory Academy, San Luis AZ",0.79487200000000002,0.121212,0.91608400000000001,429,null,null,393]
[2013,3,79501,{"$f":"\"148760000\"","v":"148760000"},"Harvest Power Community Development Group Inc.",null,{"$f":"\"\"","v":""},null,null,null,null,null,0.86563999999999997]
[2013,3,4212,{"$f":"\"040241000\"","v":"040241000"},"Hayden-Winkelman Unified District",4870,{"$f":"\"040241001\"","v":"040241001"},"Winkelman Elementary School",0.75333300000000003,0.08,0.83333299999999999,150,null,null,125]
[2013,3,4212,{"$f":"\"040241000\"","v":"040241000"},"Hayden-Winkelman Unified District",4873,{"$f":"\"040241004\"","v":"040241004"},"Hayden High School",0.65432100000000004,8.6419999999999997E-2,0.74074099999999998,162,null,null,120]
[2013,3,4212,{"$f":"\"040241000\"","v":"040241000"},"Hayden-Winkelman Unified District",null,{"$f":"\"\"","v":""},null,null,null,null,null,0.78525599999999995]
[2013,3,4392,{"$f":"\"090206000\"","v":"090206000"},"Heber-Overgaard Unified District",5623,{"$f":"\"090206102\"","v":"090206102"},"Capps Elementary School",0.56363600000000003,0.127273,0.690909,110,null,null,76]
[2013,3,4392,{"$f":"\"090206000\"","v":"090206000"},"Heber-Overgaard Unified District",5625,{"$f":"\"090206201\"","v":"090206201"},"Mogollon High School",0.495614,0.105263,0.60087699999999999,219,null,null,137]
[2013,3,4392,{"$f":"\"090206000\"","v":"090206000"},"Heber-Overgaard Unified District",6053,{"$f":"\"090206101\"","v":"090206101"},"Mountain Meadows Primary",0.55214700000000005,0.116564,0.66871199999999997,159,null,null,109]
[2013,3,4392,{"$f":"\"090206000\"","v":"090206000"},"Heber-Overgaard Unified District",null,{"$f":"\"\"","v":""},null,null,null,null,null,0.64327299999999998]
[2013,3,81076,{"$f":"\"078985000\"","v":"078985000"},"Heritage Elementary School",78811,{"$f":"\"078784101\"","v":"078784101"},"Liberty Traditional Charter School",0.81052599999999997,0.04,0.850526,475,null,null,404]
[2013,3,81076,{"$f":"\"078985000\"","v":"078985000"},"Heritage Elementary School",81077,{"$f":"\"078985101\"","v":"078985101"},"Heritage Elementary School",0.56291400000000003,0.13377500000000001,0.696689,755,null,null,526]
[2013,3,81076,{"$f":"\"078985000\"","v":"078985000"},"Heritage Elementary School",89624,{"$f":"\"078985103\"","v":"078985103"},"Heritage Elementary - Williams",0.65333300000000005,6.6667000000000004E-2,0.72,75,null,null,54]
[2013,3,81076,{"$f":"\"078985000\"","v":"078985000"},"Heritage Elementary School",null,{"$f":"\"\"","v":""},null,null,null,null,null,0.754023]
[2013,3,4248,{"$f":"\"070260000\"","v":"070260000"},"Higley Unified School District",5168,{"$f":"\"070260101\"","v":"070260101"},"Higley Traditional Academy",0.22389899999999999,6.2893000000000004E-2,0.28679199999999999,795,null,null,228]
[2013,3,4248,"070260000","Higley Unified School District",79227,{"$f":"\"070260102\"","v":"070260102"},"Coronado Elementary School",0.13048000000000001,6.4717999999999998E-2,0.19519800000000001,958,null,null,187]
[2013,3,4248,"070260000","Higley Unified School District",79374,{"$f":"\"070260201\"","v":"070260201"},"Higley High School",0.196496,6.8835999999999994E-2,0.26533200000000001,1598,null,null,424]
[2013,3,4248,"070260000","Higley Unified School District",79375,{"$f":"\"070260103\"","v":"070260103"},"San Tan Elementary",0.19514599999999999,4.6601999999999998E-2,0.24174799999999999,1030,null,null,249]
[2013,3,4248,"070260000","Higley Unified School District",80316,{"$f":"\"070260104\"","v":"070260104"},"Power Ranch Elementary",0.19805200000000001,6.1688E-2,0.25974000000000003,924,null,null,240]
[2013,3,4248,"070260000","Higley Unified School District",87487,{"$f":"\"070260105\"","v":"070260105"},"Gateway Pointe Elementary",0.30600500000000003,0.124711,0.43071599999999999,866,null,null,373]
[2013,3,4248,"070260000","Higley Unified School District",88422,{"$f":"\"070260106\"","v":"070260106"},"Cortina Elementary",0.133219,5.8069999999999997E-2,0.19128899999999999,1171,null,null,224]
[2013,3,4248,"070260000","Higley Unified School District",89580,{"$f":"\"070260107\"","v":"070260107"},"Chaparral Elementary School",0.16524,7.5342000000000006E-2,0.24058199999999999,1168,null,null,281]
[2013,3,4248,"070260000","Higley Unified School District",89581,{"$f":"\"070260202\"","v":"070260202"},"Williams Field High School",0.15953800000000001,6.2458E-2,0.221996,1473,null,null,327]
[2013,3,4248,"070260000","Higley Unified School District",90315,{"$f":"\"070260108\"","v":"070260108"},"Centennial Elementary School",0.154054,6.7568000000000003E-2,0.22162200000000001,1110,null,null,246]
[2013,3,4248,"070260000","Higley Unified School District",null,{"$f":"\"\"","v":""},null,null,null,null,null,0.25051800000000002]
[2013,3,4389,{"$f":"\"090203000\"","v":"090203000"},"Holbrook Unified District",5607,{"$f":"\"090203102\"","v":"090203102"},"Hulet Elementary School",0.63385800000000003,7.4802999999999994E-2,0.70866099999999999,254,null,null,180]
[2013,3,4389,"090203000","Holbrook Unified District",5608,{"$f":"\"090203103\"","v":"090203103"},"Park Elementary School",0.73225799999999996,5.4838999999999999E-2,0.78709700000000005,310,null,null,244]
[2013,3,4389,"090203000","Holbrook Unified District",5609,{"$f":"\"090203106\"","v":"090203106"},"Holbrook Junior High School",0.64959599999999995,8.6252999999999996E-2,0.73584899999999998,371,null,null,273]
[2013,3,4389,"090203000","Holbrook Unified District",5610,{"$f":"\"090203207\"","v":"090203207"},"Holbrook High School",0.59422299999999995,5.0894000000000002E-2,0.64511700000000005,727,null,null,469]
[2013,3,4389,"090203000","Holbrook Unified District",79377,{"$f":"\"090203104\"","v":"090203104"},"Indian Wells Elementary",0.85555599999999998,8.2222000000000003E-2,0.937778,450,null,null,422]
[2013,3,4389,"090203000","Holbrook Unified District",null,{"$f":"\"\"","v":""},null,null,null,null,null,0.75189300000000003]
[2013,3,88447,{"$f":"\"099101000\"","v":"099101000"},"Hopi Day School",80287,{"$f":"\"093906005\"","v":"093906005"},"Hopi Day School",0.610738,0.18120800000000001,0.79194600000000004,166,null,null,118]
[2013,3,88447,{"$f":"\"099101000\"","v":"099101000"},"Hopi Day School",null,{"$f":"\"\"","v":""},null,null,null,null,null,0.79194600000000004]
[2013,3,88449,{"$f":"\"099103000\"","v":"099103000"},"Hopi Jr/Sr High School",87950,{"$f":"\"093906002\"","v":"093906002"},"Hopi Jr. / Sr. High School",0.66554599999999997,0.121008,0.786555,595,null,null,468]
[2013,3,88449,{"$f":"\"099103000\"","v":"099103000"},"Hopi Jr/Sr High School",null,{"$f":"\"\"","v":""},null,null,null,null,null,0.786555]
[2013,3,80083,{"$f":"\"092004000\"","v":"092004000"},"Hopi Mission School",80084,{"$f":"\"092004001\"","v":"092004001"},"Hopi Mission School",0.64814799999999995,0.12963,0.77777799999999997,54,null,null,42]
[2013,3,80083,{"$f":"\"092004000\"","v":"092004000"},"Hopi Mission School",null,{"$f":"\"\"","v":""},null,null,null,null,null,0.77777799999999997]
[2013,3,88453,{"$f":"\"099106000\"","v":"099106000"},"Hotevilla Bacavi Community School",79662,{"$f":"\"093906006\"","v":"093906006"},"Hotevilla Bacavi Community School",0.74311899999999997,8.2569000000000004E-2,0.82568799999999998,107,null,null,90]
[2013,3,88453,{"$f":"\"099106000\"","v":"099106000"},"Hotevilla Bacavi Community School",null,{"$f":"\"\"","v":""},null,null,null,null,null,0.82568799999999998]
[2013,3,4469,{"$f":"\"130222000\"","v":"130222000"},"Humboldt Unified District",6090,{"$f":"\"130222110\"","v":"130222110"},"Lake Valley Elementary School",0.76785700000000001,6.5476000000000006E-2,0.83333299999999999,483,null,null,420]
[2013,3,4469,"130222000","Humboldt Unified District",6091,{"$f":"\"130222120\"","v":"130222120"},"Bradshaw Mountain Middle School",0.60714299999999999,7.7381000000000005E-2,0.68452400000000002,313,null,null,230]
[2013,3,4469,"130222000","Humboldt Unified District",6092,{"$f":"\"130222125\"","v":"130222125"},"Glassford Hill Middle School",0.54744499999999996,8.7591000000000002E-2,0.63503600000000004,401,null,null,261]
[2013,3,4469,"130222000","Humboldt Unified District",6093,{"$f":"\"130222131\"","v":"130222131"},"Humboldt Elementary School",0.576233,0.112108,0.68834099999999998,437,null,null,307]
[2013,3,4469,"130222000","Humboldt Unified District",6094,{"$f":"\"130222132\"","v":"130222132"},"Mountain View Elementary School",0.73211000000000004,5.8715999999999997E-2,0.79082600000000003,528,null,null,431]
[2013,3,4469,"130222000","Humboldt Unified District",6095,{"$f":"\"130222133\"","v":"130222133"},"Coyote Springs Elementary School",0.54012300000000002,8.3333000000000004E-2,0.62345700000000004,634,null,null,404]
[2013,3,4469,"130222000","Humboldt Unified District",6096,{"$f":"\"130222134\"","v":"130222134"},"Liberty Traditional School",0.41486499999999998,0.109459,0.52432400000000001,734,null,null,388]
[2013,3,4469,"130222000","Humboldt Unified District",6097,{"$f":"\"130222230\"","v":"130222230"},"Bradshaw Mountain High School",0.42787599999999998,8.8252999999999998E-2,0.51612899999999995,1589,null,null,848]
[2013,3,4469,"130222000","Humboldt Unified District",87535,{"$f":"\"130222135\"","v":"130222135"},"Granville Elementary School",0.51813500000000001,0.11053499999999999,0.62866999999999995,573,null,null,364]
[2013,3,4469,"130222000","Humboldt Unified District",null,{"$f":"\"\"","v":""},null,null,null,null,null,0.623726]
[2013,3,80370,{"$f":"\"014006000\"","v":"014006000"},"Hunters Point Boarding School",80444,{"$f":"\"014012002\"","v":"014012002"},"Hunters Point Boarding School",0.71250000000000002,0.05,0.76249999999999996,160,null,null,122]
[2013,3,80370,{"$f":"\"014006000\"","v":"014006000"},"Hunters Point Boarding School",null,{"$f":"\"\"","v":""},null,null,null,null,null,0.76249999999999996]
[2013,3,4502,{"$f":"\"140416000\"","v":"140416000"},"Hyder Elementary District",6180,{"$f":"\"140416101\"","v":"140416101"},"Dateland Elementary School",0.79230800000000001,0.138462,0.93076899999999996,115,null,null,121]
[2013,3,4502,{"$f":"\"140416000\"","v":"140416000"},"Hyder Elementary District",null,{"$f":"\"\"","v":""},null,null,null,null,null,0.93076899999999996]
[2013,3,89784,{"$f":"\"078535000\"","v":"078535000"},"Imagine Avondale Elementary Inc.",89785,{"$f":"\"078535101\"","v":"078535101"},"Imagine Avondale Elementary",0.58010099999999998,0.106239,0.68634099999999998,593,null,null,407]
[2013,3,89784,{"$f":"\"078535000\"","v":"078535000"},"Imagine Avondale Elementary Inc.",null,{"$f":"\"\"","v":""},null,null,null,null,null,0.68634099999999998]
[2013,3,90162,{"$f":"\"078553000\"","v":"078553000"},"Imagine Avondale Middle Inc.",90163,{"$f":"\"078553001\"","v":"078553001"},"Imagine Avondale Middle",0.692913,0.11811000000000001,0.81102399999999997,127,null,null,103]
[2013,3,90162,{"$f":"\"078553000\"","v":"078553000"},"Imagine Avondale Middle Inc.",null,{"$f":"\"\"","v":""},null,null,null,null,null,0.81102399999999997]
[2013,3,89561,{"$f":"\"078531000\"","v":"078531000"},"Imagine Camelback Middle Inc.",89562,{"$f":"\"078531101\"","v":"078531101"},"Imagine Camelback Middle",0.84090900000000002,3.0303E-2,0.87121199999999999,132,null,null,115]
[2013,3,89561,{"$f":"\"078531000\"","v":"078531000"},"Imagine Camelback Middle Inc.",null,{"$f":"\"\"","v":""},null,null,null,null,null,0.87121199999999999]
[2013,3,88365,{"$f":"\"078519000\"","v":"078519000"},"Imagine Charter Elementary at Camelback Inc.",88366,{"$f":"\"078519101\"","v":"078519101"},"Imagine Camelback Elementary",0.86328099999999997,4.1015999999999997E-2,0.90429700000000002,512,null,null,463]
[2013,3,88365,{"$f":"\"078519000\"","v":"078519000"},"Imagine Charter Elementary at Camelback Inc.",null,{"$f":"\"\"","v":""},null,null,null,null,null,0.90429700000000002]
[2013,3,88367,{"$f":"\"078520000\"","v":"078520000"},"Imagine Charter Elementary at Desert West Inc.",88368,{"$f":"\"078520101\"","v":"078520101"},"Imagine Desert West Elementary",0.84321500000000005,7.2464000000000001E-2,0.91567900000000002,759,null,null,695]
[2013,3,88367,{"$f":"\"078520000\"","v":"078520000"},"Imagine Charter Elementary at Desert West Inc.",null,{"$f":"\"\"","v":""},null,null,null,null,null,0.91567900000000002]
[2013,3,89786,{"$f":"\"078536000\"","v":"078536000"},"Imagine Coolidge Elementary Inc.",89787,{"$f":"\"078536101\"","v":"078536101"},"Imagine Coolidge Elementary",0.58644499999999999,0.102351,0.68879699999999999,723,null,null,498]
[2013,3,89786,{"$f":"\"078536000\"","v":"078536000"},"Imagine Coolidge Elementary Inc.",null,{"$f":"\"\"","v":""},null,null,null,null,null,0.68879699999999999]
[2013,3,89563,{"$f":"\"078532000\"","v":"078532000"},"Imagine Desert West Middle Inc.",89564,{"$f":"\"078532101\"","v":"078532101"},"Imagine Desert West Middle",0.853881,6.8492999999999998E-2,0.92237400000000003,219,null,null,202]
[2013,3,89563,{"$f":"\"078532000\"","v":"078532000"},"Imagine Desert West Middle Inc.",null,{"$f":"\"\"","v":""},null,null,null,null,null,0.92237400000000003]
[2013,3,88374,{"$f":"\"078523000\"","v":"078523000"},"Imagine Elementary at Tempe Inc.",88375,{"$f":"\"078523101\"","v":"078523101"},"Imagine Tempe",0.69148900000000002,0.11347500000000001,0.80496500000000004,282,null,null,227]
[2013,3,88374,{"$f":"\"078523000\"","v":"078523000"},"Imagine Elementary at Tempe Inc.",null,{"$f":"\"\"","v":""},null,null,null,null,null,0.80496500000000004]
[2013,3,88369,{"$f":"\"078521000\"","v":"078521000"},"Imagine Middle at East Mesa Inc.",88370,{"$f":"\"078521001\"","v":"078521001"},"Imagine East Mesa Middle",0.493506,0.12987000000000001,0.62337699999999996,77,null,null,48]
[2013,3,88369,{"$f":"\"078521000\"","v":"078521000"},"Imagine Middle at East Mesa Inc.",null,{"$f":"\"\"","v":""},null,null,null,null,null,0.62337699999999996]
[2013,3,88372,{"$f":"\"078522000\"","v":"078522000"},"Imagine Middle at Surprise Inc.",88373,{"$f":"\"078522101\"","v":"078522101"},"Imagine Surprise Middle",0.32592599999999999,6.6667000000000004E-2,0.39259300000000003,270,null,null,106]
[2013,3,88372,{"$f":"\"078522000\"","v":"078522000"},"Imagine Middle at Surprise Inc.",null,{"$f":"\"\"","v":""},null,null,null,null,null,0.39259300000000003]
[2013,3,90034,{"$f":"\"078547000\"","v":"078547000"},"Imagine Prep Coolidge Inc.",90035,{"$f":"\"078547101\"","v":"078547101"},"Imagine Prep Coolidge",0.53876000000000002,0.12209299999999999,0.66085300000000002,516,null,null,341]
[2013,3,90034,{"$f":"\"078547000\"","v":"078547000"},"Imagine Prep Coolidge Inc.",null,{"$f":"\"\"","v":""},null,null,null,null,null,0.66085300000000002]
[2013,3,89788,{"$f":"\"078537000\"","v":"078537000"},"Imagine Prep Superstition Inc.",89789,{"$f":"\"078537101\"","v":"078537101"},"Imagine Prep Superstition",0.62222200000000005,6.6667000000000004E-2,0.68888899999999997,90,null,null,62]
[2013,3,89788,{"$f":"\"078537000\"","v":"078537000"},"Imagine Prep Superstition Inc.",null,{"$f":"\"\"","v":""},null,null,null,null,null,0.68888899999999997]
[2013,3,89790,{"$f":"\"078538000\"","v":"078538000"},"Imagine Prep Surprise Inc.",89791,{"$f":"\"078538101\"","v":"078538101"},"Imagine Prep Surprise",0.29447899999999999,6.7485000000000003E-2,0.36196299999999998,163,null,null,59]
[2013,3,89790,{"$f":"\"078538000\"","v":"078538000"},"Imagine Prep Surprise Inc.",null,{"$f":"\"\"","v":""},null,null,null,null,null,0.36196299999999998]
[2013,3,90160,{"$f":"\"078552000\"","v":"078552000"},"Imagine Superstition Middle Inc.",90161,{"$f":"\"078552001\"","v":"078552001"},"Imagine Superstition Middle",0.68656700000000004,0.104478,0.791045,67,null,null,53]
[2013,3,90160,{"$f":"\"078552000\"","v":"078552000"},"Imagine Superstition Middle Inc.",null,{"$f":"\"\"","v":""},null,null,null,null,null,0.791045]
[2013,3,91349,{"$f":"\"102039000\"","v":"102039000"},"Imago Dei Middle School",91350,{"$f":"\"102039001\"","v":"102039001"},"Imago Dei Middle School",0.91836700000000004,4.0815999999999998E-2,0.95918400000000004,49,null,null,47]
[2013,3,91349,{"$f":"\"102039000\"","v":"102039000"},"Imago Dei Middle School",null,{"$f":"\"\"","v":""},null,null,null,null,null,0.95918400000000004]
[2013,3,80085,{"$f":"\"142002000\"","v":"142002000"},"Immaculate Conception School",80086,{"$f":"\"142002001\"","v":"142002001"},"Immaculate Conception School",0.26589600000000002,0.16184999999999999,0.42774600000000002,173,null,null,74]
[2013,3,80085,{"$f":"\"142002000\"","v":"142002000"},"Immaculate Conception School",null,{"$f":"\"\"","v":""},null,null,null,null,null,0.42774600000000002]
[2013,3,80087,{"$f":"\"012001000\"","v":"012001000"},"Immanuel Mission Association",80088,{"$f":"\"012001001\"","v":"012001001"},"Immanuel Mision School",0.80769199999999997,1.2821000000000001E-2,0.82051300000000005,76,null,null,64]
[2013,3,80087,{"$f":"\"012001000\"","v":"012001000"},"Immanuel Mission Association",null,{"$f":"\"\"","v":""},null,null,null,null,null,0.82051300000000005]
[2013,3,5174,{"$f":"\"078751000\"","v":"078751000"},"Integrity Education Incorporated",10811,{"$f":"\"078751001\"","v":"078751001"},"Integrity Education Centre",0.76271199999999995,8.4746000000000002E-2,0.84745800000000004,59,null,null,50]
[2013,3,5174,{"$f":"\"078751000\"","v":"078751000"},"Integrity Education Incorporated",null,{"$f":"\"\"","v":""},null,null,null,null,null,0.84745800000000004]
[2013,3,91899,{"$f":"\"102142000\"","v":"102142000"},"Intermountain Centers for Human Development",91900,{"$f":"\"102142001\"","v":"102142001"},"Intermountain Academy",0.85714299999999999,4.7619000000000002E-2,0.90476199999999996,21,null,null,19]
[2013,3,91899,{"$f":"\"102142000\"","v":"102142000"},"Intermountain Centers for Human Development",null,{"$f":"\"\"","v":""},null,null,null,null,null,0.90476199999999996]
[2013,3,79062,{"$f":"\"118702000\"","v":"118702000"},"Ira H. Hayes Memorial Applied Learning Center Inc.",79114,{"$f":"\"118702201\"","v":"118702201"},"Ira H. Hayes High School",0.82432399999999995,8.1081E-2,0.90540500000000002,74,null,null,67]
[2013,3,79062,{"$f":"\"118702000\"","v":"118702000"},"Ira H. Hayes Memorial Applied Learning Center Inc.",null,{"$f":"\"\"","v":""},null,null,null,null,null,0.90540500000000002]
[2013,3,4259,{"$f":"\"070405000\"","v":"070405000"},"Isaac Elementary District",5234,{"$f":"\"070405101\"","v":"070405101"},"Isaac Middle School",0.77453300000000003,0.12149500000000001,0.89602800000000005,812,null,null,767]
[2013,3,4259,"070405000","Isaac Elementary District",5235,{"$f":"\"070405102\"","v":"070405102"},"J B Sutton Elementary School",0.82994900000000005,8.8831999999999994E-2,0.91878199999999999,758,null,null,724]
[2013,3,4259,"070405000","Isaac Elementary District",5236,{"$f":"\"070405103\"","v":"070405103"},"Alta E Butler School",0.81214699999999995,0.129944,0.94208999999999998,783,null,null,667]
[2013,3,4259,"070405000","Isaac Elementary District",5237,{"$f":"\"070405104\"","v":"070405104"},"P T Coe Elementary School",0.76384799999999997,0.125364,0.88921300000000003,791,null,null,915]
[2013,3,4259,"070405000","Isaac Elementary District",5238,{"$f":"\"070405105\"","v":"070405105"},"Joseph Zito Elementary School",0.71180600000000005,0.16666700000000001,0.87847200000000003,738,null,null,759]
[2013,3,4259,"070405000","Isaac Elementary District",5239,{"$f":"\"070405106\"","v":"070405106"},"Mitchell Elementary School",0.713256,0.13688800000000001,0.85014400000000001,522,null,null,590]
[2013,3,4259,"070405000","Isaac Elementary District",5240,{"$f":"\"070405108\"","v":"070405108"},"Esperanza Elementary School",0.79669000000000001,0.122931,0.91962200000000005,691,null,null,389]
[2013,3,4259,"070405000","Isaac Elementary District",5243,{"$f":"\"070405111\"","v":"070405111"},"Pueblo Del Sol Middle School",0.84353699999999998,2.6238999999999998E-2,0.86977599999999999,1002,null,null,895]
[2013,3,4259,"070405000","Isaac Elementary District",78934,{"$f":"\"070405112\"","v":"070405112"},"Morris K. Udall Escuela de Bellas Artes",0.83199999999999996,8.9332999999999996E-2,0.92133299999999996,804,null,null,691]
[2013,3,4259,"070405000","Isaac Elementary District",79821,{"$f":"\"070405114\"","v":"070405114"},"Moya Elementary",0.82714299999999996,7.8571000000000002E-2,0.90571400000000002,504,null,null,634]
[2013,3,4259,"070405000","Isaac Elementary District",null,{"$f":"\"\"","v":""},null,null,null,null,null,0.89957100000000001]
[2013,3,4445,{"$f":"\"110244000\"","v":"110244000"},"J O Combs Unified School District",5928,{"$f":"\"110244103\"","v":"110244103"},"J. O. Combs Middle School",0.37091299999999999,8.6808999999999997E-2,0.45772299999999999,887,null,null,406]
[2013,3,4445,"110244000","J O Combs Unified School District",79831,{"$f":"\"110244102\"","v":"110244102"},"Kathryn Sue Simonton Elementary",0.34856199999999998,0.113367,0.46192899999999998,591,null,null,273]
[2013,3,4445,"110244000","J O Combs Unified School District",87489,{"$f":"\"110244104\"","v":"110244104"},"Jack Harmon Elementary School",0.44714300000000001,0.08,0.52714300000000003,700,null,null,369]
[2013,3,4445,"110244000","J O Combs Unified School District",89569,{"$f":"\"110244105\"","v":"110244105"},"Ellsworth Elementary School",0.406667,7.5999999999999998E-2,0.48266700000000001,750,null,null,362]
[2013,3,4445,"110244000","J O Combs Unified School District",89859,{"$f":"\"110244201\"","v":"110244201"},"Combs High School",0.354657,7.9021999999999995E-2,0.43367800000000001,1063,null,null,461]
[2013,3,4445,"110244000","J O Combs Unified School District",89860,{"$f":"\"110244106\"","v":"110244106"},"Ranch Elementary School",0.40266200000000002,8.9849999999999999E-2,0.49251200000000001,601,null,null,296]
[2013,3,4445,"110244000","J O Combs Unified School District",null,{"$f":"\"\"","v":""},null,null,null,null,null,0.47190700000000002]
[2013,3,91248,{"$f":"\"094014000\"","v":"094014000"},"Jeehdeez'a Elementary",91249,{"$f":"\"094014001\"","v":"094014001"},"Jeehdeez'a Elementary",0.92968799999999996,7.8130000000000005E-3,0.9375,128,null,null,120]
[2013,3,91248,{"$f":"\"094014000\"","v":"094014000"},"Jeehdeez'a Elementary",null,{"$f":"\"\"","v":""},null,null,null,null,null,0.9375]
[2013,3,80089,{"$f":"\"044015000\"","v":"044015000"},"John F. Kennedy Day School",80090,{"$f":"\"104001007\"","v":"104001007"},"John F. Kennedy",0.80952400000000002,4.2856999999999999E-2,0.85238100000000006,209,null,null,179]
[2013,3,80089,{"$f":"\"044015000\"","v":"044015000"},"John F. Kennedy Day School",null,{"$f":"\"\"","v":""},null,null,null,null,null,0.85238100000000006]
[2013,3,4388,{"$f":"\"090202000\"","v":"090202000"},"Joseph City Unified District",5605,{"$f":"\"090202001\"","v":"090202001"},"Joseph City Elementary School",0.50362300000000004,8.3333000000000004E-2,0.58695699999999995,276,null,null,162]
[2013,3,4388,{"$f":"\"090202000\"","v":"090202000"},"Joseph City Unified District",5606,{"$f":"\"090202002\"","v":"090202002"},"Joseph City High School",0.387324,5.6337999999999999E-2,0.443662,142,null,null,63]
[2013,3,4388,{"$f":"\"090202000\"","v":"090202000"},"Joseph City Unified District",null,{"$f":"\"\"","v":""},null,null,null,null,null,0.53827700000000001]
[2013,3,79064,{"$f":"\"148759000\"","v":"148759000"},"Juniper Tree Academy",79112,{"$f":"\"148759101\"","v":"148759101"},"Desert View Academy",0.37474099999999999,0.171843,0.54658399999999996,483,null,null,264]
[2013,3,79064,{"$f":"\"148759000\"","v":"148759000"},"Juniper Tree Academy",null,{"$f":"\"\"","v":""},null,null,null,null,null,0.54658399999999996]
[2013,3,80092,{"$f":"\"034003000\"","v":"034003000"},"Kaibeto Boarding School",80093,{"$f":"\"033904004\"","v":"033904004"},"Kaibeto Boarding School",0.84321999999999997,4.2373000000000001E-2,0.88559299999999996,236,null,null,209]
[2013,3,80092,{"$f":"\"034003000\"","v":"034003000"},"Kaibeto Boarding School",null,{"$f":"\"\"","v":""},null,null,null,null,null,0.88559299999999996]
[2013,3,4342,{"$f":"\"078718000\"","v":"078718000"},"Kaizen Education Foundation dba El Dorado High School",78899,{"$f":"\"078718212\"","v":"078718212"},"Kaizen Education Foundation dba El Dorado High School",0.791045,8.9552000000000007E-2,0.88059699999999996,134,null,null,118]
[2013,3,4342,{"$f":"\"078718000\"","v":"078718000"},"Kaizen Education Foundation dba El Dorado High School",null,{"$f":"\"\"","v":""},null,null,null,null,null,0.88059699999999996]
[2013,3,90333,{"$f":"\"078570000\"","v":"078570000"},"Kaizen Education Foundation dba Gilbert Arts Public Charter Academy",89866,{"$f":"\"078570001\"","v":"078570001"},"Kaizen Education Foundation dba Gilbert Arts Academy",0.415663,3.6144999999999997E-2,0.45180700000000001,165,null,null,75]
[2013,3,90333,{"$f":"\"078570000\"","v":"078570000"},"Kaizen Education Foundation dba Gilbert Arts Public Charter Academy",null,{"$f":"\"\"","v":""},null,null,null,null,null,0.45180700000000001]
[2013,3,90535,{"$f":"\"078580000\"","v":"078580000"},"Kaizen Education Foundation dba Havasu Preparatory Academy",91157,{"$f":"\"078580001\"","v":"078580001"},"Havasu Preparatory Academy",0.52255600000000002,0.11654100000000001,0.63909800000000005,266,null,null,170]
[2013,3,90535,{"$f":"\"078580000\"","v":"078580000"},"Kaizen Education Foundation dba Havasu Preparatory Academy",null,{"$f":"\"\"","v":""},null,null,null,null,null,0.63909800000000005]
[2013,3,90334,{"$f":"\"078571000\"","v":"078571000"},"Kaizen Education Foundation dba Liberty Arts Academy",89868,{"$f":"\"078571001\"","v":"078571001"},"Liberty Arts Academy",0.47169800000000001,6.4689999999999998E-2,0.53638799999999998,371,null,null,199]
[2013,3,90334,{"$f":"\"078571000\"","v":"078571000"},"Kaizen Education Foundation dba Liberty Arts Academy",null,{"$f":"\"\"","v":""},null,null,null,null,null,0.53638799999999998]
[2013,3,79882,{"$f":"\"078949000\"","v":"078949000"},"Kaizen Education Foundation dba Maya High School",10748,{"$f":"\"078949001\"","v":"078949001"},"Kaizen Education Foundation dba Maya High School",0.82952199999999998,2.4948000000000001E-2,0.85446999999999995,424,null,null,411]
[2013,3,79882,{"$f":"\"078949000\"","v":"078949000"},"Kaizen Education Foundation dba Maya High School",null,{"$f":"\"\"","v":""},null,null,null,null,null,0.85446999999999995]
[2013,3,90548,{"$f":"\"078576000\"","v":"078576000"},"Kaizen Education Foundation dba Mission Heights Preparatory High School",91158,{"$f":"\"078576001\"","v":"078576001"},"Mission Heights Preparatory High School",0.51539699999999999,8.7520000000000001E-2,0.60291700000000004,617,null,null,372]
[2013,3,90548,{"$f":"\"078576000\"","v":"078576000"},"Kaizen Education Foundation dba Mission Heights Preparatory High School",null,{"$f":"\"\"","v":""},null,null,null,null,null,0.60291700000000004]
[2013,3,79880,{"$f":"\"108706000\"","v":"108706000"},"Kaizen Education Foundation dba Skyview High School",6350,{"$f":"\"108706001\"","v":"108706001"},"Skyview High School",0.44094499999999998,4.7244000000000001E-2,0.48818899999999998,127,null,null,62]
[2013,3,79880,{"$f":"\"108706000\"","v":"108706000"},"Kaizen Education Foundation dba Skyview High School",null,{"$f":"\"\"","v":""},null,null,null,null,null,0.48818899999999998]
[2013,3,79233,{"$f":"\"078999000\"","v":"078999000"},"Kaizen Education Foundation dba South Pointe Elementary School",78851,{"$f":"\"078999001\"","v":"078999001"},"Kaizen Education Foundation dba South Pointe Elementary School",0.94308899999999996,1.355E-2,0.95664000000000005,360,null,null,353]
[2013,3,79233,{"$f":"\"078999000\"","v":"078999000"},"Kaizen Education Foundation dba South Pointe Elementary School",null,{"$f":"\"\"","v":""},null,null,null,null,null,0.95664000000000005]
[2013,3,78965,{"$f":"\"078765000\"","v":"078765000"},"Kaizen Education Foundation dba South Pointe Junior High School",79178,{"$f":"\"078765103\"","v":"078765103"},"South Pointe Junior High School",0.72440899999999997,6.6929000000000002E-2,0.79133900000000001,254,null,null,201]
[2013,3,78965,{"$f":"\"078765000\"","v":"078765000"},"Kaizen Education Foundation dba South Pointe Junior High School",null,{"$f":"\"\"","v":""},null,null,null,null,null,0.79133900000000001]
[2013,3,79876,{"$f":"\"078952000\"","v":"078952000"},"Kaizen Education Foundation dba Summit High School",10749,{"$f":"\"078952001\"","v":"078952001"},"Kaizen Education Foundation dba Summit High School",0.87431700000000001,1.9126000000000001E-2,0.89344299999999999,366,null,null,327]
[2013,3,79876,{"$f":"\"078952000\"","v":"078952000"},"Kaizen Education Foundation dba Summit High School",null,{"$f":"\"\"","v":""},null,null,null,null,null,0.89344299999999999]
[2013,3,79878,{"$f":"\"078954000\"","v":"078954000"},"Kaizen Education Foundation dba Tempe Accelerated High School",6349,{"$f":"\"078954001\"","v":"078954001"},"Kaizen Education Foundation dba Quest High School",0.83088200000000001,3.6764999999999999E-2,0.86764699999999995,136,null,null,118]
[2013,3,79878,{"$f":"\"078954000\"","v":"078954000"},"Kaizen Education Foundation dba Tempe Accelerated High School",null,{"$f":"\"\"","v":""},null,null,null,null,null,0.86764699999999995]
[2013,3,90330,{"$f":"\"078567000\"","v":"078567000"},"Kaizen Education Foundation dba Vista Grove Preparatory Academy Elementary",89867,{"$f":"\"078567001\"","v":"078567001"},"Kaizen Education Foundation dba Vista Grove Preparatory Academy Elementary",0.85015300000000005,1.8349000000000001E-2,0.868502,327,null,null,284]
[2013,3,90330,{"$f":"\"078567000\"","v":"078567000"},"Kaizen Education Foundation dba Vista Grove Preparatory Academy Elementary",null,{"$f":"\"\"","v":""},null,null,null,null,null,0.868502]
[2013,3,79871,{"$f":"\"078946000\"","v":"078946000"},"Kaizen Education Foundation dba Vista Grove Preparatory Academy Middle School",79177,{"$f":"\"078946001\"","v":"078946001"},"Vista Grove Preparatory Academy Middle School",0.83544300000000005,3.7975000000000002E-2,0.87341800000000003,79,null,null,69]
[2013,3,79871,{"$f":"\"078946000\"","v":"078946000"},"Kaizen Education Foundation dba Vista Grove Preparatory Academy Middle School",null,{"$f":"\"\"","v":""},null,null,null,null,null,0.87341800000000003]
[2013,3,80072,{"$f":"\"094008000\"","v":"094008000"},"Kayenta Community School",80074,{"$f":"\"033904008\"","v":"033904008"},"Kayenta Community School",0.85359799999999997,4.7146E-2,0.90074399999999999,381,null,null,363]
[2013,3,80072,{"$f":"\"094008000\"","v":"094008000"},"Kayenta Community School",null,{"$f":"\"\"","v":""},null,null,null,null,null,0.90074399999999999]
[2013,3,4396,{"$f":"\"090227000\"","v":"090227000"},"Kayenta Unified District",5641,{"$f":"\"090227102\"","v":"090227102"},"Kayenta Middle School",0.80918699999999999,8.4806000000000006E-2,0.89399300000000004,566,null,null,506]
[2013,3,4396,{"$f":"\"090227000\"","v":"090227000"},"Kayenta Unified District",5642,{"$f":"\"090227103\"","v":"090227103"},"Kayenta Elementary School",0.850267,7.6203000000000007E-2,0.92647100000000004,748,null,null,693]
[2013,3,4396,{"$f":"\"090227000\"","v":"090227000"},"Kayenta Unified District",5644,{"$f":"\"090227201\"","v":"090227201"},"Monument Valley High School",0.75,0.1,0.85,720,null,null,612]
[2013,3,4396,{"$f":"\"090227000\"","v":"090227000"},"Kayenta Unified District",null,{"$f":"\"\"","v":""},null,null,null,null,null,0.89036300000000002]
[2013,3,80382,{"$f":"\"099109000\"","v":"099109000"},"Keams Canyon Boarding School",80383,{"$f":"\"093906001\"","v":"093906001"},"Keams Canyon Elementary",0.73563199999999995,4.5976999999999997E-2,0.781609,87,null,null,68]
[2013,3,80382,{"$f":"\"099109000\"","v":"099109000"},"Keams Canyon Boarding School",null,{"$f":"\"\"","v":""},null,null,null,null,null,0.781609]
[2013,3,78840,{"$f":"\"018759000\"","v":"018759000"},"Kin Dah Lichii Olta Inc.",78841,{"$f":"\"018759101\"","v":"018759101"},"Kin Dah Lichii Olta' Charter School",0.79896900000000004,9.2784000000000005E-2,0.89175300000000002,228,null,null,173]
[2013,3,78840,{"$f":"\"018759000\"","v":"018759000"},"Kin Dah Lichii Olta Inc.",null,{"$f":"\"\"","v":""},null,null,null,null,null,0.89175300000000002]
[2013,3,79598,{"$f":"\"080220000\"","v":"080220000"},"Kingman Unified School District",5571,{"$f":"\"080220110\"","v":"080220110"},"Hualapai Elementary",0.51398100000000002,8.1225000000000006E-2,0.59520600000000001,751,null,null,447]
[2013,3,79598,"080220000","Kingman Unified School District",5572,{"$f":"\"080220111\"","v":"080220111"},"La Senita Elementary",0.77574799999999999,5.8139999999999997E-2,0.83388700000000004,600,null,null,502]
[2013,3,79598,"080220000","Kingman Unified School District",5573,{"$f":"\"080220112\"","v":"080220112"},"Manzanita Elementary",0.55148299999999995,6.2826999999999994E-2,0.61431100000000005,571,null,null,352]
[2013,3,79598,"080220000","Kingman Unified School District",5574,{"$f":"\"080220113\"","v":"080220113"},"Palo Christi Elementary",0.74736800000000003,7.3683999999999999E-2,0.82105300000000003,285,null,null,234]
[2013,3,79598,"080220000","Kingman Unified School District",5575,{"$f":"\"080220114\"","v":"080220114"},"Kingman Middle School",0.65805499999999995,5.3191000000000002E-2,0.71124600000000004,655,null,null,468]
[2013,3,79598,"080220000","Kingman Unified School District",5576,{"$f":"\"080220115\"","v":"080220115"},"Cerbat Elementary",0.83038900000000004,3.1801999999999997E-2,0.86219100000000004,565,null,null,488]
[2013,3,79598,"080220000","Kingman Unified School District",5577,{"$f":"\"080220116\"","v":"080220116"},"Black Mountain Elementary School",0.74380199999999996,6.6115999999999994E-2,0.809917,603,null,null,490]
[2013,3,79598,"080220000","Kingman Unified School District",5580,{"$f":"\"080220117\"","v":"080220117"},"Mt Tipton Elementary School",0.87591200000000002,2.5547E-2,0.90146000000000004,273,null,null,247]
[2013,3,79598,"080220000","Kingman Unified School District",5595,{"$f":"\"080220202\"","v":"080220202"},"Kingman High School",0.51696600000000004,5.6554E-2,0.57352000000000003,1495,null,null,862]
[2013,3,79598,"080220000","Kingman Unified School District",88409,{"$f":"\"080220118\"","v":"080220118"},"White Cliffs Middle School",0.56586800000000004,7.1856000000000003E-2,0.63772499999999999,665,null,null,426]
[2013,3,79598,"080220000","Kingman Unified School District",90667,{"$f":"\"080220119\"","v":"080220119"},"Desert Willow Elementary School",0.75728200000000001,8.7378999999999998E-2,0.84465999999999997,101,null,null,87]
[2013,3,79598,"080220000","Kingman Unified School District",91772,{"$f":"\"080220203\"","v":"080220203"},"Lee Williams High School",0.42553200000000002,8.0851000000000006E-2,0.50638300000000003,234,null,null,119]
[2013,3,79598,"080220000","Kingman Unified School District",null,{"$f":"\"\"","v":""},null,null,null,null,null,0.69209900000000002]
[2013,3,4480,{"$f":"\"130323000\"","v":"130323000"},"Kirkland Elementary District",6115,{"$f":"\"130323001\"","v":"130323001"},"Kirkland Elementary School",0.71428599999999998,6.4935000000000007E-2,0.77922100000000005,77,null,null,60]
[2013,3,4480,{"$f":"\"130323000\"","v":"130323000"},"Kirkland Elementary District",null,{"$f":"\"\"","v":""},null,null,null,null,null,0.77922100000000005]
[2013,3,4267,{"$f":"\"070428000\"","v":"070428000"},"Kyrene Elementary District",5296,{"$f":"\"070428136\"","v":"070428136"},"Kyrene Aprende Middle School",0.18248800000000001,6.2673000000000006E-2,0.24516099999999999,1085,null,null,266]
[2013,3,4267,"070428000","Kyrene Elementary District",5297,{"$f":"\"070428137\"","v":"070428137"},"Kyrene Altadena Middle School",7.1235000000000007E-2,1.3526E-2,8.4761000000000003E-2,1109,null,null,94]
[2013,3,4267,"070428000","Kyrene Elementary District",5298,{"$f":"\"070428138\"","v":"070428138"},"Kyrene Akimel A-Al Middle School",0.178315,4.7490999999999998E-2,0.22580600000000001,1116,null,null,252]
[2013,3,4267,"070428000","Kyrene Elementary District",5299,{"$f":"\"070428139\"","v":"070428139"},"Kyrene Centennial Middle School",0.31138300000000002,8.1844E-2,0.39322699999999999,1063,null,null,418]
[2013,3,4267,"070428000","Kyrene Elementary District",5300,{"$f":"\"070428140\"","v":"070428140"},"Kyrene del Pueblo Middle School",0.17860999999999999,7.7005000000000004E-2,0.25561499999999998,935,null,null,239]
[2013,3,4267,"070428000","Kyrene Elementary District",5301,{"$f":"\"070428141\"","v":"070428141"},"Kyrene Middle School",0.38678400000000002,5.815E-2,0.444934,1135,null,null,505]
[2013,3,4267,"070428000","Kyrene Elementary District",5302,{"$f":"\"070428142\"","v":"070428142"},"C I Waggoner School",0.19636999999999999,1.4851E-2,0.21122099999999999,606,null,null,128]
[2013,3,4267,"070428000","Kyrene Elementary District",5303,{"$f":"\"070428143\"","v":"070428143"},"Kyrene del Norte School",0.446691,9.5588000000000006E-2,0.54227899999999996,544,null,null,295]
[2013,3,4267,"070428000","Kyrene Elementary District",5304,{"$f":"\"070428144\"","v":"070428144"},"Kyrene de las Lomas School",0.35670400000000002,9.3480999999999995E-2,0.450185,813,null,null,366]
[2013,3,4267,"070428000","Kyrene Elementary District",5305,{"$f":"\"070428145\"","v":"070428145"},"Kyrene de los Ninos School",0.575318,6.1705999999999997E-2,0.63702400000000003,551,null,null,351]
[2013,3,4267,"070428000","Kyrene Elementary District",5306,{"$f":"\"070428146\"","v":"070428146"},"Kyrene del Cielo School",0.128606,2.4038E-2,0.152644,832,null,null,127]
[2013,3,4267,"070428000","Kyrene Elementary District",5307,{"$f":"\"070428147\"","v":"070428147"},"Kyrene de la Paloma School",0.25490200000000002,5.8824000000000001E-2,0.31372499999999998,510,null,null,160]
[2013,3,4267,"070428000","Kyrene Elementary District",5308,{"$f":"\"070428148\"","v":"070428148"},"Kyrene de la Colina School",0.24803800000000001,5.9655E-2,0.30769200000000002,637,null,null,196]
[2013,3,4267,"070428000","Kyrene Elementary District",5309,{"$f":"\"070428149\"","v":"070428149"},"Kyrene Traditional Academy at Sureno",0.32923799999999998,8.5995000000000002E-2,0.41523300000000002,407,null,null,169]
[2013,3,4267,"070428000","Kyrene Elementary District",5310,{"$f":"\"070428150\"","v":"070428150"},"Kyrene de la Mariposa School",0.230132,3.1456999999999999E-2,0.26158900000000002,604,null,null,158]
[2013,3,4267,"070428000","Kyrene Elementary District",5311,{"$f":"\"070428151\"","v":"070428151"},"Kyrene De Los Lagos School",0.202602,7.4348999999999998E-2,0.27695199999999998,538,null,null,149]
[2013,3,4267,"070428000","Kyrene Elementary District",5312,{"$f":"\"070428152\"","v":"070428152"},"Kyrene Monte Vista School",0.10699599999999999,2.4691000000000001E-2,0.131687,486,null,null,64]
[2013,3,4267,"070428000","Kyrene Elementary District",5313,{"$f":"\"070428153\"","v":"070428153"},"Kyrene de la Sierra School",7.3855000000000004E-2,1.6247999999999999E-2,9.0103000000000003E-2,677,null,null,61]
[2013,3,4267,"070428000","Kyrene Elementary District",5314,{"$f":"\"070428154\"","v":"070428154"},"Kyrene de la Mirada School",0.25894699999999998,3.3683999999999999E-2,0.292632,475,null,null,139]
[2013,3,4267,"070428000","Kyrene Elementary District",5315,{"$f":"\"070428155\"","v":"070428155"},"Kyrene de la Esperanza School",0.22644600000000001,3.4710999999999999E-2,0.26115699999999997,602,null,null,158]
[2013,3,4267,"070428000","Kyrene Elementary District",5316,{"$f":"\"070428156\"","v":"070428156"},"Kyrene de las Brisas School",0.22092999999999999,6.7442000000000002E-2,0.28837200000000002,860,null,null,248]
[2013,3,4267,"070428000","Kyrene Elementary District",5317,{"$f":"\"070428157\"","v":"070428157"},"Kyrene de los Cerritos School",5.5837999999999999E-2,1.5228E-2,7.1066000000000004E-2,591,null,null,42]
[2013,3,4267,"070428000","Kyrene Elementary District",5318,{"$f":"\"070428159\"","v":"070428159"},"Kyrene de las Manitas School",0.30057,9.5441999999999999E-2,0.396011,702,null,null,278]
[2013,3,4267,"070428000","Kyrene Elementary District",78923,{"$f":"\"070428158\"","v":"070428158"},"Kyrene de la Estrella Elementary School",0.14065900000000001,3.0769000000000001E-2,0.171429,455,null,null,78]
[2013,3,4267,"070428000","Kyrene Elementary District",79143,{"$f":"\"070428160\"","v":"070428160"},"Kyrene del Milenio",0.245638,5.9060000000000001E-2,0.30469800000000002,745,null,null,227]
[2013,3,4267,"070428000","Kyrene Elementary District",79248,{"$f":"\"070428170\"","v":"070428170"},"Casa Vida",2.1739000000000001E-2,2.1739000000000001E-2,4.3478000000000003E-2,92,null,null,4]
[2013,3,4267,"070428000","Kyrene Elementary District",null,{"$f":"\"\"","v":""},null,null,null,null,null,0.28460099999999999]
[2013,3,7909,{"$f":"\"102133000\"","v":"102133000"},"LA PALOMA FAMILY SERVICES Inc.",80445,{"$f":"\"102133006\"","v":"102133006"},"Menninger",1,0,1,6,null,null,6]
[2013,3,7909,"102133000","LA PALOMA FAMILY SERVICES Inc.",80448,{"$f":"\"102133009\"","v":"102133009"},"Victoria",1,0,1,6,null,null,6]
[2013,3,7909,"102133000","LA PALOMA FAMILY SERVICES Inc.",80449,{"$f":"\"102133010\"","v":"102133010"},"Amparo",1,0,1,15,null,null,15]
[2013,3,7909,"102133000","LA PALOMA FAMILY SERVICES Inc.",80450,{"$f":"\"102133011\"","v":"102133011"},"Diamondback",1,0,1,8,null,null,8]
[2013,3,7909,"102133000","LA PALOMA FAMILY SERVICES Inc.",89954,{"$f":"\"102133012\"","v":"102133012"},"Fairview",1,0,1,6,null,null,6]
[2013,3,7909,"102133000","LA PALOMA FAMILY SERVICES Inc.",null,{"$f":"\"\"","v":""},null,null,null,null,null,1]
[2013,3,4368,{"$f":"\"080201000\"","v":"080201000"},"Lake Havasu Unified District",5559,{"$f":"\"080201101\"","v":"080201101"},"Smoketree Elementary School",0.63710999999999995,7.0608000000000004E-2,0.70771799999999996,609,null,null,431]
[2013,3,4368,"080201000","Lake Havasu Unified District",5560,{"$f":"\"080201102\"","v":"080201102"},"Thunderbolt Middle School",0.50702700000000001,8.3242999999999998E-2,0.59026999999999996,925,null,null,546]
[2013,3,4368,"080201000","Lake Havasu Unified District",5561,{"$f":"\"080201103\"","v":"080201103"},"Havasupai Elementary School",0.80596999999999996,6.9652000000000006E-2,0.87562200000000001,402,null,null,352]
[2013,3,4368,"080201000","Lake Havasu Unified District",5562,{"$f":"\"080201104\"","v":"080201104"},"Starline Elementary School",0.43576399999999998,6.0763999999999999E-2,0.49652800000000002,576,null,null,286]
[2013,3,4368,"080201000","Lake Havasu Unified District",5563,{"$f":"\"080201105\"","v":"080201105"},"Nautilus Elementary School",0.56578899999999999,0.102632,0.66842100000000004,380,null,null,254]
[2013,3,4368,"080201000","Lake Havasu Unified District",5564,{"$f":"\"080201106\"","v":"080201106"},"Oro Grande Elementary School",0.57948699999999997,7.6923000000000005E-2,0.65641000000000005,390,null,null,256]
[2013,3,4368,"080201000","Lake Havasu Unified District",5565,{"$f":"\"080201207\"","v":"080201207"},"Lake Havasu High School",0.41648499999999999,7.0415000000000005E-2,0.4869,1832,null,null,892]
[2013,3,4368,"080201000","Lake Havasu Unified District",78979,{"$f":"\"080201109\"","v":"080201109"},"Jamaica Elementary School",0.42973899999999998,7.0261000000000004E-2,0.5,612,null,null,306]
[2013,3,4368,"080201000","Lake Havasu Unified District",null,{"$f":"\"\"","v":""},null,null,null,null,null,0.58033500000000005]
[2013,3,4276,{"$f":"\"070459000\"","v":"070459000"},"Laveen Elementary District",5356,{"$f":"\"070459101\"","v":"070459101"},"Laveen Elementary School",0.64674500000000001,6.4033999999999994E-2,0.71077900000000005,804,null,null,666]
[2013,3,4276,"070459000","Laveen Elementary District",5357,{"$f":"\"070459102\"","v":"070459102"},"Maurice C. Cash Elementary School",0.90425500000000003,4.4916999999999999E-2,0.94917300000000004,843,null,null,803]
[2013,3,4276,"070459000","Laveen Elementary District",5358,{"$f":"\"070459103\"","v":"070459103"},"Vista Del Sur Traditional School",0.38773000000000002,0.12515299999999999,0.51288299999999998,814,null,null,418]
[2013,3,4276,"070459000","Laveen Elementary District",84305,{"$f":"\"070459104\"","v":"070459104"},"Cheatham Elementary School",0.74541299999999999,9.9770999999999999E-2,0.84518300000000002,872,null,null,737]
[2013,3,4276,"070459000","Laveen Elementary District",88421,{"$f":"\"070459105\"","v":"070459105"},"Trailside Point Elementary",0.64733700000000005,7.2189000000000003E-2,0.71952700000000003,845,null,null,608]
[2013,3,4276,"070459000","Laveen Elementary District",89266,{"$f":"\"070459106\"","v":"070459106"},"Desert Meadows Elementary School",0.64374299999999995,0.10372000000000001,0.74746299999999999,887,null,null,663]
[2013,3,4276,"070459000","Laveen Elementary District",91310,{"$f":"\"070459107\"","v":"070459107"},"Rogers Ranch School",0.702538,9.9491999999999997E-2,0.80203000000000002,978,null,null,790]
[2013,3,4276,"070459000","Laveen Elementary District",null,{"$f":"\"\"","v":""},null,null,null,null,null,0.75814800000000004]
[2013,3,79967,{"$f":"\"078968000\"","v":"078968000"},"LEAD Charter Schools",79968,{"$f":"\"078968101\"","v":"078968101"},"Leading Edge Academy Gilbert",0.24698800000000001,8.4336999999999995E-2,0.33132499999999998,166,null,null,55]
[2013,3,79967,{"$f":"\"078968000\"","v":"078968000"},"LEAD Charter Schools",87416,{"$f":"\"078968201\"","v":"078968201"},"Gilbert Early College, a Leading Edge High School",0.23474200000000001,4.2254E-2,0.27699499999999999,213,null,null,59]
[2013,3,79967,{"$f":"\"078968000\"","v":"078968000"},"LEAD Charter Schools",89616,{"$f":"\"078968103\"","v":"078968103"},"Leading Edge Academy at East Mesa",0.44230799999999998,4.8077000000000002E-2,0.49038500000000002,104,null,null,51]
[2013,3,79967,{"$f":"\"078968000\"","v":"078968000"},"LEAD Charter Schools",null,{"$f":"\"\"","v":""},null,null,null,null,null,0.34161399999999997]
[2013,3,91174,{"$f":"\"078101000\"","v":"078101000"},"LEAD Charter Schools",91175,{"$f":"\"078101001\"","v":"078101001"},"Leading Edge Academy Queen Creek",0.41199999999999998,0.1,0.51200000000000001,250,null,null,128]
[2013,3,91174,{"$f":"\"078101000\"","v":"078101000"},"LEAD Charter Schools",91765,{"$f":"\"078101002\"","v":"078101002"},"Leading Edge Academy San Tan",0.31914900000000002,8.5106000000000001E-2,0.40425499999999998,94,null,null,38]
[2013,3,91174,{"$f":"\"078101000\"","v":"078101000"},"LEAD Charter Schools",null,{"$f":"\"\"","v":""},null,null,null,null,null,0.48255799999999999]
[2013,3,90637,{"$f":"\"118708000\"","v":"118708000"},"Leading Edge Academy Maricopa",90638,{"$f":"\"118708001\"","v":"118708001"},"Leading Edge Academy Maricopa",0.36254999999999998,0.143426,0.50597599999999998,251,null,null,127]
[2013,3,90637,{"$f":"\"118708000\"","v":"118708000"},"Leading Edge Academy Maricopa",null,{"$f":"\"\"","v":""},null,null,null,null,null,0.50597599999999998]
[2013,3,79660,{"$f":"\"078685000\"","v":"078685000"},"Legacy Schools",79661,{"$f":"\"078685101\"","v":"078685101"},"Legacy Elementary School",0.61658000000000002,7.2539000000000006E-2,0.68911900000000004,386,null,null,266]
[2013,3,79660,{"$f":"\"078685000\"","v":"078685000"},"Legacy Schools",87350,{"$f":"\"078507201\"","v":"078507201"},"East Valley High School",0.43933100000000003,2.9288999999999999E-2,0.46861900000000001,239,null,null,112]
[2013,3,79660,{"$f":"\"078685000\"","v":"078685000"},"Legacy Schools",null,{"$f":"\"\"","v":""},null,null,null,null,null,0.60479899999999998]
[2013,3,9689,{"$f":"\"093902000\"","v":"093902000"},"Leupp Schools Inc.",80374,{"$f":"\"033904010\"","v":"033904010"},"Leupp Schools",0.73224,7.1038000000000004E-2,0.80327899999999997,183,null,null,147]
[2013,3,9689,{"$f":"\"093902000\"","v":"093902000"},"Leupp Schools Inc.",null,{"$f":"\"\"","v":""},null,null,null,null,null,0.80327899999999997]
[2013,3,4266,{"$f":"\"070425000\"","v":"070425000"},"Liberty Elementary District",5294,{"$f":"\"070425101\"","v":"070425101"},"Liberty Elementary School",0.55236499999999999,8.9526999999999995E-2,0.64189200000000002,592,null,null,380]
[2013,3,4266,"070425000","Liberty Elementary District",5295,{"$f":"\"070425102\"","v":"070425102"},"Estrella Mountain Elementary School",0.15451400000000001,5.2082999999999997E-2,0.206597,576,null,null,119]
[2013,3,4266,"070425000","Liberty Elementary District",79652,{"$f":"\"070425103\"","v":"070425103"},"Rainbow Valley Elementary School",0.66615899999999995,7.9268000000000005E-2,0.74542699999999995,656,null,null,489]
[2013,3,4266,"070425000","Liberty Elementary District",79846,{"$f":"\"070425104\"","v":"070425104"},"Westar Elementary School",0.146067,6.4204999999999998E-2,0.21027299999999999,623,null,null,131]
[2013,3,4266,"070425000","Liberty Elementary District",87475,{"$f":"\"070425105\"","v":"070425105"},"Freedom Elementary School",0.49308800000000003,0.157834,0.650922,868,null,null,565]
[2013,3,4266,"070425000","Liberty Elementary District",null,{"$f":"\"\"","v":""},null,null,null,null,null,0.50799399999999995]
[2013,3,79926,{"$f":"\"108708000\"","v":"108708000"},"Lifelong Learning Research Institute Inc.",79927,{"$f":"\"108708001\"","v":"108708001"},"Lifelong Learning Academy",0.46341500000000002,0.121951,0.58536600000000005,41,null,null,24]
[2013,3,79926,{"$f":"\"108708000\"","v":"108708000"},"Lifelong Learning Research Institute Inc.",null,{"$f":"\"\"","v":""},null,null,null,null,null,0.58536600000000005]
[2013,3,4281,{"$f":"\"070479000\"","v":"070479000"},"Litchfield Elementary District",5393,{"$f":"\"070479101\"","v":"070479101"},"Litchfield Elementary School",0.18928600000000001,4.1667000000000003E-2,0.23095199999999999,840,null,null,194]
[2013,3,4281,"070479000","Litchfield Elementary District",5394,{"$f":"\"070479102\"","v":"070479102"},"Scott L Libby Elementary School",0.337094,7.1931999999999996E-2,0.40902699999999997,709,null,null,290]
[2013,3,4281,"070479000","Litchfield Elementary District",5395,{"$f":"\"070479103\"","v":"070479103"},"Western Sky Middle School",0.29864299999999999,4.9773999999999999E-2,0.348416,884,null,null,308]
[2013,3,4281,"070479000","Litchfield Elementary District",5396,{"$f":"\"070479104\"","v":"070479104"},"Palm Valley Elementary",0.22262299999999999,6.7389000000000004E-2,0.29001199999999999,831,null,null,241]
[2013,3,4281,"070479000","Litchfield Elementary District",78925,{"$f":"\"070479105\"","v":"070479105"},"Rancho Santa Fe Elementary School",0.46074599999999999,9.5238000000000003E-2,0.55598499999999995,777,null,null,432]
[2013,3,4281,"070479000","Litchfield Elementary District",79221,{"$f":"\"070479107\"","v":"070479107"},"Wigwam Creek Middle School",0.39581,0.13120200000000001,0.52701200000000004,907,null,null,478]
[2013,3,4281,"070479000","Litchfield Elementary District",80054,{"$f":"\"070479108\"","v":"070479108"},"Corte Sierra Elementary School",0.39767400000000003,9.5349000000000003E-2,0.49302299999999999,860,null,null,424]
[2013,3,4281,"070479000","Litchfield Elementary District",81098,{"$f":"\"078746101\"","v":"078746101"},"Bradley Academy of Excellence",0.612371,9.4844999999999999E-2,0.70721599999999996,485,null,null,343]
[2013,3,4281,"070479000","Litchfield Elementary District",85843,{"$f":"\"070479109\"","v":"070479109"},"Dreaming Summit Elementary",0.393152,7.7922000000000005E-2,0.47107399999999999,847,null,null,399]
[2013,3,4281,"070479000","Litchfield Elementary District",85844,{"$f":"\"070479110\"","v":"070479110"},"Verrado Middle School",0.22311600000000001,7.2361999999999996E-2,0.29547699999999999,995,null,null,294]
[2013,3,4281,"070479000","Litchfield Elementary District",87413,{"$f":"\"078907103\"","v":"078907103"},"Arts Academy at Estrella Mountain",0.66373400000000005,0.12512200000000001,0.788856,1023,null,null,807]
[2013,3,4281,"070479000","Litchfield Elementary District",87522,{"$f":"\"070479111\"","v":"070479111"},"Barbara B. Robey Elementary School",0.55555600000000005,0.108497,0.66405199999999998,765,null,null,508]
[2013,3,4281,"070479000","Litchfield Elementary District",89586,{"$f":"\"070479113\"","v":"070479113"},"Verrado Elementary School",0.16481100000000001,6.1247000000000003E-2,0.22605800000000001,898,null,null,203]
[2013,3,4281,"070479000","Litchfield Elementary District",90023,{"$f":"\"072059001\"","v":"072059001"},"Trinity Lutheran Church and School",3.4247E-2,2.3973000000000001E-2,5.8219E-2,292,null,null,17]
[2013,3,4281,"070479000","Litchfield Elementary District",90385,{"$f":"\"070479112\"","v":"070479112"},"L. Thomas Heck Middle School",0.36941800000000002,0.113667,0.48308499999999999,739,null,null,357]
[2013,3,4281,"070479000","Litchfield Elementary District",90550,{"$f":"\"070479114\"","v":"070479114"},"Mabel Padgett Elementary School",0.21046500000000001,9.3022999999999995E-2,0.30348799999999998,860,null,null,261]
[2013,3,4281,"070479000","Litchfield Elementary District",null,{"$f":"\"\"","v":""},null,null,null,null,null,0.43706699999999998]
[2013,3,5178,{"$f":"\"098748000\"","v":"098748000"},"Little Singer Community School Board Inc.",10816,{"$f":"\"098748101\"","v":"098748101"},"Little Singer Community Junior High School",0.81675399999999998,5.7591999999999997E-2,0.87434599999999996,190,null,null,167]
[2013,3,5178,{"$f":"\"098748000\"","v":"098748000"},"Little Singer Community School Board Inc.",null,{"$f":"\"\"","v":""},null,null,null,null,null,0.87434599999999996]
[2013,3,4374,{"$f":"\"080209000\"","v":"080209000"},"Littlefield Unified District",5579,{"$f":"\"080209001\"","v":"080209001"},"Beaver Dam Elementary",0.74528300000000003,0.21226400000000001,0.95754700000000004,211,null,null,203]
[2013,3,4374,{"$f":"\"080209000\"","v":"080209000"},"Littlefield Unified District",85821,{"$f":"\"080209201\"","v":"080209201"},"Beaver Dam High School",0.80193199999999998,0.130435,0.93236699999999995,207,null,null,193]
[2013,3,4374,{"$f":"\"080209000\"","v":"080209000"},"Littlefield Unified District",null,{"$f":"\"\"","v":""},null,null,null,null,null,0.94507699999999994]
[2013,3,4278,{"$f":"\"070465000\"","v":"070465000"},"Littleton Elementary District",5360,{"$f":"\"070465101\"","v":"070465101"},"Littleton Elementary School",0.64788699999999999,0.10664,0.75452699999999995,994,null,null,750]
[2013,3,4278,"070465000","Littleton Elementary District",7408,{"$f":"\"072190001\"","v":"072190001"},"THE ACES",0.62589899999999998,7.1942000000000006E-2,0.69784199999999996,417,null,null,291]
[2013,3,4278,"070465000","Littleton Elementary District",79618,{"$f":"\"070465104\"","v":"070465104"},"Collier Elementary School",0.61081700000000005,0.146341,0.757158,938,null,null,714]
[2013,3,4278,"070465000","Littleton Elementary District",85852,{"$f":"\"070465105\"","v":"070465105"},"Quentin Elementary School",0.78499399999999997,0.110862,0.89585700000000001,884,null,null,800]
[2013,3,4278,"070465000","Littleton Elementary District",87476,{"$f":"\"070465106\"","v":"070465106"},"Country Place Elementary",0.70964099999999997,0.14574000000000001,0.85538099999999995,892,null,null,763]
[2013,3,4278,"070465000","Littleton Elementary District",89608,{"$f":"\"070465107\"","v":"070465107"},"Estrella Vista Elementary School",0.65028900000000001,0.12138699999999999,0.77167600000000003,1037,null,null,801]
[2013,3,4278,"070465000","Littleton Elementary District",89924,{"$f":"\"070465108\"","v":"070465108"},"Tres Rios Elementary School",0.69892500000000002,0.12414500000000001,0.82306900000000005,1021,null,null,842]
[2013,3,4278,"070465000","Littleton Elementary District",90771,{"$f":"\"072190003\"","v":"072190003"},"THE ACES-LITTLETON",0.66666700000000001,6.25E-2,0.72916700000000001,96,null,null,70]
[2013,3,4278,"070465000","Littleton Elementary District",null,{"$f":"\"\"","v":""},null,null,null,null,null,0.79896999999999996]
[2013,3,10126,{"$f":"\"122001000\"","v":"122001000"},"Lourdes Catholic School",80261,{"$f":"\"122001001\"","v":"122001001"},"Lourdes Catholic School",0.55068499999999998,0.22739699999999999,0.77808200000000005,281,null,null,284]
[2013,3,10126,{"$f":"\"122001000\"","v":"122001000"},"Lourdes Catholic School",null,{"$f":"\"\"","v":""},null,null,null,null,null,0.77808200000000005]
[2013,3,4427,{"$f":"\"108702000\"","v":"108702000"},"Luz Academy of Tucson Inc",5868,{"$f":"\"108702001\"","v":"108702001"},"Luz-Guerrero Early College High School",0.75,9.375E-2,0.84375,192,null,null,162]
[2013,3,4427,{"$f":"\"108702000\"","v":"108702000"},"Luz Academy of Tucson Inc",null,{"$f":"\"\"","v":""},null,null,null,null,null,0.84375]
[2013,3,4270,{"$f":"\"070438000\"","v":"070438000"},"Madison Elementary District",5324,{"$f":"\"070438110\"","v":"070438110"},"Madison #1 Elementary School",0.50120799999999999,9.7825999999999996E-2,0.59903399999999996,828,null,null,496]
[2013,3,4270,"070438000","Madison Elementary District",5325,{"$f":"\"070438120\"","v":"070438120"},"Madison Camelview Elementary",0.71445899999999996,7.0473999999999995E-2,0.78493299999999999,823,null,null,646]
[2013,3,4270,"070438000","Madison Elementary District",5326,{"$f":"\"070438130\"","v":"070438130"},"Madison Richard Simis School",0.19381999999999999,3.4644000000000001E-2,0.228464,1068,null,null,244]
[2013,3,4270,"070438000","Madison Elementary District",5327,{"$f":"\"070438140\"","v":"070438140"},"Madison Rose Lane School",0.50697700000000001,6.9766999999999996E-2,0.57674400000000003,860,null,null,496]
[2013,3,4270,"070438000","Madison Elementary District",5328,{"$f":"\"070438150\"","v":"070438150"},"Madison Park School",0.63765499999999997,8.3481E-2,0.72113700000000003,563,null,null,406]
[2013,3,4270,"070438000","Madison Elementary District",5329,{"$f":"\"070438160\"","v":"070438160"},"Madison Meadows School",0.227689,5.2631999999999998E-2,0.28032000000000001,874,null,null,245]
[2013,3,4270,"070438000","Madison Elementary District",5330,{"$f":"\"070438180\"","v":"070438180"},"Madison Heights Elementary School",0.35883399999999999,4.3715999999999998E-2,0.40255000000000002,549,null,null,221]
[2013,3,4270,"070438000","Madison Elementary District",89622,{"$f":"\"070438111\"","v":"070438111"},"Madison Traditional Academy",0.101892,2.1833999999999999E-2,0.123726,687,null,null,85]
[2013,3,4270,"070438000","Madison Elementary District",null,{"$f":"\"\"","v":""},null,null,null,null,null,0.454094]
[2013,3,4199,{"$f":"\"030310000\"","v":"030310000"},"Maine Consolidated School District",4839,{"$f":"\"030310101\"","v":"030310101"},"Maine Consolidated School",0.41666700000000001,0.11666700000000001,0.53333299999999995,120,null,null,64]
[2013,3,4199,{"$f":"\"030310000\"","v":"030310000"},"Maine Consolidated School District",null,{"$f":"\"\"","v":""},null,null,null,null,null,0.53333299999999995]
[2013,3,4439,{"$f":"\"110208000\"","v":"110208000"},"Mammoth-San Manuel Unified District",5901,{"$f":"\"110208106\"","v":"110208106"},"Mammoth Elementary School",0.81599999999999995,7.1999999999999995E-2,0.88800000000000001,125,null,null,111]
[2013,3,4439,{"$f":"\"110208000\"","v":"110208000"},"Mammoth-San Manuel Unified District",5902,{"$f":"\"110208107\"","v":"110208107"},"First Avenue Elementary School",0.69954099999999997,0.107798,0.80733900000000003,436,null,null,352]
[2013,3,4439,{"$f":"\"110208000\"","v":"110208000"},"Mammoth-San Manuel Unified District",5904,{"$f":"\"110208281\"","v":"110208281"},"San Manuel High School",0.62391300000000005,0.108696,0.73260899999999995,460,null,null,337]
[2013,3,4439,{"$f":"\"110208000\"","v":"110208000"},"Mammoth-San Manuel Unified District",null,{"$f":"\"\"","v":""},null,null,null,null,null,0.78354500000000005]
[2013,3,90995,{"$f":"\"013903000\"","v":"013903000"},"Many Farms Community School Inc",90996,{"$f":"\"013903001\"","v":"013903001"},"Many Farms Community School",0.54855600000000004,6.8240999999999996E-2,0.61679799999999996,308,null,null,235]
[2013,3,90995,{"$f":"\"013903000\"","v":"013903000"},"Many Farms Community School Inc",null,{"$f":"\"\"","v":""},null,null,null,null,null,0.61679799999999996]
[2013,3,78992,{"$f":"\"014002000\"","v":"014002000"},"Many Farms High School",78993,{"$f":"\"014005006\"","v":"014005006"},"Many Farms High School",0.64781500000000003,5.9125999999999998E-2,0.70694100000000004,389,null,null,275]
[2013,3,78992,{"$f":"\"014002000\"","v":"014002000"},"Many Farms High School",null,{"$f":"\"\"","v":""},null,null,null,null,null,0.70694100000000004]
[2013,3,4404,{"$f":"\"100206000\"","v":"100206000"},"Marana Unified District",5769,{"$f":"\"100206111\"","v":"100206111"},"Degrazia Elementary School",0.34704800000000002,0.100179,0.44722699999999999,559,null,null,250]
[2013,3,4404,"100206000","Marana Unified District",5770,{"$f":"\"100206112\"","v":"100206112"},"Marjorie W Estes Elementary School",0.40347100000000002,7.8090999999999994E-2,0.48156199999999999,922,null,null,444]
[2013,3,4404,"100206000","Marana Unified District",5771,{"$f":"\"100206113\"","v":"100206113"},"Thornydale Elementary School",0.46633400000000003,8.4788000000000002E-2,0.551122,401,null,null,221]
[2013,3,4404,"100206000","Marana Unified District",5772,{"$f":"\"100206114\"","v":"100206114"},"Butterfield Elementary School",0.42346899999999998,9.1837000000000002E-2,0.51530600000000004,588,null,null,303]
[2013,3,4404,"100206000","Marana Unified District",5773,{"$f":"\"100206115\"","v":"100206115"},"Roadrunner Elementary School",0.68115899999999996,0.10559,0.78674900000000003,483,null,null,380]
[2013,3,4404,"100206000","Marana Unified District",5774,{"$f":"\"100206116\"","v":"100206116"},"Desert Winds Elementary School",0.65375300000000003,7.5061000000000003E-2,0.72881399999999996,413,null,null,301]
[2013,3,4404,"100206000","Marana Unified District",5775,{"$f":"\"100206117\"","v":"100206117"},"Ironwood Elementary School",0.28552499999999997,6.7728999999999998E-2,0.35325400000000001,753,null,null,266]
[2013,3,4404,"100206000","Marana Unified District",5776,{"$f":"\"100206118\"","v":"100206118"},"Quail Run Elementary School",0.34201399999999998,8.1597000000000003E-2,0.42361100000000002,576,null,null,244]
[2013,3,4404,"100206000","Marana Unified District",5777,{"$f":"\"100206119\"","v":"100206119"},"Coyote Trail Elementary School",0.25301200000000001,6.0241000000000003E-2,0.313253,581,null,null,182]
[2013,3,4404,"100206000","Marana Unified District",5778,{"$f":"\"100206120\"","v":"100206120"},"Picture Rocks Intermediate School",0.67114099999999999,0.10738300000000001,0.77852299999999997,298,null,null,232]
[2013,3,4404,"100206000","Marana Unified District",5779,{"$f":"\"100206130\"","v":"100206130"},"Marana Middle School",0.40357100000000001,7.2320999999999996E-2,0.47589300000000001,1120,null,null,533]
[2013,3,4404,"100206000","Marana Unified District",5780,{"$f":"\"100206131\"","v":"100206131"},"Tortolita Middle School",0.326681,9.4537999999999997E-2,0.42121799999999998,952,null,null,401]
[2013,3,4404,"100206000","Marana Unified District",5781,{"$f":"\"100206240\"","v":"100206240"},"Marana High School",0.33210099999999998,5.9133999999999999E-2,0.391235,1894,null,null,741]
[2013,3,4404,"100206000","Marana Unified District",5782,{"$f":"\"100206241\"","v":"100206241"},"Mountain View High School",0.26769399999999999,6.3926999999999998E-2,0.331621,1752,null,null,581]
[2013,3,4404,"100206000","Marana Unified District",79445,{"$f":"\"100206121\"","v":"100206121"},"Twin Peaks Elementary School",0.23936199999999999,7.0921999999999999E-2,0.310284,564,null,null,175]
[2013,3,4404,"100206000","Marana Unified District",89585,{"$f":"\"100206122\"","v":"100206122"},"Rattlesnake Ridge Elementary",0.18237100000000001,5.3191000000000002E-2,0.23556199999999999,658,null,null,155]
[2013,3,4404,"100206000","Marana Unified District",null,{"$f":"\"\"","v":""},null,null,null,null,null,0.43223499999999998]
[2013,3,4314,{"$f":"\"078647000\"","v":"078647000"},"Maricopa County Community College District dba Gateway Early College High School",5480,{"$f":"\"078647201\"","v":"078647201"},"Gateway Early College High School",0.88582700000000003,8.2677E-2,0.96850400000000003,254,null,null,246]
[2013,3,4314,{"$f":"\"078647000\"","v":"078647000"},"Maricopa County Community College District dba Gateway Early College High School",null,{"$f":"\"\"","v":""},null,null,null,null,null,0.96850400000000003]
[2013,3,7291,{"$f":"\"071001000\"","v":"071001000"},"MARICOPA DET-H",7292,{"$f":"\"071001001\"","v":"071001001"},"MARICOPA DET-H",1,0,1,104,null,null,104]
[2013,3,7291,{"$f":"\"071001000\"","v":"071001000"},"MARICOPA DET-H",89614,{"$f":"\"071001002\"","v":"071001002"},"Durango Juvenile Detention Facility",1,0,1,131,null,null,131]
[2013,3,7291,{"$f":"\"071001000\"","v":"071001000"},"MARICOPA DET-H",null,{"$f":"\"\"","v":""},null,null,null,null,null,1]
[2013,3,4441,{"$f":"\"110220000\"","v":"110220000"},"Maricopa Unified School District",5908,{"$f":"\"110220101\"","v":"110220101"},"Maricopa Elementary",0.65223500000000001,9.6368999999999996E-2,0.74860300000000002,716,null,null,536]
[2013,3,4441,"110220000","Maricopa Unified School District",5909,{"$f":"\"110220133\"","v":"110220133"},"Maricopa Wells Middle School",0.55484699999999998,0.13137799999999999,0.68622399999999995,784,null,null,538]
[2013,3,4441,"110220000","Maricopa Unified School District",5910,{"$f":"\"110220202\"","v":"110220202"},"Maricopa High School",0.40443899999999999,0.109125,0.51356400000000002,1622,null,null,833]
[2013,3,4441,"110220000","Maricopa Unified School District",81058,{"$f":"\"110220104\"","v":"110220104"},"Santa Rosa Elementary School",0.38900200000000001,7.5356000000000006E-2,0.46435799999999999,491,null,null,228]
[2013,3,4441,"110220000","Maricopa Unified School District",87479,{"$f":"\"110220105\"","v":"110220105"},"Pima Butte",0.31788100000000002,5.9603000000000003E-2,0.37748300000000001,453,null,null,171]
[2013,3,4441,"110220000","Maricopa Unified School District",88405,{"$f":"\"110220106\"","v":"110220106"},"Santa Cruz Elementary",0.49684200000000001,9.4737000000000002E-2,0.59157899999999997,475,null,null,281]
[2013,3,4441,"110220000","Maricopa Unified School District",89909,{"$f":"\"110220109\"","v":"110220109"},"Saddleback Elementary School",0.48305100000000001,0.105085,0.58813599999999999,590,null,null,347]
[2013,3,4441,"110220000","Maricopa Unified School District",89910,{"$f":"\"110220108\"","v":"110220108"},"Butterfield Elementary School",0.50902099999999995,9.4072000000000003E-2,0.60309299999999999,776,null,null,468]
[2013,3,4441,"110220000","Maricopa Unified School District",89911,{"$f":"\"110220134\"","v":"110220134"},"Desert Wind Middle School",0.464646,0.108225,0.57287200000000005,693,null,null,397]
[2013,3,4441,"110220000","Maricopa Unified School District",91195,{"$f":"\"110220110\"","v":"110220110"},"Maricopa Online",0.50520799999999999,0.421875,0.92708299999999999,111,null,null,178]
[2013,3,4441,"110220000","Maricopa Unified School District",null,{"$f":"\"\"","v":""},null,null,null,null,null,0.58141900000000002]
[2013,3,4435,{"$f":"\"110100000\"","v":"110100000"},"Mary C O'Brien Accommodation District",5893,{"$f":"\"110100001\"","v":"110100001"},"Mary C  O'Brien Elementary School",0.52027000000000001,0.108108,0.62837799999999999,119,null,null,93]
[2013,3,4435,{"$f":"\"110100000\"","v":"110100000"},"Mary C O'Brien Accommodation District",6067,{"$f":"\"110100003\"","v":"110100003"},"Villa Oasis Interscholastic Center For Education (voice)",0.63302800000000004,9.1743000000000005E-2,0.72477100000000005,87,null,null,79]
[2013,3,4435,{"$f":"\"110100000\"","v":"110100000"},"Mary C O'Brien Accommodation District",null,{"$f":"\"\"","v":""},null,null,null,null,null,0.66908699999999999]
[2013,3,87567,{"$f":"\"112778000\"","v":"112778000"},"Mary's Mission and Developmental Center",87568,{"$f":"\"112778001\"","v":"112778001"},"Mary's Mission",1,0,1,8,null,null,8]
[2013,3,87567,{"$f":"\"112778000\"","v":"112778000"},"Mary's Mission and Developmental Center",87569,{"$f":"\"112778002\"","v":"112778002"},"Mary's Mission - Hereford Girls Unit",1,0,1,8,null,null,8]
[2013,3,87567,{"$f":"\"112778000\"","v":"112778000"},"Mary's Mission and Developmental Center",87570,{"$f":"\"112778003\"","v":"112778003"},"Mary's Mission - Boys Unit - Main Office",1,0,1,8,null,null,8]
[2013,3,87567,{"$f":"\"112778000\"","v":"112778000"},"Mary's Mission and Developmental Center",null,{"$f":"\"\"","v":""},null,null,null,null,null,1]
[2013,3,90861,{"$f":"\"078592000\"","v":"078592000"},"Maryvale Preparatory Academy",91781,{"$f":"\"078592001\"","v":"078592001"},"Great Hearts Academies- Maryvale Prep",0.59440599999999999,4.1958000000000002E-2,0.63636400000000004,143,null,null,91]
[2013,3,90861,{"$f":"\"078592000\"","v":"078592000"},"Maryvale Preparatory Academy",null,{"$f":"\"\"","v":""},null,null,null,null,null,0.63636400000000004]
[2013,3,89852,{"$f":"\"108798000\"","v":"108798000"},"Math and Science Success Academy Inc.",89853,{"$f":"\"108798101\"","v":"108798101"},"Math and Science Success Academy",0.58947400000000005,0.147368,0.736842,285,null,null,210]
[2013,3,89852,{"$f":"\"108798000\"","v":"108798000"},"Math and Science Success Academy Inc.",null,{"$f":"\"\"","v":""},null,null,null,null,null,0.736842]
[2013,3,4473,{"$f":"\"130243000\"","v":"130243000"},"Mayer Unified School District",6106,{"$f":"\"130243203\"","v":"130243203"},"Mayer High School",0.76047900000000002,9.5808000000000004E-2,0.85628700000000002,167,null,null,143]
[2013,3,4473,{"$f":"\"130243000\"","v":"130243000"},"Mayer Unified School District",6107,{"$f":"\"130243101\"","v":"130243101"},"Mayer Elementary School",0.84594599999999998,4.3242999999999997E-2,0.88918900000000001,370,null,null,329]
[2013,3,4473,{"$f":"\"130243000\"","v":"130243000"},"Mayer Unified School District",null,{"$f":"\"\"","v":""},null,null,null,null,null,0.87895599999999996]
[2013,3,4163,{"$f":"\"010323000\"","v":"010323000"},"Mcnary Elementary District",4745,{"$f":"\"010323101\"","v":"010323101"},"Mcnary Elementary School",0.88805999999999996,5.9700999999999997E-2,0.94776099999999996,134,null,null,127]
[2013,3,4163,{"$f":"\"010323000\"","v":"010323000"},"Mcnary Elementary District",null,{"$f":"\"\"","v":""},null,null,null,null,null,0.94776099999999996]
[2013,3,4181,{"$f":"\"020355000\"","v":"020355000"},"McNeal Elementary District",4790,{"$f":"\"020355001\"","v":"020355001"},"Mcneal Elementary School",0.52631600000000001,0.105263,0.631579,38,null,null,24]
[2013,3,4181,{"$f":"\"020355000\"","v":"020355000"},"McNeal Elementary District",null,{"$f":"\"\"","v":""},null,null,null,null,null,0.631579]
[2013,3,4235,{"$f":"\"070204000\"","v":"070204000"},"Mesa Unified District",4913,{"$f":"\"070204101\"","v":"070204101"},"Adams Elementary School",0.84557899999999997,6.4756999999999995E-2,0.91033600000000003,800,null,null,731]
[2013,3,4235,"070204000","Mesa Unified District",4915,{"$f":"\"070204103\"","v":"070204103"},"Edison Elementary School",0.77318100000000001,8.2738999999999993E-2,0.85592000000000001,699,null,null,600]
[2013,3,4235,"070204000","Mesa Unified District",4916,{"$f":"\"070204104\"","v":"070204104"},"Emerson Elementary School",0.72804899999999995,7.4389999999999998E-2,0.80243900000000001,815,null,null,658]
[2013,3,4235,"070204000","Mesa Unified District",4917,{"$f":"\"070204105\"","v":"070204105"},"Franklin Elementary School",0.33333299999999999,0.117794,0.45112799999999997,798,null,null,360]
[2013,3,4235,"070204000","Mesa Unified District",4918,{"$f":"\"070204106\"","v":"070204106"},"Hawthorne Elementary School",0.89915999999999996,4.2016999999999999E-2,0.94117600000000001,592,null,null,560]
[2013,3,4235,"070204000","Mesa Unified District",4919,{"$f":"\"070204107\"","v":"070204107"},"Holmes Elementary School",0.93178300000000003,3.5659000000000003E-2,0.96744200000000002,643,null,null,624]
[2013,3,4235,"070204000","Mesa Unified District",4920,{"$f":"\"070204108\"","v":"070204108"},"Irving Elementary School",0.65671599999999997,7.2968000000000005E-2,0.72968500000000003,600,null,null,440]
[2013,3,4235,"070204000","Mesa Unified District",4921,{"$f":"\"070204109\"","v":"070204109"},"Jefferson Elementary School",0.81157000000000001,9.7520999999999997E-2,0.90909099999999998,601,null,null,550]
[2013,3,4235,"070204000","Mesa Unified District",4922,{"$f":"\"070204110\"","v":"070204110"},"Lehi Elementary School",0.77992300000000003,5.2123999999999997E-2,0.83204599999999995,511,null,null,431]
[2013,3,4235,"070204000","Mesa Unified District",4923,{"$f":"\"070204111\"","v":"070204111"},"Lincoln Elementary School",0.90993100000000005,3.4641999999999999E-2,0.944573,864,null,null,818]
[2013,3,4235,"070204000","Mesa Unified District",4924,{"$f":"\"070204112\"","v":"070204112"},"Longfellow Elementary School",0.92163700000000004,2.5731E-2,0.94736799999999999,853,null,null,810]
[2013,3,4235,"070204000","Mesa Unified District",4925,{"$f":"\"070204113\"","v":"070204113"},"Lowell Elementary School",0.95045000000000002,2.7026999999999999E-2,0.97747700000000004,664,null,null,651]
[2013,3,4235,"070204000","Mesa Unified District",4926,{"$f":"\"070204114\"","v":"070204114"},"Franklin West Elementary",0.44905699999999998,9.2452999999999994E-2,0.54150900000000002,521,null,null,287]
[2013,3,4235,"070204000","Mesa Unified District",4927,{"$f":"\"070204115\"","v":"070204115"},"Webster Elementary School",0.85142099999999998,4.6511999999999998E-2,0.89793299999999998,774,null,null,695]
[2013,3,4235,"070204000","Mesa Unified District",4928,{"$f":"\"070204116\"","v":"070204116"},"Whittier Elementary School",0.71006899999999995,8.5069000000000006E-2,0.79513900000000004,574,null,null,458]
[2013,3,4235,"070204000","Mesa Unified District",4929,{"$f":"\"070204117\"","v":"070204117"},"Whitman Elementary School",0.83499999999999996,6.6250000000000003E-2,0.90125,792,null,null,721]
[2013,3,4235,"070204000","Mesa Unified District",4930,{"$f":"\"070204118\"","v":"070204118"},"Taft Elementary School",0.66044099999999994,7.6400999999999997E-2,0.736842,585,null,null,434]
[2013,3,4235,"070204000","Mesa Unified District",4931,{"$f":"\"070204119\"","v":"070204119"},"Hale Elementary School",0.21645800000000001,3.5777999999999997E-2,0.25223600000000002,558,null,null,141]
[2013,3,4235,"070204000","Mesa Unified District",4932,{"$f":"\"070204120\"","v":"070204120"},"Eisenhower Elementary School",0.80159999999999998,4.6399999999999997E-2,0.84799999999999998,622,null,null,530]
[2013,3,4235,"070204000","Mesa Unified District",4933,{"$f":"\"070204121\"","v":"070204121"},"Roosevelt Elementary School",0.82226999999999995,8.5653000000000007E-2,0.90792300000000004,463,null,null,424]
[2013,3,4235,"070204000","Mesa Unified District",4934,{"$f":"\"070204122\"","v":"070204122"},"Lindbergh Elementary School",0.91290300000000002,3.3870999999999998E-2,0.946774,618,null,null,587]
[2013,3,4235,"070204000","Mesa Unified District",4935,{"$f":"\"070204123\"","v":"070204123"},"Redbird Elementary School",0.86707900000000004,6.1823999999999997E-2,0.92890300000000003,644,null,null,601]
[2013,3,4235,"070204000","Mesa Unified District",4936,{"$f":"\"070204124\"","v":"070204124"},"Salk Elementary School",0.71615700000000004,0.10917,0.82532799999999995,687,null,null,567]
[2013,3,4235,"070204000","Mesa Unified District",4937,{"$f":"\"070204125\"","v":"070204125"},"Field Elementary School",0.56701000000000001,9.8674999999999999E-2,0.66568499999999997,676,null,null,452]
[2013,3,4235,"070204000","Mesa Unified District",4938,{"$f":"\"070204126\"","v":"070204126"},"Washington Elementary School",0.52941199999999999,8.9076000000000002E-2,0.61848700000000001,592,null,null,368]
[2013,3,4235,"070204000","Mesa Unified District",4939,{"$f":"\"070204127\"","v":"070204127"},"Stevenson Elementary School",0.78770300000000004,7.3085999999999998E-2,0.86078900000000003,860,null,null,742]
[2013,3,4235,"070204000","Mesa Unified District",4940,{"$f":"\"070204128\"","v":"070204128"},"Keller Elementary School",0.70526299999999997,8.1202999999999997E-2,0.786466,655,null,null,523]
[2013,3,4235,"070204000","Mesa Unified District",4941,{"$f":"\"070204129\"","v":"070204129"},"MacArthur Elementary School",0.31438700000000003,7.46E-2,0.388988,561,null,null,219]
[2013,3,4235,"070204000","Mesa Unified District",4942,{"$f":"\"070204130\"","v":"070204130"},"Jordan Elementary School",0.47901199999999999,7.0370000000000002E-2,0.54938299999999995,809,null,null,445]
[2013,3,4235,"070204000","Mesa Unified District",4943,{"$f":"\"070204131\"","v":"070204131"},"Pomeroy Elementary School",0.40917399999999998,7.8898999999999997E-2,0.48807299999999998,545,null,null,266]
[2013,3,4235,"070204000","Mesa Unified District",4944,{"$f":"\"070204132\"","v":"070204132"},"Highland Elementary School",0.41989700000000002,5.6848000000000003E-2,0.476744,773,null,null,369]
[2013,3,4235,"070204000","Mesa Unified District",4945,{"$f":"\"070204133\"","v":"070204133"},"Crismon Elementary School",0.428371,5.1965999999999998E-2,0.48033700000000001,701,null,null,342]
[2013,3,4235,"070204000","Mesa Unified District",4946,{"$f":"\"070204134\"","v":"070204134"},"Robson Elementary School",0.74892999999999998,7.5606000000000007E-2,0.82453600000000005,696,null,null,578]
[2013,3,4235,"070204000","Mesa Unified District",4947,{"$f":"\"070204135\"","v":"070204135"},"Sirrine Elementary School",0.58823499999999995,6.2744999999999995E-2,0.65098,501,null,null,332]
[2013,3,4235,"070204000","Mesa Unified District",4948,{"$f":"\"070204136\"","v":"070204136"},"Johnson Elementary School",0.37096800000000002,6.4516000000000004E-2,0.43548399999999998,678,null,null,297]
[2013,3,4235,"070204000","Mesa Unified District",4949,{"$f":"\"070204137\"","v":"070204137"},"O'Connor Elementary School",0.47993799999999998,8.6419999999999997E-2,0.56635800000000003,646,null,null,367]
[2013,3,4235,"070204000","Mesa Unified District",4951,{"$f":"\"070204139\"","v":"070204139"},"Mendoza Elementary School",0.43356600000000001,8.7413000000000005E-2,0.52097899999999997,566,null,null,298]
[2013,3,4235,"070204000","Mesa Unified District",4952,{"$f":"\"070204140\"","v":"070204140"},"Ishikawa Elementary School",0.36886200000000002,2.7545E-2,0.39640700000000001,832,null,null,331]
[2013,3,4235,"070204000","Mesa Unified District",4953,{"$f":"\"070204141\"","v":"070204141"},"Madison Elementary School",0.476636,9.9065E-2,0.57570100000000002,533,null,null,308]
[2013,3,4235,"070204000","Mesa Unified District",4954,{"$f":"\"070204142\"","v":"070204142"},"Sousa Elementary School",0.47048000000000001,7.5646000000000005E-2,0.54612499999999997,538,null,null,296]
[2013,3,4235,"070204000","Mesa Unified District",4955,{"$f":"\"070204143\"","v":"070204143"},"Hermosa Vista Elementary School",0.21468100000000001,4.7091000000000001E-2,0.26177299999999998,721,null,null,189]
[2013,3,4235,"070204000","Mesa Unified District",4956,{"$f":"\"070204144\"","v":"070204144"},"Falcon Hill Elementary School",0.35985499999999998,9.0415999999999996E-2,0.45027099999999998,551,null,null,249]
[2013,3,4235,"070204000","Mesa Unified District",4957,{"$f":"\"070204145\"","v":"070204145"},"Porter Elementary School",0.65732800000000002,8.8361999999999996E-2,0.74568999999999996,463,null,null,346]
[2013,3,4235,"070204000","Mesa Unified District",4958,{"$f":"\"070204146\"","v":"070204146"},"Kerr Elementary School",0.80926399999999998,7.7657000000000004E-2,0.88692099999999996,729,null,null,651]
[2013,3,4235,"070204000","Mesa Unified District",4959,{"$f":"\"070204147\"","v":"070204147"},"Entz Elementary School",0.48005500000000001,6.7400000000000002E-2,0.54745500000000002,721,null,null,398]
[2013,3,4235,"070204000","Mesa Unified District",4960,{"$f":"\"070204148\"","v":"070204148"},"Red Mountain Ranch Elementary",0.21792600000000001,6.5026E-2,0.28295300000000001,565,null,null,161]
[2013,3,4235,"070204000","Mesa Unified District",4961,{"$f":"\"070204149\"","v":"070204149"},"Bush Elementary",0.31630999999999998,6.9193000000000005E-2,0.38550200000000001,604,null,null,234]
[2013,3,4235,"070204000","Mesa Unified District",4962,{"$f":"\"070204150\"","v":"070204150"},"Las Sendas Elementary School",7.7473E-2,1.0727E-2,8.8200000000000001E-2,839,null,null,74]
[2013,3,4235,"070204000","Mesa Unified District",4965,{"$f":"\"070204183\"","v":"070204183"},"S H A R P",0.63366299999999998,5.9406E-2,0.69306900000000005,100,null,null,70]
[2013,3,4235,"070204000","Mesa Unified District",4966,{"$f":"\"070204184\"","v":"070204184"},"Riverview High School",0.81081099999999995,7.2071999999999997E-2,0.88288299999999997,110,null,null,98]
[2013,3,4235,"070204000","Mesa Unified District",4967,{"$f":"\"070204195\"","v":"070204195"},"Eagleridge Enrichment Program",0.121212,3.3868000000000002E-2,0.15508,559,null,null,87]
[2013,3,4235,"070204000","Mesa Unified District",4969,{"$f":"\"070204252\"","v":"070204252"},"Carson Junior  High School",0.73783200000000004,8.6282999999999999E-2,0.82411500000000004,904,null,null,745]
[2013,3,4235,"070204000","Mesa Unified District",4970,{"$f":"\"070204253\"","v":"070204253"},"Kino Junior High School",0.81845199999999996,6.1508E-2,0.87995999999999996,1006,null,null,887]
[2013,3,4235,"070204000","Mesa Unified District",4971,{"$f":"\"070204254\"","v":"070204254"},"Fremont Junior High School",0.42142099999999999,6.7067000000000002E-2,0.48848799999999998,992,null,null,488]
[2013,3,4235,"070204000","Mesa Unified District",4973,{"$f":"\"070204256\"","v":"070204256"},"Poston Junior High School",0.48428300000000002,7.4656E-2,0.55893899999999996,1008,null,null,569]
[2013,3,4235,"070204000","Mesa Unified District",4974,{"$f":"\"070204257\"","v":"070204257"},"Rhodes Junior High School",0.62265899999999996,7.8652E-2,0.70131100000000002,1064,null,null,749]
[2013,3,4235,"070204000","Mesa Unified District",4975,{"$f":"\"070204258\"","v":"070204258"},"Taylor Junior High School",0.58112600000000003,9.2715000000000006E-2,0.67384100000000002,1206,null,null,814]
[2013,3,4235,"070204000","Mesa Unified District",4977,{"$f":"\"070204260\"","v":"070204260"},"Shepherd Junior High School",0.33921800000000002,7.9445000000000002E-2,0.41866300000000001,789,null,null,332]
[2013,3,4235,"070204000","Mesa Unified District",4979,{"$f":"\"070204262\"","v":"070204262"},"Stapley Junior High School",0.23681099999999999,4.6892999999999997E-2,0.28370499999999998,851,null,null,242]
[2013,3,4235,"070204000","Mesa Unified District",4980,{"$f":"\"070204271\"","v":"070204271"},"Mesa High School",0.56732899999999997,8.3885000000000001E-2,0.65121399999999996,3167,null,null,2065]
[2013,3,4235,"070204000","Mesa Unified District",4981,{"$f":"\"070204272\"","v":"070204272"},"Westwood High School",0.62339,8.3535999999999999E-2,0.70692699999999997,2870,null,null,2031]
[2013,3,4235,"070204000","Mesa Unified District",4982,{"$f":"\"070204273\"","v":"070204273"},"Mountain View High School",0.24165,5.3699999999999998E-2,0.29535,3054,null,null,902]
[2013,3,4235,"070204000","Mesa Unified District",4983,{"$f":"\"070204274\"","v":"070204274"},"Dobson High School",0.43481500000000001,6.9107000000000002E-2,0.50392199999999998,2668,null,null,1349]
[2013,3,4235,"070204000","Mesa Unified District",4984,{"$f":"\"070204275\"","v":"070204275"},"Red Mountain High School",0.238423,5.8511000000000001E-2,0.29693399999999998,3193,null,null,949]
[2013,3,4235,{"$f":"\"070204000\"","v":"070204000"},"Mesa Unified District",6229,{"$f":"\"070204151\"","v":"070204151"},"Wilson Elementary School",0.50262499999999999,8.1365000000000007E-2,0.58399000000000001,757,null,null,445]
[2013,3,4235,"070204000","Mesa Unified District",78917,{"$f":"\"070204276\"","v":"070204276"},"Skyline High School",0.43290899999999999,0.10792,0.540829,2436,null,null,1318]
[2013,3,4235,"070204000","Mesa Unified District",78932,{"$f":"\"070204278\"","v":"070204278"},"East Valley Academy",0.69162999999999997,4.4053000000000002E-2,0.73568299999999998,225,null,null,167]
[2013,3,4235,"070204000","Mesa Unified District",78933,{"$f":"\"070204280\"","v":"070204280"},"Superstition High School",0.7,0.06,0.76,99,null,null,76]
[2013,3,4235,"070204000","Mesa Unified District",78938,{"$f":"\"070204153\"","v":"070204153"},"Patterson Elementary",0.37321199999999999,9.4927999999999998E-2,0.46814,764,null,null,360]
[2013,3,4235,"070204000","Mesa Unified District",79225,{"$f":"\"070204155\"","v":"070204155"},"Guerrero Elementary School",0.91833799999999999,5.1575999999999997E-2,0.96991400000000005,693,null,null,677]
[2013,3,4235,"070204000","Mesa Unified District",79489,{"$f":"\"070204263\"","v":"070204263"},"Smith Junior High School",0.480383,9.6651000000000001E-2,0.57703300000000002,1042,null,null,603]
[2013,3,4235,"070204000","Mesa Unified District",79490,{"$f":"\"070204156\"","v":"070204156"},"Brinton Elementary",0.46678999999999998,0.105166,0.57195600000000002,541,null,null,310]
[2013,3,4235,"070204000","Mesa Unified District",79807,{"$f":"\"070204157\"","v":"070204157"},"Zaharis Elementary",0.176534,4.3056999999999998E-2,0.21959100000000001,929,null,null,204]
[2013,3,4235,"070204000","Mesa Unified District",80046,{"$f":"\"070204191\"","v":"070204191"},"Early Education Center",0.23463700000000001,7.2625999999999996E-2,0.30726300000000001,179,null,null,55]
[2013,3,4235,"070204000","Mesa Unified District",88420,{"$f":"\"070204282\"","v":"070204282"},"Crossroads",0.53968300000000002,0.103175,0.64285700000000001,121,null,null,81]
[2013,3,4235,"070204000","Mesa Unified District",89593,{"$f":"\"070204192\"","v":"070204192"},"Mesa Academy for Advanced Studies",7.3902999999999996E-2,3.6951999999999999E-2,0.110855,433,null,null,48]
[2013,3,4235,"070204000","Mesa Unified District",90303,{"$f":"\"070204264\"","v":"070204264"},"Franklin Junior High School",0.28834399999999999,7.9755000000000006E-2,0.36809799999999998,163,null,null,60]
[2013,3,4235,"070204000","Mesa Unified District",90752,{"$f":"\"070204158\"","v":"070204158"},"Franklin at Alma Elementary",0.39830500000000002,6.3559000000000004E-2,0.461864,235,null,null,109]
[2013,3,4235,"070204000","Mesa Unified District",90753,{"$f":"\"070204193\"","v":"070204193"},"Summit Academy",0.436116,9.3697000000000003E-2,0.52981299999999998,1171,null,null,622]
[2013,3,4235,"070204000","Mesa Unified District",91812,{"$f":"\"070204159\"","v":"070204159"},"Franklin at Brimhall Elementary",0.20299900000000001,7.9585000000000003E-2,0.282584,865,null,null,245]
[2013,3,4235,"070204000","Mesa Unified District",null,{"$f":"\"\"","v":""},null,null,null,null,null,0.59411000000000003]
[2013,3,4463,{"$f":"\"128703000\"","v":"128703000"},"Mexicayotl Academy Inc.",5972,{"$f":"\"128703001\"","v":"128703001"},"Mexicayotl Charter School",0.91176500000000005,5.1471000000000003E-2,0.96323499999999995,136,null,null,131]
[2013,3,4463,{"$f":"\"128703000\"","v":"128703000"},"Mexicayotl Academy Inc.",null,{"$f":"\"\"","v":""},null,null,null,null,null,0.96323499999999995]
[2013,3,4211,{"$f":"\"040240000\"","v":"040240000"},"Miami Unified District",4867,{"$f":"\"040240103\"","v":"040240103"},"Las Lomas Elementary School",0.675373,3.7312999999999999E-2,0.71268699999999996,268,null,null,191]
[2013,3,4211,{"$f":"\"040240000\"","v":"040240000"},"Miami Unified District",4868,{"$f":"\"040240105\"","v":"040240105"},"Miami Junior High",0.57075500000000001,3.3019E-2,0.60377400000000003,212,null,null,128]
[2013,3,4211,{"$f":"\"040240000\"","v":"040240000"},"Miami Unified District",4869,{"$f":"\"040240206\"","v":"040240206"},"Miami High School",0.46381600000000001,0.101974,0.56578899999999999,304,null,null,172]
[2013,3,4211,{"$f":"\"040240000\"","v":"040240000"},"Miami Unified District",81122,{"$f":"\"040240108\"","v":"040240108"},"Dr. Charles A. Bejarano Elementary School",0.65957399999999999,7.1808999999999998E-2,0.73138300000000001,376,null,null,275]
[2013,3,4211,{"$f":"\"040240000\"","v":"040240000"},"Miami Unified District",null,{"$f":"\"\"","v":""},null,null,null,null,null,0.66034400000000004]
[2013,3,79994,{"$f":"\"078976000\"","v":"078976000"},"Midtown Primary School",5526,{"$f":"\"078976101\"","v":"078976101"},"Midtown Primary School",0.83505200000000002,8.2474000000000006E-2,0.91752599999999995,97,null,null,89]
[2013,3,79994,{"$f":"\"078976000\"","v":"078976000"},"Midtown Primary School",null,{"$f":"\"\"","v":""},null,null,null,null,null,0.91752599999999995]
[2013,3,90048,{"$f":"\"132116000\"","v":"132116000"},"Mingus Mountain Academy",90049,{"$f":"\"132116001\"","v":"132116001"},"Mingus Mountain Academy",1,0,1,129,null,null,129]
[2013,3,90048,{"$f":"\"132116000\"","v":"132116000"},"Mingus Mountain Academy",null,{"$f":"\"\"","v":""},null,null,null,null,null,1]
[2013,3,4493,{"$f":"\"138712000\"","v":"138712000"},"Mingus Springs Charter School",6133,{"$f":"\"138712101\"","v":"138712101"},"Mingus Springs Charter School",0.54491000000000001,8.9819999999999997E-2,0.63473100000000005,167,null,null,106]
[2013,3,4493,{"$f":"\"138712000\"","v":"138712000"},"Mingus Springs Charter School",null,{"$f":"\"\"","v":""},null,null,null,null,null,0.63473100000000005]
[2013,3,4488,{"$f":"\"130504000\"","v":"130504000"},"Mingus Union High School District",6127,{"$f":"\"130504201\"","v":"130504201"},"Mingus Union High School",0.40460000000000002,6.4736000000000002E-2,0.46933599999999998,1174,null,null,551]
[2013,3,4488,{"$f":"\"130504000\"","v":"130504000"},"Mingus Union High School District",null,{"$f":"\"\"","v":""},null,null,null,null,null,0.46933599999999998]
[2013,3,78845,{"$f":"\"078904000\"","v":"078904000"},"Mission Charter School Inc.",5503,{"$f":"\"078993201\"","v":"078993201"},"AAEC - SMCC Campus",0.51412400000000003,7.9096E-2,0.59321999999999997,354,null,null,210]
[2013,3,78845,"078904000","Mission Charter School Inc.",78843,{"$f":"\"078791101\"","v":"078791101"},"Milestones Charter School",0.20799999999999999,1.8667E-2,0.22666700000000001,375,null,null,85]
[2013,3,78845,"078904000","Mission Charter School Inc.",79129,{"$f":"\"078524201\"","v":"078524201"},"Career Success High School - Main Campus",0.87889300000000004,3.4602000000000001E-2,0.91349499999999995,289,null,null,264]
[2013,3,78845,"078904000","Mission Charter School Inc.",81126,{"$f":"\"078524205\"","v":"078524205"},"Career Success High School - Robert L. Duffy",0.88524599999999998,3.2786999999999997E-2,0.91803299999999999,181,null,null,168]
[2013,3,78845,"078904000","Mission Charter School Inc.",88326,{"$f":"\"078904201\"","v":"078904201"},"Mission Academy High School",0.78649199999999997,3.2680000000000001E-2,0.81917200000000001,459,null,null,376]
[2013,3,78845,"078904000","Mission Charter School Inc.",90735,{"$f":"\"078904102\"","v":"078904102"},"Inspire Education, A Mission Charter School",0.59482800000000002,9.4827999999999996E-2,0.68965500000000002,116,null,null,80]
[2013,3,78845,"078904000","Mission Charter School Inc.",91788,{"$f":"\"078634202\"","v":"078634202"},"STEP UP SCHOOL",0.86585400000000001,6.0976000000000002E-2,0.92682900000000001,82,null,null,76]
[2013,3,78845,"078904000","Mission Charter School Inc.",null,{"$f":"\"\"","v":""},null,null,null,null,null,0.67735100000000004]
[2013,3,4253,{"$f":"\"070386000\"","v":"070386000"},"Mobile Elementary District",5191,{"$f":"\"070386101\"","v":"070386101"},"Mobile Elementary School",0.72972999999999999,0,0.72972999999999999,37,null,null,27]
[2013,3,4253,{"$f":"\"070386000\"","v":"070386000"},"Mobile Elementary District",null,{"$f":"\"\"","v":""},null,null,null,null,null,0.72972999999999999]
[2013,3,88455,{"$f":"\"099108000\"","v":"099108000"},"Moencopi Day School",80099,{"$f":"\"093906007\"","v":"093906007"},"Moencopi Day School",0.69950699999999999,4.4334999999999999E-2,0.743842,203,null,null,151]
[2013,3,88455,{"$f":"\"099108000\"","v":"099108000"},"Moencopi Day School",null,{"$f":"\"\"","v":""},null,null,null,null,null,0.743842]
[2013,3,79589,{"$f":"\"211019000\"","v":"211019000"},"Mohave County Juvenile Detention",79429,{"$f":"\"211019001\"","v":"211019001"},"The Gloria Dusek Compass School",1,0,1,85,null,null,85]
[2013,3,79589,{"$f":"\"211019000\"","v":"211019000"},"Mohave County Juvenile Detention",null,{"$f":"\"\"","v":""},null,null,null,null,null,1]
[2013,3,4379,{"$f":"\"080416000\"","v":"080416000"},"Mohave Valley Elementary District",5588,{"$f":"\"080416101\"","v":"080416101"},"Mohave Valley Elementary",0.75142299999999995,7.5900999999999996E-2,0.82732399999999995,522,null,null,436]
[2013,3,4379,{"$f":"\"080416000\"","v":"080416000"},"Mohave Valley Elementary District",5589,{"$f":"\"080416103\"","v":"080416103"},"Mohave Valley Junior High School",0.52714899999999998,9.7284999999999996E-2,0.62443400000000004,390,null,null,276]
[2013,3,4379,{"$f":"\"080416000\"","v":"080416000"},"Mohave Valley Elementary District",5590,{"$f":"\"080416104\"","v":"080416104"},"Fort Mohave Elementary School",0.59438800000000003,7.9082E-2,0.67346899999999998,374,null,null,264]
[2013,3,4379,{"$f":"\"080416000\"","v":"080416000"},"Mohave Valley Elementary District",6049,{"$f":"\"080416105\"","v":"080416105"},"Camp Mohave Elementary",0.66313,6.6312999999999997E-2,0.72944299999999995,349,null,null,275]
[2013,3,4379,{"$f":"\"080416000\"","v":"080416000"},"Mohave Valley Elementary District",null,{"$f":"\"\"","v":""},null,null,null,null,null,0.72284099999999996]
[2013,3,4503,{"$f":"\"140417000\"","v":"140417000"},"Mohawk Valley Elementary District",6181,{"$f":"\"140417101\"","v":"140417101"},"Mohawk Valley School",0.64137900000000003,0.103448,0.74482800000000005,145,null,null,108]
[2013,3,4503,{"$f":"\"140417000\"","v":"140417000"},"Mohawk Valley Elementary District",null,{"$f":"\"\"","v":""},null,null,null,null,null,0.74482800000000005]
[2013,3,4230,{"$f":"\"060218000\"","v":"060218000"},"Morenci Unified District",4906,{"$f":"\"060218002\"","v":"060218002"},"Morenci Jr.-Sr. High School",0.220137,9.8975999999999995E-2,0.31911299999999998,586,null,null,187]
[2013,3,4230,{"$f":"\"060218000\"","v":"060218000"},"Morenci Unified District",4907,{"$f":"\"060218101\"","v":"060218101"},"Fairbanks Elementary School",0.30860900000000002,0.139073,0.44768200000000002,755,null,null,338]
[2013,3,4230,{"$f":"\"060218000\"","v":"060218000"},"Morenci Unified District",null,{"$f":"\"\"","v":""},null,null,null,null,null,0.39149800000000001]
[2013,3,90192,{"$f":"\"078556000\"","v":"078556000"},"Morrison Education Group Inc.",90193,{"$f":"\"078556001\"","v":"078556001"},"Sun Valley Charter School",0.66938799999999998,0.118367,0.78775499999999998,245,null,null,193]
[2013,3,90192,{"$f":"\"078556000\"","v":"078556000"},"Morrison Education Group Inc.",null,{"$f":"\"\"","v":""},null,null,null,null,null,0.78775499999999998]
[2013,3,4251,{"$f":"\"070375000\"","v":"070375000"},"Morristown Elementary District",5189,{"$f":"\"070375101\"","v":"070375101"},"Morristown Elementary School",0.60810799999999998,0.14189199999999999,0.75,148,null,null,111]
[2013,3,4251,{"$f":"\"070375000\"","v":"070375000"},"Morristown Elementary District",null,{"$f":"\"\"","v":""},null,null,null,null,null,0.75]
[2013,3,81228,{"$f":"\"072032000\"","v":"072032000"},"Most Holy Trinity Catholic School",81229,{"$f":"\"072032001\"","v":"072032001"},"Most Holy Trinity Catholic School",0.302817,0.12676100000000001,0.42957699999999999,142,null,null,61]
[2013,3,81228,{"$f":"\"072032000\"","v":"072032000"},"Most Holy Trinity Catholic School",null,{"$f":"\"\"","v":""},null,null,null,null,null,0.42957699999999999]
[2013,3,79058,{"$f":"\"108774000\"","v":"108774000"},"MultiDimensional Literacy Corp.",79118,{"$f":"\"108774001\"","v":"108774001"},"Desert Mosaic School",0.5,0.102941,0.60294099999999995,68,null,null,41]
[2013,3,79058,{"$f":"\"108774000\"","v":"108774000"},"MultiDimensional Literacy Corp.",null,{"$f":"\"\"","v":""},null,null,null,null,null,0.60294099999999995]
[2013,3,4265,{"$f":"\"070421000\"","v":"070421000"},"Murphy Elementary District",5290,{"$f":"\"070421101\"","v":"070421101"},"Arthur M Hamilton School",0.99512199999999995,2.4390000000000002E-3,0.99756100000000003,410,null,null,409]
[2013,3,4265,"070421000","Murphy Elementary District",5291,{"$f":"\"070421102\"","v":"070421102"},"Jack L Kuban Elementary School",0.92926799999999998,3.1706999999999999E-2,0.96097600000000005,410,null,null,394]
[2013,3,4265,"070421000","Murphy Elementary District",5292,{"$f":"\"070421103\"","v":"070421103"},"William R Sullivan Elementary School",0.94020899999999996,2.2422000000000001E-2,0.96263100000000001,669,null,null,644]
[2013,3,4265,"070421000","Murphy Elementary District",5293,{"$f":"\"070421104\"","v":"070421104"},"Alfred F Garcia School",0.89322900000000005,3.3854000000000002E-2,0.92708299999999999,768,null,null,712]
[2013,3,4265,"070421000","Murphy Elementary District",80183,{"$f":"\"072015001\"","v":"072015001"},"St. Matthew School",0.82843100000000003,6.8626999999999994E-2,0.89705900000000005,204,null,null,183]
[2013,3,4265,"070421000","Murphy Elementary District",88189,{"$f":"\"072033001\"","v":"072033001"},"Kids at Hope Academy - Central",0.77358499999999997,3.7735999999999999E-2,0.81132099999999996,53,null,null,43]
[2013,3,4265,"070421000","Murphy Elementary District",null,{"$f":"\"\"","v":""},null,null,null,null,null,0.94868699999999995]
[2013,3,4176,{"$f":"\"020323000\"","v":"020323000"},"Naco Elementary District",4784,{"$f":"\"020323001\"","v":"020323001"},"Naco Elementary School",0.87812500000000004,3.7499999999999999E-2,0.91562500000000002,320,null,null,293]
[2013,3,4176,{"$f":"\"020323000\"","v":"020323000"},"Naco Elementary District",null,{"$f":"\"\"","v":""},null,null,null,null,null,0.91562500000000002]
[2013,3,4252,{"$f":"\"070381000\"","v":"070381000"},"Nadaburg Unified School District",5190,{"$f":"\"070381101\"","v":"070381101"},"Nadaburg Elementary School",0.71428599999999998,9.1428999999999996E-2,0.80571400000000004,336,null,null,282]
[2013,3,4252,{"$f":"\"070381000\"","v":"070381000"},"Nadaburg Unified School District",89748,{"$f":"\"070381102\"","v":"070381102"},"Desert Oasis Elementary School",0.57894699999999999,7.8947000000000003E-2,0.65789500000000001,449,null,null,300]
[2013,3,4252,{"$f":"\"070381000\"","v":"070381000"},"Nadaburg Unified School District",null,{"$f":"\"\"","v":""},null,null,null,null,null,0.72116499999999994]
[2013,3,80103,{"$f":"\"012002000\"","v":"012002000"},"Navajo Lutheran Mission School",80104,{"$f":"\"012002001\"","v":"012002001"},"Navajo Lutheran Mission School",0.73333300000000001,0.222222,0.95555599999999996,45,null,null,43]
[2013,3,80103,{"$f":"\"012002000\"","v":"012002000"},"Navajo Lutheran Mission School",null,{"$f":"\"\"","v":""},null,null,null,null,null,0.95555599999999996]
[2013,3,78848,{"$f":"\"018760000\"","v":"018760000"},"Nazlini Community School Inc.",78849,{"$f":"\"018760101\"","v":"018760101"},"Nazlini Charter School",0.95384599999999997,1.5384999999999999E-2,0.96923099999999995,130,null,null,126]
[2013,3,78848,{"$f":"\"018760000\"","v":"018760000"},"Nazlini Community School Inc.",null,{"$f":"\"\"","v":""},null,null,null,null,null,0.96923099999999995]
[2013,3,4366,{"$f":"\"078771000\"","v":"078771000"},"New Horizon School for the Performing Arts",5554,{"$f":"\"078771001\"","v":"078771001"},"New Horizon School for the Performing Arts",0.855491,5.7803E-2,0.91329499999999997,173,null,null,158]
[2013,3,4366,{"$f":"\"078771000\"","v":"078771000"},"New Horizon School for the Performing Arts",null,{"$f":"\"\"","v":""},null,null,null,null,null,0.91329499999999997]
[2013,3,10760,{"$f":"\"078930000\"","v":"078930000"},"Noah Webster Basic School",10800,{"$f":"\"078930101\"","v":"078930101"},"Noah Webster Basic School",0.228599,0.12937699999999999,0.35797699999999999,1028,null,null,368]
[2013,3,10760,{"$f":"\"078930000\"","v":"078930000"},"Noah Webster Basic School",null,{"$f":"\"\"","v":""},null,null,null,null,null,0.35797699999999999]
[2013,3,4457,{"$f":"\"120201000\"","v":"120201000"},"Nogales Unified District",5954,{"$f":"\"120201104\"","v":"120201104"},"Desert Shadows Middle School",0.62787599999999999,0.11908000000000001,0.74695500000000004,739,null,null,552]
[2013,3,4457,"120201000","Nogales Unified District",5955,{"$f":"\"120201108\"","v":"120201108"},"Vasquez De Coronado Francisco School",0.508108,0.106306,0.61441400000000002,555,null,null,341]
[2013,3,4457,"120201000","Nogales Unified District",5956,{"$f":"\"120201111\"","v":"120201111"},"Wade Carpenter Middle School",0.88153800000000004,5.5384999999999997E-2,0.93692299999999995,650,null,null,609]
[2013,3,4457,"120201000","Nogales Unified District",5957,{"$f":"\"120201113\"","v":"120201113"},"Lincoln Elementary School",0.86308099999999999,6.3570000000000002E-2,0.92664999999999997,409,null,null,379]
[2013,3,4457,"120201000","Nogales Unified District",5958,{"$f":"\"120201114\"","v":"120201114"},"A J Mitchell Elementary School",0.90466100000000005,3.6017E-2,0.94067800000000001,472,null,null,444]
[2013,3,4457,"120201000","Nogales Unified District",5959,{"$f":"\"120201115\"","v":"120201115"},"Mary L Welty Elementary School",0.84146299999999996,7.3171E-2,0.91463399999999995,328,null,null,300]
[2013,3,4457,"120201000","Nogales Unified District",5960,{"$f":"\"120201119\"","v":"120201119"},"Challenger Elementary School",0.74107100000000004,7.6785999999999993E-2,0.81785699999999995,560,null,null,458]
[2013,3,4457,"120201000","Nogales Unified District",5961,{"$f":"\"120201209\"","v":"120201209"},"Pierson Vocational High School",0.92090399999999994,2.8249E-2,0.94915300000000002,177,null,null,168]
[2013,3,4457,"120201000","Nogales Unified District",5962,{"$f":"\"120201210\"","v":"120201210"},"Nogales High School",0.65091600000000005,0.12463100000000001,0.77554599999999996,1693,null,null,1313]
[2013,3,4457,"120201000","Nogales Unified District",6071,{"$f":"\"120201103\"","v":"120201103"},"Robert Bracker Elementary",0.62790699999999999,0.13289000000000001,0.76079699999999995,301,null,null,229]
[2013,3,4457,"120201000","Nogales Unified District",null,{"$f":"\"\"","v":""},null,null,null,null,null,0.814581]
[2013,3,79881,{"$f":"\"108707000\"","v":"108707000"},"Nosotros Inc",79899,{"$f":"\"108707001\"","v":"108707001"},"Nosotros Academy",0.76795599999999997,6.0773000000000001E-2,0.82872900000000005,181,null,null,150]
[2013,3,79881,{"$f":"\"108707000\"","v":"108707000"},"Nosotros Inc",null,{"$f":"\"\"","v":""},null,null,null,null,null,0.82872900000000005]
[2013,3,80105,{"$f":"\"102706000\"","v":"102706000"},"Old Pueblo Childrens Services Inc.",80108,{"$f":"\"102706003\"","v":"102706003"},"Lavell Home",1,0,1,10,null,null,10]
[2013,3,80105,{"$f":"\"102706000\"","v":"102706000"},"Old Pueblo Childrens Services Inc.",80109,{"$f":"\"102706004\"","v":"102706004"},"Roadrunner Home",1,0,1,10,null,null,10]
[2013,3,80105,{"$f":"\"102706000\"","v":"102706000"},"Old Pueblo Childrens Services Inc.",null,{"$f":"\"\"","v":""},null,null,null,null,null,1]
[2013,3,79503,{"$f":"\"028751000\"","v":"028751000"},"Omega Alpha Academy",79505,{"$f":"\"028751002\"","v":"028751002"},"Omega Alpha Academy School",0.87163599999999997,6.6253000000000006E-2,0.93788800000000005,483,null,null,453]
[2013,3,79503,{"$f":"\"028751000\"","v":"028751000"},"Omega Alpha Academy",null,{"$f":"\"\"","v":""},null,null,null,null,null,0.93788800000000005]
[2013,3,80110,{"$f":"\"102703000\"","v":"102703000"},"Open-Inn Inc",80112,{"$f":"\"102703002\"","v":"102703002"},"Clay Street Shelter",1,0,1,8,null,null,8]
[2013,3,80110,{"$f":"\"102703000\"","v":"102703000"},"Open-Inn Inc",80113,{"$f":"\"102703003\"","v":"102703003"},"Cochise County Children Center",1,0,1,18,null,null,18]
[2013,3,80110,{"$f":"\"102703000\"","v":"102703000"},"Open-Inn Inc",80117,{"$f":"\"102703007\"","v":"102703007"},"Linden Shelter",1,0,1,7,null,null,7]
[2013,3,80110,{"$f":"\"102703000\"","v":"102703000"},"Open-Inn Inc",80119,{"$f":"\"102703009\"","v":"102703009"},"Turning Point Shelter",1,0,1,7,null,null,7]
[2013,3,80110,{"$f":"\"102703000\"","v":"102703000"},"Open-Inn Inc",null,{"$f":"\"\"","v":""},null,null,null,null,null,1]
[2013,3,4444,{"$f":"\"110302000\"","v":"110302000"},"Oracle Elementary District",5926,{"$f":"\"110302101\"","v":"110302101"},"Oracle Ridge School",0.51485099999999995,0.10891099999999999,0.62376200000000004,101,null,null,63]
[2013,3,4444,{"$f":"\"110302000\"","v":"110302000"},"Oracle Elementary District",5927,{"$f":"\"110302102\"","v":"110302102"},"Mountain Vista School",0.50379700000000005,0.103797,0.607595,395,null,null,240]
[2013,3,4444,{"$f":"\"110302000\"","v":"110302000"},"Oracle Elementary District",null,{"$f":"\"\"","v":""},null,null,null,null,null,0.61088699999999996]
[2013,3,4262,{"$f":"\"070408000\"","v":"070408000"},"Osborn Elementary District",5278,{"$f":"\"070408102\"","v":"070408102"},"Clarendon School",0.78662200000000004,5.9271999999999998E-2,0.84589300000000001,1175,null,null,999]
[2013,3,4262,{"$f":"\"070408000\"","v":"070408000"},"Osborn Elementary District",5280,{"$f":"\"070408104\"","v":"070408104"},"Osborn Middle School",0.84228800000000004,6.2392000000000003E-2,0.90467900000000001,573,null,null,522]
[2013,3,4262,{"$f":"\"070408000\"","v":"070408000"},"Osborn Elementary District",5281,{"$f":"\"070408106\"","v":"070408106"},"Solano School",0.89619400000000005,2.7681999999999998E-2,0.923875,576,null,null,534]
[2013,3,4262,{"$f":"\"070408000\"","v":"070408000"},"Osborn Elementary District",5282,{"$f":"\"070408107\"","v":"070408107"},"Longview Elementary School",0.84032499999999999,4.3302E-2,0.88362700000000005,736,null,null,653]
[2013,3,4262,{"$f":"\"070408000\"","v":"070408000"},"Osborn Elementary District",null,{"$f":"\"\"","v":""},null,null,null,null,null,0.88065499999999997]
[2013,3,80120,{"$f":"\"072008000\"","v":"072008000"},"Our Lady of Perpetual Help School",80121,{"$f":"\"072008001\"","v":"072008001"},"Our Lady of Perpetual Help School",0.33027499999999999,0.16055,0.49082599999999998,218,null,null,107]
[2013,3,80120,{"$f":"\"072008000\"","v":"072008000"},"Our Lady of Perpetual Help School",null,{"$f":"\"\"","v":""},null,null,null,null,null,0.49082599999999998]
[2013,3,4373,{"$f":"\"080306000\"","v":"080306000"},"Owens-Whitney Elementary District",5578,{"$f":"\"080306101\"","v":"080306101"},"Owens Elementary School",0.66666700000000001,7.4074000000000001E-2,0.74074099999999998,27,null,null,20]
[2013,3,4373,{"$f":"\"080306000\"","v":"080306000"},"Owens-Whitney Elementary District",null,{"$f":"\"\"","v":""},null,null,null,null,null,0.74074099999999998]
[2013,3,4196,{"$f":"\"030208000\"","v":"030208000"},"Page Unified District",4829,{"$f":"\"030208101\"","v":"030208101"},"Desert View Elementary Intermediate",0.68766799999999995,6.9705000000000003E-2,0.75737299999999996,726,null,null,565]
[2013,3,4196,"030208000","Page Unified District",4830,{"$f":"\"030208102\"","v":"030208102"},"Lake View Elementary Primary",0.67647100000000004,6.9117999999999999E-2,0.74558800000000003,667,null,null,507]
[2013,3,4196,"030208000","Page Unified District",4831,{"$f":"\"030208106\"","v":"030208106"},"Page Middle School",0.60913700000000004,7.9525999999999999E-2,0.68866300000000003,585,null,null,407]
[2013,3,4196,"030208000","Page Unified District",4832,{"$f":"\"030208209\"","v":"030208209"},"Page High School",0.557647,6.4706E-2,0.62235300000000005,842,null,null,529]
[2013,3,4196,"030208000","Page Unified District",81127,{"$f":"\"030199006\"","v":"030199006"},"Tse'yaato' High School",0.73584899999999998,7.5471999999999997E-2,0.81132099999999996,50,null,null,43]
[2013,3,4196,"030208000","Page Unified District",null,{"$f":"\"\"","v":""},null,null,null,null,null,0.70195600000000002]
[2013,3,79086,{"$f":"\"038753000\"","v":"038753000"},"Painted Desert Demonstration Projects Inc.",79090,{"$f":"\"038753101\"","v":"038753101"},"STAR Charter School",0.64843799999999996,0.171875,0.82031299999999996,128,null,null,105]
[2013,3,79086,{"$f":"\"038753000\"","v":"038753000"},"Painted Desert Demonstration Projects Inc.",null,{"$f":"\"\"","v":""},null,null,null,null,null,0.82031299999999996]
[2013,3,4275,{"$f":"\"070449000\"","v":"070449000"},"Palo Verde Elementary District",5355,{"$f":"\"070449101\"","v":"070449101"},"Palo Verde Elementary School",0.65324400000000005,0.116331,0.76957500000000001,447,null,null,344]
[2013,3,4275,{"$f":"\"070449000\"","v":"070449000"},"Palo Verde Elementary District",null,{"$f":"\"\"","v":""},null,null,null,null,null,0.76957500000000001]
[2013,3,4255,{"$f":"\"070394000\"","v":"070394000"},"Paloma School District",5193,{"$f":"\"070394001\"","v":"070394001"},"Kiser Elementary School",0.55238100000000001,0.180952,0.73333300000000001,105,null,null,77]
[2013,3,4255,{"$f":"\"070394000\"","v":"070394000"},"Paloma School District",null,{"$f":"\"\"","v":""},null,null,null,null,null,0.73333300000000001]
[2013,3,4180,{"$f":"\"020349000\"","v":"020349000"},"Palominas Elementary District",4788,{"$f":"\"020349101\"","v":"020349101"},"Palominas Elementary School",0.47482000000000002,0.115108,0.58992800000000001,417,null,null,246]
[2013,3,4180,{"$f":"\"020349000\"","v":"020349000"},"Palominas Elementary District",4789,{"$f":"\"020349102\"","v":"020349102"},"Coronado Elementary School",0.38268799999999997,9.5671999999999993E-2,0.47836000000000001,439,null,null,210]
[2013,3,4180,{"$f":"\"020349000\"","v":"020349000"},"Palominas Elementary District",78914,{"$f":"\"020349103\"","v":"020349103"},"Valley View Elementary School",0.38812799999999997,8.2192000000000001E-2,0.47032000000000002,219,null,null,103]
[2013,3,4180,{"$f":"\"020349000\"","v":"020349000"},"Palominas Elementary District",null,{"$f":"\"\"","v":""},null,null,null,null,null,0.52]
[2013,3,79578,{"$f":"\"078940000\"","v":"078940000"},"Pan-American Elementary Charter",79579,{"$f":"\"078940101\"","v":"078940101"},"Pan-American Charter School",0.82598000000000005,0.12990199999999999,0.95588200000000001,686,null,null,390]
[2013,3,79578,{"$f":"\"078940000\"","v":"078940000"},"Pan-American Elementary Charter",null,{"$f":"\"\"","v":""},null,null,null,null,null,0.95588200000000001]
[2013,3,4241,{"$f":"\"070269000\"","v":"070269000"},"Paradise Valley Unified District",5071,{"$f":"\"070269055\"","v":"070269055"},"Roadrunner School",0.42331299999999999,3.3742000000000001E-2,0.45705499999999999,282,null,null,149]
[2013,3,4241,"070269000","Paradise Valley Unified District",5073,{"$f":"\"070269110\"","v":"070269110"},"Arrowhead Elementary School",0.70879099999999995,8.9744000000000004E-2,0.79853499999999999,521,null,null,436]
[2013,3,4241,"070269000","Paradise Valley Unified District",5074,{"$f":"\"070269115\"","v":"070269115"},"Campo Bello Elementary School",0.73572899999999997,0.112051,0.84777999999999998,456,null,null,401]
[2013,3,4241,"070269000","Paradise Valley Unified District",5076,{"$f":"\"070269121\"","v":"070269121"},"Foothills Elementary School",0.56038600000000005,8.2126000000000005E-2,0.64251199999999997,361,null,null,266]
[2013,3,4241,"070269000","Paradise Valley Unified District",5077,{"$f":"\"070269122\"","v":"070269122"},"North Ranch Elementary School",0.140071,2.6596000000000002E-2,0.16666700000000001,527,null,null,94]
[2013,3,4241,"070269000","Paradise Valley Unified District",5078,{"$f":"\"070269123\"","v":"070269123"},"Eagle Ridge Elementary School",0.48424499999999998,6.6335000000000005E-2,0.55057999999999996,549,null,null,332]
[2013,3,4241,"070269000","Paradise Valley Unified District",5079,{"$f":"\"070269124\"","v":"070269124"},"Hidden Hills Elementary School",0.439189,6.0810999999999997E-2,0.5,532,null,null,296]
[2013,3,4241,"070269000","Paradise Valley Unified District",5080,{"$f":"\"070269125\"","v":"070269125"},"Desert Cove Elementary School",0.364929,5.6871999999999999E-2,0.42180099999999998,609,null,null,267]
[2013,3,4241,"070269000","Paradise Valley Unified District",5081,{"$f":"\"070269126\"","v":"070269126"},"Quail Run Elementary School",0.22008900000000001,3.9882000000000001E-2,0.25996999999999998,640,null,null,176]
[2013,3,4241,"070269000","Paradise Valley Unified District",5082,{"$f":"\"070269127\"","v":"070269127"},"Cactus View Elementary School",0.58928599999999998,7.7381000000000005E-2,0.66666700000000001,733,null,null,560]
[2013,3,4241,"070269000","Paradise Valley Unified District",5083,{"$f":"\"070269128\"","v":"070269128"},"Copper Canyon Elementary School",5.9132999999999998E-2,3.9420000000000002E-3,6.3075000000000006E-2,729,null,null,48]
[2013,3,4241,"070269000","Paradise Valley Unified District",5084,{"$f":"\"070269129\"","v":"070269129"},"Sonoran Sky Elementary School",5.9417999999999999E-2,1.5171E-2,7.4589000000000003E-2,732,null,null,59]
[2013,3,4241,"070269000","Paradise Valley Unified District",5085,{"$f":"\"070269130\"","v":"070269130"},"Desert Shadows Elementary School",0.16784499999999999,2.8268999999999999E-2,0.19611300000000001,522,null,null,111]
[2013,3,4241,"070269000","Paradise Valley Unified District",5086,{"$f":"\"070269135\"","v":"070269135"},"Indian Bend Elementary School",0.70993899999999999,0.107505,0.81744399999999995,455,null,null,403]
[2013,3,4241,"070269000","Paradise Valley Unified District",5087,{"$f":"\"070269138\"","v":"070269138"},"Desert Trails Elementary School",8.7329000000000004E-2,5.1370000000000001E-3,9.2466000000000007E-2,554,null,null,54]
[2013,3,4241,"070269000","Paradise Valley Unified District",5088,{"$f":"\"070269139\"","v":"070269139"},"Whispering Wind Academy",0.28006900000000001,3.7801000000000001E-2,0.31786900000000001,533,null,null,185]
[2013,3,4241,"070269000","Paradise Valley Unified District",5089,{"$f":"\"070269140\"","v":"070269140"},"Larkspur Elementary School",0.69870600000000005,8.3179000000000003E-2,0.78188500000000005,482,null,null,423]
[2013,3,4241,"070269000","Paradise Valley Unified District",5090,{"$f":"\"070269143\"","v":"070269143"},"Liberty Elementary School",0.16638700000000001,2.8570999999999999E-2,0.19495799999999999,552,null,null,116]
[2013,3,4241,"070269000","Paradise Valley Unified District",5091,{"$f":"\"070269144\"","v":"070269144"},"Boulder Creek Elementary School",0.103268,3.1372999999999998E-2,0.13464100000000001,718,null,null,103]
[2013,3,4241,"070269000","Paradise Valley Unified District",5092,{"$f":"\"070269145\"","v":"070269145"},"Mercury Mine Elementary School",0.20033100000000001,2.8146000000000001E-2,0.22847700000000001,556,null,null,138]
[2013,3,4241,"070269000","Paradise Valley Unified District",5093,{"$f":"\"070269146\"","v":"070269146"},"Echo Mountain Primary School",0.79290799999999995,7.9433000000000004E-2,0.87234,633,null,null,615]
[2013,3,4241,"070269000","Paradise Valley Unified District",5094,{"$f":"\"070269150\"","v":"070269150"},"Palomino Primary School",0.94959899999999997,2.8636999999999999E-2,0.97823599999999999,822,null,null,854]
[2013,3,4241,"070269000","Paradise Valley Unified District",5095,{"$f":"\"070269156\"","v":"070269156"},"Sandpiper Elementary School",0.16919699999999999,1.9522999999999999E-2,0.18872,427,null,null,87]
[2013,3,4241,"070269000","Paradise Valley Unified District",5096,{"$f":"\"070269157\"","v":"070269157"},"Aire Libre Elementary School",0.65271999999999997,7.3221999999999995E-2,0.72594099999999995,421,null,null,347]
[2013,3,4241,"070269000","Paradise Valley Unified District",5097,{"$f":"\"070269158\"","v":"070269158"},"Village Vista Elementary School",0.50117599999999995,0.11529399999999999,0.61647099999999999,380,null,null,262]
[2013,3,4241,"070269000","Paradise Valley Unified District",5098,{"$f":"\"070269159\"","v":"070269159"},"Desert Springs Preparatory Elementary School",0.14038900000000001,3.8877000000000002E-2,0.17926600000000001,447,null,null,83]
[2013,3,4241,"070269000","Paradise Valley Unified District",5099,{"$f":"\"070269170\"","v":"070269170"},"Desert Shadows Middle School",0.132886,1.8792E-2,0.15167800000000001,708,null,null,113]
[2013,3,4241,"070269000","Paradise Valley Unified District",5100,{"$f":"\"070269171\"","v":"070269171"},"Vista Verde Middle School",0.548813,9.8945000000000005E-2,0.64775700000000003,684,null,null,491]
[2013,3,4241,"070269000","Paradise Valley Unified District",5101,{"$f":"\"070269175\"","v":"070269175"},"Greenway Middle School",0.81443299999999996,7.0446999999999996E-2,0.88488,531,null,null,515]
[2013,3,4241,"070269000","Paradise Valley Unified District",5102,{"$f":"\"070269177\"","v":"070269177"},"Explorer Middle School",7.3026999999999995E-2,1.5311999999999999E-2,8.8339000000000001E-2,815,null,null,75]
[2013,3,4241,"070269000","Paradise Valley Unified District",5103,{"$f":"\"070269178\"","v":"070269178"},"Sunrise Middle School",0.23416000000000001,5.6474000000000003E-2,0.290634,686,null,null,211]
[2013,3,4241,"070269000","Paradise Valley Unified District",5104,{"$f":"\"070269180\"","v":"070269180"},"Shea Middle School",0.41097899999999998,6.9733000000000003E-2,0.48071199999999997,646,null,null,324]
[2013,3,4241,"070269000","Paradise Valley Unified District",5105,{"$f":"\"070269290\"","v":"070269290"},"Paradise Valley High School",0.423711,7.5492000000000004E-2,0.49920300000000001,1708,null,null,939]
[2013,3,4241,"070269000","Paradise Valley Unified District",5106,{"$f":"\"070269293\"","v":"070269293"},"Horizon High School",9.1224E-2,1.8591E-2,0.10981399999999999,2167,null,null,254]
[2013,3,4241,"070269000","Paradise Valley Unified District",5107,{"$f":"\"070269294\"","v":"070269294"},"North Canyon High School",0.444934,7.0485000000000006E-2,0.51541899999999996,2013,null,null,1170]
[2013,3,4241,"070269000","Paradise Valley Unified District",5108,{"$f":"\"070269295\"","v":"070269295"},"Shadow Mountain High School",0.28895500000000002,5.4925000000000002E-2,0.34388099999999999,1514,null,null,576]
[2013,3,4241,"070269000","Paradise Valley Unified District",5109,{"$f":"\"070269296\"","v":"070269296"},"Polaris High School",0.56431500000000001,4.5643000000000003E-2,0.60995900000000003,173,null,null,147]
[2013,3,4241,"070269000","Paradise Valley Unified District",6011,{"$f":"\"070269141\"","v":"070269141"},"Grayhawk Elementary School",5.5837999999999999E-2,7.6140000000000001E-3,6.3451999999999995E-2,732,null,null,50]
[2013,3,4241,"070269000","Paradise Valley Unified District",78920,{"$f":"\"070269142\"","v":"070269142"},"Sunset Canyon School",0.48043799999999998,7.8246999999999997E-2,0.55868499999999999,581,null,null,357]
[2013,3,4241,"070269000","Paradise Valley Unified District",79268,{"$f":"\"070269292\"","v":"070269292"},"Pinnacle High School",7.5935000000000002E-2,1.8134000000000001E-2,9.4069E-2,2512,null,null,249]
[2013,3,4241,"070269000","Paradise Valley Unified District",79729,{"$f":"\"070269173\"","v":"070269173"},"Mountain Trail Middle School",0.248756,5.0994999999999999E-2,0.29975099999999999,745,null,null,241]
[2013,3,4241,"070269000","Paradise Valley Unified District",79781,{"$f":"\"070269148\"","v":"070269148"},"Pinnacle Peak Elementary",5.7023999999999998E-2,2.7820000000000002E-3,5.9804999999999997E-2,675,null,null,43]
[2013,3,4241,"070269000","Paradise Valley Unified District",80055,{"$f":"\"070269136\"","v":"070269136"},"Echo Mountain Intermediate School",0.83191499999999996,6.1702E-2,0.89361699999999999,413,null,null,420]
[2013,3,4241,"070269000","Paradise Valley Unified District",81026,{"$f":"\"070269151\"","v":"070269151"},"Palomino Intermediate School",0.91783599999999999,3.6072E-2,0.95390799999999998,446,null,null,476]
[2013,3,4241,"070269000","Paradise Valley Unified District",88406,{"$f":"\"070269132\"","v":"070269132"},"Wildfire Elementary School",5.4974000000000002E-2,6.5449999999999996E-3,6.1518000000000003E-2,709,null,null,47]
[2013,3,4241,"070269000","Paradise Valley Unified District",91754,{"$f":"\"070269113\"","v":"070269113"},"Fireside Elementary School",5.0081000000000001E-2,1.4540000000000001E-2,6.4619999999999997E-2,598,null,null,40]
[2013,3,4241,"070269000","Paradise Valley Unified District",null,{"$f":"\"\"","v":""},null,null,null,null,null,0.37306099999999998]
[2013,3,89917,{"$f":"\"078544000\"","v":"078544000"},"Paragon Education Corporation",89918,{"$f":"\"078544101\"","v":"078544101"},"Paragon Science Academy",0.218579,4.7358999999999998E-2,0.26593800000000001,549,null,null,146]
[2013,3,89917,{"$f":"\"078544000\"","v":"078544000"},"Paragon Education Corporation",null,{"$f":"\"\"","v":""},null,null,null,null,null,0.26593800000000001]
[2013,3,5180,{"$f":"\"078912000\"","v":"078912000"},"Paragon Management Inc.",10820,{"$f":"\"078912101\"","v":"078912101"},"Paradise Education Center",0.17222999999999999,9.4793000000000002E-2,0.26702300000000001,1498,null,null,400]
[2013,3,5180,{"$f":"\"078912000\"","v":"078912000"},"Paragon Management Inc.",89828,{"$f":"\"078912103\"","v":"078912103"},"Paradise Honors High School",0.20141300000000001,9.5406000000000005E-2,0.29681999999999997,283,null,null,84]
[2013,3,5180,{"$f":"\"078912000\"","v":"078912000"},"Paragon Management Inc.",null,{"$f":"\"\"","v":""},null,null,null,null,null,0.27175700000000003]
[2013,3,79205,{"$f":"\"078905000\"","v":"078905000"},"Paramount Education Studies Inc",78977,{"$f":"\"078905102\"","v":"078905102"},"Paramount Academy",0.42473100000000003,0.123656,0.54838699999999996,372,null,null,204]
[2013,3,79205,{"$f":"\"078905000\"","v":"078905000"},"Paramount Education Studies Inc",null,{"$f":"\"\"","v":""},null,null,null,null,null,0.54838699999999996]
[2013,3,4510,{"$f":"\"150227000\"","v":"150227000"},"Parker Unified School District",6194,{"$f":"\"150227101\"","v":"150227101"},"Blake Primary School",0.71282100000000004,6.8376000000000006E-2,0.78119700000000003,585,null,null,457]
[2013,3,4510,{"$f":"\"150227000\"","v":"150227000"},"Parker Unified School District",6195,{"$f":"\"150227102\"","v":"150227102"},"Wallace Elementary School",0.62694300000000003,0.115717,0.74265999999999999,579,null,null,430]
[2013,3,4510,{"$f":"\"150227000\"","v":"150227000"},"Parker Unified School District",6196,{"$f":"\"150227103\"","v":"150227103"},"Le Pera Elementary School",0.88363599999999998,7.6364000000000001E-2,0.96,275,null,null,264]
[2013,3,4510,{"$f":"\"150227000\"","v":"150227000"},"Parker Unified School District",6197,{"$f":"\"150227204\"","v":"150227204"},"Parker High School",0.57199199999999994,0.112426,0.68441799999999997,506,null,null,347]
[2013,3,4510,{"$f":"\"150227000\"","v":"150227000"},"Parker Unified School District",null,{"$f":"\"\"","v":""},null,null,null,null,null,0.76982799999999996]
[2013,3,81099,{"$f":"\"078621000\"","v":"078621000"},"Partnership with Parents Inc.",78950,{"$f":"\"078621101\"","v":"078621101"},"Desert Heights Charter School",0.31730799999999998,0.105769,0.42307699999999998,832,null,null,352]
[2013,3,81099,{"$f":"\"078621000\"","v":"078621000"},"Partnership with Parents Inc.",null,{"$f":"\"\"","v":""},null,null,null,null,null,0.42307699999999998]
[2013,3,4462,{"$f":"\"120520000\"","v":"120520000"},"Patagonia Union High School District",5968,{"$f":"\"120406101\"","v":"120406101"},"Patagonia Elementary School",0.79245299999999996,5.6604000000000002E-2,0.84905699999999995,106,null,null,90]
[2013,3,4462,{"$f":"\"120520000\"","v":"120520000"},"Patagonia Union High School District",5971,{"$f":"\"120520201\"","v":"120520201"},"Patagonia Union High School",0.68055600000000005,0.125,0.80555600000000005,72,null,null,58]
[2013,3,4462,{"$f":"\"120520000\"","v":"120520000"},"Patagonia Union High School District",null,{"$f":"\"\"","v":""},null,null,null,null,null,0.83146100000000001]
[2013,3,79024,{"$f":"\"078792000\"","v":"078792000"},"Pathfinder Charter School Foundation",79509,{"$f":"\"078792101\"","v":"078792101"},"Imagine Cortez Park Elementary",0.89337599999999995,3.8772000000000001E-2,0.93214900000000001,619,null,null,577]
[2013,3,79024,{"$f":"\"078792000\"","v":"078792000"},"Pathfinder Charter School Foundation",null,{"$f":"\"\"","v":""},null,null,null,null,null,0.93214900000000001]
[2013,3,4209,{"$f":"\"040210000\"","v":"040210000"},"Payson Unified District",4856,{"$f":"\"040210102\"","v":"040210102"},"Rim Country Middle School",0.64056900000000006,3.5587000000000001E-2,0.67615700000000001,556,null,null,380]
[2013,3,4209,"040210000","Payson Unified District",4857,{"$f":"\"040210103\"","v":"040210103"},"Julia Randall Elementary School",0.67482500000000001,2.972E-2,0.70454499999999998,567,null,null,403]
[2013,3,4209,"040210000","Payson Unified District",4858,{"$f":"\"040210104\"","v":"040210104"},"Payson Elementary School",0.65969599999999995,4.5627000000000001E-2,0.70532300000000003,523,null,null,371]
[2013,3,4209,"040210000","Payson Unified District",4860,{"$f":"\"040210201\"","v":"040210201"},"Payson High School",0.50140099999999999,3.2212999999999999E-2,0.533613,714,null,null,381]
[2013,3,4209,"040210000","Payson Unified District",10822,{"$f":"\"040210701\"","v":"040210701"},"Payson Center for Success High School",0.55555600000000005,3.7037E-2,0.59259300000000004,53,null,null,32]
[2013,3,4209,"040210000","Payson Unified District",null,{"$f":"\"\"","v":""},null,null,null,null,null,0.64513500000000001]
[2013,3,4369,{"$f":"\"080208000\"","v":"080208000"},"Peach Springs Unified District",5566,{"$f":"\"080208001\"","v":"080208001"},"Peach Springs School",1,0,1,216,null,null,216]
[2013,3,4369,{"$f":"\"080208000\"","v":"080208000"},"Peach Springs Unified District",null,{"$f":"\"\"","v":""},null,null,null,null,null,1]
[2013,3,79866,{"$f":"\"038702000\"","v":"038702000"},"PEAK School Inc.",79884,{"$f":"\"038702101\"","v":"038702101"},"The Peak School",0.70198700000000003,0.139073,0.84106000000000003,151,null,null,127]
[2013,3,79866,{"$f":"\"038702000\"","v":"038702000"},"PEAK School Inc.",null,{"$f":"\"\"","v":""},null,null,null,null,null,0.84106000000000003]
[2013,3,4186,{"$f":"\"020422000\"","v":"020422000"},"Pearce Elementary District",4796,{"$f":"\"020422001\"","v":"020422001"},"Pearce Elementary School",0.57009299999999996,0.12149500000000001,0.69158900000000001,107,null,null,74]
[2013,3,4186,{"$f":"\"020422000\"","v":"020422000"},"Pearce Elementary District",null,{"$f":"\"\"","v":""},null,null,null,null,null,0.69158900000000001]
[2013,3,4283,{"$f":"\"070492000\"","v":"070492000"},"Pendergast Elementary District",5417,{"$f":"\"070492012\"","v":"070492012"},"Pendergast Elementary School",0.76171500000000003,4.7856000000000003E-2,0.80957100000000004,997,null,null,812]
[2013,3,4283,"070492000","Pendergast Elementary District",5418,{"$f":"\"070492013\"","v":"070492013"},"Desert Horizon Elementary School",0.73258000000000001,9.1337000000000002E-2,0.82391700000000001,1051,null,null,875]
[2013,3,4283,"070492000","Pendergast Elementary District",5420,{"$f":"\"070492015\"","v":"070492015"},"Villa De Paz Elementary School",0.73007699999999998,7.0694000000000007E-2,0.80077100000000001,763,null,null,623]
[2013,3,4283,"070492000","Pendergast Elementary District",5421,{"$f":"\"070492016\"","v":"070492016"},"Garden Lakes Elementary School",0.38608900000000002,8.1653000000000003E-2,0.46774199999999999,989,null,null,464]
[2013,3,4283,"070492000","Pendergast Elementary District",5422,{"$f":"\"070492017\"","v":"070492017"},"Desert Mirage Elementary School",0.55191999999999997,8.8192999999999994E-2,0.64011399999999996,698,null,null,450]
[2013,3,4283,"070492000","Pendergast Elementary District",5423,{"$f":"\"070492018\"","v":"070492018"},"Copper King Elementary",0.65509499999999998,0.104143,0.759239,885,null,null,678]
[2013,3,4283,"070492000","Pendergast Elementary District",79265,{"$f":"\"070492019\"","v":"070492019"},"Canyon Breeze Elementary",0.46856500000000001,8.1850999999999993E-2,0.55041499999999999,842,null,null,464]
[2013,3,4283,"070492000","Pendergast Elementary District",79642,{"$f":"\"070492020\"","v":"070492020"},"Sonoran Sky Elementary School",0.52080300000000002,0.13342899999999999,0.65423200000000004,696,null,null,456]
[2013,3,4283,"070492000","Pendergast Elementary District",79800,{"$f":"\"070492021\"","v":"070492021"},"Rio Vista Elementary",0.53985499999999997,0.13285,0.672705,823,null,null,557]
[2013,3,4283,"070492000","Pendergast Elementary District",80417,{"$f":"\"070492023\"","v":"070492023"},"Westwind Elementary School",0.70622399999999996,7.4689000000000005E-2,0.78091299999999997,1203,null,null,941]
[2013,3,4283,"070492000","Pendergast Elementary District",80418,{"$f":"\"070492022\"","v":"070492022"},"Sunset Ridge Elementary School",0.61561600000000005,0.12762799999999999,0.74324299999999999,664,null,null,495]
[2013,3,4283,"070492000","Pendergast Elementary District",80419,{"$f":"\"070492024\"","v":"070492024"},"Amberlea Elementary School",0.661111,0.11666700000000001,0.77777799999999997,698,null,null,560]
[2013,3,4283,"070492000","Pendergast Elementary District",null,{"$f":"\"\"","v":""},null,null,null,null,null,0.70944399999999996]
[2013,3,4237,{"$f":"\"070211000\"","v":"070211000"},"Peoria Unified School District",4989,{"$f":"\"070211101\"","v":"070211101"},"Peoria Elementary School",0.64646499999999996,0.106782,0.753247,693,null,null,522]
[2013,3,4237,"070211000","Peoria Unified School District",4990,{"$f":"\"070211102\"","v":"070211102"},"Ira A Murphy",0.71844699999999995,8.4141999999999995E-2,0.802589,618,null,null,496]
[2013,3,4237,"070211000","Peoria Unified School District",4991,{"$f":"\"070211103\"","v":"070211103"},"Kachina Elementary School",0.56950699999999999,6.0538000000000002E-2,0.63004499999999997,446,null,null,281]
[2013,3,4237,"070211000","Peoria Unified School District",4992,{"$f":"\"070211104\"","v":"070211104"},"Heritage School",0.49858000000000002,8.3807000000000006E-2,0.58238599999999996,704,null,null,410]
[2013,3,4237,"070211000","Peoria Unified School District",4993,{"$f":"\"070211105\"","v":"070211105"},"Pioneer Elementary School",0.53813599999999995,9.9575999999999998E-2,0.63771199999999995,472,null,null,301]
[2013,3,4237,"070211000","Peoria Unified School District",4994,{"$f":"\"070211106\"","v":"070211106"},"Alta Loma School",0.58244399999999996,9.9643999999999996E-2,0.68208800000000003,843,null,null,575]
[2013,3,4237,"070211000","Peoria Unified School District",4995,{"$f":"\"070211107\"","v":"070211107"},"Desert Palms Elementary School",0.58925799999999995,9.9526000000000003E-2,0.68878399999999995,633,null,null,436]
[2013,3,4237,"070211000","Peoria Unified School District",4996,{"$f":"\"070211108\"","v":"070211108"},"Foothills Elementary School",0.41591600000000001,6.4564999999999997E-2,0.48048000000000002,666,null,null,320]
[2013,3,4237,"070211000","Peoria Unified School District",4997,{"$f":"\"070211109\"","v":"070211109"},"Copperwood School",0.32899,8.1433000000000005E-2,0.41042299999999998,921,null,null,378]
[2013,3,4237,"070211000","Peoria Unified School District",4998,{"$f":"\"070211110\"","v":"070211110"},"Sundance Elementary School",0.57123800000000002,8.6551000000000003E-2,0.65778999999999999,751,null,null,494]
[2013,3,4237,"070211000","Peoria Unified School District",4999,{"$f":"\"070211111\"","v":"070211111"},"Cotton Boll School",0.47753400000000001,0.13897599999999999,0.61651,957,null,null,590]
[2013,3,4237,"070211000","Peoria Unified School District",5000,{"$f":"\"070211112\"","v":"070211112"},"Oakwood Elementary School",0.156885,4.9660999999999997E-2,0.20654600000000001,886,null,null,183]
[2013,3,4237,"070211000","Peoria Unified School District",5001,{"$f":"\"070211113\"","v":"070211113"},"Desert Valley Elementary School",0.397924,0.102076,0.5,578,null,null,289]
[2013,3,4237,"070211000","Peoria Unified School District",5002,{"$f":"\"070211114\"","v":"070211114"},"Sahuaro Ranch Elementary School",0.60441400000000001,8.1493999999999997E-2,0.68590799999999996,589,null,null,404]
[2013,3,4237,"070211000","Peoria Unified School District",5003,{"$f":"\"070211115\"","v":"070211115"},"Oasis Elementary School",0.2954,7.6271000000000005E-2,0.37167099999999997,826,null,null,307]
[2013,3,4237,"070211000","Peoria Unified School District",5004,{"$f":"\"070211116\"","v":"070211116"},"Sun Valley Elementary School",0.56698800000000005,8.3600999999999995E-2,0.65058899999999997,933,null,null,607]
[2013,3,4237,"070211000","Peoria Unified School District",5005,{"$f":"\"070211117\"","v":"070211117"},"Sky View Elementary School",0.40298499999999998,0.10281899999999999,0.50580400000000003,603,null,null,305]
[2013,3,4237,"070211000","Peoria Unified School District",5006,{"$f":"\"070211118\"","v":"070211118"},"Apache Elementary School",0.26814300000000002,6.8880999999999998E-2,0.33702300000000002,813,null,null,274]
[2013,3,4237,"070211000","Peoria Unified School District",5007,{"$f":"\"070211119\"","v":"070211119"},"Canyon Elementary School",0.32714599999999999,0.102088,0.429234,431,null,null,185]
[2013,3,4237,"070211000","Peoria Unified School District",5008,{"$f":"\"070211120\"","v":"070211120"},"Marshall Ranch Elementary School",0.37740699999999999,7.8306000000000001E-2,0.45571200000000001,779,null,null,355]
[2013,3,4237,"070211000","Peoria Unified School District",5009,{"$f":"\"070211121\"","v":"070211121"},"Santa Fe Elementary School",0.57407399999999997,0.10052899999999999,0.67460299999999995,756,null,null,510]
[2013,3,4237,"070211000","Peoria Unified School District",5010,{"$f":"\"070211122\"","v":"070211122"},"Paseo Verde Elementary School",0.228438,4.5455000000000002E-2,0.273893,858,null,null,235]
[2013,3,4237,"070211000","Peoria Unified School District",5011,{"$f":"\"070211123\"","v":"070211123"},"Desert Harbor Elementary School",0.23607700000000001,5.2058E-2,0.288136,826,null,null,238]
[2013,3,4237,"070211000","Peoria Unified School District",5012,{"$f":"\"070211124\"","v":"070211124"},"Cheyenne Elementary School",0.63508299999999995,7.1703000000000003E-2,0.70678600000000003,781,null,null,552]
[2013,3,4237,"070211000","Peoria Unified School District",5013,{"$f":"\"070211260\"","v":"070211260"},"Peoria High School",0.47332099999999999,0.100439,0.57376000000000005,1593,null,null,914]
[2013,3,4237,"070211000","Peoria Unified School District",5014,{"$f":"\"070211261\"","v":"070211261"},"Cactus High School",0.32106000000000001,6.9219000000000003E-2,0.39028000000000002,1358,null,null,530]
[2013,3,4237,"070211000","Peoria Unified School District",5015,{"$f":"\"070211262\"","v":"070211262"},"Ironwood High School",0.32013999999999998,6.3126000000000002E-2,0.38326700000000002,1996,null,null,765]
[2013,3,4237,"070211000","Peoria Unified School District",5016,{"$f":"\"070211263\"","v":"070211263"},"Centennial High School",0.262154,5.2907999999999997E-2,0.31506200000000001,2098,null,null,661]
[2013,3,4237,"070211000","Peoria Unified School District",5017,{"$f":"\"070211264\"","v":"070211264"},"Sunrise Mountain High School",0.121116,2.6633E-2,0.14774899999999999,1577,null,null,233]
[2013,3,4237,"070211000","Peoria Unified School District",6005,{"$f":"\"070211125\"","v":"070211125"},"Frontier Elementary School",0.13132199999999999,2.2183000000000001E-2,0.153505,1127,null,null,173]
[2013,3,4237,"070211000","Peoria Unified School District",6231,{"$f":"\"070211266\"","v":"070211266"},"Peoria Transition Center",0.58333299999999999,2.7778000000000001E-2,0.61111099999999996,108,null,null,66]
[2013,3,4237,"070211000","Peoria Unified School District",78955,{"$f":"\"078603002\"","v":"078603002"},"Oasis High School",0.46511599999999997,2.3255999999999999E-2,0.48837199999999997,43,null,null,21]
[2013,3,4237,"070211000","Peoria Unified School District",79222,{"$f":"\"070211127\"","v":"070211127"},"Coyote Hills Elementary School",0.13431599999999999,2.7026999999999999E-2,0.16134299999999999,1221,null,null,197]
[2013,3,4237,"070211000","Peoria Unified School District",79223,{"$f":"\"070211126\"","v":"070211126"},"Country Meadows Elementary School",0.61036800000000002,0.101171,0.711538,1196,null,null,851]
[2013,3,4237,"070211000","Peoria Unified School District",79645,{"$f":"\"070211128\"","v":"070211128"},"Zuni Hills Elementary School",0.27818399999999999,3.8066999999999997E-2,0.31625199999999998,683,null,null,216]
[2013,3,4237,"070211000","Peoria Unified School District",80983,{"$f":"\"078603007\"","v":"078603007"},"C. Doby Middle School",0.73584899999999998,0.113208,0.84905699999999995,106,null,null,90]
[2013,3,4237,"070211000","Peoria Unified School District",81144,{"$f":"\"070211129\"","v":"070211129"},"Parkridge Elementary",0.18220700000000001,5.7313999999999997E-2,0.23952100000000001,1169,null,null,280]
[2013,3,4237,"070211000","Peoria Unified School District",85835,{"$f":"\"070211265\"","v":"070211265"},"Raymond S. Kellis",0.41796,9.9224000000000007E-2,0.51718399999999998,1804,null,null,933]
[2013,3,4237,"070211000","Peoria Unified School District",87520,{"$f":"\"070211267\"","v":"070211267"},"Liberty High School",0.12807399999999999,3.8421999999999998E-2,0.16649600000000001,1952,null,null,325]
[2013,3,4237,"070211000","Peoria Unified School District",88397,{"$f":"\"070211130\"","v":"070211130"},"Vistancia Elementary School",9.8778000000000005E-2,3.1567999999999999E-2,0.13034599999999999,982,null,null,128]
[2013,3,4237,"070211000","Peoria Unified School District",90135,{"$f":"\"070211131\"","v":"070211131"},"Lake Pleasant Elementary",0.149425,7.4074000000000001E-2,0.223499,783,null,null,175]
[2013,3,4237,"070211000","Peoria Unified School District",90400,{"$f":"\"072150002\"","v":"072150002"},"Aurora Day School West",0.48571399999999998,5.7142999999999999E-2,0.54285700000000003,35,null,null,19]
[2013,3,4237,"070211000","Peoria Unified School District",91217,{"$f":"\"070211132\"","v":"070211132"},"Peoria Traditional School",9.9099000000000007E-2,2.2523000000000001E-2,0.12162199999999999,222,null,null,27]
[2013,3,4237,"070211000","Peoria Unified School District",null,{"$f":"\"\"","v":""},null,null,null,null,null,0.42364200000000002]
[2013,3,80130,{"$f":"\"042002000\"","v":"042002000"},"Peridot/Our Saviors Lutheran Elementary School",80131,{"$f":"\"042002001\"","v":"042002001"},"Peridot Lutheran Elementary School",0.62162200000000001,4.0541000000000001E-2,0.66216200000000003,74,null,null,49]
[2013,3,80130,{"$f":"\"042002000\"","v":"042002000"},"Peridot/Our Saviors Lutheran Elementary School",null,{"$f":"\"\"","v":""},null,null,null,null,null,0.66216200000000003]
[2013,3,4338,{"$f":"\"078714000\"","v":"078714000"},"Phoenix Advantage Charter School Inc.",5512,{"$f":"\"078714001\"","v":"078714001"},"Phoenix Advantage Charter School",0.92960699999999996,5.7971000000000002E-2,0.98757799999999996,483,null,null,477]
[2013,3,4338,{"$f":"\"078714000\"","v":"078714000"},"Phoenix Advantage Charter School Inc.",null,{"$f":"\"\"","v":""},null,null,null,null,null,0.98757799999999996]
[2013,3,90273,{"$f":"\"078559000\"","v":"078559000"},"Phoenix Collegiate Academy Inc.",90274,{"$f":"\"078559001\"","v":"078559001"},"Phoenix Collegiate Academy Charter School",0.90635500000000002,6.0200999999999998E-2,0.96655500000000005,299,null,null,289]
[2013,3,90273,{"$f":"\"078559000\"","v":"078559000"},"Phoenix Collegiate Academy Inc.",null,{"$f":"\"\"","v":""},null,null,null,null,null,0.96655500000000005]
[2013,3,80432,{"$f":"\"009102041\"","v":"009102041"},"Phoenix Day School for the Deaf",6396,{"$f":"\"001202041\"","v":"001202041"},"PHX DAY SCH/MD - Closed",0.70460699999999998,0.111111,0.81571800000000005,369,null,null,301]
[2013,3,80432,{"$f":"\"009102041\"","v":"009102041"},"Phoenix Day School for the Deaf",null,{"$f":"\"\"","v":""},null,null,null,null,null,0.81571800000000005]
[2013,3,4340,{"$f":"\"078716000\"","v":"078716000"},"Phoenix Education Management LLC",5515,{"$f":"\"078716001\"","v":"078716001"},"SABIS International",0.79568300000000003,8.7770000000000001E-2,0.88345300000000004,695,null,null,614]
[2013,3,4340,{"$f":"\"078716000\"","v":"078716000"},"Phoenix Education Management, LLC,",null,{"$f":"\"\"","v":""},null,null,null,null,null,0.88345300000000004]
[2013,3,4256,{"$f":"\"070401000\"","v":"070401000"},"Phoenix Elementary District",5195,{"$f":"\"070401101\"","v":"070401101"},"Mary Mcleod Bethune School",0.92195099999999996,5.2033000000000003E-2,0.97398399999999996,615,null,null,599]
[2013,3,4256,"070401000","Phoenix Elementary District",5196,{"$f":"\"070401102\"","v":"070401102"},"Capitol Elementary School",0.88401300000000005,4.7022000000000001E-2,0.93103400000000003,638,null,null,594]
[2013,3,4256,"070401000","Phoenix Elementary District",5197,{"$f":"\"070401104\"","v":"070401104"},"Paul Dunbar Lawrence School",0.87769799999999998,6.2350000000000003E-2,0.94004799999999999,417,null,null,392]
[2013,3,4256,"070401000","Phoenix Elementary District",5198,{"$f":"\"070401105\"","v":"070401105"},"Thomas A Edison School",0.95050900000000005,1.8922999999999999E-2,0.96943199999999996,687,null,null,666]
[2013,3,4256,"070401000","Phoenix Elementary District",5199,{"$f":"\"070401106\"","v":"070401106"},"Ralph Waldo Emerson Elementary School",0.83064499999999997,8.2660999999999998E-2,0.91330599999999995,496,null,null,453]
[2013,3,4256,"070401000","Phoenix Elementary District",5200,{"$f":"\"070401108\"","v":"070401108"},"Garfield School",0.93135000000000001,3.4325000000000001E-2,0.96567499999999995,437,null,null,422]
[2013,3,4256,"070401000","Phoenix Elementary District",5201,{"$f":"\"070401109\"","v":"070401109"},"Magnet Traditional School",0.55133100000000002,0.1673,0.71863100000000002,526,null,null,378]
[2013,3,4256,"070401000","Phoenix Elementary District",5203,{"$f":"\"070401112\"","v":"070401112"},"Maie Bartlett Heard School",0.84281799999999996,6.7751000000000006E-2,0.91056899999999996,738,null,null,672]
[2013,3,4256,"070401000","Phoenix Elementary District",5204,{"$f":"\"070401113\"","v":"070401113"},"Silvestre S Herrera School",0.779528,0.12336,0.902887,762,null,null,688]
[2013,3,4256,"070401000","Phoenix Elementary District",5205,{"$f":"\"070401115\"","v":"070401115"},"Kenilworth Elementary School",0.74654399999999999,0.116743,0.86328700000000003,651,null,null,562]
[2013,3,4256,"070401000","Phoenix Elementary District",5206,{"$f":"\"070401118\"","v":"070401118"},"Lowell Elementary School",0.81497200000000003,6.2147000000000001E-2,0.87711899999999998,708,null,null,621]
[2013,3,4256,"070401000","Phoenix Elementary District",5208,{"$f":"\"070401123\"","v":"070401123"},"Augustus H Shaw Jr School",0.73237200000000002,6.25E-2,0.79487200000000002,624,null,null,496]
[2013,3,4256,"070401000","Phoenix Elementary District",5209,{"$f":"\"070401125\"","v":"070401125"},"Whittier Elementary School",0.86206899999999997,6.7151000000000002E-2,0.92922000000000005,551,null,null,512]
[2013,3,4256,"070401000","Phoenix Elementary District",79616,{"$f":"\"070401130\"","v":"070401130"},"Faith North Elementary School",0.222689,0.105042,0.32773099999999999,238,null,null,78]
[2013,3,4256,"070401000","Phoenix Elementary District",90271,{"$f":"\"078546102\"","v":"078546102"},"ASU Preparatory Academy- Phoenix Elementary",0.63269600000000004,9.5541000000000001E-2,0.72823800000000005,942,null,null,686]
[2013,3,4256,"070401000","Phoenix Elementary District",null,{"$f":"\"\"","v":""},null,null,null,null,null,0.86589099999999997]
[2013,3,4286,{"$f":"\"070510000\"","v":"070510000"},"Phoenix Union High School District",5436,{"$f":"\"070510210\"","v":"070510210"},"Alhambra High School",0.84467899999999996,4.6947999999999997E-2,0.89162799999999998,2556,null,null,2279]
[2013,3,4286,"070510000","Phoenix Union High School District",5437,{"$f":"\"070510220\"","v":"070510220"},"Trevor Browne High School",0.76841400000000004,5.6526E-2,0.82494000000000001,2919,null,null,2408]
[2013,3,4286,"070510000","Phoenix Union High School District",5438,{"$f":"\"070510225\"","v":"070510225"},"Camelback High School",0.835171,3.8588999999999998E-2,0.87375999999999998,1814,null,null,1585]
[2013,3,4286,"070510000","Phoenix Union High School District",5439,{"$f":"\"070510230\"","v":"070510230"},"Central High School",0.84051100000000001,4.2592999999999999E-2,0.88310500000000003,2113,null,null,1866]
[2013,3,4286,"070510000","Phoenix Union High School District",5440,{"$f":"\"070510245\"","v":"070510245"},"Carl Hayden High School",0.877772,4.5384000000000001E-2,0.92315599999999998,1939,null,null,1790]
[2013,3,4286,"070510000","Phoenix Union High School District",5441,{"$f":"\"070510250\"","v":"070510250"},"Maryvale High School",0.81184400000000001,3.7481E-2,0.849325,2668,null,null,2266]
[2013,3,4286,"070510000","Phoenix Union High School District",5442,{"$f":"\"070510255\"","v":"070510255"},"North High School",0.78237500000000004,4.7993000000000001E-2,0.83036799999999999,2417,null,null,2007]
[2013,3,4286,"070510000","Phoenix Union High School District",5443,{"$f":"\"070510260\"","v":"070510260"},"South Mountain High School",0.82772599999999996,2.3202E-2,0.85092800000000002,1724,null,null,1467]
[2013,3,4286,"070510000","Phoenix Union High School District",6248,{"$f":"\"070510212\"","v":"070510212"},"Metro Tech High School",0.81996000000000002,6.0012999999999997E-2,0.87997300000000001,1483,null,null,1305]
[2013,3,4286,"070510000","Phoenix Union High School District",6249,{"$f":"\"070510214\"","v":"070510214"},"Bostrom Alternative Center",0.92281899999999994,3.3556999999999997E-2,0.956376,298,null,null,285]
[2013,3,4286,"070510000","Phoenix Union High School District",78847,{"$f":"\"070510270\"","v":"070510270"},"Cesar Chavez High School",0.71510899999999999,5.7598999999999997E-2,0.77270700000000003,2257,null,null,1744]
[2013,3,4286,"070510000","Phoenix Union High School District",79617,{"$f":"\"070510280\"","v":"070510280"},"Suns-Diamondbacks Education Academy",0.83185799999999999,3.5397999999999999E-2,0.86725699999999994,226,null,null,196]
[2013,3,4286,"070510000","Phoenix Union High School District",88407,{"$f":"\"070510284\"","v":"070510284"},"Phoenix Union Bioscience High School",0.53237400000000001,0.12589900000000001,0.658273,278,null,null,183]
[2013,3,4286,"070510000","Phoenix Union High School District",89571,{"$f":"\"070510290\"","v":"070510290"},"Betty Fairfax High School",0.55524600000000002,9.1518000000000002E-2,0.64676299999999998,1792,null,null,1159]
[2013,3,4286,"070510000","Phoenix Union High School District",89778,{"$f":"\"070510281\"","v":"070510281"},"Franklin Police and Fire High School",0.80866400000000005,9.3863000000000002E-2,0.90252699999999997,277,null,null,250]
[2013,3,4286,"070510000","Phoenix Union High School District",null,{"$f":"\"\"","v":""},null,null,null,null,null,0.83962599999999998]
[2013,3,4452,{"$f":"\"110433000\"","v":"110433000"},"Picacho Elementary District",5947,{"$f":"\"110433133\"","v":"110433133"},"Picacho School",0.69,0.14000000000000001,0.83,215,null,null,166]
[2013,3,4452,{"$f":"\"110433000\"","v":"110433000"},"Picacho Elementary District",null,{"$f":"\"\"","v":""},null,null,null,null,null,0.83]
[2013,3,80136,{"$f":"\"101002000\"","v":"101002000"},"Pima County Doc Work Center",80137,{"$f":"\"101002001\"","v":"101002001"},"Pima County Jail",1,0,1,21,null,null,21]
[2013,3,80136,{"$f":"\"101002000\"","v":"101002000"},"Pima County Doc Work Center",null,{"$f":"\"\"","v":""},null,null,null,null,null,1]
[2013,3,80138,{"$f":"\"101001000\"","v":"101001000"},"Pima County Juvenile Court Center",80139,{"$f":"\"101001001\"","v":"101001001"},"Pima County Juvenile Court",1,0,1,50,null,null,50]
[2013,3,80138,{"$f":"\"101001000\"","v":"101001000"},"Pima County Juvenile Court Center",null,{"$f":"\"\"","v":""},null,null,null,null,null,1]
[2013,3,90536,{"$f":"\"108507000\"","v":"108507000"},"Pima Prevention Partnership",90907,{"$f":"\"108507001\"","v":"108507001"},"Arizona Collegiate High School",0.95698899999999998,0,0.95698899999999998,186,null,null,178]
[2013,3,90536,{"$f":"\"108507000\"","v":"108507000"},"Pima Prevention Partnership",null,{"$f":"\"\"","v":""},null,null,null,null,null,0.95698899999999998]
[2013,3,89864,{"$f":"\"108799000\"","v":"108799000"},"Pima Prevention Partnership dba Pima Partnership Academy",89865,{"$f":"\"108799101\"","v":"108799101"},"Pima Partnership Academy",0.82558100000000001,6.9766999999999996E-2,0.89534899999999995,104,null,null,77]
[2013,3,89864,{"$f":"\"108799000\"","v":"108799000"},"Pima Prevention Partnership dba Pima Partnership Academy",null,{"$f":"\"\"","v":""},null,null,null,null,null,0.89534899999999995]
[2013,3,79959,{"$f":"\"108711000\"","v":"108711000"},"Pima Prevention Partnership dba Pima Partnership School",79960,{"$f":"\"108711201\"","v":"108711201"},"Pima Partnership School",0.86982199999999998,6.5088999999999994E-2,0.93491100000000005,199,null,null,158]
[2013,3,79959,{"$f":"\"108711000\"","v":"108711000"},"Pima Prevention Partnership dba Pima Partnership School",null,{"$f":"\"\"","v":""},null,null,null,null,null,0.93491100000000005]
[2013,3,4220,{"$f":"\"050206000\"","v":"050206000"},"Pima Unified District",4879,{"$f":"\"050199001\"","v":"050199001"},"Dan Hinton Accommodation School",0.67647100000000004,8.8234999999999994E-2,0.764706,34,null,null,26]
[2013,3,4220,{"$f":"\"050206000\"","v":"050206000"},"Pima Unified District",4890,{"$f":"\"050206101\"","v":"050206101"},"Pima Elementary School",0.49261100000000002,0.14532,0.63793100000000003,406,null,null,259]
[2013,3,4220,{"$f":"\"050206000\"","v":"050206000"},"Pima Unified District",4891,{"$f":"\"050206202\"","v":"050206202"},"Pima High School",0.44383600000000001,0.175342,0.61917800000000001,365,null,null,226]
[2013,3,4220,{"$f":"\"050206000\"","v":"050206000"},"Pima Unified District",null,{"$f":"\"\"","v":""},null,null,null,null,null,0.63478199999999996]
[2013,3,79534,{"$f":"\"211022000\"","v":"211022000"},"Pinal County Juvenile Detention",90745,{"$f":"\"111099001\"","v":"111099001"},"Hope School",1,0,1,91,null,null,91]
[2013,3,79534,{"$f":"\"211022000\"","v":"211022000"},"Pinal County Juvenile Detention",null,{"$f":"\"\"","v":""},null,null,null,null,null,1]
[2013,3,80140,{"$f":"\"014009000\"","v":"014009000"},"Pine Springs Day School",80141,{"$f":"\"014012001\"","v":"014012001"},"Pine Springs Day School",0.82222200000000001,0.111111,0.93333299999999997,90,null,null,84]
[2013,3,80140,{"$f":"\"014009000\"","v":"014009000"},"Pine Springs Day School",null,{"$f":"\"\"","v":""},null,null,null,null,null,0.93333299999999997]
[2013,3,4214,{"$f":"\"040312000\"","v":"040312000"},"Pine Strawberry Elementary District",4876,{"$f":"\"040312001\"","v":"040312001"},"Pine Strawberry Elementary School",0.5625,0.125,0.6875,128,null,null,88]
[2013,3,4214,{"$f":"\"040312000\"","v":"040312000"},"Pine Strawberry Elementary District",null,{"$f":"\"\"","v":""},null,null,null,null,null,0.6875]
[2013,3,80375,{"$f":"\"093915000\"","v":"093915000"},"Pinon Community School Board",80376,{"$f":"\"093915001\"","v":"093915001"},"Pinon Community School",0.71428599999999998,0.1,0.81428599999999995,70,null,null,57]
[2013,3,80375,{"$f":"\"093915000\"","v":"093915000"},"Pinon Community School Board",null,{"$f":"\"\"","v":""},null,null,null,null,null,0.81428599999999995]
[2013,3,4390,{"$f":"\"090204000\"","v":"090204000"},"Pinon Unified District",5611,{"$f":"\"090204101\"","v":"090204101"},"Pinon Elementary School",0.84915300000000005,5.5932000000000003E-2,0.90508500000000003,590,null,null,534]
[2013,3,4390,{"$f":"\"090204000\"","v":"090204000"},"Pinon Unified District",5612,{"$f":"\"090204102\"","v":"090204102"},"Pinon Middle School",0.79879900000000004,7.8077999999999995E-2,0.87687700000000002,333,null,null,292]
[2013,3,4390,{"$f":"\"090204000\"","v":"090204000"},"Pinon Unified District",5613,{"$f":"\"090204203\"","v":"090204203"},"Pinon High School",0.78088599999999997,6.5268000000000007E-2,0.84615399999999996,429,null,null,363]
[2013,3,4390,{"$f":"\"090204000\"","v":"090204000"},"Pinon Unified District",null,{"$f":"\"\"","v":""},null,null,null,null,null,0.87943800000000005]
[2013,3,4188,{"$f":"\"020364000\"","v":"020364000"},"Pomerene Elementary District",4798,{"$f":"\"020364101\"","v":"020364101"},"Pomerene Elementary School",0.347107,0.13223099999999999,0.47933900000000002,120,null,null,58]
[2013,3,4188,{"$f":"\"020364000\"","v":"020364000"},"Pomerene Elementary District",null,{"$f":"\"\"","v":""},null,null,null,null,null,0.47933900000000002]
[2013,3,4431,{"$f":"\"108744000\"","v":"108744000"},"Portable Practical Educational Preparation Inc. (PPEP Inc.)",5873,{"$f":"\"108744201\"","v":"108744201"},"PPEP TEC - Celestino Fernandez Learning Center",0.82264199999999998,2.6415000000000001E-2,0.84905699999999995,265,null,null,225]
[2013,3,4431,{"$f":"\"108744000\"","v":"108744000"},"Portable Practical Educational Preparation Inc. (PPEP Inc.)",5878,{"$f":"\"108744206\"","v":"108744206"},"PPEP TEC - Cesar Chavez Learning Center",0.92982500000000001,3.5088000000000001E-2,0.96491199999999999,113,null,null,110]
[2013,3,4431,{"$f":"\"108744000\"","v":"108744000"},"Portable Practical Educational Preparation Inc. (PPEP Inc.)",5879,{"$f":"\"108744207\"","v":"108744207"},"PPEP TEC - Jose Yepez Learning Center",1,0,1,143,null,null,143]
[2013,3,4431,{"$f":"\"108744000\"","v":"108744000"},"Portable Practical Educational Preparation Inc. (PPEP Inc.)",5882,{"$f":"\"108744210\"","v":"108744210"},"PPEP TEC - Victor Soltero Learning Center",0.78947400000000001,7.0175000000000001E-2,0.859649,56,null,null,49]
[2013,3,4431,{"$f":"\"108744000\"","v":"108744000"},"Portable Practical Educational Preparation Inc. (PPEP Inc.)",null,{"$f":"\"\"","v":""},null,null,null,null,null,0.91018200000000005]
[2013,3,79217,{"$f":"\"078670000\"","v":"078670000"},"Precision Academy Systems Inc",10823,{"$f":"\"078670201\"","v":"078670201"},"Precision Academy System Charter School",0.51428600000000002,3.4285999999999997E-2,0.54857100000000003,350,null,null,192]
[2013,3,79217,{"$f":"\"078670000\"","v":"078670000"},"Precision Academy Systems Inc",null,{"$f":"\"\"","v":""},null,null,null,null,null,0.54857100000000003]
[2013,3,4466,{"$f":"\"130201000\"","v":"130201000"},"Prescott Unified District",8128,{"$f":"\"130201012\"","v":"130201012"},"Lincoln Elementary School",0.28484799999999999,6.9696999999999995E-2,0.354545,330,null,null,117]
[2013,3,4466,"130201000","Prescott Unified District",8129,{"$f":"\"130201013\"","v":"130201013"},"Miller Valley School",0.77325600000000005,6.1046999999999997E-2,0.83430199999999999,344,null,null,287]
[2013,3,4466,"130201000","Prescott Unified District",8130,{"$f":"\"130201014\"","v":"130201014"},"Taylor Hicks School",0.34607599999999999,9.4566999999999998E-2,0.44064399999999998,497,null,null,219]
[2013,3,4466,"130201000","Prescott Unified District",8131,{"$f":"\"130201015\"","v":"130201015"},"Washington Traditional School",0.52941199999999999,7.4302999999999994E-2,0.603715,323,null,null,195]
[2013,3,4466,"130201000","Prescott Unified District",8132,{"$f":"\"130201016\"","v":"130201016"},"Abia Judd Elementary School",0.232432,5.2252E-2,0.28468500000000002,555,null,null,158]
[2013,3,4466,"130201000","Prescott Unified District",8133,{"$f":"\"130201050\"","v":"130201050"},"Prescott Mile High Middle School",0.36725000000000002,6.9952E-2,0.43720199999999998,629,null,null,275]
[2013,3,4466,"130201000","Prescott Unified District",8134,{"$f":"\"130201060\"","v":"130201060"},"Granite Mountain Middle School",0.28000000000000003,5.1200000000000002E-2,0.33119999999999999,625,null,null,207]
[2013,3,4466,"130201000","Prescott Unified District",8135,{"$f":"\"130201070\"","v":"130201070"},"Prescott High School",0.21704000000000001,5.1617000000000003E-2,0.26865699999999998,1608,null,null,432]
[2013,3,4466,"130201000","Prescott Unified District",80184,{"$f":"\"139101017\"","v":"139101017"},"Sacred Heart Parish School",0.29530200000000001,0.100671,0.39597300000000002,149,null,null,59]
[2013,3,4466,"130201000","Prescott Unified District",null,{"$f":"\"\"","v":""},null,null,null,null,null,0.38517699999999999]
[2013,3,88317,{"$f":"\"078516000\"","v":"078516000"},"Prescott Valley Charter School",80004,{"$f":"\"078516002\"","v":"078516002"},"Prescott Valley School",0.60126599999999997,0.10126599999999999,0.70253200000000005,158,null,null,111]
[2013,3,88317,{"$f":"\"078516000\"","v":"078516000"},"Prescott Valley Charter School",null,{"$f":"\"\"","v":""},null,null,null,null,null,0.70253200000000005]
[2013,3,4425,{"$f":"\"108778000\"","v":"108778000"},"Presidio School",5865,{"$f":"\"108778201\"","v":"108778201"},"Presidio School",0.58840599999999998,0.13623199999999999,0.724638,345,null,null,250]
[2013,3,4425,{"$f":"\"108778000\"","v":"108778000"},"Presidio School",null,{"$f":"\"\"","v":""},null,null,null,null,null,0.724638]
[2013,3,90539,{"$f":"\"108509000\"","v":"108509000"},"Presidio School Inc.",91153,{"$f":"\"108509301\"","v":"108509301"},"Presidio de las Sierras",0.29166700000000001,3.125E-2,0.32291700000000001,96,null,null,31]
[2013,3,90539,{"$f":"\"108509000\"","v":"108509000"},"Presidio School Inc.",null,{"$f":"\"\"","v":""},null,null,null,null,null,0.32291700000000001]
[2013,3,4511,{"$f":"\"150404000\"","v":"150404000"},"Quartzsite Elementary District",6198,{"$f":"\"150404101\"","v":"150404101"},"Ehrenberg Elementary School",0.84455999999999998,4.6632E-2,0.89119199999999998,193,null,null,172]
[2013,3,4511,{"$f":"\"150404000\"","v":"150404000"},"Quartzsite Elementary District",6199,{"$f":"\"150404102\"","v":"150404102"},"Quartzsite Elementary School",0.95098000000000005,3.9216000000000001E-2,0.99019599999999997,102,null,null,101]
[2013,3,4511,{"$f":"\"150404000\"","v":"150404000"},"Quartzsite Elementary District",null,{"$f":"\"\"","v":""},null,null,null,null,null,0.925423]
[2013,3,4245,{"$f":"\"070295000\"","v":"070295000"},"Queen Creek Unified District",5138,{"$f":"\"070295101\"","v":"070295101"},"Queen Creek Elementary School",0.30385899999999999,3.2154000000000002E-2,0.33601300000000001,364,null,null,209]
[2013,3,4245,"070295000","Queen Creek Unified District",5139,{"$f":"\"070295102\"","v":"070295102"},"Desert Mountain Elementary",0.15942000000000001,3.5196999999999999E-2,0.19461700000000001,469,null,null,94]
[2013,3,4245,"070295000","Queen Creek Unified District",5140,{"$f":"\"070295106\"","v":"070295106"},"Queen Creek Middle School",0.26602999999999999,7.2305999999999995E-2,0.33833600000000003,725,null,null,248]
[2013,3,4245,"070295000","Queen Creek Unified District",5141,{"$f":"\"070295201\"","v":"070295201"},"Queen Creek High School",0.218497,6.7629999999999996E-2,0.28612700000000002,1675,null,null,495]
[2013,3,4245,"070295000","Queen Creek Unified District",5537,{"$f":"\"078754102\"","v":"078754102"},"Benjamin Franklin Charter School - Queen Creek",0.19720499999999999,8.5403999999999994E-2,0.282609,644,null,null,182]
[2013,3,4245,"070295000","Queen Creek Unified District",80439,{"$f":"\"070295103\"","v":"070295103"},"Jack Barnes Elementary School",0.26403300000000002,7.6923000000000005E-2,0.34095599999999998,460,null,null,164]
[2013,3,4245,"070295000","Queen Creek Unified District",87478,{"$f":"\"070295104\"","v":"070295104"},"Frances Brandon-Pickett Elementary",0.32142900000000002,8.5317000000000004E-2,0.406746,495,null,null,205]
[2013,3,4245,"070295000","Queen Creek Unified District",88341,{"$f":"\"078754104\"","v":"078754104"},"Benjamin Franklin Charter School - Power",0.119767,2.9069999999999999E-2,0.148837,860,null,null,128]
[2013,3,4245,"070295000","Queen Creek Unified District",89912,{"$f":"\"070295121\"","v":"070295121"},"Newell Barney Middle School",0.26631199999999999,6.2583E-2,0.32889499999999999,737,null,null,247]
[2013,3,4245,"070295000","Queen Creek Unified District",90325,{"$f":"\"078768102\"","v":"078768102"},"Cambridge Academy East",0.11944399999999999,0.05,0.16944400000000001,360,null,null,61]
[2013,3,4245,"070295000","Queen Creek Unified District",null,{"$f":"\"\"","v":""},null,null,null,null,null,0.28129500000000002]
[2013,3,79716,{"$f":"\"072026000\"","v":"072026000"},"Queen of Peace",79717,{"$f":"\"072026001\"","v":"072026001"},"Queen of Peace School",0.55191299999999999,0.13661200000000001,0.68852500000000005,183,null,null,126]
[2013,3,79716,{"$f":"\"072026000\"","v":"072026000"},"Queen of Peace",null,{"$f":"\"\"","v":""},null,null,null,null,null,0.68852500000000005]
[2013,3,4438,{"$f":"\"110203000\"","v":"110203000"},"Ray Unified District",5898,{"$f":"\"110203101\"","v":"110203101"},"Ray Elementary School",0.45308300000000001,0.16622000000000001,0.61930300000000005,373,null,null,231]
[2013,3,4438,{"$f":"\"110203000\"","v":"110203000"},"Ray Unified District",5900,{"$f":"\"110203202\"","v":"110203202"},"Ray High School",0.34594599999999998,0.124324,0.47027000000000002,185,null,null,87]
[2013,3,4438,{"$f":"\"110203000\"","v":"110203000"},"Ray Unified District",null,{"$f":"\"\"","v":""},null,null,null,null,null,0.56989199999999995]
[2013,3,4159,{"$f":"\"010227000\"","v":"010227000"},"Red Mesa Unified District",4738,{"$f":"\"010227101\"","v":"010227101"},"Red Mesa Elementary School",0.82835800000000004,9.5148999999999997E-2,0.92350699999999997,536,null,null,495]
[2013,3,4159,{"$f":"\"010227000\"","v":"010227000"},"Red Mesa Unified District",4739,{"$f":"\"010227102\"","v":"010227102"},"Round Rock Elementary School",0.881579,7.2368000000000002E-2,0.95394699999999999,152,null,null,145]
[2013,3,4159,{"$f":"\"010227000\"","v":"010227000"},"Red Mesa Unified District",88386,{"$f":"\"010227205\"","v":"010227205"},"Red Valley/Cove High School",0.71831,0.140845,0.859155,71,null,null,61]
[2013,3,4159,{"$f":"\"010227000\"","v":"010227000"},"Red Mesa Unified District",null,{"$f":"\"\"","v":""},null,null,null,null,null,0.92358300000000004]
[2013,3,4447,{"$f":"\"110405000\"","v":"110405000"},"Red Rock Elementary District",5938,{"$f":"\"110405101\"","v":"110405101"},"Red Rock Elementary School",0.39935100000000001,0.16233800000000001,0.56168799999999997,308,null,null,173]
[2013,3,4447,{"$f":"\"110405000\"","v":"110405000"},"Red Rock Elementary District",null,{"$f":"\"\"","v":""},null,null,null,null,null,0.56168799999999997]
[2013,3,90275,{"$f":"\"078560000\"","v":"078560000"},"Research Based Education Corporation",90276,{"$f":"\"078560001\"","v":"078560001"},"Paulden Community School",0.78676500000000005,0.132353,0.91911799999999999,137,null,null,125]
[2013,3,90275,{"$f":"\"078560000\"","v":"078560000"},"Research Based Education Corporation",null,{"$f":"\"\"","v":""},null,null,null,null,null,0.91911799999999999]
[2013,3,4257,{"$f":"\"070402000\"","v":"070402000"},"Riverside Elementary District",5210,{"$f":"\"070402101\"","v":"070402101"},"Riverside Traditional School",0.86007500000000003,6.5298999999999996E-2,0.925373,530,null,null,496]
[2013,3,4257,{"$f":"\"070402000\"","v":"070402000"},"Riverside Elementary District",84660,{"$f":"\"070402102\"","v":"070402102"},"Kings Ridge School",0.87114800000000003,7.2829000000000005E-2,0.94397799999999998,352,null,null,337]
[2013,3,4257,{"$f":"\"070402000\"","v":"070402000"},"Riverside Elementary District",null,{"$f":"\"\"","v":""},null,null,null,null,null,0.93279800000000002]
[2013,3,80150,{"$f":"\"013904000\"","v":"013904000"},"Rock Point Community School",80151,{"$f":"\"013904001\"","v":"013904001"},"Rock Point Community School",0.68556700000000004,4.6392000000000003E-2,0.73195900000000003,383,null,null,284]
[2013,3,80150,{"$f":"\"013904000\"","v":"013904000"},"Rock Point Community School",null,{"$f":"\"\"","v":""},null,null,null,null,null,0.73195900000000003]
[2013,3,9692,{"$f":"\"094002000\"","v":"094002000"},"Rocky Ridge Boarding School",80414,{"$f":"\"033904006\"","v":"033904006"},"Rocky Ridge Boarding School",0.81739099999999998,4.3478000000000003E-2,0.86087000000000002,115,null,null,99]
[2013,3,9692,{"$f":"\"094002000\"","v":"094002000"},"Rocky Ridge Boarding School",null,{"$f":"\"\"","v":""},null,null,null,null,null,0.86087000000000002]
[2013,3,4279,{"$f":"\"070466000\"","v":"070466000"},"Roosevelt Elementary District",5363,{"$f":"\"070466002\"","v":"070466002"},"Cesar E Chavez Community School",0.95714299999999997,2.2449E-2,0.97959200000000002,490,null,null,480]
[2013,3,4279,"070466000","Roosevelt Elementary District",5364,{"$f":"\"070466003\"","v":"070466003"},"Percy L Julian School",0.953237,2.0383999999999999E-2,0.97362099999999996,833,null,null,812]
[2013,3,4279,"070466000","Roosevelt Elementary District",5365,{"$f":"\"070466004\"","v":"070466004"},"Sunland Elementary School",0.878521,5.1055999999999997E-2,0.92957699999999999,565,null,null,528]
[2013,3,4279,"070466000","Roosevelt Elementary District",5367,{"$f":"\"070466006\"","v":"070466006"},"Valley View School",0.848306,7.6582999999999998E-2,0.92488999999999999,671,null,null,628]
[2013,3,4279,"070466000","Roosevelt Elementary District",5368,{"$f":"\"070466007\"","v":"070466007"},"C J Jorgensen School",0.873394,4.5872000000000003E-2,0.91926600000000003,541,null,null,501]
[2013,3,4279,"070466000","Roosevelt Elementary District",5370,{"$f":"\"070466009\"","v":"070466009"},"Rose Linda School",0.94579400000000002,3.1775999999999999E-2,0.97757000000000005,529,null,null,523]
[2013,3,4279,"070466000","Roosevelt Elementary District",5371,{"$f":"\"070466011\"","v":"070466011"},"Martin Luther King Jr Elementary School",0.795964,4.4843000000000001E-2,0.84080699999999997,446,null,null,375]
[2013,3,4279,"070466000","Roosevelt Elementary District",5372,{"$f":"\"070466012\"","v":"070466012"},"T G Barr School",0.90085499999999996,4.1026E-2,0.94188000000000005,543,null,null,551]
[2013,3,4279,"070466000","Roosevelt Elementary District",5373,{"$f":"\"070466013\"","v":"070466013"},"V H Lassen Elementary School",0.91148799999999996,6.0263999999999998E-2,0.97175100000000003,530,null,null,516]
[2013,3,4279,"070466000","Roosevelt Elementary District",5374,{"$f":"\"070466014\"","v":"070466014"},"John F Kennedy Elementary School",0.92869900000000005,2.6738000000000001E-2,0.95543699999999998,561,null,null,536]
[2013,3,4279,"070466000","Roosevelt Elementary District",5375,{"$f":"\"070466015\"","v":"070466015"},"Amy L. Houston Academy",0.81481499999999996,3.7037E-2,0.85185200000000005,132,null,null,115]
[2013,3,4279,"070466000","Roosevelt Elementary District",5376,{"$f":"\"070466016\"","v":"070466016"},"C O Greenfield School",0.915663,7.0568000000000006E-2,0.98623099999999997,579,null,null,573]
[2013,3,4279,"070466000","Roosevelt Elementary District",5377,{"$f":"\"070466017\"","v":"070466017"},"Ignacio Conchos School",0.87472499999999997,9.2308000000000001E-2,0.96703300000000003,454,null,null,440]
[2013,3,4279,"070466000","Roosevelt Elementary District",5378,{"$f":"\"070466018\"","v":"070466018"},"John R Davis School",0.94128400000000001,3.4861999999999997E-2,0.97614699999999999,535,null,null,532]
[2013,3,4279,"070466000","Roosevelt Elementary District",5379,{"$f":"\"070466019\"","v":"070466019"},"Maxine O Bush Elementary School",0.91503299999999999,3.4858E-2,0.94989100000000004,458,null,null,436]
[2013,3,4279,"070466000","Roosevelt Elementary District",5380,{"$f":"\"070466020\"","v":"070466020"},"Southwest Elementary School",0.85951900000000003,5.7300999999999998E-2,0.916821,502,null,null,496]
[2013,3,4279,"070466000","Roosevelt Elementary District",79012,{"$f":"\"070466022\"","v":"070466022"},"Cloves C Campbell Sr Elementary School",0.81756799999999996,8.6149000000000003E-2,0.90371599999999996,590,null,null,535]
[2013,3,4279,"070466000","Roosevelt Elementary District",79013,{"$f":"\"070466021\"","v":"070466021"},"Ed & Verma Pastor Elementary School",0.87909000000000004,5.8320999999999998E-2,0.93741099999999999,701,null,null,659]
[2013,3,4279,"070466000","Roosevelt Elementary District",87883,{"$f":"\"070466024\"","v":"070466024"},"Bernard Black Elementary School",0.78022000000000002,8.6813000000000001E-2,0.86703300000000005,898,null,null,789]
[2013,3,4279,"070466000","Roosevelt Elementary District",null,{"$f":"\"\"","v":""},null,null,null,null,null,0.93746099999999999]
[2013,3,87399,{"$f":"\"078508000\"","v":"078508000"},"Rosefield Charter Elementary School Inc.",87400,{"$f":"\"078508101\"","v":"078508101"},"Imagine Rosefield",0.262517,8.1190999999999999E-2,0.34370800000000001,739,null,null,254]
[2013,3,87399,{"$f":"\"078508000\"","v":"078508000"},"Rosefield Charter Elementary School Inc.",null,{"$f":"\"\"","v":""},null,null,null,null,null,0.34370800000000001]
[2013,3,8477,{"$f":"\"014001000\"","v":"014001000"},"Rough Rock School Board Inc.",78994,{"$f":"\"014001201\"","v":"014001201"},"Rough Rock High School",0.86024100000000003,5.7831E-2,0.918072,390,null,null,381]
[2013,3,8477,{"$f":"\"014001000\"","v":"014001000"},"Rough Rock School Board Inc.",null,{"$f":"\"\"","v":""},null,null,null,null,null,0.918072]
[2013,3,4155,{"$f":"\"010210000\"","v":"010210000"},"Round Valley Unified District",4719,{"$f":"\"010210102\"","v":"010210102"},"Round Valley Elementary School",0.466312,0.13652500000000001,0.60283699999999996,564,null,null,340]
[2013,3,4155,{"$f":"\"010210000\"","v":"010210000"},"Round Valley Unified District",4720,{"$f":"\"010210103\"","v":"010210103"},"Round Valley Middle School",0.43814399999999998,0.13917499999999999,0.57732000000000006,388,null,null,224]
[2013,3,4155,{"$f":"\"010210000\"","v":"010210000"},"Round Valley Unified District",4721,{"$f":"\"010210210\"","v":"010210210"},"Round Valley High School",0.34825899999999999,8.2089999999999996E-2,0.43034800000000001,402,null,null,173]
[2013,3,4155,{"$f":"\"010210000\"","v":"010210000"},"Round Valley Unified District",null,{"$f":"\"\"","v":""},null,null,null,null,null,0.54431300000000005]
[2013,3,4449,{"$f":"\"110418000\"","v":"110418000"},"Sacaton Elementary District",5943,{"$f":"\"110418001\"","v":"110418001"},"Sacaton Elementary",0.79677399999999998,4.5161E-2,0.84193499999999999,310,null,null,261]
[2013,3,4449,{"$f":"\"110418000\"","v":"110418000"},"Sacaton Elementary District",5944,{"$f":"\"110418002\"","v":"110418002"},"Sacaton Middle School",0.80645199999999995,3.7634000000000001E-2,0.844086,186,null,null,157]
[2013,3,4449,{"$f":"\"110418000\"","v":"110418000"},"Sacaton Elementary District",null,{"$f":"\"\"","v":""},null,null,null,null,null,0.84274099999999996]
[2013,3,80467,{"$f":"\"122002000\"","v":"122002000"},"Sacred Heart School",80468,{"$f":"\"122002001\"","v":"122002001"},"Sacred Heart School",0.87301600000000001,8.4655999999999995E-2,0.95767199999999997,189,null,null,181]
[2013,3,80467,{"$f":"\"122002000\"","v":"122002000"},"Sacred Heart School",null,{"$f":"\"\"","v":""},null,null,null,null,null,0.95767199999999997]
[2013,3,4254,{"$f":"\"070290000\"","v":"070290000"},"Saddle Mountain Unified School District",5192,{"$f":"\"070290101\"","v":"070290101"},"Ruth Fisher Elementary School",0.78133300000000006,5.3332999999999998E-2,0.83466700000000005,748,null,null,626]
[2013,3,4254,{"$f":"\"070290000\"","v":"070290000"},"Saddle Mountain Unified School District",85819,{"$f":"\"070290002\"","v":"070290002"},"Tonopah Valley High School",0.56498700000000002,7.6923000000000005E-2,0.64190999999999998,372,null,null,242]
[2013,3,4254,{"$f":"\"070290000\"","v":"070290000"},"Saddle Mountain Unified School District",89596,{"$f":"\"070290102\"","v":"070290102"},"Tartesso Elementary School",0.368421,0.123839,0.49225999999999998,321,null,null,159]
[2013,3,4254,{"$f":"\"070290000\"","v":"070290000"},"Saddle Mountain Unified School District",null,{"$f":"\"\"","v":""},null,null,null,null,null,0.70862999999999998]
[2013,3,4218,{"$f":"\"050201000\"","v":"050201000"},"Safford Unified District",4881,{"$f":"\"050201100\"","v":"050201100"},"Dorothy Stinson School",0.53621200000000002,7.7993999999999994E-2,0.61420600000000003,718,null,null,441]
[2013,3,4218,"050201000","Safford Unified District",4882,{"$f":"\"050201101\"","v":"050201101"},"Lafe Nelson School",0.62361599999999995,8.4871000000000002E-2,0.70848699999999998,542,null,null,384]
[2013,3,4218,"050201000","Safford Unified District",4883,{"$f":"\"050201102\"","v":"050201102"},"Safford Middle School",0.49390200000000001,9.7560999999999995E-2,0.59146299999999996,490,null,null,291]
[2013,3,4218,"050201000","Safford Unified District",4884,{"$f":"\"050201200\"","v":"050201200"},"Safford High School",0.37082799999999999,6.7985000000000004E-2,0.43881300000000001,803,null,null,355]
[2013,3,4218,"050201000","Safford Unified District",4885,{"$f":"\"050201201\"","v":"050201201"},"Mt Graham High School",0.50694399999999995,9.7222000000000003E-2,0.60416700000000001,141,null,null,87]
[2013,3,4218,"050201000","Safford Unified District",79780,{"$f":"\"050201103\"","v":"050201103"},"Ruth Powell Elementary School",0.50634900000000005,9.8413E-2,0.60476200000000002,630,null,null,381]
[2013,3,4218,"050201000","Safford Unified District",null,{"$f":"\"\"","v":""},null,null,null,null,null,0.58163900000000002]
[2013,3,89414,{"$f":"\"078688000\"","v":"078688000"},"Sage Academy Inc.",89415,{"$f":"\"078688101\"","v":"078688101"},"Sage Academy",0.48,0.112,0.59199999999999997,125,null,null,74]
[2013,3,89414,{"$f":"\"078688000\"","v":"078688000"},"Sage Academy Inc.",null,{"$f":"\"\"","v":""},null,null,null,null,null,0.59199999999999997]
[2013,3,4411,{"$f":"\"100230000\"","v":"100230000"},"Sahuarita Unified District",5840,{"$f":"\"100230101\"","v":"100230101"},"Sahuarita Primary School",0.32953900000000003,7.6965000000000006E-2,0.40650399999999998,1845,null,null,750]
[2013,3,4411,"100230000","Sahuarita Unified District",5841,{"$f":"\"100230102\"","v":"100230102"},"Sopori Elementary School",0.75961500000000004,6.7308000000000007E-2,0.82692299999999996,208,null,null,172]
[2013,3,4411,"100230000","Sahuarita Unified District",5843,{"$f":"\"100230204\"","v":"100230204"},"Sahuarita High School",0.31370599999999998,8.5278999999999994E-2,0.39898499999999998,985,null,null,393]
[2013,3,4411,"100230000","Sahuarita Unified District",88387,{"$f":"\"100230106\"","v":"100230106"},"Anza Trail",0.29938300000000001,5.7098999999999997E-2,0.35648099999999999,1296,null,null,462]
[2013,3,4411,"100230000","Sahuarita Unified District",90824,{"$f":"\"100230205\"","v":"100230205"},"Walden Grove High School",0.25316499999999997,6.6456000000000001E-2,0.31962000000000002,632,null,null,202]
[2013,3,4411,"100230000","Sahuarita Unified District",91338,{"$f":"\"100230104\"","v":"100230104"},"Copper View Elementary School",0.19395899999999999,6.6772999999999999E-2,0.26073099999999999,629,null,null,164]
[2013,3,4411,"100230000","Sahuarita Unified District",null,{"$f":"\"\"","v":""},null,null,null,null,null,0.38302000000000003]
[2013,3,4514,{"$f":"\"150430000\"","v":"150430000"},"Salome Consolidated Elementary District",6202,{"$f":"\"150430101\"","v":"150430101"},"Salome Elementary School",0.77049199999999995,8.1966999999999998E-2,0.85245899999999997,113,null,null,104]
[2013,3,4514,{"$f":"\"150430000\"","v":"150430000"},"Salome Consolidated Elementary District",null,{"$f":"\"\"","v":""},null,null,null,null,null,0.85245899999999997]
[2013,3,80152,{"$f":"\"102006000\"","v":"102006000"},"Salpointe Catholic High School",80153,{"$f":"\"102006001\"","v":"102006001"},"Salpointe Catholic High School",6.3477000000000006E-2,5.8878E-2,0.12235500000000001,1087,null,null,133]
[2013,3,80152,{"$f":"\"102006000\"","v":"102006000"},"Salpointe Catholic High School",null,{"$f":"\"\"","v":""},null,null,null,null,null,0.12235500000000001]
[2013,3,4320,{"$f":"\"078656000\"","v":"078656000"},"Salt River Pima-Maricopa  Community Schools",5489,{"$f":"\"078656001\"","v":"078656001"},"Salt River High School",0.55601699999999998,3.3195000000000002E-2,0.58921199999999996,241,null,null,142]
[2013,3,4320,{"$f":"\"078656000\"","v":"078656000"},"Salt River Pima-Maricopa  Community Schools",81170,{"$f":"\"104001010\"","v":"104001010"},"Salt River Elementary School",0.58313800000000005,3.9813000000000001E-2,0.62295100000000003,427,null,null,266]
[2013,3,4320,{"$f":"\"078656000\"","v":"078656000"},"Salt River Pima-Maricopa  Community Schools",81172,{"$f":"\"079101001\"","v":"079101001"},"Early Childhood Education Center",0.96093799999999996,0,0.96093799999999996,256,null,null,246]
[2013,3,4320,{"$f":"\"078656000\"","v":"078656000"},"Salt River Pima-Maricopa  Community Schools",90159,{"$f":"\"078656002\"","v":"078656002"},"Salt River Accelerated Learning Academy",0.31578899999999999,5.2631999999999998E-2,0.368421,38,null,null,14]
[2013,3,4320,{"$f":"\"078656000\"","v":"078656000"},"Salt River Pima-Maricopa  Community Schools",null,{"$f":"\"\"","v":""},null,null,null,null,null,0.69438699999999998]
[2013,3,4210,{"$f":"\"040220000\"","v":"040220000"},"San Carlos Unified District",4864,{"$f":"\"040220202\"","v":"040220202"},"San Carlos High School",0.72924900000000004,6.1265E-2,0.79051400000000005,506,null,null,400]
[2013,3,4210,{"$f":"\"040220000\"","v":"040220000"},"San Carlos Unified District",5989,{"$f":"\"040220104\"","v":"040220104"},"Rice Elementary School",0.84354499999999999,4.7045999999999998E-2,0.89059100000000002,910,null,null,814]
[2013,3,4210,{"$f":"\"040220000\"","v":"040220000"},"San Carlos Unified District",null,{"$f":"\"\"","v":""},null,null,null,null,null,0.85482899999999995]
[2013,3,85926,{"$f":"\"101908000\"","v":"101908000"},"San Miguel of Tucson Corp.",85927,{"$f":"\"101908001\"","v":"101908001"},"San Miguel Catholic High School",0.51,0.15,0.66,300,null,null,198]
[2013,3,85926,{"$f":"\"101908000\"","v":"101908000"},"San Miguel of Tucson Corp.",null,{"$f":"\"\"","v":""},null,null,null,null,null,0.66]
[2013,3,4172,{"$f":"\"020218000\"","v":"020218000"},"San Simon Unified District",4760,{"$f":"\"020218001\"","v":"020218001"},"San Simon School",0.52066100000000004,9.9173999999999998E-2,0.61983500000000002,121,null,null,75]
[2013,3,4172,{"$f":"\"020218000\"","v":"020218000"},"San Simon Unified District",null,{"$f":"\"\"","v":""},null,null,null,null,null,0.61983500000000002]
[2013,3,80154,{"$f":"\"102007000\"","v":"102007000"},"San Xavier Mission School",80155,{"$f":"\"102007001\"","v":"102007001"},"San Xavier Mission School",0.66406299999999996,0.125,0.78906299999999996,128,null,null,101]
[2013,3,80154,{"$f":"\"102007000\"","v":"102007000"},"San Xavier Mission School",null,{"$f":"\"\"","v":""},null,null,null,null,null,0.78906299999999996]
[2013,3,4156,{"$f":"\"010218000\"","v":"010218000"},"Sanders Unified District",4722,{"$f":"\"010218001\"","v":"010218001"},"Sanders Elementary School",0.86538499999999996,4.3956000000000002E-2,0.90934099999999995,364,null,null,331]
[2013,3,4156,{"$f":"\"010218000\"","v":"010218000"},"Sanders Unified District",4723,{"$f":"\"010218002\"","v":"010218002"},"Sanders Middle School",0.85520399999999996,4.0724000000000003E-2,0.89592799999999995,221,null,null,198]
[2013,3,4156,{"$f":"\"010218000\"","v":"010218000"},"Sanders Unified District",4724,{"$f":"\"010218003\"","v":"010218003"},"Valley High School",0.827206,4.7794000000000003E-2,0.875,272,null,null,238]
[2013,3,4156,{"$f":"\"010218000\"","v":"010218000"},"Sanders Unified District",null,{"$f":"\"\"","v":""},null,null,null,null,null,0.89498200000000006]
[2013,3,4459,{"$f":"\"120328000\"","v":"120328000"},"Santa Cruz Elementary District",5967,{"$f":"\"120328101\"","v":"120328101"},"Little Red Schoolhouse",0.61494300000000002,0.206897,0.82183899999999999,174,null,null,143]
[2013,3,4459,{"$f":"\"120328000\"","v":"120328000"},"Santa Cruz Elementary District",null,{"$f":"\"\"","v":""},null,null,null,null,null,0.82183899999999999]
[2013,3,4458,{"$f":"\"120235000\"","v":"120235000"},"Santa Cruz Valley Unified District",5963,{"$f":"\"120235110\"","v":"120235110"},"San Cayetano Elementary School",0.64285700000000001,9.8639000000000004E-2,0.74149699999999996,588,null,null,436]
[2013,3,4458,"120235000","Santa Cruz Valley Unified District",5964,{"$f":"\"120235120\"","v":"120235120"},"Mountain View School",0.78030299999999997,7.0075999999999999E-2,0.850379,528,null,null,449]
[2013,3,4458,"120235000","Santa Cruz Valley Unified District",5965,{"$f":"\"120235130\"","v":"120235130"},"Calabasas Middle School",0.72446600000000005,0.109264,0.83372900000000005,421,null,null,351]
[2013,3,4458,"120235000","Santa Cruz Valley Unified District",5966,{"$f":"\"120235200\"","v":"120235200"},"Rio Rico High School",0.65131600000000001,0.105263,0.756579,1064,null,null,805]
[2013,3,4458,"120235000","Santa Cruz Valley Unified District",81128,{"$f":"\"120235115\"","v":"120235115"},"Pena Blanca Elementary School",0.72209000000000001,0.10213800000000001,0.82422799999999996,421,null,null,347]
[2013,3,4458,"120235000","Santa Cruz Valley Unified District",89775,{"$f":"\"120235140\"","v":"120235140"},"Coatimundi Middle School",0.57960199999999995,0.104478,0.68408000000000002,402,null,null,275]
[2013,3,4458,"120235000","Santa Cruz Valley Unified District",null,{"$f":"\"\"","v":""},null,null,null,null,null,0.77774500000000002]
[2013,3,4454,{"$f":"\"110540000\"","v":"110540000"},"Santa Cruz Valley Union High School District",5951,{"$f":"\"110540001\"","v":"110540001"},"Santa Cruz Valley Union High School",0.75714300000000001,7.4286000000000005E-2,0.83142899999999997,350,null,null,291]
[2013,3,4454,{"$f":"\"110540000\"","v":"110540000"},"Santa Cruz Valley Union High School District",null,{"$f":"\"\"","v":""},null,null,null,null,null,0.83142899999999997]
[2013,3,85454,{"$f":"\"108719000\"","v":"108719000"},"Satori Inc.",85455,{"$f":"\"108719101\"","v":"108719101"},"Satori Charter School",0.35882399999999998,8.2352999999999996E-2,0.44117600000000001,170,null,null,75]
[2013,3,85454,{"$f":"\"108719000\"","v":"108719000"},"Satori Inc.",null,{"$f":"\"\"","v":""},null,null,null,null,null,0.44117600000000001]
[2013,3,4240,{"$f":"\"070248000\"","v":"070248000"},"Scottsdale Unified District",5043,{"$f":"\"070248102\"","v":"070248102"},"Cochise Elementary School",4.9154999999999997E-2,1.5361E-2,6.4516000000000004E-2,651,null,null,42]
[2013,3,4240,"070248000","Scottsdale Unified District",5044,{"$f":"\"070248103\"","v":"070248103"},"Tavan Elementary School",0.63320900000000002,5.9479999999999998E-2,0.692689,805,null,null,559]
[2013,3,4240,"070248000","Scottsdale Unified District",5045,{"$f":"\"070248107\"","v":"070248107"},"Kiva Elementary School",0.100457,1.9786999999999999E-2,0.120244,657,null,null,79]
[2013,3,4240,"070248000","Scottsdale Unified District",5046,{"$f":"\"070248108\"","v":"070248108"},"Arcadia Neighborhood Learning Center",0.393762,4.2885E-2,0.43664700000000001,511,null,null,224]
[2013,3,4240,"070248000","Scottsdale Unified District",5047,{"$f":"\"070248109\"","v":"070248109"},"Tonalea Elementary School",0.75551800000000002,5.7724999999999999E-2,0.81324300000000005,587,null,null,479]
[2013,3,4240,"070248000","Scottsdale Unified District",5048,{"$f":"\"070248110\"","v":"070248110"},"Pima Elementary School",0.41184599999999999,8.5399000000000003E-2,0.49724499999999999,721,null,null,361]
[2013,3,4240,"070248000","Scottsdale Unified District",5049,{"$f":"\"070248112\"","v":"070248112"},"Hopi Elementary School",0.120627,2.1713E-2,0.14233999999999999,829,null,null,118]
[2013,3,4240,"070248000","Scottsdale Unified District",5050,{"$f":"\"070248113\"","v":"070248113"},"Navajo Elementary School",0.53488400000000003,9.3022999999999995E-2,0.62790699999999999,559,null,null,351]
[2013,3,4240,"070248000","Scottsdale Unified District",5051,{"$f":"\"070248114\"","v":"070248114"},"Hohokam Traditional School",0.58561600000000003,0.121575,0.70719200000000004,579,null,null,413]
[2013,3,4240,"070248000","Scottsdale Unified District",5052,{"$f":"\"070248115\"","v":"070248115"},"Yavapai Elementary School",0.76104700000000003,0.11293,0.873977,607,null,null,534]
[2013,3,4240,"070248000","Scottsdale Unified District",5053,{"$f":"\"070248120\"","v":"070248120"},"Pueblo Elementary School",0.262519,3.9454000000000003E-2,0.30197299999999999,659,null,null,199]
[2013,3,4240,"070248000","Scottsdale Unified District",5054,{"$f":"\"070248121\"","v":"070248121"},"Cherokee Elementary School",7.4841000000000005E-2,1.9108E-2,9.3949000000000005E-2,628,null,null,59]
[2013,3,4240,"070248000","Scottsdale Unified District",5055,{"$f":"\"070248123\"","v":"070248123"},"Laguna Elementary School",8.9744000000000004E-2,1.7628000000000001E-2,0.107372,623,null,null,67]
[2013,3,4240,"070248000","Scottsdale Unified District",5056,{"$f":"\"070248124\"","v":"070248124"},"Sequoya Elementary School",0.14902000000000001,3.5293999999999999E-2,0.18431400000000001,505,null,null,94]
[2013,3,4240,"070248000","Scottsdale Unified District",5057,{"$f":"\"070248125\"","v":"070248125"},"Redfield Elementary School",0.164912,2.1052999999999999E-2,0.18596499999999999,569,null,null,106]
[2013,3,4240,"070248000","Scottsdale Unified District",5059,{"$f":"\"070248127\"","v":"070248127"},"Cheyenne Traditional Elementary School",2.0916000000000001E-2,1.0956E-2,3.1872999999999999E-2,1004,null,null,32]
[2013,3,4240,"070248000","Scottsdale Unified District",5060,{"$f":"\"070248161\"","v":"070248161"},"Supai Middle School",0.72138199999999997,7.9913999999999999E-2,0.80129600000000001,460,null,null,371]
[2013,3,4240,"070248000","Scottsdale Unified District",5061,{"$f":"\"070248164\"","v":"070248164"},"Desert Canyon Middle School",0.15251600000000001,2.9874000000000001E-2,0.18239,636,null,null,116]
[2013,3,4240,"070248000","Scottsdale Unified District",5062,{"$f":"\"070248165\"","v":"070248165"},"Ingleside Middle School",0.39612199999999997,6.2327E-2,0.458449,719,null,null,331]
[2013,3,4240,"070248000","Scottsdale Unified District",5063,{"$f":"\"070248166\"","v":"070248166"},"Mountainside Middle School",6.4792000000000002E-2,2.3227000000000001E-2,8.8020000000000001E-2,818,null,null,72]
[2013,3,4240,"070248000","Scottsdale Unified District",5064,{"$f":"\"070248167\"","v":"070248167"},"Mohave Middle School",0.30976399999999998,6.5656999999999993E-2,0.375421,590,null,null,223]
[2013,3,4240,"070248000","Scottsdale Unified District",5065,{"$f":"\"070248169\"","v":"070248169"},"Cocopah Middle School",7.0022000000000001E-2,2.954E-2,9.9561999999999998E-2,912,null,null,91]
[2013,3,4240,"070248000","Scottsdale Unified District",5066,{"$f":"\"070248292\"","v":"070248292"},"Arcadia High School",0.27956999999999999,4.9582000000000001E-2,0.329152,1671,null,null,551]
[2013,3,4240,"070248000","Scottsdale Unified District",5067,{"$f":"\"070248293\"","v":"070248293"},"Coronado High School",0.63488,0.117698,0.75257700000000005,1161,null,null,876]
[2013,3,4240,"070248000","Scottsdale Unified District",5068,{"$f":"\"070248294\"","v":"070248294"},"Saguaro High School",0.20975199999999999,5.0310000000000001E-2,0.26006200000000002,1289,null,null,336]
[2013,3,4240,"070248000","Scottsdale Unified District",5069,{"$f":"\"070248295\"","v":"070248295"},"Chaparral High School",5.8543999999999999E-2,1.1899E-2,7.0443000000000006E-2,2094,null,null,148]
[2013,3,4240,"070248000","Scottsdale Unified District",5070,{"$f":"\"070248296\"","v":"070248296"},"Desert Mountain High School",6.4288999999999999E-2,2.1576000000000001E-2,8.5864999999999997E-2,2266,null,null,195]
[2013,3,4240,"070248000","Scottsdale Unified District",6009,{"$f":"\"070248128\"","v":"070248128"},"Anasazi Elementary",0.107143,1.7857000000000001E-2,0.125,672,null,null,84]
[2013,3,4240,"070248000","Scottsdale Unified District",6010,{"$f":"\"070248129\"","v":"070248129"},"Desert Canyon Elementary",7.7655000000000002E-2,3.1696000000000002E-2,0.10935,631,null,null,69]
[2013,3,4240,"070248000","Scottsdale Unified District",79639,{"$f":"\"070248130\"","v":"070248130"},"Copper Ridge Elementary School",3.083E-2,5.5339999999999999E-3,3.6364E-2,1265,null,null,46]
[2013,3,4240,"070248000","Scottsdale Unified District",91283,{"$f":"\"070248141\"","v":"070248141"},"Early Childhood Campus - Oak",0.46888000000000002,3.3195000000000002E-2,0.50207500000000005,240,null,null,121]
[2013,3,4240,"070248000","Scottsdale Unified District",null,{"$f":"\"\"","v":""},null,null,null,null,null,0.28248499999999999]
[2013,3,80158,{"$f":"\"094013000\"","v":"094013000"},"Seba Dalkai Boarding School",80159,{"$f":"\"014012005\"","v":"014012005"},"Seba Dalkai School",0.99212599999999995,0,0.99212599999999995,127,null,null,126]
[2013,3,80158,{"$f":"\"094013000\"","v":"094013000"},"Seba Dalkai Boarding School",null,{"$f":"\"\"","v":""},null,null,null,null,null,0.99212599999999995]
[2013,3,88448,{"$f":"\"099102000\"","v":"099102000"},"Second Mesa Day School",80161,{"$f":"\"093906003\"","v":"093906003"},"Second Mesa Day",0.72092999999999996,0.112403,0.83333299999999999,257,null,null,215]
[2013,3,88448,{"$f":"\"099102000\"","v":"099102000"},"Second Mesa Day School",null,{"$f":"\"\"","v":""},null,null,null,null,null,0.83333299999999999]
[2013,3,4467,{"$f":"\"130209000\"","v":"130209000"},"Sedona-Oak Creek JUSD #9",6083,{"$f":"\"130209120\"","v":"130209120"},"West Sedona Elementary School",0.57709299999999997,6.6078999999999999E-2,0.64317199999999997,454,null,null,292]
[2013,3,4467,{"$f":"\"130209000\"","v":"130209000"},"Sedona-Oak Creek JUSD #9",6084,{"$f":"\"130209130\"","v":"130209130"},"Big Park Community School",0.40532499999999999,5.3254000000000003E-2,0.45857999999999999,338,null,null,155]
[2013,3,4467,{"$f":"\"130209000\"","v":"130209000"},"Sedona-Oak Creek JUSD #9",6085,{"$f":"\"130209210\"","v":"130209210"},"Sedona Red Rock High School",0.30971700000000002,4.6559000000000003E-2,0.35627500000000001,494,null,null,176]
[2013,3,4467,{"$f":"\"130209000\"","v":"130209000"},"Sedona-Oak Creek JUSD #9",null,{"$f":"\"\"","v":""},null,null,null,null,null,0.48444700000000002]
[2013,3,4472,{"$f":"\"130240000\"","v":"130240000"},"Seligman Unified District",6105,{"$f":"\"130240202\"","v":"130240202"},"Seligman High School",0.62251699999999999,5.9603000000000003E-2,0.68211900000000003,151,null,null,103]
[2013,3,4472,{"$f":"\"130240000\"","v":"130240000"},"Seligman Unified District",null,{"$f":"\"\"","v":""},null,null,null,null,null,0.68211900000000003]
[2013,3,4250,{"$f":"\"070371000\"","v":"070371000"},"Sentinel Elementary District",5188,{"$f":"\"070371101\"","v":"070371101"},"Sentinel Elementary School",0.77142900000000003,2.8570999999999999E-2,0.8,35,null,null,28]
[2013,3,4250,{"$f":"\"070371000\"","v":"070371000"},"Sentinel Elementary District",null,{"$f":"\"\"","v":""},null,null,null,null,null,0.8]
[2013,3,90790,{"$f":"\"093917000\"","v":"093917000"},"Shonto Governing Board of Education Inc.",5653,{"$f":"\"098746001\"","v":"098746001"},"Shonto Preparatory Technology High School",0.66666700000000001,1.9608E-2,0.68627499999999997,75,null,null,70]
[2013,3,90790,{"$f":"\"093917000\"","v":"093917000"},"Shonto Governing Board of Education Inc.",90791,{"$f":"\"093917001\"","v":"093917001"},"Shonto Preparatory School",0.75136599999999998,5.4644999999999999E-2,0.80601100000000003,352,null,null,295]
[2013,3,90790,{"$f":"\"093917000\"","v":"093917000"},"Shonto Governing Board of Education Inc.",null,{"$f":"\"\"","v":""},null,null,null,null,null,0.78498000000000001]
[2013,3,4393,{"$f":"\"090210000\"","v":"090210000"},"Show Low Unified District",5626,{"$f":"\"090210111\"","v":"090210111"},"Whipple Ranch Elementary School",0.61771100000000001,4.7516000000000003E-2,0.66522700000000001,463,null,null,308]
[2013,3,4393,"090210000","Show Low Unified District",5627,{"$f":"\"090210115\"","v":"090210115"},"Nikolaus Homestead Elementary School",0.67532499999999995,7.7922000000000005E-2,0.753247,385,null,null,290]
[2013,3,4393,"090210000","Show Low Unified District",5628,{"$f":"\"090210116\"","v":"090210116"},"Linden Elementary School",0.36633700000000002,8.4157999999999997E-2,0.45049499999999998,202,null,null,91]
[2013,3,4393,"090210000","Show Low Unified District",5631,{"$f":"\"090210120\"","v":"090210120"},"Show Low Junior High School",0.53151599999999999,4.7699999999999999E-2,0.57921599999999995,587,null,null,340]
[2013,3,4393,"090210000","Show Low Unified District",5632,{"$f":"\"090210225\"","v":"090210225"},"Show Low High School",0.45,6.5789E-2,0.51578900000000005,760,null,null,392]
[2013,3,4393,"090210000","Show Low Unified District",90198,{"$f":"\"098751001\"","v":"098751001"},"Successful Beginnings Charter School",0.58536600000000005,0.17073199999999999,0.75609800000000005,41,null,null,31]
[2013,3,4393,"090210000","Show Low Unified District",null,{"$f":"\"\"","v":""},null,null,null,null,null,0.59556900000000002]
[2013,3,79985,{"$f":"\"078973000\"","v":"078973000"},"Sierra Vista Charter School Inc.",79638,{"$f":"\"078973101\"","v":"078973101"},"Imagine Sierra Vista",0.35151500000000002,7.5758000000000006E-2,0.42727300000000001,330,null,null,141]
[2013,3,79985,{"$f":"\"078973000\"","v":"078973000"},"Sierra Vista Charter School Inc.",null,{"$f":"\"\"","v":""},null,null,null,null,null,0.42727300000000001]
[2013,3,4175,{"$f":"\"020268000\"","v":"020268000"},"Sierra Vista Unified District",4775,{"$f":"\"020268110\"","v":"020268110"},"Bella Vista Elementary School",0.377834,7.5566999999999995E-2,0.453401,397,null,null,180]
[2013,3,4175,"020268000","Sierra Vista Unified District",4776,{"$f":"\"020268115\"","v":"020268115"},"Carmichael Elementary School",0.63038000000000005,6.0759000000000001E-2,0.69113899999999995,395,null,null,273]
[2013,3,4175,"020268000","Sierra Vista Unified District",4777,{"$f":"\"020268120\"","v":"020268120"},"Huachuca Mountain Elementary School",0.231293,5.4421999999999998E-2,0.28571400000000002,588,null,null,168]
[2013,3,4175,"020268000","Sierra Vista Unified District",4778,{"$f":"\"020268125\"","v":"020268125"},"Pueblo Del Sol Elementary School",0.31259999999999999,7.3365E-2,0.385965,627,null,null,242]
[2013,3,4175,"020268000","Sierra Vista Unified District",4779,{"$f":"\"020268130\"","v":"020268130"},"Town & Country Elementary School",0.41162199999999999,5.8111000000000003E-2,0.46973399999999998,413,null,null,194]
[2013,3,4175,"020268000","Sierra Vista Unified District",4780,{"$f":"\"020268135\"","v":"020268135"},"Village Meadows Elementary School",0.45119300000000001,5.8568000000000002E-2,0.50976100000000002,461,null,null,235]
[2013,3,4175,"020268000","Sierra Vista Unified District",4781,{"$f":"\"020268150\"","v":"020268150"},"Joyce Clark Middle School (formerly Sierra Vista Middle School)",0.33155099999999998,5.8824000000000001E-2,0.390374,748,null,null,292]
[2013,3,4175,"020268000","Sierra Vista Unified District",4783,{"$f":"\"020268260\"","v":"020268260"},"Buena High School",0.23551900000000001,5.5050000000000002E-2,0.29056999999999999,2089,null,null,607]
[2013,3,4175,"020268000","Sierra Vista Unified District",null,{"$f":"\"\"","v":""},null,null,null,null,null,0.38317600000000002]
[2013,3,4478,{"$f":"\"130315000\"","v":"130315000"},"Skull Valley Elementary District",6113,{"$f":"\"130315101\"","v":"130315101"},"Skull Valley Elementary School",0.25,0.107143,0.35714299999999999,28,null,null,10]
[2013,3,4478,{"$f":"\"130315000\"","v":"130315000"},"Skull Valley Elementary District",null,{"$f":"\"\"","v":""},null,null,null,null,null,0.35714299999999999]
[2013,3,79084,{"$f":"\"078914000\"","v":"078914000"},"Skyline Schools Inc.",79092,{"$f":"\"078914201\"","v":"078914201"},"Skyline Prep High School",0.67441899999999999,0.15503900000000001,0.829457,129,null,null,107]
[2013,3,79084,"078914000","Skyline Schools Inc.",79099,{"$f":"\"078994001\"","v":"078994001"},"Cornerstone Charter School",0.85204100000000005,5.6121999999999998E-2,0.90816300000000005,196,null,null,178]
[2013,3,79084,"078914000","Skyline Schools Inc.",89870,{"$f":"\"078542101\"","v":"078542101"},"AZ Compass Prep School",0.68686899999999995,0.15151500000000001,0.83838400000000002,99,null,null,83]
[2013,3,79084,"078914000","Skyline Schools Inc.",89941,{"$f":"\"078566001\"","v":"078566001"},"Skyline D5",0.88297899999999996,4.2553000000000001E-2,0.92553200000000002,94,null,null,87]
[2013,3,79084,"078914000","Skyline Schools Inc.",90318,{"$f":"\"078562001\"","v":"078562001"},"Vector Prep and Arts Academy",0.75968999999999998,7.7519000000000005E-2,0.83720899999999998,129,null,null,108]
[2013,3,79084,"078914000","Skyline Schools Inc.",91109,{"$f":"\"078599301\"","v":"078599301"},"South Phoenix Prep and Arts Academy",0.73912999999999995,7.9050999999999996E-2,0.81818199999999996,253,null,null,207]
[2013,3,79084,"078914000","Skyline Schools Inc.",91122,{"$f":"\"078578301\"","v":"078578301"},"South Valley Prep and Arts School",0.709924,9.9237000000000006E-2,0.80915999999999999,131,null,null,106]
[2013,3,79084,"078914000","Skyline Schools Inc.",null,{"$f":"\"\"","v":""},null,null,null,null,null,0.84965999999999997]
[2013,3,4391,{"$f":"\"090205000\"","v":"090205000"},"Snowflake Unified District",5614,{"$f":"\"090205001\"","v":"090205001"},"Snowflake Intermediate School",0.43279600000000001,0.10215100000000001,0.53494600000000003,372,null,null,199]
[2013,3,4391,"090205000","Snowflake Unified District",5615,{"$f":"\"090205002\"","v":"090205002"},"Taylor Elementary School",0.46598600000000001,0.108844,0.57482999999999995,294,null,null,169]
[2013,3,4391,"090205000","Snowflake Unified District",5616,{"$f":"\"090205003\"","v":"090205003"},"Snowflake Junior High School",0.40206199999999997,0.11082500000000001,0.51288699999999998,388,null,null,199]
[2013,3,4391,"090205000","Snowflake Unified District",5617,{"$f":"\"090205004\"","v":"090205004"},"Taylor Intermediate School",0.483871,0.12903200000000001,0.61290299999999998,248,null,null,152]
[2013,3,4391,"090205000","Snowflake Unified District",5618,{"$f":"\"090205005\"","v":"090205005"},"Snowflake High School",0.31656800000000002,9.0236999999999998E-2,0.40680500000000003,676,null,null,275]
[2013,3,4391,"090205000","Snowflake Unified District",5619,{"$f":"\"090205006\"","v":"090205006"},"Highland Primary School",0.438,7.3999999999999996E-2,0.51200000000000001,500,null,null,256]
[2013,3,4391,"090205000","Snowflake Unified District",null,{"$f":"\"\"","v":""},null,null,null,null,null,0.50443899999999997]
[2013,3,4222,{"$f":"\"050305000\"","v":"050305000"},"Solomon Elementary District",4894,{"$f":"\"050305101\"","v":"050305101"},"Solomon Elementary School",0.467337,0.165829,0.63316600000000001,199,null,null,126]
[2013,3,4222,{"$f":"\"050305000\"","v":"050305000"},"Solomon Elementary District",null,{"$f":"\"\"","v":""},null,null,null,null,null,0.63316600000000001]
[2013,3,4500,{"$f":"\"140411000\"","v":"140411000"},"Somerton Elementary District",6164,{"$f":"\"140411101\"","v":"140411101"},"Somerton Middle School",0.73625099999999999,0.124579,0.86083100000000001,891,null,null,767]
[2013,3,4500,"140411000","Somerton Elementary District",6165,{"$f":"\"140411102\"","v":"140411102"},"Orange Grove Elementary School",0.79045100000000001,0.119363,0.90981400000000001,377,null,null,343]
[2013,3,4500,"140411000","Somerton Elementary District",6166,{"$f":"\"140411103\"","v":"140411103"},"Desert Sonora Elementary School",0.74759600000000004,0.100962,0.84855800000000003,416,null,null,353]
[2013,3,4500,"140411000","Somerton Elementary District",6167,{"$f":"\"140411104\"","v":"140411104"},"Tierra Del Sol Elementary School",0.75480800000000003,0.11418300000000001,0.86899000000000004,832,null,null,723]
[2013,3,4500,"140411000","Somerton Elementary District",87330,{"$f":"\"140411105\"","v":"140411105"},"Valle Del Encanto Learning Center",0.71389599999999998,0.12534100000000001,0.83923700000000001,367,null,null,308]
[2013,3,4500,"140411000","Somerton Elementary District",null,{"$f":"\"\"","v":""},null,null,null,null,null,0.86507100000000003]
[2013,3,4461,{"$f":"\"120425000\"","v":"120425000"},"Sonoita Elementary District",5970,{"$f":"\"120425101\"","v":"120425101"},"Elgin Elementary School",0.33333299999999999,7.4999999999999997E-2,0.408333,120,null,null,49]
[2013,3,4461,{"$f":"\"120425000\"","v":"120425000"},"Sonoita Elementary District",null,{"$f":"\"\"","v":""},null,null,null,null,null,0.408333]
[2013,3,89915,{"$f":"\"108503000\"","v":"108503000"},"Sonoran Science Academy - Broadway",89916,{"$f":"\"108503101\"","v":"108503101"},"Sonoran Science Academy - Broadway",0.47936499999999999,6.3492000000000007E-2,0.54285700000000003,315,null,null,171]
[2013,3,89915,{"$f":"\"108503000\"","v":"108503000"},"Sonoran Science Academy - Broadway",null,{"$f":"\"\"","v":""},null,null,null,null,null,0.54285700000000003]
[2013,3,90284,{"$f":"\"108504000\"","v":"108504000"},"Sonoran Science Academy - Davis Monthan",90285,{"$f":"\"108504001\"","v":"108504001"},"Sonoran Science Academy - Davis Monthan",0.17085400000000001,0.165829,0.33668300000000001,199,null,null,67]
[2013,3,90284,{"$f":"\"108504000\"","v":"108504000"},"Sonoran Science Academy - Davis Monthan",null,{"$f":"\"\"","v":""},null,null,null,null,null,0.33668300000000001]
[2013,3,90541,{"$f":"\"078577000\"","v":"078577000"},"Sonoran Science Academy - Phoenix Metro",90639,{"$f":"\"078577001\"","v":"078577001"},"Sonoran Science Academy - Phoenix Metro",0.93835599999999997,1.3698999999999999E-2,0.95205499999999998,146,null,null,139]
[2013,3,90541,{"$f":"\"078577000\"","v":"078577000"},"Sonoran Science Academy - Phoenix Metro",null,{"$f":"\"\"","v":""},null,null,null,null,null,0.95205499999999998]
[2013,3,79000,{"$f":"\"108772000\"","v":"108772000"},"Southern Arizona Community Academy Inc.",79028,{"$f":"\"108772201\"","v":"108772201"},"Southern Arizona Community High School",0.82987599999999995,6.2240999999999998E-2,0.89211600000000002,260,null,null,215]
[2013,3,79000,{"$f":"\"108772000\"","v":"108772000"},"Southern Arizona Community Academy Inc.",null,{"$f":"\"\"","v":""},null,null,null,null,null,0.89211600000000002]
[2013,3,79085,{"$f":"\"108779000\"","v":"108779000"},"Southgate Academy Inc.",79091,{"$f":"\"108779101\"","v":"108779101"},"Southgate Academy",0.888679,5.6600000000000001E-3,0.89434000000000002,530,null,null,474]
[2013,3,79085,{"$f":"\"108779000\"","v":"108779000"},"Southgate Academy Inc.",null,{"$f":"\"\"","v":""},null,null,null,null,null,0.89434000000000002]
[2013,3,7347,{"$f":"\"072146000\"","v":"072146000"},"Southwest Education Center",7349,{"$f":"\"072146002\"","v":"072146002"},"Southwest Education Center - Casa Grande",0.86111099999999996,0,0.86111099999999996,30,null,null,31]
[2013,3,7347,{"$f":"\"072146000\"","v":"072146000"},"Southwest Education Center",84296,{"$f":"\"072146004\"","v":"072146004"},"Southwest Education Center",0.67857100000000004,3.5714000000000003E-2,0.71428599999999998,24,null,null,20]
[2013,3,7347,{"$f":"\"072146000\"","v":"072146000"},"Southwest Education Center",null,{"$f":"\"\"","v":""},null,null,null,null,null,0.79585499999999998]
[2013,3,87694,{"$f":"\"072781000\"","v":"072781000"},"Southwest Key Program",87695,{"$f":"\"072781001\"","v":"072781001"},"Campbell",1,0,1,128,null,null,128]
[2013,3,87694,{"$f":"\"072781000\"","v":"072781000"},"Southwest Key Program",87696,{"$f":"\"072781002\"","v":"072781002"},"Lighthouse",1,0,1,100,null,null,100]
[2013,3,87694,{"$f":"\"072781000\"","v":"072781000"},"Southwest Key Program",89946,{"$f":"\"072781003\"","v":"072781003"},"Myrtle",1,0,1,37,null,null,37]
[2013,3,87694,{"$f":"\"072781000\"","v":"072781000"},"Southwest Key Program",null,{"$f":"\"\"","v":""},null,null,null,null,null,1]
[2013,3,4173,{"$f":"\"020221000\"","v":"020221000"},"St David Unified District",4761,{"$f":"\"020221101\"","v":"020221101"},"St David Elementary School",0.55367200000000005,7.3445999999999997E-2,0.62711899999999998,177,null,null,111]
[2013,3,4173,{"$f":"\"020221000\"","v":"020221000"},"St David Unified District",4762,{"$f":"\"020221202\"","v":"020221202"},"St David High School",0.53061199999999997,0.10204100000000001,0.63265300000000002,49,null,null,31]
[2013,3,4173,{"$f":"\"020221000\"","v":"020221000"},"St David Unified District",null,{"$f":"\"\"","v":""},null,null,null,null,null,0.62831800000000004]
[2013,3,4153,{"$f":"\"010201000\"","v":"010201000"},"St Johns Unified District",4517,{"$f":"\"010201102\"","v":"010201102"},"Coronado Elementary School",0.49586799999999998,6.6115999999999994E-2,0.56198300000000001,242,null,null,136]
[2013,3,4153,"010201000","St Johns Unified District",4710,{"$f":"\"010201104\"","v":"010201104"},"St Johns Middle School",0.47826099999999999,0.114907,0.59316800000000003,322,null,null,191]
[2013,3,4153,"010201000","St Johns Unified District",4711,{"$f":"\"010201205\"","v":"010201205"},"St Johns High School",0.40069700000000003,8.7108000000000005E-2,0.48780499999999999,287,null,null,140]
[2013,3,4153,"010201000","St Johns Unified District",4744,{"$f":"\"010309101\"","v":"010309101"},"Vernon Elementary School",0.71559600000000001,3.6697E-2,0.75229400000000002,109,null,null,82]
[2013,3,4153,"010201000","St Johns Unified District",79531,{"$f":"\"211011001\"","v":"211011001"},"AOC-Apache County Juvenile Detention Center",1,0,1,15,null,null,15]
[2013,3,4153,"010201000","St Johns Unified District",null,{"$f":"\"\"","v":""},null,null,null,null,null,0.578461]
[2013,3,88412,{"$f":"\"072034000\"","v":"072034000"},"St. Agnes School",88413,{"$f":"\"072034101\"","v":"072034101"},"St. Agnes School",0.49541299999999999,0.13761499999999999,0.63302800000000004,218,null,null,138]
[2013,3,88412,{"$f":"\"072034000\"","v":"072034000"},"St. Agnes School",null,{"$f":"\"\"","v":""},null,null,null,null,null,0.63302800000000004]
[2013,3,80170,{"$f":"\"112002000\"","v":"112002000"},"St. Anthony of Padua Catholic School",80171,{"$f":"\"112002001\"","v":"112002001"},"St. Anthony of Padua Catholic School",0.155172,2.5862E-2,0.181034,232,null,null,42]
[2013,3,80170,{"$f":"\"112002000\"","v":"112002000"},"St. Anthony of Padua Catholic School",null,{"$f":"\"\"","v":""},null,null,null,null,null,0.181034]
[2013,3,80172,{"$f":"\"072013000\"","v":"072013000"},"St. Catherine of Siena Catholic School",80173,{"$f":"\"072013001\"","v":"072013001"},"St. Catherine's School",0.46222200000000002,0.22666700000000001,0.68888899999999997,225,null,null,155]
[2013,3,80172,{"$f":"\"072013000\"","v":"072013000"},"St. Catherine of Siena Catholic School",null,{"$f":"\"\"","v":""},null,null,null,null,null,0.68888899999999997]
[2013,3,89301,{"$f":"\"042003000\"","v":"042003000"},"St. Charles School",89302,{"$f":"\"042003001\"","v":"042003001"},"St. Charles School",0.80800000000000005,0.128,0.93600000000000005,125,null,null,117]
[2013,3,89301,{"$f":"\"042003000\"","v":"042003000"},"St. Charles School",null,{"$f":"\"\"","v":""},null,null,null,null,null,0.93600000000000005]
[2013,3,80176,{"$f":"\"072014000\"","v":"072014000"},"St. Jerome School",80177,{"$f":"\"072014001\"","v":"072014001"},"St. Jerome School",0.25087100000000001,4.8779999999999997E-2,0.29965199999999997,287,null,null,86]
[2013,3,80176,{"$f":"\"072014000\"","v":"072014000"},"St. Jerome School",null,{"$f":"\"\"","v":""},null,null,null,null,null,0.29965199999999997]
[2013,3,80178,{"$f":"\"102004000\"","v":"102004000"},"St. John the Evangelist",80179,{"$f":"\"102004001\"","v":"102004001"},"St. John School",0.70891999999999999,0.169014,0.87793399999999999,213,null,null,187]
[2013,3,80178,{"$f":"\"102004000\"","v":"102004000"},"St. John the Evangelist",null,{"$f":"\"\"","v":""},null,null,null,null,null,0.87793399999999999]
[2013,3,91814,{"$f":"\"072094000\"","v":"072094000"},"St. Louis the King Catholic School",91849,{"$f":"\"072094001\"","v":"072094001"},"St. Louis the King Catholic School",0.52071000000000001,0.112426,0.63313600000000003,169,null,null,107]
[2013,3,91814,{"$f":"\"072094000\"","v":"072094000"},"St. Louis the King Catholic School",null,{"$f":"\"\"","v":""},null,null,null,null,null,0.63313600000000003]
[2013,3,91795,{"$f":"\"072093000\"","v":"072093000"},"St. Mary's Roman Catholic High School Phoenix",91804,{"$f":"\"072093001\"","v":"072093001"},"St. Mary's Roman Catholic High School",0.30252099999999998,7.5630000000000003E-2,0.37815100000000001,476,null,null,180]
[2013,3,91795,{"$f":"\"072093000\"","v":"072093000"},"St. Mary's Roman Catholic High School Phoenix",null,{"$f":"\"\"","v":""},null,null,null,null,null,0.37815100000000001]
[2013,3,6470,{"$f":"\"012101000\"","v":"012101000"},"St. Michaels Association for Special Education Inc.",6471,{"$f":"\"012101001\"","v":"012101001"},"ST MICHAELS ASSOC FOR SPEC ED",0.6875,6.25E-2,0.75,32,null,null,24]
[2013,3,6470,{"$f":"\"012101000\"","v":"012101000"},"St. Michaels Association for Special Education Inc.",null,{"$f":"\"\"","v":""},null,null,null,null,null,0.75]
[2013,3,80190,{"$f":"\"012003000\"","v":"012003000"},"St. Michaels Elementary & High School",80191,{"$f":"\"012003001\"","v":"012003001"},"St. Michaels School",0.36571399999999998,0.19714300000000001,0.56285700000000005,350,null,null,197]
[2013,3,80190,{"$f":"\"012003000\"","v":"012003000"},"St. Michaels Elementary & High School",null,{"$f":"\"\"","v":""},null,null,null,null,null,0.56285700000000005]
[2013,3,80192,{"$f":"\"112001000\"","v":"112001000"},"St. Peter Indian Mission School",80193,{"$f":"\"112001001\"","v":"112001001"},"St. Peter Indian Mission School",0.73295500000000002,7.9545000000000005E-2,0.8125,176,null,null,143]
[2013,3,80192,{"$f":"\"112001000\"","v":"112001000"},"St. Peter Indian Mission School",null,{"$f":"\"\"","v":""},null,null,null,null,null,0.8125]
[2013,3,80194,{"$f":"\"072017000\"","v":"072017000"},"St. Thomas the Apostle",80195,{"$f":"\"072017001\"","v":"072017001"},"St. Thomas the Apostle",2.8226000000000001E-2,3.4273999999999999E-2,6.25E-2,496,null,null,31]
[2013,3,80194,{"$f":"\"072017000\"","v":"072017000"},"St. Thomas the Apostle",null,{"$f":"\"\"","v":""},null,null,null,null,null,6.25E-2]
[2013,3,4451,{"$f":"\"110424000\"","v":"110424000"},"Stanfield Elementary District",5946,{"$f":"\"110424001\"","v":"110424001"},"Stanfield Elementary School",0.76423799999999997,0.10728500000000001,0.87152300000000005,588,null,null,658]
[2013,3,4451,{"$f":"\"110424000\"","v":"110424000"},"Stanfield Elementary District",null,{"$f":"\"\"","v":""},null,null,null,null,null,0.87152300000000005]
[2013,3,85807,{"$f":"\"078992000\"","v":"078992000"},"StarShine Academy",80475,{"$f":"\"078992001\"","v":"078992001"},"StarShine Academy",0.95299100000000003,1.7094000000000002E-2,0.97008499999999998,234,null,null,227]
[2013,3,85807,{"$f":"\"078992000\"","v":"078992000"},"StarShine Academy",null,{"$f":"\"\"","v":""},null,null,null,null,null,0.97008499999999998]
[2013,3,79453,{"$f":"\"078924000\"","v":"078924000"},"Success School",79454,{"$f":"\"078924001\"","v":"078924001"},"Arizona Charter Academy",0.62249600000000005,0.13867499999999999,0.76117100000000004,633,null,null,494]
[2013,3,79453,{"$f":"\"078924000\"","v":"078924000"},"Success School",null,{"$f":"\"\"","v":""},null,null,null,null,null,0.76117100000000004]
[2013,3,80278,{"$f":"\"092006000\"","v":"092006000"},"Sun Valley Indian School",80279,{"$f":"\"092006001\"","v":"092006001"},"Sun Valley Indian School",0.67857100000000004,0.14285700000000001,0.82142899999999996,28,null,null,23]
[2013,3,80278,{"$f":"\"092006000\"","v":"092006000"},"Sun Valley Indian School",null,{"$f":"\"\"","v":""},null,null,null,null,null,0.82142899999999996]
[2013,3,79912,{"$f":"\"138767000\"","v":"138767000"},"Sunnyside Charter and Montessori School",79913,{"$f":"\"138767001\"","v":"138767001"},"Sunnyside Charter and Montessori School",0.72972999999999999,0,0.72972999999999999,37,null,null,27]
[2013,3,79912,{"$f":"\"138767000\"","v":"138767000"},"Sunnyside Charter and Montessori School",null,{"$f":"\"\"","v":""},null,null,null,null,null,0.72972999999999999]
[2013,3,4407,{"$f":"\"100212000\"","v":"100212000"},"Sunnyside Unified District",5809,{"$f":"\"100212106\"","v":"100212106"},"Apollo Middle School",0.83395300000000006,6.8154000000000006E-2,0.90210699999999999,807,null,null,728]
[2013,3,4407,"100212000","Sunnyside Unified District",5810,{"$f":"\"100212108\"","v":"100212108"},"Craycroft Elementary School",0.64638799999999996,0.10392899999999999,0.75031700000000001,789,null,null,592]
[2013,3,4407,"100212000","Sunnyside Unified District",5811,{"$f":"\"100212109\"","v":"100212109"},"Chaparral Middle School",0.87883199999999995,3.9416E-2,0.91824799999999995,685,null,null,629]
[2013,3,4407,"100212000","Sunnyside Unified District",5812,{"$f":"\"100212112\"","v":"100212112"},"Drexel Elementary School",0.91186400000000001,4.4068000000000003E-2,0.955932,590,null,null,564]
[2013,3,4407,"100212000","Sunnyside Unified District",5813,{"$f":"\"100212114\"","v":"100212114"},"Elvira Elementary School",0.82775900000000002,7.1905999999999998E-2,0.89966599999999997,598,null,null,538]
[2013,3,4407,"100212000","Sunnyside Unified District",5814,{"$f":"\"100212115\"","v":"100212115"},"Esperanza Elementary School",0.826156,9.7289E-2,0.92344499999999996,627,null,null,579]
[2013,3,4407,"100212000","Sunnyside Unified District",5815,{"$f":"\"100212116\"","v":"100212116"},"Liberty Elementary School",0.79874999999999996,7.7499999999999999E-2,0.87624999999999997,800,null,null,701]
[2013,3,4407,"100212000","Sunnyside Unified District",5816,{"$f":"\"100212117\"","v":"100212117"},"Gallego Basic Elementary School",0.59356699999999996,0.131579,0.72514599999999996,684,null,null,496]
[2013,3,4407,"100212000","Sunnyside Unified District",5817,{"$f":"\"100212118\"","v":"100212118"},"Los Ninos Elementary School",0.83154099999999997,5.9139999999999998E-2,0.89068099999999994,558,null,null,497]
[2013,3,4407,"100212000","Sunnyside Unified District",5818,{"$f":"\"100212119\"","v":"100212119"},"Los Amigos Elementary School",0.85637600000000003,6.3087000000000004E-2,0.91946300000000003,745,null,null,685]
[2013,3,4407,"100212000","Sunnyside Unified District",5819,{"$f":"\"100212120\"","v":"100212120"},"Los Ranchitos Elementary School",0.93836699999999995,2.6193999999999999E-2,0.964561,649,null,null,626]
[2013,3,4407,"100212000","Sunnyside Unified District",5820,{"$f":"\"100212122\"","v":"100212122"},"Mission Manor Elementary School",0.833893,5.2012999999999997E-2,0.88590599999999997,596,null,null,528]
[2013,3,4407,"100212000","Sunnyside Unified District",5821,{"$f":"\"100212123\"","v":"100212123"},"Summit View Elementary",0.89642900000000003,4.8214E-2,0.94464300000000001,560,null,null,529]
[2013,3,4407,"100212000","Sunnyside Unified District",5822,{"$f":"\"100212126\"","v":"100212126"},"Santa Clara Elementary School",0.84114999999999995,8.0182000000000003E-2,0.92133100000000001,661,null,null,609]
[2013,3,4407,"100212000","Sunnyside Unified District",5823,{"$f":"\"100212131\"","v":"100212131"},"Sierra Middle School",0.83,8.4000000000000005E-2,0.91400000000000003,1000,null,null,914]
[2013,3,4407,"100212000","Sunnyside Unified District",5824,{"$f":"\"100212132\"","v":"100212132"},"Challenger Middle School",0.781053,7.6841999999999994E-2,0.85789499999999996,950,null,null,815]
[2013,3,4407,"100212000","Sunnyside Unified District",5825,{"$f":"\"100212134\"","v":"100212134"},"Ocotillo Early Learning Center",0.63520399999999999,7.3980000000000004E-2,0.70918400000000004,392,null,null,278]
[2013,3,4407,"100212000","Sunnyside Unified District",5826,{"$f":"\"100212211\"","v":"100212211"},"Desert View High School",0.72272000000000003,7.3801000000000005E-2,0.79652100000000003,1897,null,null,1511]
[2013,3,4407,"100212000","Sunnyside Unified District",5827,{"$f":"\"100212230\"","v":"100212230"},"Sunnyside High School",0.70302500000000001,9.9907999999999997E-2,0.80293300000000001,2182,null,null,1752]
[2013,3,4407,"100212000","Sunnyside Unified District",6288,{"$f":"\"100212513\"","v":"100212513"},"S.T.A.R. Academic Center",0.70547899999999997,5.8219E-2,0.76369900000000002,292,null,null,223]
[2013,3,4407,"100212000","Sunnyside Unified District",87532,{"$f":"\"100212133\"","v":"100212133"},"Billy Lane Lauffer Middle School",0.63757600000000003,8.9696999999999999E-2,0.72727299999999995,825,null,null,600]
[2013,3,4407,"100212000","Sunnyside Unified District",89584,{"$f":"\"100212124\"","v":"100212124"},"Rivera Elementary",0.89264699999999997,4.2646999999999997E-2,0.93529399999999996,680,null,null,636]
[2013,3,4407,"100212000","Sunnyside Unified District",null,{"$f":"\"\"","v":""},null,null,null,null,null,0.85558100000000004]
[2013,3,4440,{"$f":"\"110215000\"","v":"110215000"},"Superior Unified School District",5905,{"$f":"\"110215101\"","v":"110215101"},"John F Kennedy School",0.88352299999999995,6.8182000000000006E-2,0.95170500000000002,351,null,null,335]
[2013,3,4440,{"$f":"\"110215000\"","v":"110215000"},"Superior Unified School District",5906,{"$f":"\"110215102\"","v":"110215102"},"Superior Junior High School",0.85714299999999999,3.5714000000000003E-2,0.89285700000000001,84,null,null,75]
[2013,3,4440,{"$f":"\"110215000\"","v":"110215000"},"Superior Unified School District",5907,{"$f":"\"110215205\"","v":"110215205"},"Superior Senior High School",0.68468499999999999,5.4053999999999998E-2,0.73873900000000003,111,null,null,82]
[2013,3,4440,{"$f":"\"110215000\"","v":"110215000"},"Superior Unified School District",null,{"$f":"\"\"","v":""},null,null,null,null,null,0.89935600000000004]
[2013,3,4408,{"$f":"\"100213000\"","v":"100213000"},"Tanque Verde Unified District",5828,{"$f":"\"100213002\"","v":"100213002"},"Emily Gray Junior High School",0.123989,3.2344999999999999E-2,0.156334,371,null,null,58]
[2013,3,4408,{"$f":"\"100213000\"","v":"100213000"},"Tanque Verde Unified District",5829,{"$f":"\"100213103\"","v":"100213103"},"Tanque Verde Elementary School",0.15079400000000001,3.4921000000000001E-2,0.18571399999999999,630,null,null,117]
[2013,3,4408,{"$f":"\"100213000\"","v":"100213000"},"Tanque Verde Unified District",5830,{"$f":"\"100213105\"","v":"100213105"},"Agua Caliente School",0.13011200000000001,2.2304999999999998E-2,0.152416,538,null,null,82]
[2013,3,4408,{"$f":"\"100213000\"","v":"100213000"},"Tanque Verde Unified District",87466,{"$f":"\"100213201\"","v":"100213201"},"Tanque Verde High School",0.111857,2.0133999999999999E-2,0.131991,447,null,null,59]
[2013,3,4408,{"$f":"\"100213000\"","v":"100213000"},"Tanque Verde Unified District",null,{"$f":"\"\"","v":""},null,null,null,null,null,0.159113]
[2013,3,90142,{"$f":"\"078551000\"","v":"078551000"},"Teleos Preparatory Academy",90143,{"$f":"\"078551001\"","v":"078551001"},"Great Hearts Academies - Teleos Prep",0.48571399999999998,8.5713999999999999E-2,0.57142899999999996,210,null,null,120]
[2013,3,90142,{"$f":"\"078551000\"","v":"078551000"},"Teleos Preparatory Academy",null,{"$f":"\"\"","v":""},null,null,null,null,null,0.57142899999999996]
[2013,3,79218,{"$f":"\"088702000\"","v":"088702000"},"Telesis Center for Learning Inc.",78857,{"$f":"\"088702001\"","v":"088702001"},"Telesis Preparatory Academy",0.51656899999999994,0.101365,0.61793399999999998,449,null,null,317]
[2013,3,79218,{"$f":"\"088702000\"","v":"088702000"},"Telesis Center for Learning Inc.",null,{"$f":"\"\"","v":""},null,null,null,null,null,0.61793399999999998]
[2013,3,4258,{"$f":"\"070403000\"","v":"070403000"},"Tempe School District",5211,{"$f":"\"070403110\"","v":"070403110"},"Frank Elementary School",0.83308499999999996,6.2592999999999996E-2,0.89567799999999997,668,null,null,601]
[2013,3,4258,"070403000","Tempe School District",5212,{"$f":"\"070403111\"","v":"070403111"},"Carminati School",0.69696999999999998,0.111111,0.80808100000000005,394,null,null,320]
[2013,3,4258,"070403000","Tempe School District",5213,{"$f":"\"070403113\"","v":"070403113"},"Broadmor Elementary School",0.368585,3.8879999999999998E-2,0.40746500000000002,637,null,null,262]
[2013,3,4258,"070403000","Tempe School District",5214,{"$f":"\"070403114\"","v":"070403114"},"Flora Thew Elementary School",0.89296200000000003,3.3723999999999997E-2,0.92668600000000001,682,null,null,632]
[2013,3,4258,"070403000","Tempe School District",5215,{"$f":"\"070403115\"","v":"070403115"},"Holdeman Elementary School",0.81269800000000003,5.7142999999999999E-2,0.86984099999999998,626,null,null,548]
[2013,3,4258,"070403000","Tempe School District",5216,{"$f":"\"070403117\"","v":"070403117"},"Laird Elementary School",0.80501900000000004,8.1081E-2,0.8861,513,null,null,459]
[2013,3,4258,"070403000","Tempe School District",5219,{"$f":"\"070403120\"","v":"070403120"},"Hudson Elementary School",0.57356600000000002,9.2269000000000004E-2,0.66583499999999995,398,null,null,267]
[2013,3,4258,"070403000","Tempe School District",5220,{"$f":"\"070403121\"","v":"070403121"},"Scales Technology Academy",0.75662300000000005,6.7880999999999997E-2,0.82450299999999999,596,null,null,498]
[2013,3,4258,"070403000","Tempe School District",5221,{"$f":"\"070403122\"","v":"070403122"},"Curry Elementary School",0.76190500000000005,7.0475999999999997E-2,0.83238100000000004,522,null,null,437]
[2013,3,4258,"070403000","Tempe School District",5222,{"$f":"\"070403123\"","v":"070403123"},"Arredondo Elementary School",0.71428599999999998,6.6667000000000004E-2,0.78095199999999998,308,null,null,246]
[2013,3,4258,"070403000","Tempe School District",5224,{"$f":"\"070403126\"","v":"070403126"},"Nevitt Elementary School",0.81552199999999997,8.9058999999999999E-2,0.90458000000000005,786,null,null,711]
[2013,3,4258,"070403000","Tempe School District",5225,{"$f":"\"070403127\"","v":"070403127"},"Wood School",0.72712100000000002,9.1513999999999998E-2,0.81863600000000003,598,null,null,492]
[2013,3,4258,"070403000","Tempe School District",5226,{"$f":"\"070403128\"","v":"070403128"},"Aguilar School",0.77349000000000001,5.7047E-2,0.83053699999999997,596,null,null,495]
[2013,3,4258,"070403000","Tempe School District",5227,{"$f":"\"070403129\"","v":"070403129"},"Rover Elementary School",0.34420299999999998,7.9710000000000003E-2,0.42391299999999998,552,null,null,234]
[2013,3,4258,"070403000","Tempe School District",5228,{"$f":"\"070403130\"","v":"070403130"},"Fuller Elementary School",0.40432600000000002,0.101498,0.50582400000000005,591,null,null,304]
[2013,3,4258,"070403000","Tempe School District",5230,{"$f":"\"070403143\"","v":"070403143"},"Gililland Middle School",0.79174900000000004,8.7426000000000004E-2,0.87917500000000004,1015,null,null,895]
[2013,3,4258,"070403000","Tempe School District",5231,{"$f":"\"070403144\"","v":"070403144"},"Connolly Middle School",0.63249500000000003,7.6401999999999998E-2,0.708897,1028,null,null,733]
[2013,3,4258,"070403000","Tempe School District",5232,{"$f":"\"070403145\"","v":"070403145"},"Fees College Preparatory Middle School",0.63399399999999995,7.9249E-2,0.71324299999999996,944,null,null,684]
[2013,3,4258,"070403000","Tempe School District",81057,{"$f":"\"070403161\"","v":"070403161"},"Ward Traditional Academy",0.20588200000000001,4.4117999999999997E-2,0.25,471,null,null,119]
[2013,3,4258,"070403000","Tempe School District",null,{"$f":"\"\"","v":""},null,null,null,null,null,0.74460599999999999]
[2013,3,4287,{"$f":"\"070513000\"","v":"070513000"},"Tempe Union High School District",5444,{"$f":"\"070513091\"","v":"070513091"},"Tempe High School",0.64746700000000001,7.7724000000000001E-2,0.72519100000000003,1441,null,null,1045]
[2013,3,4287,"070513000","Tempe Union High School District",5445,{"$f":"\"070513092\"","v":"070513092"},"Mcclintock High School",0.36964399999999997,3.5622000000000001E-2,0.40526600000000002,1937,null,null,785]
[2013,3,4287,"070513000","Tempe Union High School District",5446,{"$f":"\"070513093\"","v":"070513093"},"Marcos De Niza High School",0.31512099999999998,3.0353000000000002E-2,0.34547499999999998,1812,null,null,626]
[2013,3,4287,"070513000","Tempe Union High School District",5447,{"$f":"\"070513094\"","v":"070513094"},"Corona Del Sol High School",0.103756,1.9338000000000001E-2,0.123094,2681,null,null,331]
[2013,3,4287,"070513000","Tempe Union High School District",5448,{"$f":"\"070513095\"","v":"070513095"},"Mountain Pointe High School",0.19695199999999999,2.3238000000000002E-2,0.22019,2625,null,null,578]
[2013,3,4287,"070513000","Tempe Union High School District",5449,{"$f":"\"070513096\"","v":"070513096"},"Desert Vista High School",6.3242000000000007E-2,1.1235999999999999E-2,7.4478000000000003E-2,3115,null,null,232]
[2013,3,4287,"070513000","Tempe Union High School District",5450,{"$f":"\"070513097\"","v":"070513097"},"Compadre High School",0.57711999999999997,5.2094000000000001E-2,0.62921300000000002,979,null,null,616]
[2013,3,4287,"070513000","Tempe Union High School District",null,{"$f":"\"\"","v":""},null,null,null,null,null,0.28869099999999998]
[2013,3,4219,{"$f":"\"050204000\"","v":"050204000"},"Thatcher Unified District",4886,{"$f":"\"050204100\"","v":"050204100"},"Jack Daley Primary School",0.35520400000000002,0.113122,0.46832600000000002,442,null,null,207]
[2013,3,4219,{"$f":"\"050204000\"","v":"050204000"},"Thatcher Unified District",4887,{"$f":"\"050204101\"","v":"050204101"},"Thatcher Elementary School",0.34042600000000001,0.103723,0.44414900000000002,376,null,null,167]
[2013,3,4219,{"$f":"\"050204000\"","v":"050204000"},"Thatcher Unified District",4888,{"$f":"\"050204102\"","v":"050204102"},"Thatcher Middle School",0.27065499999999998,9.4017000000000003E-2,0.364672,351,null,null,128]
[2013,3,4219,{"$f":"\"050204000\"","v":"050204000"},"Thatcher Unified District",4889,{"$f":"\"050204200\"","v":"050204200"},"Thatcher High School",0.19230800000000001,6.6667000000000004E-2,0.25897399999999998,390,null,null,101]
[2013,3,4219,{"$f":"\"050204000\"","v":"050204000"},"Thatcher Unified District",null,{"$f":"\"\"","v":""},null,null,null,null,null,0.38678600000000002]
[2013,3,6355,{"$f":"\"108722000\"","v":"108722000"},"The Charter Foundation Inc.",6063,{"$f":"\"108722001\"","v":"108722001"},"AmeriSchools Academy - Camelback",0.66497499999999998,0.121827,0.786802,197,null,null,155]
[2013,3,6355,{"$f":"\"108722000\"","v":"108722000"},"The Charter Foundation Inc.",null,{"$f":"\"\"","v":""},null,null,null,null,null,0.786802]
[2013,3,7332,{"$f":"\"072135000\"","v":"072135000"},"THE NEW FOUNDATION",7333,{"$f":"\"072135001\"","v":"072135001"},"THE NEW FOUNDATION",1,0,1,38,null,null,38]
[2013,3,7332,{"$f":"\"072135000\"","v":"072135000"},"THE NEW FOUNDATION",null,{"$f":"\"\"","v":""},null,null,null,null,null,1]
[2013,3,91250,{"$f":"\"078206000\"","v":"078206000"},"The Paideia Academies Inc",91775,{"$f":"\"078206001\"","v":"078206001"},"The Paideia Academy of South Phoenix",0.78132699999999999,9.8280000000000006E-2,0.87960700000000003,407,null,null,358]
[2013,3,91250,{"$f":"\"078206000\"","v":"078206000"},"The Paideia Academies Inc",null,{"$f":"\"\"","v":""},null,null,null,null,null,0.87960700000000003]
[2013,3,78760,{"$f":"\"093905000\"","v":"093905000"},"Theodore Roosevelt School",78761,{"$f":"\"104001006\"","v":"104001006"},"Theodore Roosevelt",0.86021499999999995,4.3011000000000001E-2,0.90322599999999997,93,null,null,84]
[2013,3,78760,{"$f":"\"093905000\"","v":"093905000"},"Theodore Roosevelt School",null,{"$f":"\"\"","v":""},null,null,null,null,null,0.90322599999999997]
[2013,3,80200,{"$f":"\"072711000\"","v":"072711000"},"Therapeutic Residences for Youth Inc.",80201,{"$f":"\"072711001\"","v":"072711001"},"Blume House",1,0,1,7,null,null,7]
[2013,3,80200,{"$f":"\"072711000\"","v":"072711000"},"Therapeutic Residences for Youth Inc.",80202,{"$f":"\"072711002\"","v":"072711002"},"Cambell House",1,0,1,7,null,null,7]
[2013,3,80200,{"$f":"\"072711000\"","v":"072711000"},"Therapeutic Residences for Youth Inc.",80203,{"$f":"\"072711003\"","v":"072711003"},"Madison House",1,0,1,7,null,null,7]
[2013,3,80200,{"$f":"\"072711000\"","v":"072711000"},"Therapeutic Residences for Youth Inc.",null,{"$f":"\"\"","v":""},null,null,null,null,null,1]
[2013,3,80081,{"$f":"\"094012000\"","v":"094012000"},"Tiisyaakin Residential Hall Inc",80082,{"$f":"\"094012001\"","v":"094012001"},"Tiisyaakin Residential Hall Inc.",0.63888900000000004,0.16666700000000001,0.80555600000000005,108,null,null,87]
[2013,3,80081,{"$f":"\"094012000\"","v":"094012000"},"Tiisyaakin Residential Hall Inc",null,{"$f":"\"\"","v":""},null,null,null,null,null,0.80555600000000005]
[2013,3,4264,{"$f":"\"070417000\"","v":"070417000"},"Tolleson Elementary District",6240,{"$f":"\"070417101\"","v":"070417101"},"Porfirio H. Gonzales Elementary School",0.78984699999999997,8.0282999999999993E-2,0.87012999999999996,847,null,null,737]
[2013,3,4264,{"$f":"\"070417000\"","v":"070417000"},"Tolleson Elementary District",10869,{"$f":"\"070417102\"","v":"070417102"},"Arizona Desert Elementary School",0.75961500000000004,8.6538000000000004E-2,0.84615399999999996,416,null,null,352]
[2013,3,4264,{"$f":"\"070417000\"","v":"070417000"},"Tolleson Elementary District",79402,{"$f":"\"070417103\"","v":"070417103"},"Sheely Farms Elementary School",0.70581400000000005,9.1859999999999997E-2,0.79767399999999999,860,null,null,686]
[2013,3,4264,{"$f":"\"070417000\"","v":"070417000"},"Tolleson Elementary District",87526,{"$f":"\"070417104\"","v":"070417104"},"Desert Oasis Elementary School",0.772289,8.7952000000000002E-2,0.86024100000000003,830,null,null,714]
[2013,3,4264,{"$f":"\"070417000\"","v":"070417000"},"Tolleson Elementary District",null,{"$f":"\"\"","v":""},null,null,null,null,null,0.84287100000000004]
[2013,3,4288,{"$f":"\"070514000\"","v":"070514000"},"Tolleson Union High School District",5452,{"$f":"\"070514201\"","v":"070514201"},"Tolleson Union High School",0.57958799999999999,0.116573,0.69616100000000003,2136,null,null,1487]
[2013,3,4288,"070514000","Tolleson Union High School District",5453,{"$f":"\"070514202\"","v":"070514202"},"Westview High School",0.44050899999999998,0.108635,0.54914399999999997,2513,null,null,1380]
[2013,3,4288,"070514000","Tolleson Union High School District",80051,{"$f":"\"070514203\"","v":"070514203"},"La Joya Community High School",0.57407399999999997,9.0856000000000006E-2,0.66493100000000005,1728,null,null,1149]
[2013,3,4288,"070514000","Tolleson Union High School District",85810,{"$f":"\"070514204\"","v":"070514204"},"Copper Canyon High School",0.65250300000000006,0.107683,0.76018600000000003,1718,null,null,1306]
[2013,3,4288,"070514000","Tolleson Union High School District",89908,{"$f":"\"070514205\"","v":"070514205"},"Sierra Linda High School",0.66920599999999997,9.5873E-2,0.76507899999999995,1575,null,null,1205]
[2013,3,4288,"070514000","Tolleson Union High School District",null,{"$f":"\"\"","v":""},null,null,null,null,null,0.67497300000000005]
[2013,3,4450,{"$f":"\"110422000\"","v":"110422000"},"Toltec Elementary District",5945,{"$f":"\"110422101\"","v":"110422101"},"Toltec Middle School",0.82135100000000005,0.106754,0.92810499999999996,459,null,null,426]
[2013,3,4450,{"$f":"\"110422000\"","v":"110422000"},"Toltec Elementary District",80312,{"$f":"\"110422102\"","v":"110422102"},"Toltec Elementary School",0.762463,8.9442999999999995E-2,0.85190600000000005,682,null,null,581]
[2013,3,4450,{"$f":"\"110422000\"","v":"110422000"},"Toltec Elementary District",null,{"$f":"\"\"","v":""},null,null,null,null,null,0.88255899999999998]
[2013,3,4168,{"$f":"\"020201000\"","v":"020201000"},"Tombstone Unified District",4749,{"$f":"\"020201101\"","v":"020201101"},"Huachuca City School",0.71372500000000005,4.7058999999999997E-2,0.76078400000000002,510,null,null,388]
[2013,3,4168,{"$f":"\"020201000\"","v":"020201000"},"Tombstone Unified District",4750,{"$f":"\"020201102\"","v":"020201102"},"Walter J Meyer School",0.50666699999999998,0.08,0.58666700000000005,75,null,null,44]
[2013,3,4168,{"$f":"\"020201000\"","v":"020201000"},"Tombstone Unified District",4751,{"$f":"\"020201207\"","v":"020201207"},"Tombstone High School",0.38522400000000001,4.7493E-2,0.43271799999999999,367,null,null,164]
[2013,3,4168,{"$f":"\"020201000\"","v":"020201000"},"Tombstone Unified District",null,{"$f":"\"\"","v":""},null,null,null,null,null,0.62059500000000001]
[2013,3,8577,{"$f":"\"034001000\"","v":"034001000"},"Tonalea School",80405,{"$f":"\"033904005\"","v":"033904005"},"Tonalea School",0.96571399999999996,1.1429E-2,0.97714299999999998,208,null,null,171]
[2013,3,8577,{"$f":"\"034001000\"","v":"034001000"},"Tonalea School",null,{"$f":"\"\"","v":""},null,null,null,null,null,0.97714299999999998]
[2013,3,4215,{"$f":"\"040333000\"","v":"040333000"},"Tonto Basin Elementary District",4877,{"$f":"\"040333101\"","v":"040333101"},"Tonto Basin Elementary",0.75675700000000001,8.1081E-2,0.83783799999999997,74,null,null,62]
[2013,3,4215,{"$f":"\"040333000\"","v":"040333000"},"Tonto Basin Elementary District",null,{"$f":"\"\"","v":""},null,null,null,null,null,0.83783799999999997]
[2013,3,4376,{"$f":"\"080412000\"","v":"080412000"},"Topock Elementary District",5581,{"$f":"\"080412012\"","v":"080412012"},"Topock Elementary School",0.78289500000000001,5.2631999999999998E-2,0.83552599999999999,147,null,null,127]
[2013,3,4376,{"$f":"\"080412000\"","v":"080412000"},"Topock Elementary District",null,{"$f":"\"\"","v":""},null,null,null,null,null,0.83552599999999999]
[2013,3,8578,{"$f":"\"034002000\"","v":"034002000"},"Tuba City Boarding School",80411,{"$f":"\"033904007\"","v":"033904007"},"Tuba City Boarding School",0.70078099999999999,9.375E-2,0.79453099999999999,1280,null,null,1017]
[2013,3,8578,{"$f":"\"034002000\"","v":"034002000"},"Tuba City Boarding School",null,{"$f":"\"\"","v":""},null,null,null,null,null,0.79453099999999999]
[2013,3,4197,{"$f":"\"030215000\"","v":"030215000"},"Tuba City Unified District",4833,{"$f":"\"030215110\"","v":"030215110"},"Tuba City Primary School",0.75757600000000003,6.3131000000000007E-2,0.82070699999999996,448,null,null,325]
[2013,3,4197,"030215000","Tuba City Unified District",4834,{"$f":"\"030215111\"","v":"030215111"},"Dzil Libei Elementary School",0.82727300000000004,9.0910000000000001E-3,0.836364,96,null,null,92]
[2013,3,4197,"030215000","Tuba City Unified District",4835,{"$f":"\"030215112\"","v":"030215112"},"Gap Primary School",0.88235300000000005,0,0.88235300000000005,54,null,null,30]
[2013,3,4197,"030215000","Tuba City Unified District",4836,{"$f":"\"030215120\"","v":"030215120"},"Eagles Nest Intermediate School",0.76791799999999999,7.5084999999999999E-2,0.84300299999999995,277,null,null,247]
[2013,3,4197,"030215000","Tuba City Unified District",4837,{"$f":"\"030215130\"","v":"030215130"},"Tuba City Junior High School",0.75720200000000004,0.102881,0.86008200000000001,253,null,null,209]
[2013,3,4197,"030215000","Tuba City Unified District",4838,{"$f":"\"030215240\"","v":"030215240"},"Tuba City High School",0.64255300000000004,0.102128,0.74468100000000004,684,null,null,525]
[2013,3,4197,"030215000","Tuba City Unified District",78916,{"$f":"\"030215140\"","v":"030215140"},"Tuba City Alternative School",0.79545500000000002,6.8182000000000006E-2,0.86363599999999996,40,null,null,38]
[2013,3,4197,"030215000","Tuba City Unified District",null,{"$f":"\"\"","v":""},null,null,null,null,null,0.80487799999999998]
[2013,3,79979,{"$f":"\"108714000\"","v":"108714000"},"Tucson International Academy Inc.",79980,{"$f":"\"108714101\"","v":"108714101"},"Tucson International Academy",0.77868899999999996,0.14754100000000001,0.92623,122,null,null,113]
[2013,3,79979,{"$f":"\"108714000\"","v":"108714000"},"Tucson International Academy Inc.",84297,{"$f":"\"108714102\"","v":"108714102"},"Tucson International Academy Midvale",0.86014000000000002,9.0909000000000004E-2,0.95104900000000003,143,null,null,136]
[2013,3,79979,{"$f":"\"108714000\"","v":"108714000"},"Tucson International Academy Inc.",90044,{"$f":"\"108714103\"","v":"108714103"},"TIA East",0.64102599999999998,3.8462000000000003E-2,0.67948699999999995,78,null,null,53]
[2013,3,79979,{"$f":"\"108714000\"","v":"108714000"},"Tucson International Academy Inc.",90045,{"$f":"\"108714104\"","v":"108714104"},"TIA West",0.71428599999999998,0.1,0.81428599999999995,140,null,null,114]
[2013,3,79979,{"$f":"\"108714000\"","v":"108714000"},"Tucson International Academy Inc.",null,{"$f":"\"\"","v":""},null,null,null,null,null,0.86128300000000002]
[2013,3,9800,{"$f":"\"102255000\"","v":"102255000"},"Tucson Metropolitan Ministry",9804,{"$f":"\"102255043\"","v":"102255043"},"Childrens Village VII-Shelter",1,0,1,5,null,null,5]
[2013,3,9800,"102255000","Tucson Metropolitan Ministry",80209,{"$f":"\"102701001\"","v":"102701001"},"Childrens Village I",1,0,1,6,null,null,6]
[2013,3,9800,"102255000","Tucson Metropolitan Ministry",80210,{"$f":"\"102701002\"","v":"102701002"},"Childrens Village II",1,0,1,5,null,null,5]
[2013,3,9800,"102255000","Tucson Metropolitan Ministry",80211,{"$f":"\"102701003\"","v":"102701003"},"Childrens Village III",1,0,1,6,null,null,6]
[2013,3,9800,"102255000","Tucson Metropolitan Ministry",80212,{"$f":"\"102701004\"","v":"102701004"},"Childrens Village IV",1,0,1,4,null,null,4]
[2013,3,9800,"102255000","Tucson Metropolitan Ministry",80213,{"$f":"\"102701005\"","v":"102701005"},"Childrens Village V",1,0,1,6,null,null,119]
[2013,3,9800,"102255000","Tucson Metropolitan Ministry",84657,{"$f":"\"102701006\"","v":"102701006"},"Childrens Village VI",1,0,1,6,null,null,6]
[2013,3,9800,"102255000","Tucson Metropolitan Ministry",91852,{"$f":"\"102255044\"","v":"102255044"},"Childrens Village VIII",1,0,1,4,null,null,4]
[2013,3,9800,"102255000","Tucson Metropolitan Ministry",null,{"$f":"\"\"","v":""},null,null,null,null,null,1]
[2013,3,85448,{"$f":"\"108720000\"","v":"108720000"},"Tucson Small School Project",85451,{"$f":"\"108720201\"","v":"108720201"},"City High School",0.38922200000000001,7.7843999999999997E-2,0.46706599999999998,166,null,null,78]
[2013,3,85448,{"$f":"\"108720000\"","v":"108720000"},"Tucson Small School Project",null,{"$f":"\"\"","v":""},null,null,null,null,null,0.46706599999999998]
[2013,3,4403,{"$f":"\"100201000\"","v":"100201000"},"Tucson Unified District",5659,{"$f":"\"100201125\"","v":"100201125"},"Blenman Elementary School",0.80516399999999999,5.1643000000000001E-2,0.85680800000000001,426,null,null,365]
[2013,3,4403,"100201000","Tucson Unified District",5660,{"$f":"\"100201128\"","v":"100201128"},"Bloom Elementary",0.51546400000000003,5.8418999999999999E-2,0.57388300000000003,291,null,null,167]
[2013,3,4403,"100201000","Tucson Unified District",5661,{"$f":"\"100201131\"","v":"100201131"},"Bonillas Elementary Basic Curriculum Magnet School",0.80805700000000003,4.0284E-2,0.84834100000000001,422,null,null,358]
[2013,3,4403,"100201000","Tucson Unified District",5663,{"$f":"\"100201140\"","v":"100201140"},"Borman Elementary School",0.14560999999999999,0.18415400000000001,0.329764,467,null,null,154]
[2013,3,4403,"100201000","Tucson Unified District",5664,{"$f":"\"100201143\"","v":"100201143"},"Borton Primary Magnet School",0.49767400000000001,4.1860000000000001E-2,0.53953499999999999,430,null,null,232]
[2013,3,4403,"100201000","Tucson Unified District",5665,{"$f":"\"100201149\"","v":"100201149"},"Brichta Elementary School",0.6875,5.3571000000000001E-2,0.74107100000000004,336,null,null,249]
[2013,3,4403,"100201000","Tucson Unified District",5666,{"$f":"\"100201161\"","v":"100201161"},"Carrillo Intermediate Magnet School",0.69523800000000002,0.111111,0.80634899999999998,315,null,null,254]
[2013,3,4403,"100201000","Tucson Unified District",5667,{"$f":"\"100201167\"","v":"100201167"},"Cavett Elementary School",0.93548399999999998,2.5805999999999999E-2,0.96128999999999998,310,null,null,298]
[2013,3,4403,"100201000","Tucson Unified District",5668,{"$f":"\"100201170\"","v":"100201170"},"Collier Elementary School",0.22134400000000001,5.5336000000000003E-2,0.27667999999999998,253,null,null,70]
[2013,3,4403,"100201000","Tucson Unified District",5669,{"$f":"\"100201173\"","v":"100201173"},"Corbett Elementary School",0.65822800000000004,6.3291E-2,0.72151900000000002,474,null,null,342]
[2013,3,4403,"100201000","Tucson Unified District",5670,{"$f":"\"100201179\"","v":"100201179"},"Cragin Elementary School",0.876081,3.4582000000000002E-2,0.910663,347,null,null,316]
[2013,3,4403,"100201000","Tucson Unified District",5671,{"$f":"\"100201185\"","v":"100201185"},"Davidson Elementary School",0.82831299999999997,3.9156999999999997E-2,0.86746999999999996,332,null,null,288]
[2013,3,4403,"100201000","Tucson Unified District",5672,{"$f":"\"100201191\"","v":"100201191"},"Davis Bilingual Magnet School",0.481132,5.6604000000000002E-2,0.53773599999999999,318,null,null,171]
[2013,3,4403,"100201000","Tucson Unified District",5673,{"$f":"\"100201197\"","v":"100201197"},"Dietz Elementary School",0.82596700000000001,5.8011E-2,0.88397800000000004,362,null,null,320]
[2013,3,4403,"100201000","Tucson Unified District",5674,{"$f":"\"100201203\"","v":"100201203"},"Drachman Primary Magnet School",0.77419400000000005,4.8386999999999999E-2,0.82258100000000001,310,null,null,255]
[2013,3,4403,"100201000","Tucson Unified District",5676,{"$f":"\"100201211\"","v":"100201211"},"Dunham Elementary School",0.56431500000000001,4.1494000000000003E-2,0.60580900000000004,241,null,null,146]
[2013,3,4403,"100201000","Tucson Unified District",5677,{"$f":"\"100201215\"","v":"100201215"},"Irene Erickson Elementary School",0.84252000000000005,4.7244000000000001E-2,0.889764,508,null,null,452]
[2013,3,4403,"100201000","Tucson Unified District",5678,{"$f":"\"100201218\"","v":"100201218"},"Ford Elementary",0.56448200000000004,4.2283000000000001E-2,0.606765,473,null,null,287]
[2013,3,4403,"100201000","Tucson Unified District",5680,{"$f":"\"100201225\"","v":"100201225"},"Fruchthendler Elementary School",0.16624,1.5344999999999999E-2,0.181586,391,null,null,71]
[2013,3,4403,"100201000","Tucson Unified District",5681,{"$f":"\"100201228\"","v":"100201228"},"Gale Elementary School",0.31111100000000003,5.679E-2,0.36790099999999998,405,null,null,149]
[2013,3,4403,"100201000","Tucson Unified District",5683,{"$f":"\"100201231\"","v":"100201231"},"Raul Grijalva Elementary School",0.87671200000000005,5.7534000000000002E-2,0.93424700000000005,730,null,null,682]
[2013,3,4403,"100201000","Tucson Unified District",5684,{"$f":"\"100201233\"","v":"100201233"},"Hollinger Elementary School",0.919431,3.0806E-2,0.950237,422,null,null,401]
[2013,3,4403,"100201000","Tucson Unified District",5685,{"$f":"\"100201238\"","v":"100201238"},"Anna Henry Elementary School",0.55555600000000005,6.3492000000000007E-2,0.61904800000000004,315,null,null,195]
[2013,3,4403,"100201000","Tucson Unified District",5686,{"$f":"\"100201239\"","v":"100201239"},"Holladay Intermediate Magnet School",0.81403499999999995,4.9123E-2,0.86315799999999998,285,null,null,246]
[2013,3,4403,"100201000","Tucson Unified District",5687,{"$f":"\"100201245\"","v":"100201245"},"Howell Peter Elementary",0.84036100000000002,4.2168999999999998E-2,0.88253000000000004,332,null,null,293]
[2013,3,4403,"100201000","Tucson Unified District",5688,{"$f":"\"100201251\"","v":"100201251"},"Hudlow Elementary School",0.77852299999999997,6.0402999999999998E-2,0.83892599999999995,298,null,null,250]
[2013,3,4403,"100201000","Tucson Unified District",5689,{"$f":"\"100201257\"","v":"100201257"},"Sam Hughes Elementary",0.26478099999999999,3.3418999999999997E-2,0.29820099999999999,389,null,null,116]
[2013,3,4403,"100201000","Tucson Unified District",5691,{"$f":"\"100201266\"","v":"100201266"},"Harriet Johnson Primary School",0.90909099999999998,2.9484E-2,0.93857500000000005,407,null,null,382]
[2013,3,4403,"100201000","Tucson Unified District",5693,{"$f":"\"100201275\"","v":"100201275"},"Annie Kellond Elementary School",0.57961799999999997,5.3079000000000001E-2,0.63269600000000004,471,null,null,298]
[2013,3,4403,"100201000","Tucson Unified District",5694,{"$f":"\"100201277\"","v":"100201277"},"Anna Lawrence Intermediate School",0.81472100000000003,4.5685000000000003E-2,0.860406,394,null,null,339]
[2013,3,4403,"100201000","Tucson Unified District",5695,{"$f":"\"100201281\"","v":"100201281"},"Lineweaver Elementary School",0.53084100000000001,2.4299000000000001E-2,0.55513999999999997,535,null,null,297]
[2013,3,4403,"100201000","Tucson Unified District",5697,{"$f":"\"100201287\"","v":"100201287"},"Lynn Urquides",0.94556799999999996,2.0218E-2,0.965785,643,null,null,621]
[2013,3,4403,"100201000","Tucson Unified District",5698,{"$f":"\"100201288\"","v":"100201288"},"Nan Lyons Elementary School",0.69285699999999995,4.6428999999999998E-2,0.739286,280,null,null,207]
[2013,3,4403,"100201000","Tucson Unified District",5699,{"$f":"\"100201290\"","v":"100201290"},"Maldonado Amelia Elementary School",0.84399999999999997,6.6000000000000003E-2,0.91,500,null,null,455]
[2013,3,4403,"100201000","Tucson Unified District",5700,{"$f":"\"100201293\"","v":"100201293"},"Manzo Elementary School",0.853383,4.8871999999999999E-2,0.90225599999999995,266,null,null,240]
[2013,3,4403,"100201000","Tucson Unified District",5701,{"$f":"\"100201295\"","v":"100201295"},"Marshall Elementary School",0.56268200000000002,4.0815999999999998E-2,0.60349900000000001,343,null,null,207]
[2013,3,4403,"100201000","Tucson Unified District",5702,{"$f":"\"100201299\"","v":"100201299"},"Menlo Park Elementary School",0.94805200000000001,3.8961000000000003E-2,0.98701300000000003,231,null,null,228]
[2013,3,4403,"100201000","Tucson Unified District",5703,{"$f":"\"100201305\"","v":"100201305"},"Miles-Exploratory Learning Center",0.265625,4.6875E-2,0.3125,384,null,null,120]
[2013,3,4403,"100201000","Tucson Unified District",5704,{"$f":"\"100201308\"","v":"100201308"},"Miller Elementary School",0.834426,5.2458999999999999E-2,0.88688500000000003,610,null,null,541]
[2013,3,4403,"100201000","Tucson Unified District",5705,{"$f":"\"100201311\"","v":"100201311"},"Mission View Elementary School",0.93356600000000001,2.4476000000000001E-2,0.95804199999999995,286,null,null,274]
[2013,3,4403,"100201000","Tucson Unified District",5706,{"$f":"\"100201317\"","v":"100201317"},"Myers-Ganoung Elementary School",0.862869,6.9620000000000001E-2,0.93248900000000001,444,null,null,442]
[2013,3,4403,"100201000","Tucson Unified District",5707,{"$f":"\"100201323\"","v":"100201323"},"Ochoa Elementary School",0.86909099999999995,4.3636000000000001E-2,0.91272699999999996,275,null,null,251]
[2013,3,4403,"100201000","Tucson Unified District",5708,{"$f":"\"100201329\"","v":"100201329"},"Pueblo Gardens Elementary",0.92650299999999997,5.5678999999999999E-2,0.98218300000000003,449,null,null,441]
[2013,3,4403,"100201000","Tucson Unified District",5712,{"$f":"\"100201351\"","v":"100201351"},"Robins Elementary School",0.369141,4.2969E-2,0.412109,512,null,null,211]
[2013,3,4403,"100201000","Tucson Unified District",5713,{"$f":"\"100201353\"","v":"100201353"},"Robison Elementary School",0.84916199999999997,1.6760000000000001E-2,0.86592199999999997,358,null,null,310]
[2013,3,4403,"100201000","Tucson Unified District",5715,{"$f":"\"100201371\"","v":"100201371"},"C E Rose Elementary School",0.90201699999999996,4.1786999999999998E-2,0.94380399999999998,694,null,null,655]
[2013,3,4403,"100201000","Tucson Unified District",5718,{"$f":"\"100201389\"","v":"100201389"},"Schumaker Elementary School",0.73391799999999996,8.1870999999999999E-2,0.81578899999999999,342,null,null,279]
[2013,3,4403,"100201000","Tucson Unified District",5719,{"$f":"\"100201395\"","v":"100201395"},"W Arthur Sewel Elementary School",0.57714299999999996,5.1429000000000002E-2,0.62857099999999999,350,null,null,220]
[2013,3,4403,"100201000","Tucson Unified District",5721,{"$f":"\"100201410\"","v":"100201410"},"Soleng Tom Elementary School",0.218638,4.4803000000000003E-2,0.26344099999999998,558,null,null,147]
[2013,3,4403,"100201000","Tucson Unified District",5723,{"$f":"\"100201413\"","v":"100201413"},"Harold Steele Elementary School",0.760355,6.5088999999999994E-2,0.82544399999999996,338,null,null,279]
[2013,3,4403,"100201000","Tucson Unified District",5724,{"$f":"\"100201417\"","v":"100201417"},"Tolson Elementary School",0.84237700000000004,4.3928000000000002E-2,0.88630500000000001,387,null,null,343]
[2013,3,4403,"100201000","Tucson Unified District",5725,{"$f":"\"100201419\"","v":"100201419"},"Tully Elementary Accelerated Magnet School",0.82027600000000001,4.3778999999999998E-2,0.86405500000000002,434,null,null,375]
[2013,3,4403,"100201000","Tucson Unified District",5726,{"$f":"\"100201431\"","v":"100201431"},"Van Buskirk Elementary School",0.91606699999999996,3.8369E-2,0.95443599999999995,417,null,null,398]
[2013,3,4403,"100201000","Tucson Unified District",5728,{"$f":"\"100201435\"","v":"100201435"},"Vesey Elementary School",0.70397600000000005,9.4256000000000006E-2,0.79823299999999997,679,null,null,542]
[2013,3,4403,"100201000","Tucson Unified District",5729,{"$f":"\"100201440\"","v":"100201440"},"Frances J Warren Elementary School",0.80866400000000005,7.9422000000000006E-2,0.88808699999999996,277,null,null,246]
[2013,3,4403,"100201000","Tucson Unified District",5730,{"$f":"\"100201443\"","v":"100201443"},"Wheeler Elementary School",0.64601799999999998,5.0146999999999997E-2,0.69616500000000003,339,null,null,236]
[2013,3,4403,"100201000","Tucson Unified District",5731,{"$f":"\"100201449\"","v":"100201449"},"John E White Elementary School",0.73185199999999995,7.2593000000000005E-2,0.80444400000000005,675,null,null,543]
[2013,3,4403,"100201000","Tucson Unified District",5732,{"$f":"\"100201455\"","v":"100201455"},"W V Whitmore Elementary School",0.58589000000000002,4.2944999999999997E-2,0.628834,326,null,null,205]
[2013,3,4403,"100201000","Tucson Unified District",5733,{"$f":"\"100201461\"","v":"100201461"},"John E Wright Elementary School",0.94230800000000003,3.8462000000000003E-2,0.980769,416,null,null,408]
[2013,3,4403,"100201000","Tucson Unified District",5735,{"$f":"\"100201502\"","v":"100201502"},"Ida Flood Dodge Traditional Middle Magnet School",0.34482800000000002,8.8669999999999999E-2,0.43349799999999999,406,null,null,176]
[2013,3,4403,"100201000","Tucson Unified District",5736,{"$f":"\"100201503\"","v":"100201503"},"Carson Middle School",0.71030000000000004,7.7253000000000002E-2,0.78755399999999998,466,null,null,367]
[2013,3,4403,"100201000","Tucson Unified District",5737,{"$f":"\"100201505\"","v":"100201505"},"Doolen Middle School",0.69444399999999995,4.0936E-2,0.73538000000000003,684,null,null,503]
[2013,3,4403,"100201000","Tucson Unified District",5738,{"$f":"\"100201510\"","v":"100201510"},"Booth-Fickett Math/Science Magnet School",0.69352199999999997,6.8936999999999998E-2,0.76245799999999997,1204,null,null,918]
[2013,3,4403,"100201000","Tucson Unified District",5739,{"$f":"\"100201511\"","v":"100201511"},"Gridley Middle School",0.42471599999999998,6.5340999999999996E-2,0.49005700000000002,704,null,null,345]
[2013,3,4403,{"$f":"\"100201000\"","v":"100201000"},"Tucson Unified District",5740,{"$f":"\"100201513\"","v":"100201513"},"Hohokam Middle School",0.85521899999999995,5.3872000000000003E-2,0.90909099999999998,297,null,null,270]
[2013,3,4403,"100201000","Tucson Unified District",5741,{"$f":"\"100201515\"","v":"100201515"},"Magee Middle School",0.47094799999999998,9.4800999999999996E-2,0.56574899999999995,654,null,null,370]
[2013,3,4403,"100201000","Tucson Unified District",5742,{"$f":"\"100201520\"","v":"100201520"},"Mansfeld Middle School",0.68042800000000003,6.4219999999999999E-2,0.74464799999999998,654,null,null,487]
[2013,3,4403,"100201000","Tucson Unified District",5743,{"$f":"\"100201522\"","v":"100201522"},"Maxwell Middle School",0.87628899999999998,3.4363999999999999E-2,0.91065300000000005,291,null,null,265]
[2013,3,4403,"100201000","Tucson Unified District",5744,{"$f":"\"100201525\"","v":"100201525"},"Naylor Middle School",0.93460900000000002,2.8708000000000001E-2,0.96331699999999998,627,null,null,604]
[2013,3,4403,"100201000","Tucson Unified District",5745,{"$f":"\"100201527\"","v":"100201527"},"Pistor Middle School",0.752475,6.8317000000000003E-2,0.82079199999999997,1010,null,null,829]
[2013,3,4403,"100201000","Tucson Unified District",5746,{"$f":"\"100201535\"","v":"100201535"},"Safford Engineering/Technology Magnet Middle School",0.80532999999999999,6.6048999999999997E-2,0.87137900000000001,863,null,null,752]
[2013,3,4403,"100201000","Tucson Unified District",5747,{"$f":"\"100201537\"","v":"100201537"},"Secrist Middle School",0.48311700000000002,9.0909000000000004E-2,0.57402600000000004,385,null,null,221]
[2013,3,4403,"100201000","Tucson Unified District",5748,{"$f":"\"100201545\"","v":"100201545"},"Townsend Middle School",0.82906000000000002,3.6325000000000003E-2,0.86538499999999996,468,null,null,405]
[2013,3,4403,"100201000","Tucson Unified District",5749,{"$f":"\"100201550\"","v":"100201550"},"Utterback Middle School",0.82032400000000005,5.8909999999999997E-2,0.87923399999999996,679,null,null,597]
[2013,3,4403,"100201000","Tucson Unified District",5750,{"$f":"\"100201555\"","v":"100201555"},"Alice Vail Middle School",0.61561999999999995,4.2879E-2,0.65849899999999995,653,null,null,430]
[2013,3,4403,"100201000","Tucson Unified District",5751,{"$f":"\"100201557\"","v":"100201557"},"Valencia Middle School",0.78390499999999996,6.5573999999999993E-2,0.84947799999999996,671,null,null,570]
[2013,3,4403,"100201000","Tucson Unified District",5752,{"$f":"\"100201560\"","v":"100201560"},"Wakefield Middle School",0.95853699999999997,2.1950999999999998E-2,0.98048800000000003,410,null,null,402]
[2013,3,4403,"100201000","Tucson Unified District",5754,{"$f":"\"100201580\"","v":"100201580"},"Southwest Alternative Middle School",0.88059699999999996,1.4925000000000001E-2,0.89552200000000004,67,null,null,60]
[2013,3,4403,"100201000","Tucson Unified District",5755,{"$f":"\"100201595\"","v":"100201595"},"Roskruge Bilingual Magnet Middle School",0.69299599999999995,8.6438000000000001E-2,0.77943399999999996,671,null,null,523]
[2013,3,4403,"100201000","Tucson Unified District",5756,{"$f":"\"100201610\"","v":"100201610"},"Catalina High Magnet School",0.73719199999999996,4.6489999999999997E-2,0.78368099999999996,1054,null,null,826]
[2013,3,4403,"100201000","Tucson Unified District",5757,{"$f":"\"100201615\"","v":"100201615"},"Cholla High Magnet School",0.71905399999999997,7.2322999999999998E-2,0.791377,1438,null,null,1138]
[2013,3,4403,"100201000","Tucson Unified District",5758,{"$f":"\"100201620\"","v":"100201620"},"Palo Verde High Magnet School",0.64022299999999999,6.7039000000000001E-2,0.70726299999999998,895,null,null,633]
[2013,3,4403,"100201000","Tucson Unified District",5759,{"$f":"\"100201630\"","v":"100201630"},"Pueblo High Magnet School",0.76983100000000004,5.7867000000000002E-2,0.82769800000000004,1538,null,null,1273]
[2013,3,4403,"100201000","Tucson Unified District",5760,{"$f":"\"100201640\"","v":"100201640"},"Rincon High School",0.40061600000000003,4.8279000000000002E-2,0.44889600000000002,1947,null,null,874]
[2013,3,4403,"100201000","Tucson Unified District",5761,{"$f":"\"100201645\"","v":"100201645"},"Sabino High School",0.125115,1.9318999999999999E-2,0.14443400000000001,1087,null,null,157]
[2013,3,4403,"100201000","Tucson Unified District",5762,{"$f":"\"100201650\"","v":"100201650"},"Sahuaro High School",0.331206,5.9165000000000002E-2,0.39037100000000002,1724,null,null,673]
[2013,3,4403,"100201000","Tucson Unified District",5763,{"$f":"\"100201655\"","v":"100201655"},"Santa Rita High School",0.49457699999999999,5.6398999999999998E-2,0.55097600000000002,922,null,null,508]
[2013,3,4403,"100201000","Tucson Unified District",5764,{"$f":"\"100201660\"","v":"100201660"},"Tucson Magnet High School",0.52384200000000003,6.4254000000000006E-2,0.58809599999999995,2957,null,null,1739]
[2013,3,4403,"100201000","Tucson Unified District",5767,{"$f":"\"100201680\"","v":"100201680"},"Howenstine High School",0.65600000000000003,0.08,0.73599999999999999,125,null,null,92]
[2013,3,4403,"100201000","Tucson Unified District",6264,{"$f":"\"100201674\"","v":"100201674"},"Project More High School",0.70129900000000001,7.7922000000000005E-2,0.77922100000000005,77,null,null,60]
[2013,3,4403,"100201000","Tucson Unified District",6269,{"$f":"\"100201195\"","v":"100201195"},"Mary Meredith K-12 School",0.91044800000000004,1.4925000000000001E-2,0.925373,67,null,null,62]
[2013,3,4403,"100201000","Tucson Unified District",6272,{"$f":"\"100201676\"","v":"100201676"},"Teenage Parent Program - TAPP",0.92405099999999996,6.3291E-2,0.98734200000000005,79,null,null,78]
[2013,3,4403,"100201000","Tucson Unified District",80038,{"$f":"\"100201120\"","v":"100201120"},"Laura N. Banks Elementary",0.77562299999999995,6.3712000000000005E-2,0.83933500000000005,361,null,null,303]
[2013,3,4403,"100201000","Tucson Unified District",80039,{"$f":"\"100201327\"","v":"100201327"},"Henry Hank Oyama",0.82505899999999999,5.4373999999999999E-2,0.87943300000000002,423,null,null,372]
[2013,3,4403,"100201000","Tucson Unified District",91202,{"$f":"\"100201523\"","v":"100201523"},"McCorkle PK-8",0.76662799999999998,6.6511000000000001E-2,0.83313899999999996,857,null,null,714]
[2013,3,4403,"100201000","Tucson Unified District",null,{"$f":"\"\"","v":""},null,null,null,null,null,0.71138500000000005]
[2013,3,80214,{"$f":"\"072704000\"","v":"072704000"},"Tumbleweed Center for Youth",80215,{"$f":"\"072704001\"","v":"072704001"},"Tumbleweed Group Home I",1,0,1,29,null,null,29]
[2013,3,80214,"072704000","Tumbleweed Center for Youth",80216,{"$f":"\"072704002\"","v":"072704002"},"Tumbleweed Group Home II",1,0,1,17,null,null,17]
[2013,3,80214,"072704000","Tumbleweed Center for Youth",80217,{"$f":"\"072704003\"","v":"072704003"},"Tumbleweed Group Home III",1,0,1,18,null,null,18]
[2013,3,80214,"072704000","Tumbleweed Center for Youth",80218,{"$f":"\"072704004\"","v":"072704004"},"Tumbleweed Group Home IV",1,0,1,13,null,null,13]
[2013,3,80214,"072704000","Tumbleweed Center for Youth",90811,{"$f":"\"072704005\"","v":"072704005"},"Tumbleweed Shelter",1,0,1,19,null,null,19]
[2013,3,80214,"072704000","Tumbleweed Center for Youth",null,{"$f":"\"\"","v":""},null,null,null,null,null,1]
[2013,3,4277,{"$f":"\"070462000\"","v":"070462000"},"Union Elementary District",5359,{"$f":"\"070462101\"","v":"070462101"},"Union Elementary School",0.83018899999999995,4.4025000000000002E-2,0.87421400000000005,159,null,null,139]
[2013,3,4277,{"$f":"\"070462000\"","v":"070462000"},"Union Elementary District",87523,{"$f":"\"070462102\"","v":"070462102"},"Hurley Ranch Elementary",0.75917400000000002,0.11697200000000001,0.87614700000000001,872,null,null,764]
[2013,3,4277,{"$f":"\"070462000\"","v":"070462000"},"Union Elementary District",89592,{"$f":"\"070462103\"","v":"070462103"},"Dos Rios Elementary",0.72070100000000004,0.11938699999999999,0.84008799999999995,913,null,null,767]
[2013,3,4277,{"$f":"\"070462000\"","v":"070462000"},"Union Elementary District",null,{"$f":"\"\"","v":""},null,null,null,null,null,0.85905299999999996]
[2013,3,4413,{"$f":"\"100220000\"","v":"100220000"},"Vail Unified District",5850,{"$f":"\"100220104\"","v":"100220104"},"Old Vail Middle School",0.25647999999999999,7.7762999999999999E-2,0.33424300000000001,733,null,null,245]
[2013,3,4413,"100220000","Vail Unified District",5851,{"$f":"\"100220105\"","v":"100220105"},"Desert Willow Elementary School",0.26964900000000003,9.1897999999999994E-2,0.36154799999999998,827,null,null,299]
[2013,3,4413,"100220000","Vail Unified District",10855,{"$f":"\"100220701\"","v":"100220701"},"Vail Academy & High School",0.17982500000000001,0.10087699999999999,0.28070200000000001,456,null,null,128]
[2013,3,4413,"100220000","Vail Unified District",79719,{"$f":"\"100220107\"","v":"100220107"},"Cottonwood Elementary School",0.29011300000000001,6.9692000000000004E-2,0.35980600000000001,617,null,null,222]
[2013,3,4413,"100220000","Vail Unified District",79720,{"$f":"\"100220108\"","v":"100220108"},"Desert Sky Middle School",0.24291499999999999,7.8272999999999995E-2,0.32118799999999997,741,null,null,238]
[2013,3,4413,"100220000","Vail Unified District",79721,{"$f":"\"100220201\"","v":"100220201"},"Cienega High School",0.19700500000000001,7.1429000000000006E-2,0.26843299999999998,1736,null,null,466]
[2013,3,4413,"100220000","Vail Unified District",80871,{"$f":"\"100220109\"","v":"100220109"},"Sycamore Elementary School",0.21198700000000001,8.9899999999999994E-2,0.30188700000000002,901,null,null,272]
[2013,3,4413,"100220000","Vail Unified District",87470,{"$f":"\"100220110\"","v":"100220110"},"Corona Foothills Middle School",0.30638300000000002,8.2978999999999997E-2,0.38936199999999999,470,null,null,183]
[2013,3,4413,"100220000","Vail Unified District",87875,{"$f":"\"100220203\"","v":"100220203"},"Empire High School",0.12269099999999999,4.8813000000000002E-2,0.17150399999999999,758,null,null,130]
[2013,3,4413,"100220000","Vail Unified District",89575,{"$f":"\"100220112\"","v":"100220112"},"Ocotillo Ridge Elementary",0.20385200000000001,5.6180000000000001E-2,0.26003199999999999,623,null,null,162]
[2013,3,4413,"100220000","Vail Unified District",89749,{"$f":"\"100220113\"","v":"100220113"},"Senita Valley Elementary School",0.17586599999999999,6.6752000000000006E-2,0.242619,779,null,null,189]
[2013,3,4413,"100220000","Vail Unified District",90156,{"$f":"\"100220114\"","v":"100220114"},"Rincon Vista Middle School",0.232406,0.11293,0.34533599999999998,611,null,null,211]
[2013,3,4413,"100220000","Vail Unified District",91168,{"$f":"\"100220711\"","v":"100220711"},"Acacia Elementary School",0.30688599999999999,7.485E-2,0.38173699999999999,668,null,null,255]
[2013,3,4413,"100220000","Vail Unified District",91169,{"$f":"\"100220712\"","v":"100220712"},"Mesquite Elementary School",0.21790499999999999,7.7702999999999994E-2,0.29560799999999998,592,null,null,175]
[2013,3,4413,"100220000","Vail Unified District",91292,{"$f":"\"100220204\"","v":"100220204"},"Andrada Polytechnic High School",0.263492,8.2540000000000002E-2,0.34603200000000001,630,null,null,218]
[2013,3,4413,"100220000","Vail Unified District",null,{"$f":"\"\"","v":""},null,null,null,null,null,0.30452299999999999]
[2013,3,4190,{"$f":"\"020522000\"","v":"020522000"},"Valley Union High School District",4800,{"$f":"\"020522201\"","v":"020522201"},"Valley Union High School",0.57723599999999997,0.138211,0.71544700000000006,123,null,null,88]
[2013,3,4190,{"$f":"\"020522000\"","v":"020522000"},"Valley Union High School District",null,{"$f":"\"\"","v":""},null,null,null,null,null,0.71544700000000006]
[2013,3,4455,{"$f":"\"118707000\"","v":"118707000"},"Vechij Himdag Alternative School Inc.",5952,{"$f":"\"118707001\"","v":"118707001"},"Vechij Himdag MashchamakuD",0.57142899999999996,5.7142999999999999E-2,0.62857099999999999,70,null,null,44]
[2013,3,4455,{"$f":"\"118707000\"","v":"118707000"},"Vechij Himdag Alternative School Inc.",null,{"$f":"\"\"","v":""},null,null,null,null,null,0.62857099999999999]
[2013,3,4358,{"$f":"\"078757000\"","v":"078757000"},"Victory High School Inc.",78822,{"$f":"\"078757202\"","v":"078757202"},"Victory High School - Campus",0.85714299999999999,0,0.85714299999999999,14,null,null,12]
[2013,3,4358,{"$f":"\"078757000\"","v":"078757000"},"Victory High School Inc.",null,{"$f":"\"\"","v":""},null,null,null,null,null,0.85714299999999999]
[2013,3,4260,{"$f":"\"070406000\"","v":"070406000"},"Washington Elementary School District",5244,{"$f":"\"070406114\"","v":"070406114"},"Acacia Elementary School",0.71584700000000001,7.7868999999999994E-2,0.79371599999999998,732,null,null,581]
[2013,3,4260,"070406000","Washington Elementary School District",5245,{"$f":"\"070406116\"","v":"070406116"},"Alta Vista Elementary School",0.74721800000000005,7.4721999999999997E-2,0.82194,645,null,null,517]
[2013,3,4260,"070406000","Washington Elementary School District",5246,{"$f":"\"070406118\"","v":"070406118"},"Arroyo School",0.68460100000000002,7.9777000000000001E-2,0.764378,539,null,null,412]
[2013,3,4260,"070406000","Washington Elementary School District",5247,{"$f":"\"070406120\"","v":"070406120"},"Cactus Wren Elementary School",0.78481000000000001,5.4851999999999998E-2,0.83966200000000002,474,null,null,398]
[2013,3,4260,"070406000","Washington Elementary School District",5248,{"$f":"\"070406122\"","v":"070406122"},"Chaparral Elementary School",0.55116699999999996,9.1562000000000004E-2,0.64272899999999999,557,null,null,358]
[2013,3,4260,"070406000","Washington Elementary School District",5249,{"$f":"\"070406124\"","v":"070406124"},"Cholla Middle School",0.69950699999999999,7.0196999999999996E-2,0.76970400000000005,812,null,null,625]
[2013,3,4260,"070406000","Washington Elementary School District",5250,{"$f":"\"070406126\"","v":"070406126"},"Desert Foothills Middle School",0.56804699999999997,9.1716000000000006E-2,0.65976299999999999,676,null,null,446]
[2013,3,4260,"070406000","Washington Elementary School District",5251,{"$f":"\"070406128\"","v":"070406128"},"Desert View Elementary School",0.83908000000000005,7.4713000000000002E-2,0.91379299999999997,537,null,null,477]
[2013,3,4260,"070406000","Washington Elementary School District",5252,{"$f":"\"070406130\"","v":"070406130"},"Ironwood Elementary School",0.57823100000000005,8.3333000000000004E-2,0.66156499999999996,588,null,null,389]
[2013,3,4260,"070406000","Washington Elementary School District",5253,{"$f":"\"070406131\"","v":"070406131"},"John Jacobs Elementary School",0.64649699999999999,5.8916999999999997E-2,0.70541399999999999,628,null,null,443]
[2013,3,4260,"070406000","Washington Elementary School District",5254,{"$f":"\"070406132\"","v":"070406132"},"Lakeview Elementary School",0.78383499999999995,7.5188000000000005E-2,0.85902299999999998,532,null,null,457]
[2013,3,4260,"070406000","Washington Elementary School District",5255,{"$f":"\"070406134\"","v":"070406134"},"Lookout Mountain School",0.23823800000000001,3.5034999999999997E-2,0.27327299999999999,999,null,null,273]
[2013,3,4260,"070406000","Washington Elementary School District",5256,{"$f":"\"070406136\"","v":"070406136"},"Manzanita Elementary School",0.80071999999999999,5.5222E-2,0.85594199999999998,833,null,null,713]
[2013,3,4260,"070406000","Washington Elementary School District",5257,{"$f":"\"070406138\"","v":"070406138"},"Maryland Elementary School",0.77534599999999998,7.4884999999999993E-2,0.85023000000000004,938,null,null,738]
[2013,3,4260,"070406000","Washington Elementary School District",5258,{"$f":"\"070406140\"","v":"070406140"},"Moon Mountain School",0.75365899999999997,7.1951000000000001E-2,0.82560999999999996,820,null,null,677]
[2013,3,4260,"070406000","Washington Elementary School District",5259,{"$f":"\"070406141\"","v":"070406141"},"Mountain Sky Middle School",0.50736300000000001,6.5596000000000002E-2,0.572959,747,null,null,428]
[2013,3,4260,"070406000","Washington Elementary School District",5260,{"$f":"\"070406142\"","v":"070406142"},"Mountain View Elementary School",0.839333,3.0667E-2,0.87,1386,null,null,1305]
[2013,3,4260,"070406000","Washington Elementary School District",5261,{"$f":"\"070406144\"","v":"070406144"},"Ocotillo School",0.705036,0.101747,0.80678300000000003,858,null,null,785]
[2013,3,4260,"070406000","Washington Elementary School District",5262,{"$f":"\"070406146\"","v":"070406146"},"Orangewood Elementary School",0.76865700000000003,6.9029999999999994E-2,0.83768699999999996,1072,null,null,898]
[2013,3,4260,"070406000","Washington Elementary School District",5263,{"$f":"\"070406148\"","v":"070406148"},"Palo Verde Middle School",0.816079,7.1585999999999997E-2,0.88766500000000004,908,null,null,806]
[2013,3,4260,"070406000","Washington Elementary School District",5264,{"$f":"\"070406150\"","v":"070406150"},"Richard E Miller School",0.860294,5.5882000000000001E-2,0.91617599999999999,680,null,null,623]
[2013,3,4260,"070406000","Washington Elementary School District",5265,{"$f":"\"070406152\"","v":"070406152"},"Roadrunner Elementary School",0.73487800000000003,0.11969100000000001,0.85456900000000002,767,null,null,664]
[2013,3,4260,"070406000","Washington Elementary School District",5266,{"$f":"\"070406154\"","v":"070406154"},"Royal Palm Middle School",0.79203500000000004,6.7847000000000005E-2,0.85988200000000004,678,null,null,583]
[2013,3,4260,"070406000","Washington Elementary School District",5267,{"$f":"\"070406156\"","v":"070406156"},"Sahuaro School",0.74225099999999999,7.1777999999999995E-2,0.814029,613,null,null,499]
[2013,3,4260,"070406000","Washington Elementary School District",5268,{"$f":"\"070406160\"","v":"070406160"},"Shaw Butte School",0.76082700000000003,6.7913000000000001E-2,0.82874000000000003,1052,null,null,842]
[2013,3,4260,"070406000","Washington Elementary School District",5269,{"$f":"\"070406162\"","v":"070406162"},"Sunburst School",0.50077799999999995,0.11508599999999999,0.61586300000000005,643,null,null,396]
[2013,3,4260,"070406000","Washington Elementary School District",5270,{"$f":"\"070406163\"","v":"070406163"},"Sweetwater School",0.52929700000000002,6.25E-2,0.59179700000000002,512,null,null,303]
[2013,3,4260,"070406000","Washington Elementary School District",5271,{"$f":"\"070406164\"","v":"070406164"},"Sunnyslope Elementary School",0.84697500000000003,6.1684000000000003E-2,0.90866000000000002,888,null,null,766]
[2013,3,4260,"070406000","Washington Elementary School District",5272,{"$f":"\"070406165\"","v":"070406165"},"Sunset School",0.72037899999999999,7.109E-2,0.79146899999999998,633,null,null,501]
[2013,3,4260,"070406000","Washington Elementary School District",5273,{"$f":"\"070406166\"","v":"070406166"},"Tumbleweed Elementary School",0.716418,9.1417999999999999E-2,0.807836,536,null,null,433]
[2013,3,4260,"070406000","Washington Elementary School District",5274,{"$f":"\"070406167\"","v":"070406167"},"Abraham Lincoln Traditional School",0.384266,0.10136199999999999,0.485628,661,null,null,321]
[2013,3,4260,"070406000","Washington Elementary School District",5275,{"$f":"\"070406168\"","v":"070406168"},"Washington Elementary School",0.79354199999999997,6.3601000000000005E-2,0.85714299999999999,960,null,null,876]
[2013,3,4260,"070406000","Washington Elementary School District",7318,{"$f":"\"072120001\"","v":"072120001"},"GOMPERS CENTER FOR THE HANDICA",0.631579,0.105263,0.736842,19,null,null,14]
[2013,3,4260,"070406000","Washington Elementary School District",85859,{"$f":"\"079106001\"","v":"079106001"},"Latch School - CNP Washington ESD",0.46456700000000001,6.2992000000000006E-2,0.527559,254,null,null,134]
[2013,3,4260,"070406000","Washington Elementary School District",null,{"$f":"\"\"","v":""},null,null,null,null,null,0.76868300000000001]
[2013,3,4504,{"$f":"\"140424000\"","v":"140424000"},"Wellton Elementary District",6182,{"$f":"\"140424101\"","v":"140424101"},"Wellton Elementary School",0.66279100000000002,0.14534900000000001,0.80813999999999997,344,null,null,278]
[2013,3,4504,{"$f":"\"140424000\"","v":"140424000"},"Wellton Elementary District",null,{"$f":"\"\"","v":""},null,null,null,null,null,0.80813999999999997]
[2013,3,4512,{"$f":"\"150419000\"","v":"150419000"},"Wenden Elementary District",6200,{"$f":"\"150419101\"","v":"150419101"},"Wenden Elementary School",0.26388899999999998,0.27777800000000002,0.54166700000000001,114,null,null,156]
[2013,3,4512,{"$f":"\"150419000\"","v":"150419000"},"Wenden Elementary District",null,{"$f":"\"\"","v":""},null,null,null,null,null,0.54166700000000001]
[2013,3,79497,{"$f":"\"078935000\"","v":"078935000"},"West Gilbert Charter Elementary School Inc.",79508,{"$f":"\"078935102\"","v":"078935102"},"Imagine West Gilbert Elementary",0.22964499999999999,9.3946000000000002E-2,0.32359100000000002,479,null,null,155]
[2013,3,79497,{"$f":"\"078935000\"","v":"078935000"},"West Gilbert Charter Elementary School Inc.",null,{"$f":"\"\"","v":""},null,null,null,null,null,0.32359100000000002]
[2013,3,79990,{"$f":"\"078974000\"","v":"078974000"},"West Gilbert Charter Middle School Inc.",79991,{"$f":"\"078974101\"","v":"078974101"},"Imagine West Gilbert Middle",0.29473700000000003,5.2631999999999998E-2,0.34736800000000001,95,null,null,33]
[2013,3,79990,{"$f":"\"078974000\"","v":"078974000"},"West Gilbert Charter Middle School Inc.",null,{"$f":"\"\"","v":""},null,null,null,null,null,0.34736800000000001]
[2013,3,90036,{"$f":"\"078548000\"","v":"078548000"},"West Valley Arts and Technology Academy Inc.",90037,{"$f":"\"078548101\"","v":"078548101"},"Riverbend Prep",0.60215099999999999,0.20071700000000001,0.802867,279,null,null,224]
[2013,3,90036,{"$f":"\"078548000\"","v":"078548000"},"West Valley Arts and Technology Academy Inc.",null,{"$f":"\"\"","v":""},null,null,null,null,null,0.802867]
[2013,3,4394,{"$f":"\"090220000\"","v":"090220000"},"Whiteriver Unified District",5633,{"$f":"\"090220101\"","v":"090220101"},"Whiteriver Elementary",0.77892600000000001,0.10124,0.88016499999999998,598,null,null,426]
[2013,3,4394,"090220000","Whiteriver Unified District",5635,{"$f":"\"090220103\"","v":"090220103"},"Canyon Day Junior High School",0.71311500000000005,0.151639,0.86475400000000002,239,null,null,211]
[2013,3,4394,"090220000","Whiteriver Unified District",5636,{"$f":"\"090220106\"","v":"090220106"},"Cradleboard School",0.68768799999999997,0.12012,0.80780799999999997,339,null,null,269]
[2013,3,4394,"090220000","Whiteriver Unified District",5637,{"$f":"\"090220204\"","v":"090220204"},"Alchesay High School",0.69329499999999999,0.149786,0.84308099999999997,455,null,null,591]
[2013,3,4394,"090220000","Whiteriver Unified District",79698,{"$f":"\"090220107\"","v":"090220107"},"Seven Mile School",0.84143800000000002,7.8224000000000002E-2,0.91966199999999998,580,null,null,435]
[2013,3,4394,"090220000","Whiteriver Unified District",null,{"$f":"\"\"","v":""},null,null,null,null,null,0.87013399999999996]
[2013,3,4236,{"$f":"\"070209000\"","v":"070209000"},"Wickenburg Unified District",4986,{"$f":"\"070209103\"","v":"070209103"},"Vulture Peak School",0.54198500000000005,5.7251999999999997E-2,0.59923700000000002,262,null,null,157]
[2013,3,4236,{"$f":"\"070209000\"","v":"070209000"},"Wickenburg Unified District",4987,{"$f":"\"070209201\"","v":"070209201"},"Wickenburg High School",0.43952799999999997,6.7847000000000005E-2,0.50737500000000002,678,null,null,344]
[2013,3,4236,{"$f":"\"070209000\"","v":"070209000"},"Wickenburg Unified District",6001,{"$f":"\"070209102\"","v":"070209102"},"Hassayampa Elementary School",0.69726999999999995,5.4591000000000001E-2,0.751861,403,null,null,303]
[2013,3,4236,{"$f":"\"070209000\"","v":"070209000"},"Wickenburg Unified District",89676,{"$f":"\"070209104\"","v":"070209104"},"Festival Foothills Elementary School",0.301255,5.8576999999999997E-2,0.35983300000000001,239,null,null,86]
[2013,3,4236,{"$f":"\"070209000\"","v":"070209000"},"Wickenburg Unified District",null,{"$f":"\"\"","v":""},null,null,null,null,null,0.56257900000000005]
[2013,3,80222,{"$f":"\"014010000\"","v":"014010000"},"Wide Ruins Community School",80223,{"$f":"\"014012003\"","v":"014012003"},"Wide Ruins Community School",0.84821400000000002,0.107143,0.95535700000000001,113,null,null,107]
[2013,3,80222,{"$f":"\"014010000\"","v":"014010000"},"Wide Ruins Community School",null,{"$f":"\"\"","v":""},null,null,null,null,null,0.95535700000000001]
[2013,3,88227,{"$f":"\"108729000\"","v":"108729000"},"Wildcat Secondary School",88228,{"$f":"\"108729101\"","v":"108729101"},"Wildcat School",0.78325100000000003,4.4334999999999999E-2,0.82758600000000004,203,null,null,168]
[2013,3,88227,{"$f":"\"108729000\"","v":"108729000"},"Wildcat Secondary School",null,{"$f":"\"\"","v":""},null,null,null,null,null,0.82758600000000004]
[2013,3,4170,{"$f":"\"020213000\"","v":"020213000"},"Willcox Unified District",4755,{"$f":"\"020213101\"","v":"020213101"},"Willcox Elementary School",0.74315799999999999,0.08,0.82315799999999995,475,null,null,391]
[2013,3,4170,{"$f":"\"020213000\"","v":"020213000"},"Willcox Unified District",4756,{"$f":"\"020213102\"","v":"020213102"},"Willcox Middle School",0.7,9.1666999999999998E-2,0.79166700000000001,360,null,null,285]
[2013,3,4170,{"$f":"\"020213000\"","v":"020213000"},"Willcox Unified District",4757,{"$f":"\"020213201\"","v":"020213201"},"Willcox High School",0.55619600000000002,6.9164000000000003E-2,0.62536000000000003,347,null,null,217]
[2013,3,4170,{"$f":"\"020213000\"","v":"020213000"},"Willcox Unified District",null,{"$f":"\"\"","v":""},null,null,null,null,null,0.75549900000000003]
[2013,3,4193,{"$f":"\"030202000\"","v":"030202000"},"Williams Unified District",4822,{"$f":"\"030202102\"","v":"030202102"},"Williams Elementary/Middle School",0.62043800000000005,8.5157999999999998E-2,0.705596,411,null,null,290]
[2013,3,4193,{"$f":"\"030202000\"","v":"030202000"},"Williams Unified District",4823,{"$f":"\"030202201\"","v":"030202201"},"Williams High School",0.45871600000000001,6.4219999999999999E-2,0.52293599999999996,218,null,null,114]
[2013,3,4193,{"$f":"\"030202000\"","v":"030202000"},"Williams Unified District",null,{"$f":"\"\"","v":""},null,null,null,null,null,0.642289]
[2013,3,4261,{"$f":"\"070407000\"","v":"070407000"},"Wilson Elementary District",5276,{"$f":"\"070407101\"","v":"070407101"},"Wilson Elementary School",0.89297700000000002,6.3545000000000004E-2,0.95652199999999998,612,null,null,572]
[2013,3,4261,{"$f":"\"070407000\"","v":"070407000"},"Wilson Elementary District",5277,{"$f":"\"070407102\"","v":"070407102"},"Wilson Primary School",0.92686199999999996,3.4574000000000001E-2,0.96143599999999996,725,null,null,723]
[2013,3,4261,{"$f":"\"070407000\"","v":"070407000"},"Wilson Elementary District",null,{"$f":"\"\"","v":""},null,null,null,null,null,0.95918599999999998]
[2013,3,4154,{"$f":"\"010208000\"","v":"010208000"},"Window Rock Unified District",4712,{"$f":"\"010208105\"","v":"010208105"},"Window Rock Elementary School",0.716387,9.8738999999999993E-2,0.81512600000000002,358,null,null,388]
[2013,3,4154,"010208000","Window Rock Unified District",4715,{"$f":"\"010208112\"","v":"010208112"},"Tse Ho Tso Primary Learning Center",0.74573100000000003,9.2979000000000006E-2,0.83870999999999996,484,null,null,442]
[2013,3,4154,"010208000","Window Rock Unified District",4716,{"$f":"\"010208115\"","v":"010208115"},"Tsehootsooi Middle School",0.66006100000000001,8.2317000000000001E-2,0.74237799999999998,508,null,null,487]
[2013,3,4154,"010208000","Window Rock Unified District",4717,{"$f":"\"010208201\"","v":"010208201"},"Window Rock High School",0.68154400000000004,9.7708000000000003E-2,0.77925199999999994,613,null,null,646]
[2013,3,4154,"010208000","Window Rock Unified District",85882,{"$f":"\"010208116\"","v":"010208116"},"Dine Bi'Olta (Immersion School)",0.63602899999999996,9.1911999999999994E-2,0.72794099999999995,258,null,null,198]
[2013,3,4154,"010208000","Window Rock Unified District",85883,{"$f":"\"010208117\"","v":"010208117"},"Sawmill Elementary School",0.93421100000000001,1.3158E-2,0.94736799999999999,47,null,null,72]
[2013,3,4154,"010208000","Window Rock Unified District",null,{"$f":"\"\"","v":""},null,null,null,null,null,0.78698999999999997]
[2013,3,80224,{"$f":"\"092701000\"","v":"092701000"},"Winslow Residential Hall",80225,{"$f":"\"092701001\"","v":"092701001"},"Winslow Residential Hall",0.66115699999999999,0.18181800000000001,0.84297500000000003,121,null,null,102]
[2013,3,80224,{"$f":"\"092701000\"","v":"092701000"},"Winslow Residential Hall",null,{"$f":"\"\"","v":""},null,null,null,null,null,0.84297500000000003]
[2013,3,4387,{"$f":"\"090201000\"","v":"090201000"},"Winslow Unified District",5600,{"$f":"\"090201102\"","v":"090201102"},"Bonnie Brennan School",0.5,9.4469999999999998E-2,0.59447000000000005,337,null,null,258]
[2013,3,4387,"090201000","Winslow Unified District",5601,{"$f":"\"090201103\"","v":"090201103"},"Jefferson Elementary School",0.59853999999999996,9.2456999999999998E-2,0.690998,389,null,null,284]
[2013,3,4387,"090201000","Winslow Unified District",5602,{"$f":"\"090201104\"","v":"090201104"},"Washington School",0.64827599999999996,9.3103000000000005E-2,0.74137900000000001,340,null,null,215]
[2013,3,4387,"090201000","Winslow Unified District",5603,{"$f":"\"090201105\"","v":"090201105"},"Winslow Junior High School",0.56111100000000003,0.105556,0.66666700000000001,333,null,null,240]
[2013,3,4387,"090201000","Winslow Unified District",5604,{"$f":"\"090201206\"","v":"090201206"},"Winslow High School",0.443548,0.13037599999999999,0.57392500000000002,704,null,null,427]
[2013,3,4387,"090201000","Winslow Unified District",null,{"$f":"\"\"","v":""},null,null,null,null,null,0.64063000000000003]
[2013,3,4485,{"$f":"\"130352000\"","v":"130352000"},"Yarnell Elementary District",6121,{"$f":"\"130352101\"","v":"130352101"},"Yarnell Elementary School",0.55813999999999997,0.20930199999999999,0.76744199999999996,43,null,null,33]
[2013,3,4485,{"$f":"\"130352000\"","v":"130352000"},"Yarnell Elementary District",null,{"$f":"\"\"","v":""},null,null,null,null,null,0.76744199999999996]
[2013,3,79533,{"$f":"\"211024000\"","v":"211024000"},"Yavapai County Juvenile Detention",79551,{"$f":"\"211024001\"","v":"211024001"},"AOC-Yavapai County Juvenile Detention Center",1,0,1,28,null,null,28]
[2013,3,79533,{"$f":"\"211024000\"","v":"211024000"},"Yavapai County Juvenile Detention",null,{"$f":"\"\"","v":""},null,null,null,null,null,1]
[2013,3,4213,{"$f":"\"040305000\"","v":"040305000"},"Young Elementary District",4874,{"$f":"\"040305001\"","v":"040305001"},"Young Elementary School",0.72727299999999995,0.13636400000000001,0.86363599999999996,22,null,null,19]
[2013,3,4213,{"$f":"\"040305000\"","v":"040305000"},"Young Elementary District",4875,{"$f":"\"040305002\"","v":"040305002"},"Young High School",0.83333299999999999,8.3333000000000004E-2,0.91666700000000001,24,null,null,22]
[2013,3,4213,{"$f":"\"040305000\"","v":"040305000"},"Young Elementary District",null,{"$f":"\"\"","v":""},null,null,null,null,null,0.89130399999999999]
[2013,3,7351,{"$f":"\"072155000\"","v":"072155000"},"YOUTH DEVELOPMENT INSTITUTE",7352,{"$f":"\"072155001\"","v":"072155001"},"YOUTH DEVELOPMENT INSTITUTE",1,0,1,121,null,null,121]
[2013,3,7351,{"$f":"\"072155000\"","v":"072155000"},"YOUTH DEVELOPMENT INSTITUTE",null,{"$f":"\"\"","v":""},null,null,null,null,null,1]
[2013,3,4377,{"$f":"\"080313000\"","v":"080313000"},"Yucca Elementary District",5582,{"$f":"\"080313101\"","v":"080313101"},"Yucca Elementary School",0.85185200000000005,0,0.85185200000000005,27,null,null,23]
[2013,3,4377,{"$f":"\"080313000\"","v":"080313000"},"Yucca Elementary District",null,{"$f":"\"\"","v":""},null,null,null,null,null,0.85185200000000005]
[2013,3,10165,{"$f":"\"141001000\"","v":"141001000"},"Yuma County Juvenile Court Center",10166,{"$f":"\"141001001\"","v":"141001001"},"Yuma County Juvenile Court Center",1,0,1,53,null,null,53]
[2013,3,10165,{"$f":"\"141001000\"","v":"141001000"},"Yuma County Juvenile Court Center",null,{"$f":"\"\"","v":""},null,null,null,null,null,1]
[2013,3,4499,{"$f":"\"140401000\"","v":"140401000"},"Yuma Elementary District",6147,{"$f":"\"140401101\"","v":"140401101"},"Alice Byrne Elementary School",0.51358700000000002,8.4238999999999994E-2,0.59782599999999997,352,null,null,220]
[2013,3,4499,"140401000","Yuma Elementary District",6148,{"$f":"\"140401102\"","v":"140401102"},"George Washington Carver Elementary School",0.86222200000000004,9.7778000000000004E-2,0.96,446,null,null,432]
[2013,3,4499,"140401000","Yuma Elementary District",6149,{"$f":"\"140401103\"","v":"140401103"},"C W Mcgraw Elementary School",0.78030299999999997,9.0909000000000004E-2,0.87121199999999999,658,null,null,575]
[2013,3,4499,"140401000","Yuma Elementary District",6152,{"$f":"\"140401106\"","v":"140401106"},"O C Johnson School",0.74378599999999995,8.0306000000000002E-2,0.82409200000000005,523,null,null,431]
[2013,3,4499,"140401000","Yuma Elementary District",6153,{"$f":"\"140401107\"","v":"140401107"},"Palmcroft Elementary School",0.60262700000000002,0.13136300000000001,0.73399000000000003,599,null,null,447]
[2013,3,4499,"140401000","Yuma Elementary District",6154,{"$f":"\"140401108\"","v":"140401108"},"Pecan Grove Elementary School",0.87058800000000003,9.7059000000000006E-2,0.96764700000000003,434,null,null,658]
[2013,3,4499,"140401000","Yuma Elementary District",6155,{"$f":"\"140401109\"","v":"140401109"},"Roosevelt School",0.78443099999999999,0.101796,0.88622800000000002,364,null,null,296]
[2013,3,4499,"140401000","Yuma Elementary District",6156,{"$f":"\"140401110\"","v":"140401110"},"James B Rolle School",0.54220800000000002,9.9026000000000003E-2,0.64123399999999997,616,null,null,395]
[2013,3,4499,"140401000","Yuma Elementary District",6158,{"$f":"\"140401112\"","v":"140401112"},"Mary A Otondo Elementary School",0.46529599999999999,0.10154199999999999,0.56683799999999995,757,null,null,441]
[2013,3,4499,"140401000","Yuma Elementary District",6159,{"$f":"\"140401113\"","v":"140401113"},"Desert Mesa Elementary School",0.47164899999999998,7.8607999999999997E-2,0.55025800000000002,696,null,null,427]
[2013,3,4499,"140401000","Yuma Elementary District",6160,{"$f":"\"140401121\"","v":"140401121"},"Fourth Avenue Junior High School",0.75588900000000003,9.2077000000000006E-2,0.847966,402,null,null,396]
[2013,3,4499,"140401000","Yuma Elementary District",6161,{"$f":"\"140401122\"","v":"140401122"},"Gila Vista Jr High School",0.58291499999999996,0.12562799999999999,0.70854300000000003,591,null,null,423]
[2013,3,4499,"140401000","Yuma Elementary District",6162,{"$f":"\"140401123\"","v":"140401123"},"R Pete Woodard Jr High School",0.59422299999999995,0.110041,0.704264,727,null,null,512]
[2013,3,4499,"140401000","Yuma Elementary District",6163,{"$f":"\"140401124\"","v":"140401124"},"Castle Dome Middle School",0.45812799999999998,9.6059000000000005E-2,0.55418699999999999,811,null,null,450]
[2013,3,4499,"140401000","Yuma Elementary District",85840,{"$f":"\"140401125\"","v":"140401125"},"Ron Watson Middle School",0.48661799999999999,8.0292000000000002E-2,0.56691000000000003,411,null,null,233]
[2013,3,4499,"140401000","Yuma Elementary District",87622,{"$f":"\"140401114\"","v":"140401114"},"Sunrise Elementary School",0.37101400000000001,0.104348,0.47536200000000001,690,null,null,328]
[2013,3,4499,"140401000","Yuma Elementary District",null,{"$f":"\"\"","v":""},null,null,null,null,null,0.695627]
[2013,3,4509,{"$f":"\"148758000\"","v":"148758000"},"Yuma Private Industry Council Inc.",6193,{"$f":"\"148758201\"","v":"148758201"},"Educational Opportunity Center",0.87387400000000004,6.3062999999999994E-2,0.93693700000000002,111,null,null,104]
[2013,3,4509,{"$f":"\"148758000\"","v":"148758000"},"Yuma Private Industry Council Inc.",null,{"$f":"\"\"","v":""},null,null,null,null,null,0.93693700000000002]
[2013,3,4507,{"$f":"\"140570000\"","v":"140570000"},"Yuma Union High School District",6189,{"$f":"\"140570201\"","v":"140570201"},"Yuma High School",0.52132400000000001,7.9125000000000001E-2,0.60044900000000001,1371,null,null,1070]
[2013,3,4507,"140570000","Yuma Union High School District",6190,{"$f":"\"140570202\"","v":"140570202"},"Kofa High School",0.53108900000000003,8.1187999999999996E-2,0.61227699999999996,1999,null,null,1546]
[2013,3,4507,"140570000","Yuma Union High School District",6191,{"$f":"\"140570203\"","v":"140570203"},"Cibola High School",0.52736700000000003,9.9481E-2,0.62684799999999996,2503,null,null,1569]
[2013,3,4507,"140570000","Yuma Union High School District",6302,{"$f":"\"140570204\"","v":"140570204"},"Vista Alternative School",0.71590900000000002,0.102273,0.81818199999999996,264,null,null,216]
[2013,3,4507,"140570000","Yuma Union High School District",80409,{"$f":"\"140570205\"","v":"140570205"},"San Luis High School",0.66571899999999995,6.4297999999999994E-2,0.73001799999999994,2401,null,null,2055]
[2013,3,4507,"140570000","Yuma Union High School District",89576,{"$f":"\"140570207\"","v":"140570207"},"Gila Ridge High School",0.41783199999999998,7.1678000000000006E-2,0.48951,1716,null,null,840]
[2013,3,4507,"140570000","Yuma Union High School District",null,{"$f":"\"\"","v":""},null,null,null,null,null,0.62657700000000005]

{"sheet":"ADE Schools 07-16-13","index":3,"n_rows":2791,"n_cols":6,"rows_kept":2791,"cut":false,"hidden":true,"merged":[]}
["CTDS","NAME","STREETNUMBER","CITY_STATE_ZIP","TELEPHONE","FAX"]
["010201000","ST JOHNS UNIFIED DISTRICT","P O BOX 3030","ST. JOHNS AZ 85936","(928) 337-2255","(928) 337-2263"]
["010201102","CORONADO ELEMENTARY SCHOOL","P O BOX 609","ST JOHNS AZ 85936","() -","() -"]
["010201104","ST JOHNS MIDDLE SCHOOL","P O BOX 3060","ST JOHNS AZ 85936","() -","() -"]
["010201205","ST JOHNS HIGH SCHOOL","360 S. REDSKIN DRIVE","ST JOHNS AZ 85936 0429","() -","() -"]
["010201206","ST. JOHNS LEARNING CENTER","PO BOX 3030","ST. JOHNS AZ 85936","() -","( ) -"]
["010208000","WINDOW ROCK UNIFIED DISTRICT","P O BOX 559","FORT DEFIANCE AZ 86504","(928) 729-6706","(928) 729-5780"]
["010208105","WINDOW ROCK ELEMENTARY SCHOOL","P O BOX 559","WINDOW ROCK AZ 86515","(928) 810-7733","(928) 810-7718"]
["010208107","INTEGRATED PRESCHOOL","P O BOX 559","FT DEFIANCE AZ 86504 0559","(928) 729-7552","(928) 729-7630"]
["010208110","TSE HO TSO INTERMEDIATE LEARNING CENTER","NAVAJO ROUTE 12","FORT DEFIANCE AZ 86504","(928) 729-6706","( ) -"]
["010208112","TSE HO TSO PRIMARY LEARNING CENTER","P.O. BOX 559","FT DEFIANCE AZ 86504","() -","() -"]
["010208115","TSEHOOTSOOI MIDDLE SCHOOL","P.O. BOX 559","FT. DEFIANCE AZ 86504","(928) 729-6805","(928) 729-7572"]
["010208116","DINE BI'OLTA (IMMERSION SCHOOL)","PO BOX 559","FORT DEFIANCE AZ 86504","(928) 729-6842","(928) 729-6850"]
["010208117","SAWMILL ELEMENTARY SCHOOL","P.O. BOX 559","FORT DEFIANCE AZ 86504","() -","() -"]
["010208118","TSE'HOOTSOOI ELEMENTARY SCHOOL","P.O. BOX 559","FORT DEFIANCE AZ 86504","() -","( ) -"]
["010208201","WINDOW ROCK HIGH SCHOOL","POST OFFICE BOX 559","FT. DEFIANCE AZ 86504 0559","() -","() -"]
["010210000","ROUND VALLEY UNIFIED DISTRICT","P O BOX 610","SPRINGERVILLE AZ 85938 0610","(928) 333-6580","(928) 333-2823"]
["010210101","ROUND VALLEY PRIMARY SCHOOL","P. O. BOX 610","SPRINGERVILLE AZ 85938","() -","() -"]
["010210102","ROUND VALLEY ELEMENTARY SCHOOL","P.O. BOX 610","SPRINGERVILLE AZ 85938","() -","() -"]
["010210103","ROUND VALLEY MIDDLE SCHOOL","BOX 610","SPRINGERVILLE AZ 85938","() -","() -"]
["010210210","ROUND VALLEY HIGH SCHOOL","PO BOX 610","SPRINGERVILLE AZ 85938","() -","() -"]
["010218000","SANDERS UNIFIED DISTRICT","P O BOX 250","SANDERS AZ 86512","(928) 688-4700","(928) 688-4723"]
["010218001","SANDERS ELEMENTARY SCHOOL","P.O. BOX 250","SANDERS AZ 86512","() -","() -"]
["010218002","SANDERS MIDDLE SCHOOL","PO BOX 250","SANDERS AZ 86512","() -","() -"]
["010218003","VALLEY HIGH SCHOOL","P O BOX 250","SANDERS AZ 86512","(928) 688-4200","(928) 688-4202"]
["010220000","GANADO UNIFIED SCHOOL DISTRICT","P O BOX 1757","GANADO AZ 86505","(928) 755-1000","(928) 755-1005"]
["010220101","GANADO PRIMARY SCHOOL","P.O. BOX 1757 HWY 264","GANADO AZ 86505","(928) 755-1020","(928) 755-1085"]
["010220102","GANADO INTERMEDIATE SCHOOL","PO BOX 1757","GANADO AZ 86505 1757","() -","() -"]
["010220103","GANADO MIDDLE SCHOOL","PO BOX 1757","GANADO AZ 86505","(928) 755-1220","(928) 755-1298"]
["010220204","GANADO HIGH SCHOOL","P.O. BOX 1757","GANADO AZ 86505","() -","() -"]
["010224000","CHINLE UNIFIED DISTRICT","P O BOX 587","CHINLE AZ 86503","(928) 674-9600","(928) 674-9646"]
["010224145","CHINLE JUNIOR HIGH SCHOOL","P.O. BOX 587","CHINLE AZ 86503","(928) 674-9405","( ) -"]
["010224150","CHINLE ELEMENTARY SCHOOL","P.O. BOX 587","CHINLE AZ 86503","(928) 674-9503","( ) -"]
["010224155","CANYON DE CHELLY ELEMENTARY SCHOOL","PO BOX 587","CHINLE AZ 86503","(928) 674-9401","(928) 674-9557"]
["010224160","MANY FARMS ELEMENTARY SCHOOL","PO BOX 587","CHINLE AZ 86503","() -","( ) -"]
["010224165","TSAILE ELEMENTARY SCHOOL","PO BOX 587","CHINLE AZ 86503","() -","( ) -"]
["010224170","MESA VIEW ELEMENTARY","P.O. BOX 587","CHINLE AZ 86503","() -","( ) -"]
["010224240","CHINLE HIGH SCHOOL","P.O. BOX 587","CHINLE AZ 86503","() -","( ) -"]
["010224241","TURQUOISE DAWN ALTERNATIVE - CLOSED","P.O. BOX 587","CHINLE AZ 86503","(928) 674-9755","(928) 674-9432"]
["010227000","RED MESA UNIFIED DISTRICT","HC 61 BOX 40","TEEC NOS POS AZ 86514 9701","(928) 656-4100","(928) 656-4106"]
["010227101","RED MESA ELEMENTARY SCHOOL","HIGHWAY 160 MILE MARKER 448","TEEC NOS POS AZ 86514","() -","() -"]
["010227102","ROUND ROCK ELEMENTARY SCHOOL","PO BOX CC","ROUND ROCK, ARIZONA AZ 86547","() -","() -"]
["010227103","RED MESA JUNIOR HIGH SCHOOL","HWY 160 MILEPOST 448","TEEC NOS POS AZ 86514","() -","() -"]
["010227204","RED MESA HIGH SCHOOL","HC 61 BOX 40","TEEC NOS POS AZ 86514","() -","() -"]
["010227205","RED VALLEY/COVE HIGH SCHOOL","HC 61 BOX 40","TEEC NOS POS AZ 86514","(928) 653-4200","(928) 653-4204"]
["010306000","CONCHO ELEMENTARY DISTRICT","P O BOX 200","CONCHO AZ 85924","(928) 337-9356","(928) 337-2455"]
["010306101","CONCHO ELEMENTARY SCHOOL","P O BOX 200","CONCHO AZ 85924","() -","() -"]
["010307000","ALPINE ELEMENTARY DISTRICT","P O BOX 170","ALPINE AZ 85920 0170","(928) 339-4570","(928) 339-1806"]
["010307101","ALPINE ELEMENTARY SCHOOL","PO BOX 170","ALPINE AZ 85920 0170","() -","() -"]
["010309000","VERNON ELEMENTARY DISTRICT","P O BOX 89","VERNON AZ 85940","(928) 537-5463","(928) 537-1820"]
["010309101","VERNON ELEMENTARY SCHOOL","P. O. BOX 89","VERNON AZ 85940","(928) 537-5463","(928) 537-1820"]
["010323000","MCNARY ELEMENTARY DISTRICT","P O BOX 598","MCNARY AZ 85930 0598","(928) 334-2293","(928) 334-2336"]
["010323101","MCNARY ELEMENTARY SCHOOL","P.O. BOX 598","MCNARY AZ 85930","() -","() -"]
["018759000","KIN DAH LICHII OLTA, INC.","P. O. BOX 800","GANADO AZ 86505","(928) 755-3439","(928) 755-3448"]
["018759101","KIN DAH LICHII OLTA' CHARTER SCHOOL","P.O. BOX 800","GANADO AZ 86505","(928) 755-3439","(928) 755-3448"]
["018760000","NAZLINI COMMUNITY SCHOOL, INC.","HC 58 BOX 35","GANADO AZ 86505","(928) 755-6125","(928) 755-3729"]
["018760101","NAZLINI CHARTER SCHOOL","H-C 58 BOX 35","GANADO AZ 86505","() -","() -"]
["019024170","MESAVIEW ELEMENTARY","PO BOX 587","CHINLE AZ 86503","(928) 674-9806","(928) 674-9646"]
["020100000","FORT HUACHUCA ACCOMMODATION DISTRICT","P O BOX 12954","FT HUACHUCA AZ 85670","(520) 459-8199","(520) 515-5972"]
["020199000","COCHISE CO EDUCATIONAL SERVICE","100 CLAWSON","BISBEE AZ 85603","(520) 432-8956","(520) 432-7136"]
["020201000","TOMBSTONE UNIFIED DISTRICT","P O BOX 1000","TOMBSTONE AZ 85638","(520) 457-2217","(520) 457-3270"]
["020201101","HUACHUCA CITY SCHOOL","PO BOX 1000","TOMBSTONE AZ 85638","() -","( ) -"]
["020201102","WALTER J MEYER SCHOOL","P.O. BOX 1000","TOMBSTONE AZ 85638","() -","() -"]
["020201207","TOMBSTONE HIGH SCHOOL","P.O. BOX 1000","TOMBSTONE AZ 85638","(520) 457-2215","( ) -"]
["020202000","BISBEE UNIFIED DISTRICT","100 OLD DOUGLAS ROAD","BISBEE AZ 85603","(520) 432-5381","(520) 432-7622"]
["020202103","GREENWAY PRIMARY SCHOOL","100 OLD DOUGLAS ROAD","BISBEE AZ 85603","() -","() -"]
["020202105","LOWELL SCHOOL","100 OLD DOUGLAS ROAD","BISBEE AZ 85603","() -","() -"]
["020202107","BISBEE MIDDLE SCHOOL","100 OLD DOUGLAS ROAD","BISBEE AZ 85603","() -","() -"]
["020202201","BISBEE HIGH SCHOOL","100 OLD DOUGLAS ROAD","BISBEE AZ 85603","() -","() -"]
["020209000","BENSON UNIFIED SCHOOL DISTRICT","360 S. PATAGONIA STREET","BENSON AZ 85602","(520) 720-6700","(520) 720-6701"]
["020209101","BENSON PRIMARY SCHOOL","360 S PATAGONIA STREET","BENSON AZ 85602","() -","() -"]
["020209102","BENSON MIDDLE SCHOOL","360 S PATAGONIA STREET","BENSON AZ 85602","() -","() -"]
["020209201","BENSON HIGH SCHOOL","360 S. PATAGONIA","BENSON AZ 85602","() -","() -"]
["020209700","SAN PEDRO VALLEY HIGH SCHOOL","360 S. PATAGONIA ST","BENSON AZ 85602","(520) 720-6726","(520) 586-2506"]
["020209701","SAN PEDRO VALLEY HIGH SCHOOL","260 S. PATAGONIA ST.","BENSON AZ 85602","(520) 720-6726","(520) 586-6189"]
["020213000","WILLCOX UNIFIED DISTRICT","480 N. BISBEE","WILLCOX AZ 85643","(520) 384-8600","(520) 384-4401"]
["020213101","WILLCOX ELEMENTARY SCHOOL","501 W DELOS STREET","WILLCOX AZ 85643","(520) 384-8603","(520) 386-6039"]
["020213102","WILLCOX MIDDLE SCHOOL","360 N BISBEE AVE","WILLCOX AZ 85643","(520) 384-8602","(520) 384-6322"]
["020213201","WILLCOX HIGH SCHOOL","240 N BISBEE AVE","WILLCOX AZ 85643","(520) 384-8601","( ) -"]
["020214000","BOWIE UNIFIED DISTRICT","P.O. BOX 157","BOWIE AZ 85605","(520) 847-2545","(520) 847-2546"]
["020214100","BOWIE ELEMENTARY SCHOOL","P.O. BOX 157","BOWIE AZ 85605","() -","() -"]
["020214200","BOWIE HIGH SCHOOL","P.O. BOX 157","BOWIE AZ 85605","() -","() -"]
["020218000","SAN SIMON UNIFIED DISTRICT","P O BOX 38","SAN SIMON AZ 85632 0038","(520) 845-2275","(520) 845-2480"]
["020218001","SAN SIMON SCHOOL","P.O. BOX 38","SAN SIMON AZ 85632 0038","() -","() -"]
["020221000","ST DAVID UNIFIED DISTRICT","P O BOX 70","ST DAVID AZ 85630 0070","(520) 720-4781","(520) 720-4783"]
["020221101","ST DAVID ELEMENTARY SCHOOL","PO BOX 70","ST DAVID AZ 85630","() -","() -"]
["020221202","ST DAVID HIGH SCHOOL","PO BOX 70","ST. DAVID AZ 85630","() -","( ) -"]
["020227000","DOUGLAS UNIFIED DISTRICT","1132 12TH ST","DOUGLAS AZ 85607","(520) 364-2447","(520) 224-2470"]
["020227011","MARYVALE SCHOOL","1104 N. MADISON AVENUE","DOUGLAS AZ 85607","() -","() -"]
["020227101","EARLY LEARNING CENTER","1100 15TH STREET","DOUGLAS AZ 85607","(520) 364-2447","(520) 805-5532"]
["020227102","CLAWSON SCHOOL","1235 7TH STREET","DOUGLAS AZ 85607","() -","() -"]
["020227104","JOE CARLSON ELEMENTARY SCHOOL","1700 N. LOUIS AVE","DOUGLAS AZ 85607","() -","() -"]
["020227105","FARAS ELEMENTARY SCHOOL","PO BOX 1237","DOUGLAS AZ 85608","() -","() -"]
["020227106","SARAH MARLEY SCHOOL","735 7TH STREET","DOUGLAS AZ 85607","() -","() -"]
["020227107","STEVENSON ELEMENTARY SCHOOL","2200 11TH STREET","DOUGLAS AZ 85607","(520) 364-2442","( ) -"]
["020227108","RAY BORANE MIDDLE SCHOOL","840 12TH STREET","DOUGLAS AZ 85607","() -","() -"]
["020227109","PAUL H HUBER JR HIGH SCHOOL","1650 WASHINGTON AVE.","DOUGLAS AZ 85607","() -","() -"]
["020227210","DOUGLAS HIGH SCHOOL","1500 15TH STREET","DOUGLAS AZ 85607","() -","() -"]
["020268000","SIERRA VISTA UNIFIED DISTRICT","3555 FRY BLVD","SIERRA VISTA AZ 85635","(520) 515-2714","(520) 515-2721"]
["020268110","BELLA VISTA ELEMENTARY SCHOOL","3555 FRY BLVD","SIERRA VISTA AZ 85635","() -","() -"]
["020268115","CARMICHAEL ELEMENTARY SCHOOL","701 NE CARMICHAEL AVENUE","SIERRA VISTA AZ 85635","() -","() -"]
["020268120","HUACHUCA MOUNTAIN ELEMENTARY SCHOOL","3555 FRY BLVD","SIERRA VISTA AZ 85635","() -","() -"]
["020268125","PUEBLO DEL SOL ELEMENTARY SCHOOL","5130 PASEO LAS PALMAS","SIERRA VISTA AZ 85635","() -","() -"]
["020268130","TOWN & COUNTRY ELEMENTARY SCHOOL","1313 S. LENZNER AVE","SIERRA VISTA AZ 85635","() -","() -"]
["020268135","VILLAGE MEADOWS ELEMENTARY SCHOOL","905 EL CAMINO REAL","SIERRA VISTA AZ 85635","() -","() -"]
["020268150","JOYCE CLARK MIDDLE SCHOOL (FORMERLY SIERRA VISTA MIDDLE SCHOOL)","1045 S. LENZNER AVE","SIERRA VISTA AZ 85635","() -","() -"]
["020268155","APACHE MIDDLE SCHOOL","3335 E FRY","SIERRA VISTA AZ 85635","() -","() -"]
["020268260","BUENA HIGH SCHOOL","3555 FRY BLVD","SIERRA VISTA AZ 85635","() -","() -"]
["020323000","NACO ELEMENTARY DISTRICT","P O BOX 397","NACO AZ 85620 0397","(520) 432-5060","(520) 432-4161"]
["020323001","NACO ELEMENTARY SCHOOL","P. O. BOX 397","NACO AZ 85620","() -","() -"]
["020326000","COCHISE ELEMENTARY DISTRICT","P O BOX 1088","COCHISE AZ 85606 0088","(520) 384-2540","(520) 384-4836"]
["020326101","COCHISE ELEMENTARY SCHOOL","P.O. BOX 1088","COCHISE AZ 85606","() -","() -"]
["020342000","APACHE ELEMENTARY DISTRICT","DRAWER 111 9","DOUGLAS AZ 85608","(520) 558-2364","(520) 558-2410"]
["020342101","APACHE ELEMENTARY SCHOOL","PO DRAWER 1119","DOUGLAS AZ 85608","() -","() -"]
["020345000","DOUBLE ADOBE ELEMENTARY DISTRICT","7081 N CENTRAL HWY","MCNEAL AZ 85617","(520) 364-3041","(520) 364-6796"]
["020345101","DOUBLE ADOBE ELEMENTARY SCHOOL","7081 N CENTRAL HWY","MCNEAL AZ 85617","() -","( ) -"]
["020349000","PALOMINAS ELEMENTARY DISTRICT","P O BOX 38","HEREFORD AZ 85615 0038","(520) 366-6204","(520) 366-5717"]
["020349101","PALOMINAS ELEMENTARY SCHOOL","P.O. BOX 38","HEREFORD AZ 85615","() -","( ) -"]
["020349102","CORONADO ELEMENTARY SCHOOL","PO BOX 38","HEREFORD AZ 85615","() -","( ) -"]
["020349103","VALLEY VIEW ELEMENTARY SCHOOL","P.O. BOX 38","HEREFORD AZ 85615","() -","( ) -"]
["020355000","MCNEAL ELEMENTARY DISTRICT","P O BOX 8","MCNEAL AZ 85617","(520) 642-3356","(520) 642-1071"]
["020355001","MCNEAL ELEMENTARY SCHOOL","P O BOX 8","MCNEAL AZ 85617","() -","() -"]
["020364000","POMERENE ELEMENTARY DISTRICT","P O BOX 7","POMERENE AZ 85627 0007","(520) 586-2407","(520) 586-7724"]
["020364101","POMERENE ELEMENTARY SCHOOL","P.O. BOX 7","POMERENE AZ 85627","() -","() -"]
["020366000","RUCKER ELEMENTARY DISTRICT","P O BOX 618","ELFRIDA AZ 85610 0618","(520) 824-3589"]
["020381000","FORREST ELEMENTARY DISTRICT","PO BOX 122","MCNEAL AZ 85617","(520) 508-6805","( ) -"]
["020412000","ELFRIDA ELEMENTARY DISTRICT","P O BOX 328","ELFRIDA AZ 85610 0328","(520) 642-3428","(520) 642-3236"]
["020412101","ELFRIDA ELEMENTARY SCHOOL","P.O. BOX 328","ELFRIDA AZ 85610","() -","() -"]
["020422000","PEARCE ELEMENTARY DISTRICT","1487 E. SCHOOL ROAD","PEARCE AZ 85625","(520) 826-3328","(520) 826-3531"]
["020422001","PEARCE ELEMENTARY SCHOOL","1487 E. SCHOOL ROAD","PEARCE AZ 85625","() -","() -"]
["020453000","ASH CREEK ELEMENTARY DISTRICT","6460 EAST HIGHWAY 181","PEARCE AZ 85625","(520) 824-3340","(520) 824-3410"]
["020453101","ASH CREEK ELEMENTARY","6460 E. HWY 181","PEARCE AZ 85625","() -","( ) -"]
["020522000","VALLEY UNION HIGH SCHOOL DISTRICT","P O BOX 158","ELFRIDA AZ 85610","(520) 642-3492","(520) 642-3523"]
["020522201","VALLEY UNION HIGH SCHOOL","PO BOX 158","ELFRIDA AZ 85610","() -","( ) -"]
["028701000","COCHISE COMMUNITY DEVELOPMENT CORPORATION","4699 E. HIGHWAY 90","SIERRA VISTA AZ 85635","(520) 459-4113","(520) 459-4121"]
["028701001","THE BEREAN SCHOOLS","1169 N. COLOMBO DRIVE","SIERRA VISTA AZ 85365","(520) 459-4113","(520) 459-4121"]
["028750000","CENTER FOR ACADEMIC SUCCESS, INC.","900 CARMELITA DRIVE","SIERRA VISTA AZ 85635","(520) 439-3500","(520) 458-2547"]
["028750201","CENTER FOR ACADEMIC SUCCESS, THE #1","900 CARMELITA DRIVE","SIERRA VISTA AZ 85635","(520) 458-4200","(520) 458-6396"]
["028750202","CENTER FOR ACADEMIC SUCCESS, THE #2","510 G AVENUE","DOUGLAS AZ 85607","(520) 364-2616","(520) 417-0973"]
["028750203","CENTER FOR ACADEMIC SUCCESS, THE #3","919 3RD ST.","DOUGLAS AZ 85607","(520) 805-1558","(520) 458-1409"]
["028750204","CENTER FOR ACADEMIC SUCCESS #4","1415 F AVENUE","DOUGLAS AZ 85607","(520) 805-1558","(520) 805-1549"]
["028750205","CENTER FOR ACADEMIC SUCCESS #5","900 CARMELITA DRIVE","SIERRA VISTA AZ 85635","(520) 458-4200","(520) 458-1409"]
["028751000","OMEGA ALPHA ACADEMY","1402 SAN ANTONIO AVE.","DOUGLAS AZ 85607","(520) 805-1261","(520) 805-1272"]
["028751002","OMEGA ALPHA ACADEMY SCHOOL","1402 SAN ANTONIO","DOUGLAS AZ 85607","(520) 805-1261","(520) 805-1272"]
["030199000","COCONINO COUNTY REGIONAL ACCOMMODATION SD","110 E. CHERRY AVENUE","FLAGSTAFF AZ 86001","(928) 679-8072","(928) 679-8077"]
["030201000","FLAGSTAFF UNIFIED DISTRICT","3285 E. SPARROW","FLAGSTAFF AZ 86004","(928) 527-6000","(928) 527-6015"]
["030201066","SUMMIT HIGH SCHOOL","4000 N. CUMMINGS STREET","FLAGSTAFF AZ 86004","(928) 773-8427","( ) -"]
["030201110","MANUEL DEMIGUEL ELEMENTARY SCHOOL","3500 S GILLENWATER DR","FLAGSTAFF AZ 86001","() -","() -"]
["030201111","STURGEON CROMER ELEMENTARY SCHOOL","7150 E SILVER SADDLE ROAD","FLAGSTAFF AZ 86004","() -","( ) -"]
["030201112","LURA KINSEY ELEMENTARY SCHOOL","1601 S. LONETREE RD.","FLAGSTAFF AZ 86001","() -","( ) -"]
["030201113","EVA MARSHALL ELEMENTARY SCHOOL","850 N. BONITO ST.","FLAGSTAFF AZ 86001","() -","() -"]
["030201114","W F KILLIP ELEMENTARY SCHOOL","2300 E 6TH AVE","FLAGSTAFF AZ 86004","() -","( ) -"]
["030201115","SOUTH BEAVER ELEMENTARY SCHOOL - CLOSED","506 S. BEAVER ST.","FLAGSTAFF AZ 86001","() -","() -"]
["030201117","CHARLES W SECHRIST ELEMENTARY SCHOOL","2230 FORT VALLEY RD.","FLAGSTAFF AZ 86001","() -","( ) -"]
["030201118","JOHN Q THOMAS ELEMENTARY SCHOOL","3330 E. LOCKETT RD.","FLAGSTAFF AZ 86004","() -","() -"]
["030201119","NEIL V CHRISTENSEN SCHOOL - CLOSED","4000 NORTH CUMMINGS STREET","FLAGSTAFF AZ 86004","() -","() -"]
["030201120","LEUPP PUBLIC SCHOOL","3285 E SPARROW","FLAGSTAFF AZ 86004","() -","( ) -"]
["030201121","WEITZEL'S PUENTE DE HOZHO BILINGUAL MAGNET SCHOOL","3401 N. FOURTH STREET","FLAGSTAFF AZ 86004","() -","( ) -"]
["030201122","THOMAS M KNOLES ELEMENTARY SCHOOL","4005 E BUTLER","FLAGSTAFF AZ 86004","() -","( ) -"]
["030201123","FLAGSTAFF MIDDLE SCHOOL - CLOSED","755 N BONITO STREET","FLAGSTAFF AZ 86001","() -","( ) -"]
["030201124","MOUNT ELDEN MIDDLE SCHOOL","3223 N 4TH STREET","FLAGSTAFF AZ 86004","() -","( ) -"]
["030201125","RENAISSANCE MAGNET MIDDLE SCHOOL - CLOSED","3223 N. 4TH STREET","FLAGSTAFF AZ 86004","() -","() -"]
["030201126","SINAGUA MIDDLE SCHOOL","3950 EAST BUTLER AVENUE","FLAGSTAFF AZ 86004","(928) 527-5500","(928) 527-5561"]
["030201281","FLAGSTAFF HIGH SCHOOL","400 W ELM STREET","FLAGSTAFF AZ 86001","(928) 773-8100","(928) 773-8146"]
["030201282","COCONINO HIGH SCHOOL","2801 N IZABEL STREET","FLAGSTAFF AZ 86004","() -","( ) -"]
["030201283","SINAGUA HIGH SCHOOL - CLOSED","3950 E BUTLER AVE","FLAGSTAFF AZ 86004","(928) 527-5500","(928) 527-5561"]
["030202000","WILLIAMS UNIFIED DISTRICT","P O BOX 427","WILLIAMS AZ 86046","(928) 635-4473","(928) 635-4767"]
["030202102","WILLIAMS ELEMENTARY/MIDDLE SCHOOL","601 N. 7TH ST","WILLIAMS AZ 86046","() -","() -"]
["030202201","WILLIAMS HIGH SCHOOL","440 S 7TH STREET","WILLIAMS AZ 86046","() -","() -"]
["030204000","GRAND CANYON UNIFIED DISTRICT","P O BOX 519","GRAND CANYON AZ 86023","(928) 638-2461","(928) 638-2045"]
["030204001","GRAND CANYON ELEMENTARY","P.O. BOX 519","GRAND CANYON AZ 86023","() -","( ) -"]
["030204002","GRAND CANYON HIGH SCHOOL","P.O. BOX 519","GRAND CANYON AZ 86023","(928) 638-2461","(928) 638-2045"]
["030206000","FREDONIA-MOCCASIN UNIFIED DISTRICT","P O BOX 247","FREDONIA AZ 86022","(928) 643-7333","(928) 643-7044"]
["030206101","FREDONIA ELEMENTARY SCHOOL","222 NORTH 200 EAST","FREDONIA AZ 86022","() -","() -"]
["030206102","MOCCASIN ELEMENTARY SCHOOL","222 N. 200 E. P.O. BOX 247","FREDONIA` AZ 86022","() -","() -"]
["030206203","FREDONIA HIGH SCHOOL","221 E HORTT STREET","FREDONIA AZ 86022","() -","() -"]
["030208000","PAGE UNIFIED DISTRICT","P O BOX 1927","PAGE AZ 86040","(928) 608-4157","(928) 645-2805"]
["030208101","DESERT VIEW ELEMENTARY INTERMEDIATE","PO BOX 1927","PAGE AZ 86040","() -","() -"]
["030208102","LAKE VIEW ELEMENTARY PRIMARY","P.O. BOX 1927","PAGE AZ 86040","() -","() -"]
["030208106","PAGE MIDDLE SCHOOL","PO BOX 1927","PAGE AZ 86040","() -","() -"]
["030208209","PAGE HIGH SCHOOL","P.O, BOX 1927","PAGE AZ 86040","() -","() -"]
["030215000","TUBA CITY UNIFIED DISTRICT","P O BOX 67","TUBA CITY AZ 86045","(928) 283-1001","(928) 283-1201"]
["030215110","TUBA CITY PRIMARY SCHOOL","BOX 67","TUBA CITY AZ 86045","() -","() -"]
["030215111","DZIL LIBEI ELEMENTARY SCHOOL","P. O. BOX 67","TUBA CITY AZ 86045","() -","() -"]
["030215112","GAP PRIMARY SCHOOL","PO BOX 67","TUBA CITY AZ 86045","() -","() -"]
["030215120","EAGLES NEST INTERMEDIATE SCHOOL","PO BOX 67","TUBA CITY AZ 86045","() -","() -"]
["030215130","TUBA CITY JUNIOR HIGH SCHOOL","P. O. BOX 67","TUBA CITY AZ 86045","() -","() -"]
["030215140","TUBA CITY ALTERNATIVE SCHOOL","P.O. BOX 67","TUBA CITY AZ 86045","() -","() -"]
["030215240","TUBA CITY HIGH SCHOOL","P.O. BOX 67","TUBA CITY AZ 86045","() -","() -"]
["030305000","CHEVELON BUTTE SCHOOL DISTRICT","P.O. BOX 1574","FOREST LAKES AZ 85931","(928) 535-4729","(928) 535-3049"]
["030310000","MAINE CONSOLIDATED SCHOOL DISTRICT","P O BOX 50010","PARKS AZ 86018","(928) 635-2115","(928) 635-5320"]
["030310101","MAINE CONSOLIDATED SCHOOL","P.O. BOX 50010","PARKS AZ 86018","(928) 635-2115","(928) 635-5320"]
["038701000","NORTHLAND PREPARATORY ACADEMY","3300 EAST SPARROW","FLAGSTAFF AZ 86004","(928) 214-8776","(928) 214-8778"]
["038701001","NORTHLAND PREPARATORY ACADEMY","3300 W. SPARROW AVE.","FLAGSTAFF AZ 86004","(928) 214-8776","(928) 214-8778"]
["038702000","PEAK SCHOOL INC., THE","2016 NORTH FIRST STREET A & B","FLAGSTAFF AZ 86004","(928) 779-0771","(928) 779-0774"]
["038702101","THE PEAK SCHOOL","2016 NORTH FIRST STREET A & B","FLAGSTAFF AZ 86004","(928) 779-0771","(928) 779-0774"]
["038705000","MONTESSORI CHARTER SCHOOL OF FLAGSTAFF, INC.","1000 EAST APPALACHIAN ROAD","FLAGSTAFF AZ 86004","(928) 226-1212","(928) 774-0337"]
["038705104","MONTESSORI CHARTER SCHOOL OF FLAGSTAFF - CAMPUS","850 N. LOCUST","FLAGSTAFF AZ 86001","() -","() -"]
["038706000","PINE FOREST EDUCATION ASSOCIATION, INC.","1120 WEST KAIBAB LANE","FLAGSTAFF AZ 86001","(928) 779-9880","(928) 779-9792"]
["038706101","PINE FOREST SCHOOL","1120 WEST KAIBAB LANE","FLAGSTAFF AZ 86001","(928) 779-9880","(928) 779-9792"]
["038707000","BASIS SCHOOL, INC.","7975 N. HAYDEN RD. SUITE B-100","SCOTTSDALE AZ 85258","(928) 774-5502","(928) 774-5502"]
["038707001","BASIS FLAGSTAFF","11485 NORTH 136TH STREET","SCOTTSDALE AZ 85259","(480) 289-2088","(480) 289-2089"]
["038708000","VISIONS UNLIMITED ACADEMY, INC.","1275 E. BARNEY LANE","BENSON AZ 85602","(520) 586-8691","(520) 586-3074"]
["038708101","VISIONS UNLIMITED ACADEMY","1275 EAST BARNEY LANE","BENSON AZ 85602","() -","() -"]
["038750000","FLAGSTAFF ARTS AND LEADERSHIP ACADEMY","3401 N FORT VALLEY ROAD","FLAGSTAFF AZ 86001","(928) 779-7223","(928) 779-7041"]
["038750201","FLAGSTAFF ARTS AND LEADERSHIP ACADEMY","3401 N FORT VALLEY ROAD","FLAGSTAFF AZ 86001","() -","( ) -"]
["038751000","MOUNTAIN SCHOOL, INC.","311 W. CATTLE DRIVE TRAIL","FLAGSTAFF AZ 86001","(928) 779-2392","(928) 779-3246"]
["038751001","MOUNTAIN SCHOOL","311 W CATTLE DRIVE TRAIL","FLAGSTAFF AZ 86001","() -","() -"]
["038752000","FLAGSTAFF JUNIOR ACADEMY","306 W. CEDAR AVENUE","FLAGSTAFF AZ 86001","(928) 774-6007","(928) 774-7268"]
["038752101","FLAGSTAFF JUNIOR ACADEMY","306 W. CEDAR AVENUE","FLAGSTAFF AZ 86001","() -","() -"]
["038753000","PAINTED DESERT DEMONSTRATION PROJECTS, INC.","145 LEUPP RD.","FLAGSTAFF AZ 86004","(602) 412-3533","(928) 225-2179"]
["038753101","STAR CHARTER SCHOOL","145 LEUPP ROAD","FLAGSTAFF AZ 86004","(602) 412-3533","(928) 255-2179"]
["038755000","HAVEN MONTESSORI CHILDREN'S HOUSE, INC.","621 W. CLAY AVE.","FLAGSTAFF AZ 86001","(928) 522-0985","(928) 774-7412"]
["038755101","HAVEN MONTESSORI CHARTER SCHOOL","621 W. CLAY AVE.","FLAGSTAFF AZ 86001","(928) 522-0985","(928) 774-7412"]
["040149000","GILA COUNTY REGIONAL SCHOOL DISTRICT","P.O. BOX 2750","GLOBE AZ 85502","(928) 425-7800","(928) 425-7803"]
["040199000","GILA COUNTY SPECIAL SERVICES","1400 EAST ASH STREET","GLOBE AZ 85501","(928) 425-3231","(928) 402-0038"]
["040201000","GLOBE UNIFIED DISTRICT","460 N. WILLOW ST.","GLOBE AZ 85501","(928) 402-6000","(928) 425-8912"]
["040201003","COPPER RIM ELEMENTARY SCHOOL","455 WILLOW","GLOBE AZ 85501","() -","() -"]
["040201004","GLOBE HIGH SCHOOL","455 N. WILLOW STREET","GLOBE AZ 85501","(928) 425-3211","(928) 425-8909"]
["040201105","HIGH DESERT MIDDLE SCHOOL","455 N. WILLOW","GLOBE AZ 85501","() -","() -"]
["040210000","PAYSON UNIFIED DISTRICT","P O BOX 919","PAYSON AZ 85541","(928) 474-2070","(928) 472-2013"]
["040210102","RIM COUNTRY MIDDLE SCHOOL","PO BOX 919","PAYSON AZ 85547","() -","() -"]
["040210103","JULIA RANDALL ELEMENTARY SCHOOL","P.O. BOX 919","PAYSON AZ 85547","() -","( ) -"]
["040210104","PAYSON ELEMENTARY SCHOOL","P.O. BOX 919","PAYSON AZ 85547","() -","( ) -"]
["040210105","FRONTIER ELEMENTARY SCHOOL - CLOSED","PO BOX 919","PAYSON AZ 85547","() -","( ) -"]
["040210201","PAYSON HIGH SCHOOL","P O BOX 919","PAYSON AZ 85547","() -","( ) -"]
["040210700","PAYSON CENTER FOR SUCCESS","P.O. BOX 919","PAYSON AZ 85547","(928) 472-2011","(928) 472-2039"]
["040210701","PAYSON CENTER FOR SUCCESS HIGH SCHOOL","P.O. BOX 919","PAYSON AZ 85541","() -","( ) -"]
["040220000","SAN CARLOS UNIFIED DISTRICT","P O BOX 207","SAN CARLOS AZ 85550","(928) 475-2315","(928) 475-2301"]
["040220101","RICE SCHOOL","PO BOX 207","SAN CARLOS AZ 85550 0207","() -","() -"]
["040220103","SAN CARLOS SECONDARY","P.O. BOX 207","SAN CARLOS AZ 85550","(928) 475-2431","( ) -"]
["040220104","RICE ELEMENTARY SCHOOL","P.O. BOX 207","SAN CARLOS AZ 85550","() -","() -"]
["040220202","SAN CARLOS HIGH SCHOOL","P.O. BOX 207","SAN CARLOS AZ 85550","(928) 475-2315","(928) 475-5626"]
["040220203","SAN CARLOS UNIFIED SCHOOL DISTRICT #20 ALTERNATIVE CENTER","P.O. BOX 207","SAN CARLOS AZ 85550","() -","( ) -"]
["040240000","MIAMI UNIFIED DISTRICT","PO BOX 2070","MIAMI AZ 85539","(928) 425-3271","(928) 425-7419"]
["040240103","LAS LOMAS ELEMENTARY SCHOOL","PO DRAWER H","MIAMI AZ 85539","() -","() -"]
["040240105","MIAMI JUNIOR HIGH","DRAWER H","MIAMI AZ 85539","() -","() -"]
["040240108","DR. CHARLES A. BEJARANO ELEMENTARY SCHOOL","PO BOX 2070","MIAMI AZ 85539","(928) 425-3271","(928) 425-3051"]
["040240109","MIAMI PRE-SCHOOL","4739 E. RAGUS ROAD","MIAMI AZ 85539","(928) 425-3271","(928) 425-7419"]
["040240206","MIAMI HIGH SCHOOL","DRAWER H","MIAMI AZ 85539","() -","() -"]
["040241000","HAYDEN-WINKELMAN UNIFIED DISTRICT","P O BOX 409","WINKELMAN AZ 85292 0409","(520) 356-7876","(520) 356-7303"]
["040241001","WINKELMAN ELEMENTARY SCHOOL","P.O. BOX 409","WINKELMAN AZ 85292","(520) 356-7876","(520) 356-7303"]
["040241002","WINKELMAN INTERMEDIATE SCHOOL","P.O. BOX 409","WINKELMAN AZ 85292","() -","() -"]
["040241003","LEONOR HAMBLY MIDDLE SCHOOL","PO BOX 409","WINKELMAN AZ 85292","() -","() -"]
["040241004","HAYDEN HIGH SCHOOL","PO BOX 409","WINKELMAN AZ 85292","(520) 356-7876","(520) 356-7303"]
["040305000","YOUNG ELEMENTARY DISTRICT","P O BOX 390","YOUNG AZ 85554 0390","(928) 462-3244","(928) 462-3283"]
["040305001","YOUNG ELEMENTARY SCHOOL","PO BOX 390","YOUNG AZ 85554","(928) 462-3244","(928) 462-3283"]
["040305002","YOUNG HIGH SCHOOL","PO BOX 390","YOUNG AZ 85554","(928) 462-3244","(928) 462-3283"]
["040312000","PINE STRAWBERRY ELEMENTARY DISTRICT","P O BOX 1150","PINE AZ 85544","(928) 476-3283","(928) 476-2506"]
["040312001","PINE STRAWBERRY ELEMENTARY SCHOOL","PO BOX 1150","PINE AZ 85544","(928) 476-3283","(928) 476-2506"]
["040333000","TONTO BASIN ELEMENTARY DISTRICT","P O BOX 337","TONTO BASIN AZ 85553 0337","(928) 479-2277","(928) 479-2720"]
["040333101","TONTO BASIN ELEMENTARY","P.O. BOX 337","TONTO BASIN AZ 85553 0337","() -","() -"]
["048701000","DESTINY SCHOOL, INC.","798 E. PRICKLY PEAR DR.","GLOBE AZ 85501","(928) 425-0925","(928) 425-0927"]
["048701001","DESTINY SCHOOL","798 E. PRICKLY PEAR DR.","GLOBE AZ 85501","(928) 425-0925","(928) 425-0927"]
["048703000","THE SHELBY SCHOOL","PO BOX 1804","PAYSON AZ 85547","(928) 478-4706","(928) 478-0681"]
["048703101","THE SHELBY SCHOOL","PO BOX 1804","PAYSON AZ 85547","(928) 478-0322","(928) 478-0681"]
["048750000","LIBERTY HIGH SCHOOL","P O BOX 2343","GLOBE AZ 85502","(928) 402-8024","(928) 402-8358"]
["048750201","LIBERTY HIGH SCHOOL","P.O. BOX 2343","GLOBE AZ 85502","(928) 402-8024","(928) 402-8358"]
["050199000","GRAHAM COUNTY SPECIAL SERVICES","P O BOX 488","PIMA AZ 85543 0488","(928) 485-2759","(928) 485-9422"]
["050201000","SAFFORD UNIFIED DISTRICT","734 W 11TH ST","SAFFORD AZ 85546","(928) 348-7000","(928) 348-7001"]
["050201100","DOROTHY STINSON SCHOOL","2013 S. 8TH AVENUE","SAFFORD AZ 85546","(928) 348-7010","(928) 348-7011"]
["050201101","LAFE NELSON SCHOOL","1100 S. 10TH AVE","SAFFORD AZ 85546","(928) 348-7020","(928) 348-7021"]
["050201102","SAFFORD MIDDLE SCHOOL","698 W. 11TH STREET","SAFFORD AZ 85546","(928) 348-7040","(928) 348-7041"]
["050201103","RUTH POWELL ELEMENTARY SCHOOL","1041 S. 14TH AVENUE","SAFFORD AZ 85546","(928) 348-7030","(928) 348-7031"]
["050201200","SAFFORD HIGH SCHOOL","1400 W. 11TH STREET","SAFFORD AZ 85546","(928) 348-7050","(928) 348-7057"]
["050201201","MT GRAHAM HIGH SCHOOL","300 W. DISCOVERY PARK BLVD.","SAFFORD AZ 85546","(928) 348-7060","(928) 348-7061"]
["050204000","THATCHER UNIFIED DISTRICT","P O BOX 610","THATCHER AZ 85552","(928) 348-7201","(928) 348-7220"]
["050204100","JACK DALEY PRIMARY SCHOOL","BOX 610","THATCHER AZ 85552","() -","() -"]
["050204101","THATCHER ELEMENTARY SCHOOL","P.O. BOX 610","THATCHER AZ 85552 0610","() -","() -"]
["050204102","THATCHER MIDDLE SCHOOL","PO BOX 610","THATCHER AZ 85552 0610","() -","() -"]
["050204200","THATCHER HIGH SCHOOL","P O BOX 610","THATCHER AZ 85552","() -","() -"]
["050206000","PIMA UNIFIED DISTRICT","P O BOX 429","PIMA AZ 85543","(928) 485-0529","(928) 485-2343"]
["050206101","PIMA ELEMENTARY SCHOOL","P. O. BOX 429","PIMA AZ 85543 0429","() -","() -"]
["050206202","PIMA HIGH SCHOOL","PO BOX 429","PIMA AZ 85543","(928) 387-8150","(928) 485-0790"]
["050206203","PIMA JUNIOR HIGH SCHOOL","P.O. BOX 429","PIMA AZ 85543","(928) 387-8100","(928) 485-2274"]
["050207000","FORT THOMAS UNIFIED DISTRICT","PO BOX 300","FORT THOMAS AZ 85536","(928) 485-9423","(928) 485-3019"]
["050207101","FORT THOMAS ELEMENTARY SCHOOL","PO BOX 55","FORT THOMAS AZ 85536","(928) 485-2433","(928) 485-3068"]
["050207202","FORT THOMAS HIGH SCHOOL","HIGHWAY 70","FORT THOMAS AZ 85536","() -","( ) -"]
["050207700","MT. TURNBULL ACADEMY","PO BOX 28","FORT THOMAS AZ 85536","() -","( ) -"]
["050207701","MT. TURNBULL ACADEMY","PO BOX 28","FORT THOMAS AZ 85536","(928) 475-3050","(928) 475-3051"]
["050305000","SOLOMON ELEMENTARY DISTRICT","P O BOX 167","SOLOMON AZ 85551 0167","(928) 428-0477","(928) 428-0398"]
["050305101","SOLOMON ELEMENTARY SCHOOL","P.O. BOX 167","SOLOMON AZ 85551","() -","() -"]
["050309000","KLONDYKE ELEMENTARY DISTRICT","921 THATCHER BLVD","SAFFORD AZ 85546","(928) 428-2880","(928) 428-8824"]
["050316000","BONITA ELEMENTARY DISTRICT","18008 S. FT GRANT RD","BONITA AZ 85643","(928) 828-3363","(928) 828-3422"]
["050316101","BONITA ELEMENTARY SCHOOL","18008 S FT GRANT RD","WILLCOX AZ 85643","() -","() -"]
["058701000","GILA EDUCATIONAL GROUP DBA GILA PREPARATORY ACADEMY","1976 THATCHER BLVD","SAFFORD AZ 85546","(928) 348-8688","(928) 348-8877"]
["058701001","GILA PREPARATORY ACADEMY HIGH SCHOOL","1976 THATCHER BOULEVARD","SAFFORD AZ 85546","(928) 348-8688","(928) 348-8877"]
["058702000","TRIUMPHANT LEARNING CENTER","201 E. MAIN ST.","SAFFORD AZ 85546","(928) 348-8422","(928) 348-8423"]
["058702101","TRIUMPHANT LEARNING CENTER","201 E. MAIN STREET","SAFFORD AZ 85546","() -","( ) -"]
["058703000","DISCOVERY PLUS ACADEMY","P.O. BOX 1089","PIMA AZ 85543","(928) 485-2498","(928) 485-2508"]
["058703001","DISCOVERY PLUS ACADEMY","P.O. BOX 549","PIMA AZ 85543","(928) 485-2498","(928) 485-2508"]
["060100000","GREENLEE ALTERNATIVE SCHOOL DISTRICT","P.O. BOX 1595","CLIFTON AZ 85533","(928) 865-2822","(928) 865-4417"]
["060202000","DUNCAN UNIFIED DISTRICT","P O BOX 710","DUNCAN AZ 85534 0697","(928) 359-2472","(928) 359-2807"]
["060202101","DUNCAN PRIMARY","P O BOX 710","DUNCAN AZ 85534 0710","() -","() -"]
["060202102","DUNCAN ELEMENTARY","P.O. BOX 710","DUNCAN AZ 85534 0710","() -","() -"]
["060202203","DUNCAN HIGH SCHOOL","PO BOX 710","DUNCAN AZ 85534","() -","() -"]
["060203000","CLIFTON UNIFIED DISTRICT","P O BOX 1567","CLIFTON AZ 85533 1567","(928) 865-2752","(928) 865-2792"]
["060203101","LAUGHARN ELEMENTARY SCHOOL","110 HILL STREET","CLIFTON AZ 85533","(928) 865-2752","(928) 865-2792"]
["060203202","CLIFTON HIGH SCHOOL","110 HILL STREET","CLIFTON AZ 85533","(928) 865-2752","(928) 865-2792"]
["060218000","MORENCI UNIFIED DISTRICT","P O BOX 1060","MORENCI AZ 85540","(928) 865-2081","(928) 865-3130"]
["060218002","MORENCI JR.-SR. HIGH SCHOOL","PO BOX 1060","MORENCI AZ 85540","() -","() -"]
["060218101","FAIRBANKS ELEMENTARY SCHOOL","PO BOX 1060","MORENCI AZ 85540","() -","() -"]
["060218102","FAIRBANKS MIDDLE SCHOOL","PO BOX 1060","MORENCI AZ 85540","(928) 865-3501","(928) 865-5980"]
["060322000","BLUE ELEMENTARY DISTRICT","BOX 80","BLUE AZ 85922","(928) 865-2822","(928) 865-4417"]
["060322001","BLUE ELEMENTARY SCHOOL","P.O. BOX # 80","BLUE AZ 85922","() -","( ) -"]
["060345000","EAGLE ELEMENTARY DISTRICT","P O BOX 1566","CLIFTON AZ 85533","(928) 865-2822","(928) 865-4417"]
["070177000","MARICOPA COUNTY REGIONAL SPECIAL SERVICES DISTRICT","4041 NORTH CENTRAL 1100","PHOENIX AZ 85012","(602) 506-2969","(602) 506-2398"]
["070199000","MARICOPA COUNTY REGIONAL DISTRICT","3409 W. WHITTON AVENUE","PHOENIX AZ 85017","(602) 452-4700","(602) 452-4720"]
["070204000","MESA UNIFIED DISTRICT","63 EAST MAIN STREET, 101","MESA AZ 85201","(480) 472-0200","(480) 472-0489"]
["070204101","ADAMS ELEMENTARY SCHOOL","738 S LONGMORE","MESA AZ 85202","() -","() -"]
["070204102","ALMA ELEMENTARY SCHOOL","1313 W MEDINA","MESA AZ 85202 6610","() -","() -"]
["070204103","EDISON ELEMENTARY SCHOOL","545 N. HORNE","MESA AZ 85203","() -","() -"]
["070204104","EMERSON ELEMENTARY SCHOOL","415 NORTH WESTWOOD ROAD","MESA AZ 85201","() -","() -"]
["070204105","FRANKLIN ELEMENTARY SCHOOL","1753 EAST 8TH AVE","MESA AZ 85204","() -","() -"]
["070204106","HAWTHORNE ELEMENTARY SCHOOL","630 NORTH HUNT DR","MESA AZ 85203","() -","() -"]
["070204107","HOLMES ELEMENTARY SCHOOL","948 S HORNE","MESA AZ 85204","() -","() -"]
["070204108","IRVING ELEMENTARY SCHOOL","3220 E PUEBLO","MESA AZ 85204 4028","() -","() -"]
["070204109","JEFFERSON ELEMENTARY SCHOOL","120 S JEFFERSON","MESA AZ 85208","() -","() -"]
["070204110","LEHI ELEMENTARY SCHOOL","2555 N. STAPLEY DRIVE","MESA AZ 85203","() -","() -"]
["070204111","LINCOLN ELEMENTARY SCHOOL","930 SOUTH SIRRINE","MESA AZ 85210","() -","() -"]
["070204112","LONGFELLOW ELEMENTARY SCHOOL","345 S HALL STREET","MESA AZ 85204","() -","() -"]
["070204113","LOWELL ELEMENTARY SCHOOL","920 E BROADWAY","MESA AZ 85204","() -","() -"]
["070204114","FRANKLIN WEST ELEMENTARY","236 SOUTH SIRRINE","MESA AZ 85210 1611","() -","() -"]
["070204115","WEBSTER ELEMENTARY SCHOOL","202 N SYCAMORE","MESA AZ 85201","() -","() -"]
["070204116","WHITTIER ELEMENTARY SCHOOL","733 N LONGMORE","MESA AZ 85201","() -","() -"]
["070204117","WHITMAN ELEMENTARY SCHOOL","1829 N GRAND","MESA AZ 85201","() -","() -"]
["070204118","TAFT ELEMENTARY SCHOOL","9800 E QUARTERLINE ROAD","MESA AZ 85207","(480) 472-9100","(480) 472-9090"]
["070204119","HALE ELEMENTARY SCHOOL","1425 N 23RD STREET","MESA AZ 85213 4018","() -","() -"]
["070204120","EISENHOWER ELEMENTARY SCHOOL","848 NORTH MESA DR","MESA AZ 85201","() -","() -"]
["070204121","ROOSEVELT ELEMENTARY SCHOOL","828 S VALENCIA","MESA AZ 85202","() -","() -"]
["070204122","LINDBERGH ELEMENTARY SCHOOL","930 S LAZONA","MESA AZ 85204","() -","() -"]
["070204123","REDBIRD ELEMENTARY SCHOOL","1020 S EXTENSION","MESA AZ 85210","() -","() -"]
["070204124","SALK ELEMENTARY SCHOOL","7029 E BROWN ROAD","MESA AZ 85207 3707","() -","() -"]
["070204125","FIELD ELEMENTARY SCHOOL","2325 E ADOBE STREET","MESA AZ 85213 6713","() -","() -"]
["070204126","WASHINGTON ELEMENTARY SCHOOL","2260 WEST ISABELLA AVE","MESA AZ 85202","() -","() -"]
["070204127","STEVENSON ELEMENTARY SCHOOL","638 S. 96TH STREET","MESA AZ 85208","() -","() -"]
["070204128","KELLER ELEMENTARY SCHOOL","1445 EAST HILTON AVE","MESA AZ 85204","() -","() -"]
["070204129","MACARTHUR ELEMENTARY SCHOOL","1435 E MCLELLAN","MESA AZ 85203 3840","() -","() -"]
["070204130","JORDAN ELEMENTARY SCHOOL","3320 N CARRIAGE LANE","CHANDLER AZ 85224","() -","() -"]
["070204131","POMEROY ELEMENTARY SCHOOL","1507 WEST SHAWNEE DR","CHANDLER AZ 85224","() -","() -"]
["070204132","HIGHLAND ELEMENTARY SCHOOL","3042 E. ADOBE","MESA AZ 85213","(480) 472-7600","(480) 472-7606"]
["070204133","CRISMON ELEMENTARY SCHOOL","825 W MEDINA","MESA AZ 85210","() -","() -"]
["070204134","ROBSON ELEMENTARY SCHOOL","2122 EAST PUEBLO AVE","MESA AZ 85204","() -","() -"]
["070204135","SIRRINE ELEMENTARY SCHOOL","591 MESQUITE STREET","CHANDLER AZ 85225 2114","() -","() -"]
["070204136","JOHNSON ELEMENTARY SCHOOL","3807 E PUEBLO","MESA AZ 85206","() -","() -"]
["070204137","O'CONNOR ELEMENTARY SCHOOL","4840 E ADOBE ROAD","MESA AZ 85205","() -","() -"]
["070204138","FROST ELEMENTARY SCHOOL","1560 W SUMMIT PL.","CHANDLER AZ 85224","() -","() -"]
["070204139","MENDOZA ELEMENTARY SCHOOL","5831 EAST MCLELLAN ROAD","MESA AZ 85205","(480) 472-2000","( ) -"]
["070204140","ISHIKAWA ELEMENTARY SCHOOL","2635 N 32ND STREET","MESA AZ 85213 1662","() -","() -"]
["070204141","MADISON ELEMENTARY SCHOOL","849 S SUNNYVALE","MESA AZ 85206","() -","() -"]
["070204142","SOUSA ELEMENTARY SCHOOL","616 N MOUNTAIN","MESA AZ 85207 2303","() -","() -"]
["070204143","HERMOSA VISTA ELEMENTARY SCHOOL","2626 N 24TH STREET","MESA AZ 85213","() -","() -"]
["070204144","FALCON HILL ELEMENTARY SCHOOL","1645 N STERLING STREET","MESA AZ 85207","() -","() -"]
["070204145","PORTER ELEMENTARY SCHOOL","1350 S. LINDSAY DR.","MESA AZ 85204","() -","() -"]
["070204146","KERR ELEMENTARY SCHOOL","125 E MCLELLAN","MESA AZ 85201","() -","() -"]
["070204147","ENTZ ELEMENTARY SCHOOL","4132 E ADOBE","MESA AZ 85205","() -","() -"]
["070204148","RED MOUNTAIN RANCH ELEMENTARY","6650 E RAFTRIVER ROAD","MESA AZ 85215","() -","() -"]
["070204149","BUSH ELEMENTARY","4925 E INGRAM","MESA AZ 85205","() -","() -"]
["070204150","LAS SENDAS ELEMENTARY SCHOOL","3120 N RED MOUNTAIN ROAD","MESA AZ 85207","() -","() -"]
["070204151","WILSON ELEMENTARY SCHOOL","5619 EAST GLADE AVE","MESA AZ 85206","() -","() -"]
["070204152","FRANKLIN NORTHEAST SCHOOL - CLOSED","7042 E. ADOBE ROAD","MESA AZ 85207 4600","() -","() -"]
["070204153","PATTERSON ELEMENTARY","615 S. CHESHIRE","MESA AZ 85208","() -","() -"]
["070204154","FRANKLIN SOUTH - CLOSED","5005 EAST SOUTHERN AVE","MESA AZ 85206","() -","() -"]
["070204155","GUERRERO ELEMENTARY SCHOOL","463 S. ALMA SCHOOL RD.","MESA AZ 85210","() -","() -"]
["070204156","BRINTON ELEMENTARY","11455 E.SUNLAND AVE.","MESA AZ 85208","() -","() -"]
["070204157","ZAHARIS ELEMENTARY","9410 E. MCKELLIPS ROAD","MESA AZ 85207","(480) 308-7241","(480) 308-7255"]
["070204158","FRANKLIN AT ALMA ELEMENTARY","1313 W. MEDINA AVE","MESA AZ 85202","(480) 472-3900","(480) 472-3919"]
["070204159","FRANKLIN AT BRIMHALL ELEMENTARY","4949 E SOUTHERN AVE","MESA AZ 85206","(480) 472-2600","( ) -"]
["070204181","POWER LEARNING CENTER","7038 E ADOBE","MESA AZ 85207","() -","() -"]
["070204182","TAPP","1727 W. MAIN","MESA AZ 85201","() -","() -"]
["070204183","S H A R P","950 NORTH SUN VALLEY BLVD.","MESA AZ 85207 3801","() -","() -"]
["070204184","RIVERVIEW HIGH SCHOOL","1731 N. COUNTRY CLUB DRIVE","MESA AZ 85201","(480) 472-5351","( ) -"]
["070204190","SUNRIDGE LEARNING CENTER","737 W GUADALUPE ROAD","MESA AZ 85210","() -","() -"]
["070204191","EARLY EDUCATION CENTER","143 S ALMA SCHOOL RD","MESA AZ 85210","(480) 308-7300","(480) 308-7301"]
["070204192","MESA ACADEMY FOR ADVANCED STUDIES","6919 E. BROWN ROAD","MESA AZ 85207","(480) 308-7400","(480) 308-7428"]
["070204193","SUMMIT ACADEMY","1550 WEST SUMMIT PLACE","CHANDLER AZ 85224","(480) 472-3300","(480) 472-3320"]
["070204194","MCKELLIPS LEARNING CENTER","325 E. MCKELLIPS","MESA AZ 85201","() -","() -"]
["070204195","EAGLERIDGE ENRICHMENT PROGRAM","737 W. GUADALUPE ROAD SUITE 113","MESA AZ 85210 7713","() -","() -"]
["070204196","EAST MESA EARLY CHILDHOOD EDUCATION CENTER","950 N SUN VALLEY BLVD","MESA AZ 85207","(480) 472-3975","(480) 472-3999"]
["070204251","MESA JUNIOR HIGH SCHOOL","828 E BROADWAY ROAD","MESA AZ 85204","() -","() -"]
["070204252","CARSON JUNIOR HIGH SCHOOL","525 N WESTWOOD","MESA AZ 85201 5527","() -","() -"]
["070204253","KINO JUNIOR HIGH SCHOOL","848 N HORNE","MESA AZ 85203","() -","() -"]
["070204254","FREMONT JUNIOR HIGH SCHOOL","1001 N POWER ROAD","MESA AZ 85205","() -","() -"]
["070204255","POWELL JUNIOR HIGH SCHOOL","855 W. 8TH AVE","MESA AZ 85210","() -","() -"]
["070204256","POSTON JUNIOR HIGH SCHOOL","2433 E ADOBE","MESA AZ 85213","() -","() -"]
["070204257","RHODES JUNIOR HIGH SCHOOL","1860 S LONGMORE STREET","MESA AZ 85202 5716","() -","() -"]
["070204258","TAYLOR JUNIOR HIGH SCHOOL","705 S 32ND STREET","MESA AZ 85204","() -","() -"]
["070204259","HENDRIX JUNIOR HIGH SCHOOL","1550 W SUMMIT PLACE","CHANDLER AZ 85224","() -","() -"]
["070204260","SHEPHERD JUNIOR HIGH SCHOOL","1407 NORTH ALTA MESA DR","MESA AZ 85205","(480) 472-1800","(480) 472-1888"]
["070204261","BRIMHALL JUNIOR HIGH SCHOOL","4949 E SOUTHERN AVE","MESA AZ 85206","() -","() -"]
["070204262","STAPLEY JUNIOR HIGH SCHOOL","3250 EAST HERMOSA VISTA DR","MESA AZ 85213","() -","() -"]
["070204263","SMITH JUNIOR HIGH SCHOOL","10100 E. ADOBE RD","MESA AZ 85207","() -","() -"]
["070204264","FRANKLIN JUNIOR HIGH SCHOOL","4949 EAST SOUTHERN AVENUE","MESA AZ 85206","(480) 472-8990","(480) 472-8999"]
["070204271","MESA HIGH SCHOOL","1630 EAST SOUTHERN AVE","MESA AZ 85204","() -","() -"]
["070204272","WESTWOOD HIGH SCHOOL","945 W 8TH STREET","MESA AZ 85201","() -","() -"]
["070204273","MOUNTAIN VIEW HIGH SCHOOL","2700 E BROWN ROAD","MESA AZ 85213","() -","() -"]
["070204274","DOBSON HIGH SCHOOL","1501 W GUADALUPE","MESA AZ 85202 7575","() -","() -"]
["070204275","RED MOUNTAIN HIGH SCHOOL","7301 EAST BROWN ROAD","MESA AZ 85207","() -","() -"]
["070204276","SKYLINE HIGH SCHOOL","845 S CRISMON","MESA AZ 85208","() -","() -"]
["070204278","EAST VALLEY ACADEMY","855 W. 8TH AVENUE","MESA AZ 85201","() -","( ) -"]
["070204280","SUPERSTITION HIGH SCHOOL","10222 E. SOUTHERN AVE.","MESA AZ 85208","() -","() -"]
["070204282","CROSSROADS","535 S. LEWIS STREET","MESA AZ 85210","() -","( ) -"]
["070209000","WICKENBURG UNIFIED DISTRICT","40 W YAVAPAI ST","WICKENBURG AZ 85390","(928) 668-5350","(928) 668-5390"]
["070209102","HASSAYAMPA ELEMENTARY SCHOOL","251 S. TEGNER ST.","WICKENBURG AZ 85390","() -","() -"]
["070209103","VULTURE PEAK SCHOOL","920 SOUTH VULTURE MINE RD.","WICKENBURG AZ 85390","() -","() -"]
["070209104","FESTIVAL FOOTHILLS ELEMENTARY SCHOOL","26252 W. DESERT VISTA BLVD.","BUCKEYE AZ 85396","() -","( ) -"]
["070209201","WICKENBURG HIGH SCHOOL","1090 SOUTH VULTURE MINE ROAD","WICKENBURG AZ 85390","() -","() -"]
["070209202","WICKENBURG ALTERNATIVE HIGH SCHOOL","920 S. VULTURE MINE RD.","WICKENBURG AZ 85390","() -","() -"]
["070211000","PEORIA UNIFIED SCHOOL DISTRICT","P O BOX 39","PEORIA AZ 85380","(623) 486-6000","(623) 486-6102"]
["070211101","PEORIA ELEMENTARY SCHOOL","11501 N 79TH AVE","PEORIA AZ 85345","(623) 412-4450","(623) 412-4458"]
["070211102","IRA A MURPHY","7231 W NORTH LANE","PEORIA AZ 85345","(623) 412-4475","(623) 412-4484"]
["070211103","KACHINA ELEMENTARY SCHOOL","5304 WEST CROCUS","GLENDALE AZ 85306","(623) 412-4500","(623) 412-4509"]
["070211104","HERITAGE SCHOOL","5312 W MOUNTAIN VIEW","GLENDALE AZ 85302","() -","() -"]
["070211105","PIONEER ELEMENTARY SCHOOL","6315 W PORT AU PRINCE","GLENDALE AZ 85306","() -","() -"]
["070211106","ALTA LOMA SCHOOL","9750 N 87TH AVE","PEORIA AZ 85345","() -","() -"]
["070211107","DESERT PALMS ELEMENTARY SCHOOL","11441 N. 55TH AVENUE","GLENDALE AZ 85304","() -","() -"]
["070211108","FOOTHILLS ELEMENTARY SCHOOL","15808 N 63RD AVE","GLENDALE AZ 85306","() -","() -"]
["070211109","COPPERWOOD SCHOOL","11232 NORTH 65TH AVE","GLENDALE AZ 85304","(623) 412-4650","(623) 412-4660"]
["070211110","SUNDANCE ELEMENTARY SCHOOL","7051 W CHOLLA ST.","PEORIA AZ 85345","(623) 412-4675","(623) 412-4685"]
["070211111","COTTON BOLL SCHOOL","8540 W. BUTLER DRIVE","PEORIA AZ 85345","(623) 412-4700","(623) 412-4705"]
["070211112","OAKWOOD ELEMENTARY SCHOOL","12900 N 71ST AVE","PEORIA AZ 85381","(623) 412-4725","(623) 412-4734"]
["070211113","DESERT VALLEY ELEMENTARY SCHOOL","12901 N 63RD AVE","GLENDALE AZ 85304","() -","() -"]
["070211114","SAHUARO RANCH ELEMENTARY SCHOOL","10401 N 63RD AVE.","GLENDALE AZ 85302","(623) 412-4775","(623) 412-4786"]
["070211115","OASIS ELEMENTARY SCHOOL","7841 W SWEETWATER","PEORIA AZ 85381","() -","() -"]
["070211116","SUN VALLEY ELEMENTARY SCHOOL","8361 N 95TH AVE","PEORIA AZ 85345","(623) 412-4825","(623) 412-4837"]
["070211117","SKY VIEW ELEMENTARY SCHOOL","8624 W SWEETWATER AVE.","PEORIA AZ 85381","(623) 412-4850","(623) 412-4861"]
["070211118","APACHE ELEMENTARY SCHOOL","8633 W. JOHN CABOT ROAD","PEORIA AZ 85382","(623) 412-4875","(623) 412-4885"]
["070211119","CANYON ELEMENTARY SCHOOL","5490 WEST PARADISE LANE","GLENDALE AZ 85306","() -","() -"]
["070211120","MARSHALL RANCH ELEMENTARY SCHOOL","12995 N MARSHALL RANCH DR","GLENDALE AZ 85304","(623) 486-6450","(623) 486-6461"]
["070211121","SANTA FE ELEMENTARY SCHOOL","9880 N 77TH AVE","PEORIA AZ 85345","() -","() -"]
["070211122","PASEO VERDE ELEMENTARY SCHOOL","7880 W GREENWAY RD","PEORIA AZ 85381","(623) 412-5075","(623) 412-5084"]
["070211123","DESERT HARBOR ELEMENTARY SCHOOL","15585 N. 91ST AVENUE","PEORIA AZ 85382","(623) 486-6200","(623) 486-6207"]
["070211124","CHEYENNE ELEMENTARY SCHOOL","11806 N. 87TH AVENUE","PEORIA AZ 85345 8125","() -","() -"]
["070211125","FRONTIER ELEMENTARY SCHOOL","21258 N. 81ST AVENUE","PEORIA AZ 85382","(623) 412-4900","(623) 412-4905"]
["070211126","COUNTRY MEADOWS ELEMENTARY SCHOOL","8409 N. 111TH AVE.","PEORIA AZ 85345","(623) 412-5200","(623) 412-5207"]
["070211127","COYOTE HILLS ELEMENTARY SCHOOL","21180 NORTH 87TH AVENUE","PEORIA AZ 85382","(623) 412-5225","(623) 412-5232"]
["070211128","ZUNI HILLS ELEMENTARY SCHOOL","10851 W. WILLIAMS ROAD","SUN CITY AZ 85373","() -","() -"]
["070211129","PARKRIDGE ELEMENTARY","9970 W. BEARDSLEY ROAD","PEORIA AZ 85382","() -","() -"]
["070211130","VISTANCIA ELEMENTARY SCHOOL","30009 N. SUNRISE POINT","PEORIA AZ 85383","(623) 773-6500","(623) 773-6507"]
["070211131","LAKE PLEASANT ELEMENTARY","31501 N. WESTLAND ROAD","PEORIA AZ 85383","(623) 773-6575","(623) 773-6580"]
["070211132","PEORIA TRADITIONAL SCHOOL","10851 W. WILLIAMS ROAD","SUN CITY AZ 85373","(623) 412-5350","( ) -"]
["070211260","PEORIA HIGH SCHOOL","11200 N 83RD AVE","PEORIA AZ 85345","(623) 486-6300","(623) 486-6330"]
["070211261","CACTUS HIGH SCHOOL","6330 WEST GREENWAY","GLENDALE AZ 85306","(623) 412-5000","(623) 412-5020"]
["070211262","IRONWOOD HIGH SCHOOL","6051 W. SWEETWATER AVE.","GLENDALE AZ 85304","(623) 486-6400","(623) 486-6424"]
["070211263","CENTENNIAL HIGH SCHOOL","14388 N 79TH AV","PEORIA AZ 85381","(623) 412-4400","(623) 412-4420"]
["070211264","SUNRISE MOUNTAIN HIGH SCHOOL","21200 N 83RD AVE","PEORIA AZ 85382","(623) 487-5125","(623) 487-5140"]
["070211265","RAYMOND S. KELLIS","8990 W. ORANGEWOOD","GLENDALE AZ 85305","() -","() -"]
["070211266","PEORIA TRANSITION CENTER","7565 W. PEORIA AVENUE, STE. A","PEORIA AZ 85381","(623) 412-5475","( ) -"]
["070211267","LIBERTY HIGH SCHOOL","9621 W. SPECKLED GECKO DRIVE","PEORIA AZ 85383","(623) 773-6525","(623) 773-6540"]
["070212000","CHRISTOPHER VERDE SCHOOL DISTRICT","4041 N. CENTRAL AVE 1100","PHOENIX AZ 85012","(602) 506-3866","(602) 506-3753"]
["070224000","GILA BEND UNIFIED DISTRICT","P O BOX V","GILA BEND AZ 85337","(928) 683-2225","(928) 683-2671"]
["070224001","GILA BEND ELEMENTARY","P O BOX V","GILA BEND AZ 85337","() -","( ) -"]
["070224002","GILA BEND HIGH SCHOOL","308 N MARTIN AVE","GILA BEND AZ 85337","() -","( ) -"]
["070241000","GILBERT UNIFIED DISTRICT","140 S GILBERT RD","GILBERT AZ 85296","(480) 497-3300","(480) 497-3450"]
["070241120","GILBERT JUNIOR HIGH SCHOOL","1016 N. BURK","GILBERT AZ 85234","() -","( ) -"]
["070241121","MESQUITE JR HIGH SCHOOL","130 W. MESQUITE ST.","GILBERT AZ 85233","() -","( ) -"]
["070241122","GREENFIELD JUNIOR HIGH SCHOOL","101 SOUTH GREENFIELD ROAD","GILBERT AZ 85296","() -","( ) -"]
["070241123","HIGHLAND JR HIGH SCHOOL","6915 E. GUADALUPE RD.","MESA AZ 85212","() -","( ) -"]
["070241124","DESERT RIDGE JR. HIGH","10211 E. MADERO AVE.","MESA AZ 85209","() -","( ) -"]
["070241125","SOUTH VALLEY JR. HIGH","140 SOUTH GILBERT ROAD","GILBERT AZ 85296","() -","( ) -"]
["070241130","CANYON VALLEY JUNIOR HIGH SCHOOL","140 S. GILBERT RD.","GILBERT AZ 85296","() -","() -"]
["070241134","GILBERT CLASSICAL ACADEMY JR.","55 N. GREENFIELD RD.","GILBERT AZ 85234","(480) 497-4024","( ) -"]
["070241140","GILBERT ELEMENTARY SCHOOL","175 W. ELLIOTT","GILBERT AZ 85233","() -","( ) -"]
["070241141","GREENFIELD ELEMENTARY SCHOOL","2550 EAST ELLIOT ROAD","GILBERT AZ 85234","() -","( ) -"]
["070241142","PATTERSON ELEMENTARY SCHOOL","1211 E. GUADALUPE ROAD","GILBERT AZ 85234","() -","( ) -"]
["070241143","NEELY TRADITIONAL ACADEMY","321 W. JUNIPER AVE.","GILBERT AZ 85233","() -","( ) -"]
["070241144","PIONEER ELEMENTARY SCHOOL","1535 N. GREENFIELD ROAD","GILBERT AZ 85234","() -","( ) -"]
["070241145","ISLANDS ELEMENTARY SCHOOL","245 SOUTH MCQUEEN ROAD","GILBERT AZ 85233","() -","( ) -"]
["070241146","HOUSTON ELEMENTARY SCHOOL","500 E. HOUSTON AVE.","GILBERT AZ 85234","() -","( ) -"]
["070241147","BURK ELEMENTARY SCHOOL","545 N. BURK ST.","GILBERT AZ 85234","() -","( ) -"]
["070241148","VAL VISTA LAKES ELEMENTARY SCHOOL","1030 NORTH BLUE GROTTO","GILBERT AZ 85234","() -","( ) -"]
["070241149","MESQUITE ELEMENTARY SCHOOL","1000 E. MESQUITE STREET","GILBERT AZ 85296","() -","( ) -"]
["070241150","HARRIS ELEMENTARY SCHOOL","1820 S. HARRIS DRIVE","MESA AZ 85204","() -","( ) -"]
["070241151","PLAYA DEL REY ELEMENTARY SCHOOL","550 N. HORNE STREET","GILBERT AZ 85233","() -","( ) -"]
["070241152","TOWNE MEADOWS ELEMENTARY SCHOOL","1101 N. RECKER ROAD","HIGLEY AZ 85234","() -","( ) -"]
["070241154","SONOMA RANCH ELEMENTARY SCHOOL","601 NORTH KEY BISCAYNE","GILBERT AZ 85234","() -","( ) -"]
["070241155","SUPERSTITION SPRINGS ELEMENTARY","7125 E. MONTEREY AVE.","MESA AZ 85009","(480) 641-6413","( ) -"]
["070241156","FINLEY FARMS ELEMENTARY","375 S. COLUMBUS DRIVE","GILBERT AZ 85296","() -","( ) -"]
["070241157","OAK TREE ELEMENTARY","505 W. HOUSTON","GILBERT AZ 85233","() -","( ) -"]
["070241158","SETTLERS POINT ELEMENTARY","423 E. SETTLERS POINT DRIVE","GILBERT AZ 85296","() -","( ) -"]
["070241159","CAROL RAE RANCH ELEMENTARY","3777 E. HOUSTON AVE","GILBERT AZ 85234","() -","( ) -"]
["070241160","BOULDER CREEK ELEMENTARY","8045 E. PORTOBELLO AVE.","MESA AZ 85212","() -","( ) -"]
["070241161","ASHLAND ELEMENTARY","1945 S. ASHLAND RANCH ROAD","GILBERT AZ 85295","(480) 917-9900","(480) 917-3400"]
["070241162","AUGUSTA RANCH ELEMENTARY","9430 E. NEVILLE AVE","MESA AZ 85209","() -","( ) -"]
["070241163","CANYON RIM ELEM","3045 CANYON RIM","MESA AZ 85212","() -","( ) -"]
["070241164","SPECTRUM ELEMENTARY","2846 S. SPECTRUM WAY","GILBERT AZ 85295","() -","( ) -"]
["070241165","MERIDIAN","3900 S. MOUNTAIN ROAD","MESA AZ 85212","() -","( ) -"]
["070241166","HIGHLAND PARK ELEMENTARY","230 N. COLE DR.","GILBERT AZ 85234","(480) 832-3034","(480) 832-3027"]
["070241167","QUARTZ HILL ELEMENTARY","3680 S. QUARTZ STREET","GILBERT AZ 85297","(480) 855-5732","(480) 855-5797"]
["070241210","GILBERT HIGH SCHOOL","1101 EAST ELLIOT RD.","GILBERT AZ 85234","() -","( ) -"]
["070241211","HIGHLAND HIGH SCHOOL","140 SOUTH GILBERT ROAD","GILBERT AZ 85296","() -","( ) -"]
["070241212","MESQUITE HIGH SCHOOL","500 S MCQUEEN RD","GILBERT AZ 85233","() -","( ) -"]
["070241213","DESERT RIDGE HIGH","10045 E MADERO AVE","MESA AZ 85212","() -","( ) -"]
["070241214","CAMPO VERDE HIGH SCHOOL","3870 SOUTH QUARTZ STREET","GILBERT AZ 85297","() -","( ) -"]
["070241230","CANYON VALLEY HIGH SCHOOL","140 S. GILBERT RD.","GILBERT AZ 85296","() -","( ) -"]
["070241233","GILBERT CLASSICAL ACADEMY","55 N. GREENFIELD ROAD","GILBERT AZ 85234","(480) 497-4024","(480) 507-1645"]
["070241234","GILBERT CLASSICAL ACADEMY HIGH SCHOOL","55 N. GREENFIELD RD.","GILBERT AZ 85234","(480) 497-4024","( ) -"]
["070248000","SCOTTSDALE UNIFIED DISTRICT","3811 N 44TH ST","PHOENIX AZ 85018 5489","(480) 484-6100","(480) 484-6295"]
["070248102","COCHISE ELEMENTARY SCHOOL","9451 NORTH 84TH STREET","SCOTTSDALE AZ 85258","() -","() -"]
["070248103","TAVAN ELEMENTARY SCHOOL","4610 E. OSBORN","PHOENIX AZ 85018 6018","() -","() -"]
["070248107","KIVA ELEMENTARY SCHOOL","6911 EAST MCDONALD DRIVE","PARADISE VALLEY AZ 85253","() -","() -"]
["070248108","ARCADIA NEIGHBORHOOD LEARNING CENTER","4330 N. 62ND STREET","SCOTTSDALE AZ 85251","() -","() -"]
["070248109","TONALEA ELEMENTARY SCHOOL","6801 E. OAK STREET","SCOTTSDALE AZ 85257","(480) 484-3600","(480) 484-3601"]
["070248110","PIMA ELEMENTARY SCHOOL","8330 E. OSBORN ROAD","SCOTTSDALE AZ 85251","() -","() -"]
["070248112","HOPI ELEMENTARY SCHOOL","5110 E. LAFAYETTE BLVD.","PHOENIX AZ 85018","() -","() -"]
["070248113","NAVAJO ELEMENTARY SCHOOL","4525 N GRANITE REEF","SCOTTSDALE AZ 85251","() -","() -"]
["070248114","HOHOKAM TRADITIONAL SCHOOL","8451 E. OAK STREET","SCOTTSDALE AZ 85257","(480) 484-1800","(480) 484-1801"]
["070248115","YAVAPAI ELEMENTARY SCHOOL","701 NORTH MILLER ROAD","SCOTTSDALE AZ 85257","() -","() -"]
["070248120","PUEBLO ELEMENTARY SCHOOL","6320 N. 82ND STREET","SCOTTSDALE AZ 85250","() -","() -"]
["070248121","CHEROKEE ELEMENTARY SCHOOL","8801 N. 56TH STREET","PARADISE VALLEY AZ 85253","() -","() -"]
["070248123","LAGUNA ELEMENTARY SCHOOL","10475 E. LAKEVIEW DR.","SCOTTSDALE AZ 85258","() -","() -"]
["070248124","SEQUOYA ELEMENTARY SCHOOL","11808 N. 64TH ST.","SCOTTSDALE AZ 85254","() -","() -"]
["070248125","REDFIELD ELEMENTARY SCHOOL","9181 E. REDFIELD RD.","SCOTTSDALE AZ 85260 7557","() -","() -"]
["070248126","AZTEC ELEMENTARY SCHOOL","13636 NORTH 100TH STREET","SCOTTSDALE AZ 85260","() -","() -"]
["070248127","CHEYENNE TRADITIONAL ELEMENTARY SCHOOL","13636 NORTH 100TH STREET","SCOTTSDALE AZ 85260","() -","( ) -"]
["070248128","ANASAZI ELEMENTARY","12121 N 124TH STREET","SCOTTSDALE AZ 85259","() -","() -"]
["070248129","DESERT CANYON ELEMENTARY","10203 E MCDOWELL MOUNTAIN RANCH ROAD","SCOTTSDALE AZ 85255","() -","() -"]
["070248130","COPPER RIDGE ELEMENTARY SCHOOL","10101 E. THOMPSON PEAK PARKWAY","SCOTTSDALE AZ 85255","() -","() -"]
["070248161","SUPAI MIDDLE SCHOOL","6720 EAST CONTINENTAL","SCOTTSDALE AZ 85257","() -","() -"]
["070248164","DESERT CANYON MIDDLE SCHOOL","10203 E. MCDOWELL MTN. RANCH RD","SCOTTSDALE AZ 85255","() -","() -"]
["070248165","INGLESIDE MIDDLE SCHOOL","5402 E. OSBORN ROAD","PHOENIX AZ 85018","() -","() -"]
["070248166","MOUNTAINSIDE MIDDLE SCHOOL","11256 N. 128TH ST.","SCOTTSDALE AZ 85259 4412","() -","() -"]
["070248167","MOHAVE MIDDLE SCHOOL","8490 E JACKRABBIT ROAD","SCOTTSDALE AZ 85250","() -","( ) -"]
["070248169","COCOPAH MIDDLE SCHOOL","6615 E. CHOLLA ST.","SCOTTSDALE AZ 85254","() -","() -"]
["070248170","COPPER RIDGE MIDDLE SCHOOL","10101 E. THOMPSON PEAK PARKWAY","SCOTTSDALE AZ 85255","() -","() -"]
["070248292","ARCADIA HIGH SCHOOL","4703 E INDIAN SCHOOL RD","PHOENIX AZ 85018","() -","() -"]
["070248293","CORONADO HIGH SCHOOL","7501 E. VIRGINIA AVENUE","SCOTTSDALE AZ 85257","(480) 484-6800","( ) -"]
["070248294","SAGUARO HIGH SCHOOL","6250 N. 82ND STREET","SCOTTSDALE AZ 85250","() -","() -"]
["070248295","CHAPARRAL HIGH SCHOOL","6935 E. GOLD DUST","SCOTTSDALE AZ 85253","() -","() -"]
["070248296","DESERT MOUNTAIN HIGH SCHOOL","12575 E. VIA LINDA","SCOTTSDALE AZ 85259","(480) 484-7000","(480) 484-7001"]
["070248297","COPPER RIDGE MATH AND SCIENCE ACADEMY","10101 E. THOMPSON PEAK PARKWAY","SCOTTSDALE AZ 85255","(480) 484-1500","(480) 484-1501"]
["070248298","SIERRA VISTA ACADEMY","7501 E. OAK STREET","SCOTTSDALE AZ 85257","() -","() -"]
["070260000","HIGLEY UNIFIED SCHOOL DISTRICT","2935 S. RECKER ROAD","GILBERT AZ 85297","(480) 279-7000","(480) 279-7500"]
["070260101","HIGLEY TRADITIONAL ACADEMY","3391 E. VEST AVE.","HIGLEY AZ 85236","() -","() -"]
["070260102","CORONADO ELEMENTARY SCHOOL","4333 SOUTH DEANZA BLVD.","GILBERT AZ 85297","(480) 279-6900","(480) 279-6905"]
["070260103","SAN TAN ELEMENTARY","3443 E. CALISTOGA","GILBERT AZ 85297","() -","() -"]
["070260104","POWER RANCH ELEMENTARY","4351 S. RANCH HOUSE PARKWAY","GILBERT AZ 85297","() -","() -"]
["070260105","GATEWAY POINTE ELEMENTARY","2069 S. DELATORRE DRIVE","HIGLEY AZ 85236","() -","() -"]
["070260106","CORTINA ELEMENTARY","19680 S. 188TH ST.","QUEEN CREEK AZ 85242","(480) 279-7800","(480) 279-7805"]
["070260107","CHAPARRAL ELEMENTARY SCHOOL","3380 E. FRYE ROAD","GILBERT AZ 85297","(480) 279-7900","(480) 279-7905"]
["070260108","CENTENNIAL ELEMENTARY SCHOOL","3507 SOUTH RANCH HOUSE PARKWAY","GILBERT AZ 85297","(480) 279-8000","(480) 279-7005"]
["070260201","HIGLEY HIGH SCHOOL","4068 EAST PECOS ROAD","GILBERT AZ 85296","() -","() -"]
["070260202","WILLIAMS FIELD HIGH SCHOOL","2076 S. HIGLEY ROAD","HIGLEY AZ 85236","(480) 279-8000","(480) 279-8005"]
["070269000","PARADISE VALLEY UNIFIED DISTRICT","15002 N 32ND ST","PHOENIX AZ 85032","(602) 449-2000","(602) 449-2005"]
["070269055","ROADRUNNER SCHOOL","3540 E. CHOLLA","PHOENIX AZ 85028","() -","( ) -"]
["070269110","ARROWHEAD ELEMENTARY SCHOOL","3820 E NISBET","PHOENIX AZ 85032","(602) 449-2700","( ) -"]
["070269113","FIRESIDE ELEMENTARY SCHOOL","3725 E. LOVE CACTUS DRIVE","PHOENIX AZ 85050","(602) 449-2000","( ) -"]
["070269115","CAMPO BELLO ELEMENTARY SCHOOL","2650 EAST CONTENTION MINE ROAD","PHOENIX AZ 85032","(602) 449-5200","( ) -"]
["070269121","FOOTHILLS ELEMENTARY SCHOOL","17835 NORTH 44TH STREET","PHOENIX AZ 85032","(602) 449-7400","( ) -"]
["070269122","NORTH RANCH ELEMENTARY SCHOOL","16406 N. 61ST PLACE","SCOTTSDALE AZ 85254","(602) 449-6400","( ) -"]
["070269123","EAGLE RIDGE ELEMENTARY SCHOOL","19801 NORTH 13TH STREET","PHOENIX AZ 85024","(602) 449-5700","( ) -"]
["070269124","HIDDEN HILLS ELEMENTARY SCHOOL","1919 EAST SHARON DRIVE","PHOENIX AZ 85022","(602) 449-3100","( ) -"]
["070269125","DESERT COVE ELEMENTARY SCHOOL","11020 NORTH 28TH STREET","PHOENIX AZ 85028","(602) 449-3400","( ) -"]
["070269126","QUAIL RUN ELEMENTARY SCHOOL","3303 E UTOPIA","PHOENIX AZ 85050","(602) 449-4400","( ) -"]
["070269127","CACTUS VIEW ELEMENTARY SCHOOL","17602 N CENTRAL","PHOENIX AZ 85022","(602) 449-2500","( ) -"]
["070269128","COPPER CANYON ELEMENTARY SCHOOL","17650 NORTH 54TH STREET","SCOTTSDALE AZ 85254","(602) 449-7200","( ) -"]
["070269129","SONORAN SKY ELEMENTARY SCHOOL","12990 NORTH 75TH STREET","SCOTTSDALE AZ 85260","(602) 449-6500","( ) -"]
["070269130","DESERT SHADOWS ELEMENTARY SCHOOL","5902 E SWEETWATER","SCOTTSDALE AZ 85254","(602) 449-6900","( ) -"]
["070269132","WILDFIRE ELEMENTARY SCHOOL","3997 E. LOCKWOOD DRIVE","PHOENIX AZ 85050","() -","( ) -"]
["070269135","INDIAN BEND ELEMENTARY SCHOOL","3633 E THUNDERBIRD ROAD","PHOENIX AZ 85032","(602) 449-3200","( ) -"]
["070269136","ECHO MOUNTAIN INTERMEDIATE SCHOOL","1811 E. MICHIGAN 3","PHOENIX AZ 85022","(602) 449-5600","( ) -"]
["070269138","DESERT TRAILS ELEMENTARY SCHOOL","4315 EAST CASHMAN DR.","PHOENIX AZ 85050","(602) 449-4100","( ) -"]
["070269139","WHISPERING WIND ACADEMY","15844 NORTH 43RD STREET","PHOENIX AZ 85032","(602) 449-7300","( ) -"]
["070269140","LARKSPUR ELEMENTARY SCHOOL","2430 E LARKSPUR","PHOENIX AZ 85032","(602) 449-3300","( ) -"]
["070269141","GRAYHAWK ELEMENTARY SCHOOL","7525 E. GRAYHAWK DR.","SCOTTSDALE AZ 85255","(602) 449-6600","( ) -"]
["070269142","SUNSET CANYON SCHOOL","2727 E SIESTA LANE","PHOENIX AZ 85050","(602) 449-5100","( ) -"]
["070269143","LIBERTY ELEMENTARY SCHOOL","5125 E. MARILYN RD.","SCOTTSDALE AZ 85254","(602) 449-6200","(602) 953-3006"]
["070269144","BOULDER CREEK ELEMENTARY SCHOOL","22801 NORTH 22ND STREET","PHOENIX AZ 85024","(602) 449-4500","( ) -"]
["070269145","MERCURY MINE ELEMENTARY SCHOOL","9640 NORTH 28TH STREET","PHOENIX AZ 85028","(602) 449-3700","(602) 449-3705"]
["070269146","ECHO MOUNTAIN PRIMARY SCHOOL","1811 E MICHIGAN AVE 3","PHOENIX AZ 85022","(602) 449-5500","( ) -"]
["070269148","PINNACLE PEAK ELEMENTARY","7690 E. WILLIAMS DR.","SCOTTSDALE AZ 85255","(602) 449-6700","( ) -"]
["070269150","PALOMINO PRIMARY SCHOOL","15833 NORTH 29TH STREET","PHOENIX AZ 85032","(602) 449-2800","( ) -"]
["070269151","PALOMINO INTERMEDIATE SCHOOL","15815 N. 29TH STREET","PHOENIX AZ 85032","(602) 449-2900","( ) -"]
["070269156","SANDPIPER ELEMENTARY SCHOOL","6724 E HEARN ROAD","SCOTTSDALE AZ 85254","(602) 449-6300","( ) -"]
["070269157","AIRE LIBRE ELEMENTARY SCHOOL","16428 NORTH 21ST STREET","PHOENIX AZ 85022","(602) 449-5400","( ) -"]
["070269158","VILLAGE VISTA ELEMENTARY SCHOOL","4215 E. ANDORA DR.","PHOENIX AZ 85032","(602) 449-3600","(602) 493-6239"]
["070269159","DESERT SPRINGS PREPARATORY ELEMENTARY SCHOOL","6010 EAST ACOMA ROAD","SCOTTSDALE AZ 85254","(602) 449-7000","( ) -"]
["070269170","DESERT SHADOWS MIDDLE SCHOOL","5858 E SWEETWATER","SCOTTSDALE AZ 85254","(602) 449-6800","( ) -"]
["070269171","VISTA VERDE MIDDLE SCHOOL","2826 E GROVERS","PHOENIX AZ 85032","(602) 449-5300","( ) -"]
["070269173","MOUNTAIN TRAIL MIDDLE SCHOOL","2323 EAST MOUNTAIN GATE PASS","PHOENIX AZ 85024","(602) 449-4600","(602) 449-4605"]
["070269175","GREENWAY MIDDLE SCHOOL","3002 E NISBET","PHOENIX AZ 85032","(602) 449-2400","( ) -"]
["070269177","EXPLORER MIDDLE SCHOOL","22401 NORTH 40TH STREET","PHOENIX AZ 85050","(602) 449-4200","( ) -"]
["070269178","SUNRISE MIDDLE SCHOOL","4960 EAST ACOMA DRIVE","SCOTTSDALE AZ 85254","(602) 449-6100","( ) -"]
["070269179","PROSPECT SCHOOL","15002 N. 32ND STREET","PHOENIX AZ 85032","(602) 449-2300","( ) -"]
["070269180","SHEA MIDDLE SCHOOL","2728 E. SHEA BLVD.","PHOENIX AZ 85028","(602) 449-3500","( ) -"]
["070269290","PARADISE VALLEY HIGH SCHOOL","3950 E BELL ROAD","PHOENIX AZ 85032","(602) 449-7000","( ) -"]
["070269292","PINNACLE HIGH SCHOOL","3535 E. MAYO BLVD","PHOENIX AZ 85050","(602) 449-4000","( ) -"]
["070269293","HORIZON HIGH SCHOOL","5601 E GREENWAY ROAD","SCOTTSDALE AZ 85254","(602) 449-6000","( ) -"]
["070269294","NORTH CANYON HIGH SCHOOL","1700 E. UNION HILLS DRIVE","PHOENIX AZ 85024","(602) 449-5000","( ) -"]
["070269295","SHADOW MOUNTAIN HIGH SCHOOL","2902 EAST SHEA BOULEVARD","PHOENIX AZ 85028","(602) 449-3000","( ) -"]
["070269296","POLARIS HIGH SCHOOL","15002 NORTH 32ND STREET","PHOENIX AZ 85032","(602) 449-2300","( ) -"]
["070269520","CHOLLA COMPLEX","3602 EAST CHOLLA","PHOENIX AZ 85028","(602) 493-6130","(602) 493-6136"]
["070280000","CHANDLER UNIFIED DISTRICT #80","1525 W FRYE RD","CHANDLER AZ 85224","(480) 812-7600","(480) 812-7013"]
["070280000","CHANDLER UNIFIED DISTRICT #80","555 S. PENNINGTON","CHANDLER AZ 85224","(480) 812-7600","(480) 812-7013"]
["070280104","WILLIS JUNIOR HIGH SCHOOL","401 S. MCQUEEN ROAD","CHANDLER AZ 85225","() -","( ) -"]
["070280105","SAN MARCOS ELEMENTARY SCHOOL","451 WEST FRYE ROAD","CHANDLER AZ 85225","() -","() -"]
["070280106","ERIE ELEMENTARY SCHOOL","1150 W. ERIE ST","CHANDLER AZ 85224","() -","( ) -"]
["070280107","GALVESTON ELEMENTARY SCHOOL","661 EAST GALVESTON STREET","CHANDLER AZ 85225","() -","() -"]
["070280108","HARTFORD SYLVIA ENCINAS ELEMENTARY","700 N HARTFORD ST","CHANDLER AZ 85225","() -","( ) -"]
["070280109","KNOX GIFTED ACADEMY","700 W ORCHID LN","CHANDLER AZ 85225","() -","( ) -"]
["070280110","WILLIE & COY PAYNE JR. HIGH","7655 S. HIGLEY RD.","QUEEN CREEK AZ 85142","() -","( ) -"]
["070280111","FRYE ELEMENTARY SCHOOL","801 E FRYE RD","CHANDLER AZ 85225","() -","( ) -"]
["070280112","ANNA MARIE JACOBSON ELEMENTARY SCHOOL","1515 NW JACARANDA PARKWAY","CHANDLER AZ 85248","() -","( ) -"]
["070280113","SANBORN ELEMENTARY SCHOOL","700 N SUPERSTITION BLVD","CHANDLER AZ 85225","() -","() -"]
["070280114","CHANDLER TRADITIONAL ACADEMY - GOODMAN","2600 W. KNOX","CHANDLER AZ 85224","() -","() -"]
["070280115","WEINBERG ELEMENTARY SCHOOL","5245 SOUTH VAL VISTA DRIVE","GILBERT AZ 85298","(480) 812-7500","(480) 812-7520"]
["070280116","JOHN M ANDERSEN ELEMENTARY SCHOOL","1350 N. PENNINGTON DRIVE","CHANDLER AZ 85224","() -","( ) -"]
["070280117","CHANDLER TRADITIONAL ACADEMY-HUMPHREY","125 S 132ND ST","CHANDLER AZ 85225","() -","( ) -"]
["070280118","JOHN M ANDERSEN JR HIGH SCHOOL","1255 N. DOBSON ROAD","CHANDLER AZ 85224","() -","() -"]
["070280119","SHUMWAY ELEMENTARY SCHOOL","1325 N. SHUMWAY AVENUE","CHANDLER AZ 85225 1558","() -","() -"]
["070280120","BOGLE JUNIOR HIGH SCHOOL","1600 W. QUEEN CREEK ROAD","CHANDLER AZ 85248","() -","() -"]
["070280121","SANTAN JUNIOR HIGH SCHOOL","1550 E. CHANDLER HEIGHTS ROAD","CHANDLER AZ 85249","() -","() -"]
["070280122","DR HOWARD K CONLEY ELEMENTARY SCHOOL","500 S ARROWHEAD DR","CHANDLER AZ 85224","() -","() -"]
["070280124","RUDY G BOLOGNA ELEMENTARY","1625 EAST FRYE ROAD","CHANDLER AZ 85225","() -","( ) -"]
["070280127","ROBERT AND DANELL TARWATER ELEMENTARY","2300 SOUTH GARDNER DRIVE","CHANDLER AZ 85286","() -","( ) -"]
["070280129","BASHA ELEMENTARY","3535 S. BASHA RD.","CHANDLER AZ 85248","(480) 883-4406","(480) 883-4420"]
["070280130","JANE D. HULL ELEMENTARY","2424 E. MAREN DRIVE","CHANDLER AZ 85249","() -","( ) -"]
["070280131","T. DALE HANCOCK ELEMENTARY SCHOOL","2425 S. PLEASANT DRIVE","CHANDLER AZ 85286","() -","( ) -"]
["070280132","NAVARRETE ELEMENTARY","6490 S. SUN GROVES BLVD","CHANDLER AZ 85249","(480) 883-4800","(480) 883-4820"]
["070280133","CHANDLER TRADITIONAL ACADEMY - LIBERTY CAMPUS","550 N. EMMETT","CHANDLER AZ 85225","() -","() -"]
["070280134","CHANDLER TRADITIONAL ACADEMY-FREEDOM","6040 S. JOSLYN LANE","GILBERT AZ 85298","() -","( ) -"]
["070280135","AUDREY & ROBERT RYAN ELEMENTARY","4600 S. BRIGHT ANGEL WAY","CHANDLER AZ 85249","() -","() -"]
["070280136","CHANDLER TRADITIONAL ACADEMY - INDEPENDENCE","1405 W. LAKE DR.","CHANDLER AZ 85248","(480) 224-2700","(480) 224-2720"]
["070280137","SANTAN ELEMENTARY","1550 E. CHANDLER HEIGHTS ROAD","CHANDLER AZ 85249","(480) 883-4700","(480) 883-4720"]
["070280138","IRA A. FULTON ELEMENTARY","4750 S. SUNLAND DRIVE","CHANDLER AZ 85248","(480) 224-3300","(480) 224-3320"]
["070280139","RIGGS ELEMENTARY","6930 S. SEVILLE","GILBERT AZ 85298","(480) 224-3400","(480) 224-3420"]
["070280140","CHARLOTTE PATTERSON ELEMENTARY","7520 S. ADORA BLVD.","GILBERT AZ 85298","(480) 224-3600","( ) -"]
["070280142","JOHN & CAROL CARLSON ELEMENTARY","5400 S WHITE","CHANDLER AZ 85249","(480) 812-6300","(480) 812-6320"]
["070280145","ARIZONA COLLEGE PREP OAKLAND CAMPUS","191 WEST OAKLAND","CHANDLER AZ 85225","(480) 224-3930","( ) -"]
["070280202","CHANDLER HIGH SCHOOL","350 N. ARIZONA AV.","CHANDLER AZ 85225","() -","( ) -"]
["070280203","BASHA HIGH SCHOOL","5990 S. VAL VISTA DRIVE","CHANDLER AZ 85249","(480) 224-2100","(480) 224-2120"]
["070280223","HAMILTON HIGH SCHOOL","3700 S ARIZONA AVE.","CHANDLER AZ 85248","() -","( ) -"]
["070280228","PERRY HIGH SCHOOL","1919 E. QUEEN CREEK RD.","GILBERT AZ 85297","(480) 224-2800","(480) 224-2820"]
["070280243","ARIZONA COLLEGE PREP ERIE CAMPUS","1150 W. ERIE","CHANDLER AZ 85224","(480) 883-5270","( ) -"]
["070280244","KEN 'CHIEF' HILL LEARNING ACADEMY","290 SOUTH COOPER ROAD","CHANDLER AZ 85225","(480) 812-7150","( ) -"]
["070280521","PATHWAYS LEARNING CENTER","191 W. OAKLAND STREET","CHANDLER AZ 85225","() -","() -"]
["070289000","DYSART UNIFIED DISTRICT","15802 N. PARKVIEW PLACE","SURPRISE AZ 85374","(623) 876-7000","(623) 876-7042"]
["070289101","DYSART ELEMENTARY SCHOOL","12950 W. VARNEY ROAD","EL MIRAGE AZ 85335 9233","() -","() -"]
["070289102","EL MIRAGE SCHOOL","13500 NORTH EL MIRAGE ROAD","EL MIRAGE AZ 85335","() -","() -"]
["070289103","LUKE SCHOOL","7300 N. DYSART ROAD","GLENDALE AZ 85307","() -","() -"]
["070289104","SURPRISE ELEMENTARY SCHOOL","12907 W. GREENWAY RD.","EL MIRAGE AZ 85335","() -","() -"]
["070289106","KINGSWOOD ELEMENTARY SCHOOL","15150 WEST MONDELL ROAD","SURPRISE AZ 85374","() -","() -"]
["070289108","WEST POINT ELEMENTARY","13700 W. GREENWAY ROAD","SURPRISE AZ 85374","() -","() -"]
["070289109","COUNTRYSIDE ELEMENTARY","15047 N. PARKVIEW PLACE","SURPRISE AZ 85379","(623) 876-7800","(623) 876-7811"]
["070289111","ASHTON RANCH ELEMENTARY SCHOOL","14898 W. ACOMA DRIVE","SURPRISE AZ 85379","() -","() -"]
["070289112","CIMARRON SPRINGS ELEMENTARY","17032 W. SURPRISE FARMS LOOP SOUTH","SURPRISE AZ 85388","() -","() -"]
["070289116","MARLEY PARK ELEMENTARY","15042 WEST SWEETWATER ROAD","SURPRISE AZ 85379","() -","() -"]
["070289117","THOMPSON RANCH ELEMENTARY","11800 WEST THOMPSON RANCH ROAD","EL MIRAGE AZ 85335","() -","() -"]
["070289118","SUNSET HILLS ELEMENTARY","17825 W. SIERRA MONTANA LOOP","SURPRISE AZ 85379","(623) 523-8700","( ) -"]
["070289119","RANCHO GABRIELA","15272 WEST GABRIELA DRIVE","SURPRISE AZ 85379","() -","() -"]
["070289120","SONORAN HEIGHTS ELEMENTARY","11405 N. GREER RANCH PARKWAY","SURPRISE AZ 85379","(623) 523-8550","(623) 523-8561"]
["070289121","WESTERN PEAKS ELEMENTARY","18063 W SURPRISE FARMS LOOP SOUTH","SURPRISE AZ 85388","() -","() -"]
["070289122","PARKVIEW ELEMENTARY","15800 N. PARKVIEW PLACE","SURPRISE AZ 85374","(623) 523-8650","(623) 523-8661"]
["070289123","MOUNTAIN VIEW","18302 W. BURTON","WADDELL AZ 85355","() -","( ) -"]
["070289124","CANYON RIDGE","17359 W. SURPRISE FARMS LOOP NORTH","SURPRISE AZ 85388","() -","( ) -"]
["070289126","DESERT MOON SCHOOL","23251 NORTH 166TH DRIVE","SURPRISE AZ 85387","() -","( ) -"]
["070289127","RIVERVIEW SCHOOL","12701 NORTH MAIN","EL MIRAGE AZ 85335","() -","( ) -"]
["070289205","DYSART HIGH SCHOOL","11425 N. DYSART ROAD","EL MIRAGE AZ 85335","() -","() -"]
["070289210","WILLOW CANYON HIGH SCHOOL","17901 W LUNDBERG ST","SURPRISE AZ 85374","() -","() -"]
["070289220","VALLEY VISTA HIGH SCHOOL","15550 N. PARKVIEW PLACE","SURPRISE AZ 85374","(623) 523-8800","(623) 523-8811"]
["070289225","SHADOW RIDGE HIGH SCHOOL","10909 N. PERRYVILLE ROAD","SURPRISE AZ 85388","(623) 523-5100","( ) -"]
["070290000","SADDLE MOUNTAIN UNIFIED SCHOOL DISTRICT","38201 W INDIAN SCHOOL RD","TONOPAH AZ 85354","(623) 474-5100","(623) 691-6757"]
["070290002","TONOPAH VALLEY HIGH SCHOOL","38201 W. INDIAN SCHOOL RD.","TONOPAH AZ 85354","() -","() -"]
["070290101","RUTH FISHER ELEMENTARY SCHOOL","38201 W. INDIAN SCHOOL RD","TONOPAH AZ 85354","(623) 474-5500","(623) 474-5540"]
["070290102","TARTESSO ELEMENTARY SCHOOL","29677 W. INDIANOLA ROAD","BUCKEYE AZ 85322","() -","( ) -"]
["070290104","WINTERS WELL ELEMENTARY SCHOOL","35220 W. BUCKEYE ROAD","TONOPAH AZ 85354","() -","( ) -"]
["070293000","CAVE CREEK UNIFIED DISTRICT","P O BOX 426","CAVE CREEK AZ 85327","(480) 575-2021","(480) 488-7055"]
["070293001","THE LEARNING CENTER DEVELOPMENTAL PRESCHOOL","PO BOX 426","CAVE CREEK AZ 85327","(480) 575-2013","(480) 488-6711"]
["070293101","SONORAN TRAILS MIDDLE SCHOOL","P.O.BOX 426","CAVE CREEK AZ 85327","() -","() -"]
["070293102","BLACK MOUNTAIN ELEMENTARY SCHOOL","P O BOX 426","CAVE CREEK AZ 85327","() -","() -"]
["070293103","DESERT ARROYO MIDDLE SCHOOL","PO BOX 426","CAVE CREEK AZ 85327","() -","() -"]
["070293204","CACTUS SHADOWS HIGH SCHOOL","PO BOX 426","CAVE CREEK AZ 85327","() -","() -"]
["070293700","CAVE CREEK DISTRICT CHARTER SCHOOLS","PO BOX 426","CAVE CREEK AZ 85327","(480) 575-2000","(480) 422-7055"]
["070293705","DESERT WILLOW ELEMENTARY SCHOOL","P.O. BOX 427","CAVE CREEK AZ 85327","() -","() -"]
["070293706","DESERT SUN ACADEMY","P O BOX 426","CAVE CREEK AZ 85327","() -","() -"]
["070293707","LONE MOUNTAIN ELEMENTARY SCHOOL","PO BOX 426","CAVE CREEK AZ 85327","() -","() -"]
["070293708","HORSESHOE TRAILS ELEMENTARY SCHOOL","P.O. BOX 426","CAVE CREEK AZ 85327","() -","() -"]
["070295000","QUEEN CREEK UNIFIED DISTRICT","20740 S. ELLSWORTH ROAD","QUEEN CREEK AZ 85242","(480) 987-5935","(480) 987-9714"]
["070295101","QUEEN CREEK ELEMENTARY SCHOOL","23636 S. 204TH ST","QUEEN CREEK AZ 85242","() -","() -"]
["070295102","DESERT MOUNTAIN ELEMENTARY","22301 S. HAWES","QUEEN CREEK AZ 85242","(480) 987-5912","(480) 987-5914"]
["070295103","JACK BARNES ELEMENTARY SCHOOL","20750 S. 214TH STREET","QUEEN CREEK AZ 85242","(480) 987-7400","( ) -"]
["070295104","FRANCES BRANDON-PICKETT ELEMENTARY","22706 E. VILLAGE LOOP","QUEEN CREEK AZ 85242","() -","() -"]
["070295106","QUEEN CREEK MIDDLE SCHOOL","20435 S. OLD ELLSWORTH RD.","QUEEN CREEK AZ 85242","(480) 987-5940","(480) 987-5947"]
["070295121","NEWELL BARNEY MIDDLE SCHOOL","24937 SOUTH SOSSAMAN","QUEEN CREEK AZ 85142","() -","( ) -"]
["070295201","QUEEN CREEK HIGH SCHOOL","22149 E. OCOTILLO ROAD","QUEEN CREEK AZ 85242","() -","() -"]
["070297000","DEER VALLEY UNIFIED DISTRICT","20402 N 15TH AVE","PHOENIX AZ 85027","(623) 445-5000","(623) 445-5083"]
["070297111","DEER VALLEY MIDDLE SCHOOL","21100 NORTH 27TH AVENUE","PHOENIX AZ 85027","() -","() -"]
["070297112","VILLAGE MEADOWS ELEMENTARY SCHOOL","2020 WEST MORNINGSIDE DRIVE","PHOENIX AZ 85023","(602) 467-6300","(602) 467-3680"]
["070297113","NEW RIVER ELEMENTARY SCHOOL","48827 N. BLACK CANYON HIGHWAY","PHOENIX AZ 85087","() -","() -"]
["070297114","PARK MEADOWS ELEMENTARY SCHOOL","20012 N. 35TH AVENUE","GLENDALE AZ 85308","() -","() -"]
["070297115","CONSTITUTION ELEMENTARY SCHOOL","18440 N. 15TH AVENUE","PHOENIX AZ 85023","() -","() -"]
["070297117","SUNRISE ELEMENTARY SCHOOL","17624 N. 31ST AV","PHOENIX AZ 85053","() -","() -"]
["070297118","DESERT WINDS ELEMENTARY SCHOOL","19825 N. 15TH AVENUE","PHOENIX AZ 85027 4399","() -","() -"]
["070297120","MIRAGE ELEMENTARY SCHOOL","3910 W. GROVERS","GLENDALE AZ 85308","() -","() -"]
["070297121","DESERT SKY MIDDLE SCHOOL","5130 WEST GROVERS AVENUE","GLENDALE AZ 85308","() -","() -"]
["070297122","BELLAIR ELEMENTARY SCHOOL","4701 W. GROVERS AVE.","GLENDALE AZ 85308 3460","() -","() -"]
["070297123","GREENBRIER ELEMENTARY SCHOOL","6150 W. GREENBRIAR DR.","GLENDALE AZ 85308","() -","() -"]
["070297125","MOUNTAIN SHADOWS ELEMENTARY SCHOOL","19602 N. 45TH AVE.","GLENDALE AZ 85308 4416","() -","() -"]
["070297127","ARROWHEAD ELEMENTARY SCHOOL","7490 W UNION HILLS DR.","GLENDALE AZ 85308","(623) 376-4100","(623) 376-4180"]
["070297128","HILLCREST MIDDLE SCHOOL","22833 N. 71ST AVE.","GLENDALE AZ 85310 5201","() -","() -"]
["070297129","DESERT SAGE ELEMENTARY SCHOOL","4035 W. ALAMEDA","GLENDALE AZ 85310","() -","() -"]
["070297130","ESPERANZA ELEMENTARY SCHOOL","251 WEST MOHAWK LN","PHOENIX AZ 85027 5946","() -","() -"]
["070297131","LAS BRISAS ELEMENTARY SCHOOL","5805 W. ALAMEDA","GLENDALE AZ 85310","() -","() -"]
["070297132","DESERT MOUNTAIN SCHOOL","35959 N. 7TH AVENUE","DESERT HILLS AZ 85086","() -","() -"]
["070297134","COPPER CREEK ELEMENTARY","7071 W. HILLCREST BLVD.","GLENDALE AZ 85310","() -","() -"]
["070297135","PASEO HILLS ELEMENTARY","3302 W. LOUISE","PHOENIX AZ 85027","() -","() -"]
["070297136","HIGHLAND LAKES SCHOOL","19000 N. 63RD AVENUE","GLENDALE AZ 85308","() -","() -"]
["070297137","ANTHEM SCHOOL","41020 N. FREEDOM WAY","ANTHEM AZ 85086","() -","() -"]
["070297138","LEGEND SPRINGS ELEMENTARY","21150 NORTH ARROWHEAD LOOP ROAD","GLENDALE AZ 85308","() -","() -"]
["070297139","SIERRA VERDE ELEMENTARY","7241 WEST ROSE GARDEN LANE","GLENDALE AZ 85308","() -","() -"]
["070297140","STETSON HILLS ELEMENTARY","25475 N. STETSON HILLS LOOP","GLENDALE AZ 85310","() -","() -"]
["070297142","GAVILAN PEAK ELEMENTARY","2701 W. MEMORIAL DR.","ANTHEM AZ 85086","() -","() -"]
["070297143","TERRAMAR ELEMENTARY","7000 W. HAPPY VALLEY RD.","PEORIA AZ 85383","() -","() -"]
["070297144","SUNSET RIDGE ELEMENTARY","35707 N. 33RD LANE","PHOENIX AZ 85086","() -","() -"]
["070297146","DIAMOND CANYON ELEMENTARY","40004 LIBERTY BELL WAY","ANTHEM AZ 85086","() -","() -"]
["070297147","WEST WING ELEMENTARY","26716 N HIGH DESERT DRIVE","PEORIA AZ 85383","() -","( ) -"]
["070297148","CANYON SPRINGS","40005 N. 45TH AVENUE","ANTHEM AZ 85086","(623) 376-5280","( ) -"]
["070297149","NORTERRA CANYON K-8","2200 W. MAYA WAY","PHOENIX AZ 85085","(623) 445-8200","(623) 445-8280"]
["070297219","DEER VALLEY HIGH SCHOOL","18424 N. 51ST AVE.","GLENDALE AZ 85308","() -","() -"]
["070297224","BARRY GOLDWATER HIGH SCHOOL","2820 W, ROSE GARDEN LANE","PHOENIX AZ 85027","() -","() -"]
["070297233","MOUNTAIN RIDGE HIGH SCHOOL","22800 N 67TH AVENUE","GLENDALE AZ 85310","() -","() -"]
["070297241","SANDRA DAY O'CONNOR HIGH SCHOOL","25250 N. 35TH AVENUE","GLENDALE AZ 85310","() -","() -"]
["070297245","BOULDER CREEK HIGH SCHOOL","40404 GAVILAN PEAK PARKWAY","ANTHEM AZ 85086","() -","() -"]
["070298000","FOUNTAIN HILLS UNIFIED DISTRICT","16000 E. PALISADES BLVD.","FOUNTAIN HILLS AZ 85268","(480) 664-5000","(480) 664-5099"]
["070298101","FOUR PEAKS ELEMENTARY SCHOOL","15414 MCDOWELL MOUNTAIN ROAD","FOUNTAIN HILLS AZ 85268","(480) 664-5400","(480) 664-5499"]
["070298102","MCDOWELL MOUNTAIN ELEMENTARY SCHOOL","14825 N. FAYETTE DR.","FOUNTAIN HILLS AZ 85268","() -","() -"]
["070298104","FOUNTAIN HILLS MIDDLE SCHOOL","15414 N. MCDOWELL MOUNTAIN ROAD","FOUNTAIN HILLS AZ 85268","() -","() -"]
["070298205","FOUNTAIN HILLS HIGH SCHOOL","16100 E. PALISADES BLVD.","FOUNTAIN HILLS AZ 85268","() -","() -"]
["070363000","AGUILA ELEMENTARY DISTRICT","P O BOX 218","AGUILA AZ 85320 0218","(928) 685-2222","(928) 685-2433"]
["070363101","AGUILA ELEMENTARY SCHOOL","P.O. BOX 218","AGUILA AZ 85320","() -","() -"]
["070371000","SENTINEL ELEMENTARY DISTRICT","HC-1 BOX 57","DATELAND AZ 85333","(928) 454-2474","(928) 454-2247"]
["070371101","SENTINEL ELEMENTARY SCHOOL","H.C 1 BOX 57","DATELAND AZ 85333","() -","() -"]
["070375000","MORRISTOWN ELEMENTARY DISTRICT","P O BOX 98","MORRISTOWN AZ 85342","(623) 546-5100","(623) 388-9368"]
["070375101","MORRISTOWN ELEMENTARY SCHOOL","P.O. BOX 98","MORRISTOWN AZ 85342","(623) 388-2336","(623) 388-9368"]
["070381000","NADABURG UNIFIED SCHOOL DISTRICT","32919 CENTER ST","WITTMANN AZ 85361","(623) 388-2321","(623) 388-2915"]
["070381101","NADABURG ELEMENTARY SCHOOL","21419 W. DOVE VALLEY ROAD","WITTMANN AZ 85361","() -","( ) -"]
["070381102","DESERT OASIS ELEMENTARY SCHOOL","32919 CENTER STREET","WITTMANN AZ 85361","() -","( ) -"]
["070386000","MOBILE ELEMENTARY DISTRICT","42798 S 99TH AVE","MARICOPA AZ 85139","(520) 568-2280","(520) 568-9361"]
["070386101","MOBILE ELEMENTARY SCHOOL","42798 SOUTH 99TH AVENUE","MARICOPA AZ 85139","() -","( ) -"]
["070394000","PALOMA SCHOOL DISTRICT","38739 W. I-8","GILA BEND AZ 85337","(928) 683-2588","(928) 683-2093"]
["070394001","KISER ELEMENTARY SCHOOL","38739 W. I-8","GILA BEND AZ 85337","(928) 683-2588","(928) 683-2093"]
["070401000","PHOENIX ELEMENTARY DISTRICT","1817 N 7TH ST","PHOENIX AZ 85006","(602) 257-3790","(602) 257-4014"]
["070401101","MARY MCLEOD BETHUNE SCHOOL","1310 S. 15TH AVE.","PHOENIX AZ 85007","(602) 257-3830","( ) -"]
["070401102","CAPITOL ELEMENTARY SCHOOL","330 N. 16TH AVE","PHOENIX AZ 85007","(602) 257-3835","( ) -"]
["070401104","PAUL DUNBAR LAWRENCE SCHOOL","707 W. GRANT","PHOENIX AZ 85006","(602) 257-3844","(602) 257-3874"]
["070401105","THOMAS A EDISON SCHOOL","804 N. 18TH STREET","PHOENIX AZ 85006","(602) 257-3867","( ) -"]
["070401106","RALPH WALDO EMERSON ELEMENTARY SCHOOL","915 E PALM LANE","PHOENIX AZ 85006","(602) 257-3853","(602) 257-3937"]
["070401108","GARFIELD SCHOOL","811 N 13TH STREET","PHOENIX AZ 85006","(602) 257-3863","(602) 257-4866"]
["070401109","MAGNET TRADITIONAL SCHOOL","2602 NORTH 23RD AVENUE","PHOENIX AZ 85009","(602) 257-6281","( ) -"]
["070401110","PHOENIX PREP ACADEMY","735 E FILLMORE","PHOENIX AZ 85006","(602) 257-4843","(602) 257-4852"]
["070401112","MAIE BARTLETT HEARD SCHOOL","2301 W THOMAS RD","PHOENIX AZ 85015","(602) 257-3880","( ) -"]
["070401113","SILVESTRE S HERRERA SCHOOL","1350 S. 11TH STREET","PHOENIX AZ 85034","(602) 257-3885","( ) -"]
["070401115","KENILWORTH ELEMENTARY SCHOOL","1210 N 5TH AVE","PHOENIX AZ 85003","(602) 257-3889","( ) -"]
["070401118","LOWELL ELEMENTARY SCHOOL","1121 SOUTH 3RD AVENUE","PHOENIX AZ 85003","(602) 257-3835","( ) -"]
["070401123","AUGUSTUS H SHAW JR SCHOOL","123 NORTH 13TH STREET","PHOENIX AZ 85034","(602) 257-3898","(602) 257-2954"]
["070401124","ACE ELEMENTARY - CLOSED","2301 W. THOMAS RD.","PHOENIX AZ 85015","() -","() -"]
["070401125","WHITTIER ELEMENTARY SCHOOL","2000 N. 16TH STREET","PHOENIX AZ 85006","(602) 257-3925","( ) -"]
["070401130","FAITH NORTH ELEMENTARY SCHOOL","910 E. WASHINGTON","PHOENIX AZ 85034","(602) 257-3914","( ) -"]
["070401131","ACE DAY & NIGHT SCHOOL - CLOSED","735 E FILLMORE ST.","PHOENIX AZ 85006","(602) 257-4843","(602) 257-4852"]
["070402000","RIVERSIDE ELEMENTARY DISTRICT","1414 S 51ST AVE","PHOENIX AZ 85043","(602) 477-8900","(602) 272-8378"]
["070402101","RIVERSIDE TRADITIONAL SCHOOL","1414 S 51ST AVE","PHOENIX AZ 85043","(602) 272-1339","(602) 272-6139"]
["070402102","KINGS RIDGE SCHOOL","3650 S. 64TH LANE","PHOENIX AZ 85043","(602) 477-8960","(623) 936-5531"]
["070403000","TEMPE SCHOOL DISTRICT","P O BOX 27708","TEMPE AZ 85285","(480) 730-7102","(480) 730-7177"]
["070403009","CITY OF TEMPE KID ZONE PRESCHOOL","3500 S. RURAL RD","TEMPE AZ 85296","(480) 897-7906","( ) -"]
["070403110","FRANK ELEMENTARY SCHOOL","8409 S AVENIDA DEL YAQUI","GUADALUPE AZ 85283","() -","() -"]
["070403111","CARMINATI SCHOOL","4001 S MCALLISTER AVE","TEMPE AZ 85282","() -","() -"]
["070403113","BROADMOR ELEMENTARY SCHOOL","311 E AEPLI DRIVE","TEMPE AZ 85282","(480) 967-6599","(480) 921-0814"]
["070403114","FLORA THEW ELEMENTARY SCHOOL","2130 E HOWE AVE","TEMPE AZ 85281","() -","() -"]
["070403115","HOLDEMAN ELEMENTARY SCHOOL","1326 WEST 18TH ST","TEMPE AZ 85281","() -","() -"]
["070403117","LAIRD ELEMENTARY SCHOOL","1500 N SCOVEL ST","TEMPE AZ 85281","() -","() -"]
["070403118","MEYER ELEMENTARY SCHOOL","2615 S. DORSEY LN.","TEMPE AZ 85282","() -","() -"]
["070403119","EVANS ELEMENTARY SCHOOL","4525 S COLLEGE AVE","TEMPE AZ 85282","() -","() -"]
["070403120","HUDSON ELEMENTARY SCHOOL","1325 E MALIBU DR","TEMPE AZ 85282","() -","() -"]
["070403121","SCALES TECHNOLOGY ACADEMY","1115 W 5TH ST","TEMPE AZ 85281","() -","() -"]
["070403122","CURRY ELEMENTARY SCHOOL","1974 EAST MEADOW DRIVE","TEMPE AZ 85282","() -","() -"]
["070403123","ARREDONDO ELEMENTARY SCHOOL","1330 E CARSON DR","TEMPE AZ 85282","() -","() -"]
["070403124","BUSTOZ SCHOOL","2020 EAST CARSON DRIVE","TEMPE AZ 85282 7484","() -","() -"]
["070403126","NEVITT ELEMENTARY SCHOOL","4525 E ST ANNE","PHOENIX AZ 85042 5359","() -","() -"]
["070403127","WOOD SCHOOL","727 W CORNELL DR","TEMPE AZ 85283","() -","() -"]
["070403128","AGUILAR SCHOOL","5800 S. FOREST AVE.","TEMPE AZ 85283","() -","() -"]
["070403129","ROVER ELEMENTARY SCHOOL","1300 E. WATSON DRIVE","TEMPE AZ 85283","(480) 897-7122","(480) 820-8503"]
["070403130","FULLER ELEMENTARY SCHOOL","1975 EAST CORNELL DRIVE","TEMPE AZ 85283","(480) 897-6228","( ) -"]
["070403142","MCKEMY MIDDLE SCHOOL","2250 S COLLEGE AVE","TEMPE AZ 85282","() -","() -"]
["070403143","GILILLAND MIDDLE SCHOOL","1025 S BECK AVE","TEMPE AZ 85281","() -","() -"]
["070403144","CONNOLLY MIDDLE SCHOOL","2002 EAST CONCORDA DRIVE","TEMPE AZ 85282","() -","() -"]
["070403145","FEES COLLEGE PREPARATORY MIDDLE SCHOOL","1600 E WATSON DR","TEMPE AZ 85283 3147","() -","() -"]
["070403160","INTERVENTION LEARNING PROGRAM","2228 SOUTH COUNTRY CLUB WAY","TEMPE AZ 85282","() -","(480) 894-5203"]
["070403161","WARD TRADITIONAL ACADEMY","1965 EAST HERMOSA DRIVE","TEMPE AZ 85282","() -","() -"]
["070403162","TEMPE ACADEMY OF INTERNATIONAL STUDIES MCKEMY CAMPUS","3205 SOUTH RURAL ROAD","TEMPE AZ 85285","(480) 730-7101","(480) 730-7191"]
["070403198","GETZ SCHOOL","625 W CORNELL DR","TEMPE AZ 85283","(480) 897-6233","(480) 838-0061"]
["070405000","ISAAC ELEMENTARY DISTRICT","3348 W MCDOWELL RD","PHOENIX AZ 85009","(602) 455-6700","(602) 278-1693"]
["070405101","ISAAC MIDDLE SCHOOL","3402 W. MCDOWELL ROAD","PHOENIX AZ 85009","(602) 455-6800","(602) 455-6868"]
["070405102","J B SUTTON ELEMENTARY SCHOOL","1001 N. 31ST AVENUE","PHOENIX AZ 85009","() -","() -"]
["070405103","ALTA E BUTLER SCHOOL","3843 W ROOSEVELT","PHOENIX AZ 85009","() -","() -"]
["070405104","P T COE ELEMENTARY SCHOOL","3801 WEST ROANOKE","PHOENIX AZ 85009","() -","() -"]
["070405105","JOSEPH ZITO ELEMENTARY SCHOOL","4525 WEST ENCANTO BLVD.","PHOENIX AZ 85035","() -","() -"]
["070405106","MITCHELL ELEMENTARY SCHOOL","1700 N. 41ST AVENUE","PHOENIX AZ 85009","() -","() -"]
["070405108","ESPERANZA ELEMENTARY SCHOOL","3025 W. MCDOWELL ROAD","PHOENIX AZ 85009","() -","() -"]
["070405109","BRET TARVER EDUCATION COMPLEX","3101 WEST MCDOWELL","PHOENIX AZ 85009","(602) 442-2900","(602) 442-2999"]
["070405111","PUEBLO DEL SOL MIDDLE SCHOOL","3449 N. 39TH AVE","PHOENIX AZ 85019","() -","() -"]
["070405112","MORRIS K. UDALL ESCUELA DE BELLAS ARTES","3715 W. ROOSEVELT STREET","PHOENIX AZ 85009","(602) 442-2700","(602) 442-2799"]
["070405114","MOYA ELEMENTARY","406 N 41ST AVE","PHOENIX AZ 85009","(602) 442-3100","(602) 442-3199"]
["070405115","LELA ALSTON ELEMENTARY","4006 W. OSBORN ROAD","PHOENIX AZ 85019","() -","() -"]
["070405116","CARL T. SMITH MIDDLE SCHOOL","4301 W FILLMORE","PHOENIX AZ 85043","() -","() -"]
["070405117","DAVID KAZAN FAMILY EDUCATIONAL CENTER","3348 WEST MCDOWELL ROAD","PHOENIX AZ 85009","() -","( ) -"]
["070406000","WASHINGTON ELEMENTARY SCHOOL DISTRICT","4650 W. SWEETWATER","GLENDALE AZ 85304","(602) 347-2600","(602) 347-2720"]
["070406114","ACACIA ELEMENTARY SCHOOL","3021 W. EVANS DR.","PHOENIX AZ 85053 5799","() -","() -"]
["070406116","ALTA VISTA ELEMENTARY SCHOOL","8710 N 31ST AVE","PHOENIX AZ 85051 3998","() -","() -"]
["070406118","ARROYO SCHOOL","4535 W CHOLLA","GLENDALE AZ 85304 3599","() -","() -"]
["070406120","CACTUS WREN ELEMENTARY SCHOOL","9650 N 39TH AVE","PHOENIX AZ 85051 3324","() -","() -"]
["070406122","CHAPARRAL ELEMENTARY SCHOOL","3808 W JOAN D`ARC","PHOENIX AZ 85029 1199","() -","() -"]
["070406124","CHOLLA MIDDLE SCHOOL","3120 W CHOLLA","PHOENIX AZ 85029 4199","() -","() -"]
["070406126","DESERT FOOTHILLS MIDDLE SCHOOL","3333 W BANFF","PHOENIX AZ 85053","(520) 896-5500","(520) 896-5520"]
["070406128","DESERT VIEW ELEMENTARY SCHOOL","8621 N. 3RD STREET","PHOENIX AZ 85020","(602) 347-4000","(602) 347-4020"]
["070406130","IRONWOOD ELEMENTARY SCHOOL","14850 N 39TH AVE","PHOENIX AZ 85053 4510","() -","() -"]
["070406131","JOHN JACOBS ELEMENTARY SCHOOL","14421 N 23RD AVE","PHOENIX AZ 85023 6099","() -","() -"]
["070406132","LAKEVIEW ELEMENTARY SCHOOL","3040 WEST YUCCA STREET","PHOENIX AZ 85029 3697","() -","() -"]
["070406134","LOOKOUT MOUNTAIN SCHOOL","15 W CORAL GABLES DR","PHOENIX AZ 85023 3697","() -","() -"]
["070406136","MANZANITA ELEMENTARY SCHOOL","8430 N 39TH AVE","PHOENIX AZ 85051 4799","() -","() -"]
["070406138","MARYLAND ELEMENTARY SCHOOL","6503 N 21ST AVE","PHOENIX AZ 85015","(602) 347-2300","(602) 347-2320"]
["070406140","MOON MOUNTAIN SCHOOL","13425 N 19TH AVE","PHOENIX AZ 85029 1698","() -","() -"]
["070406141","MOUNTAIN SKY MIDDLE SCHOOL","16225 N 7TH AVE","PHOENIX AZ 85023","() -","() -"]
["070406142","MOUNTAIN VIEW ELEMENTARY SCHOOL","801 W. PEORIA AVENUE","PHOENIX AZ 85029","(602) 347-4100","(602) 347-4120"]
["070406144","OCOTILLO SCHOOL","3225 W OCOTILLO RD","PHOENIX AZ 85017","() -","() -"]
["070406146","ORANGEWOOD ELEMENTARY SCHOOL","7337 N. 19TH AVENUE","PHOENIX AZ 85021","(602) 347-2900","(602) 347-2920"]
["070406148","PALO VERDE MIDDLE SCHOOL","7502 N 39TH AVE","PHOENIX AZ 85051","(602) 347-2500","(602) 347-2520"]
["070406150","RICHARD E MILLER SCHOOL","2021 WEST ALICE","PHOENIX AZ 85021 4299","() -","() -"]
["070406152","ROADRUNNER ELEMENTARY SCHOOL","7702 N. 39TH AVENUE","PHOENIX AZ 85051 6499","() -","() -"]
["070406154","ROYAL PALM MIDDLE SCHOOL","8520 N 19TH AVE","PHOENIX AZ 85021","(602) 347-3200","(602) 347-3220"]
["070406156","SAHUARO SCHOOL","12835 N 33RD AVE","PHOENIX AZ 85029","() -","() -"]
["070406160","SHAW BUTTE SCHOOL","12202 N. 21ST AVE.","PHOENIX AZ 85029","() -","() -"]
["070406162","SUNBURST SCHOOL","14218 N 47TH AVE","GLENDALE AZ 85306","() -","() -"]
["070406163","SWEETWATER SCHOOL","4602 W SWEETWATER","GLENDALE AZ 85304 1505","() -","() -"]
["070406164","SUNNYSLOPE ELEMENTARY SCHOOL","240 E. VOGEL AVENUE","PHOENIX AZ 85020","(602) 347-4300","(602) 347-4320"]
["070406165","SUNSET SCHOOL","4626 W MOUNTAIN VIEW RD","GLENDALE AZ 85302","() -","() -"]
["070406166","TUMBLEWEED ELEMENTARY SCHOOL","4001 W LAUREL LN","PHOENIX AZ 85029 3031","() -","() -"]
["070406167","ABRAHAM LINCOLN TRADITIONAL SCHOOL","10444 N 39TH AVENUE","PHOENIX AZ 85051 1179","() -","() -"]
["070406168","WASHINGTON ELEMENTARY SCHOOL","8033 N 27TH AVE","PHOENIX AZ 85051","() -","() -"]
["070407000","WILSON ELEMENTARY DISTRICT","3025 E FILLMORE ST","PHOENIX AZ 85008","(602) 681-2200","(602) 275-7517"]
["070407101","WILSON ELEMENTARY SCHOOL","2929 E FILLMORE ST","PHOENIX AZ 85008","() -","() -"]
["070407102","WILSON PRIMARY SCHOOL","415 N. 30TH STREET","PHOENIX AZ 85008","() -","() -"]
["070408000","OSBORN ELEMENTARY DISTRICT","1226 W OSBORN RD","PHOENIX AZ 85013 3618","(602) 707-2000","(602) 707-2040"]
["070408102","CLARENDON SCHOOL","1225 W. CLARENDON","PHOENIX AZ 85013","() -","() -"]
["070408103","ENCANTO SCHOOL","1426 W OSBORN ROAD","PHOENIX AZ 85013","() -","() -"]
["070408104","OSBORN MIDDLE SCHOOL","1102 W HIGHLAND STREET","PHOENIX AZ 85013","() -","() -"]
["070408105","MONTECITO COMMUNITY SCHOOL","715 E. MONTECITO","PHOENIX AZ 85014","() -","() -"]
["070408106","SOLANO SCHOOL","1526 WEST MISSOURI AVE","PHOENIX AZ 85015","() -","() -"]
["070408107","LONGVIEW ELEMENTARY SCHOOL","1209 EAST INDIAN SCHOOL ROAD","PHOENIX AZ 85014 4925","() -","() -"]
["070414000","CREIGHTON ELEMENTARY DISTRICT","2702 E FLOWER ST","PHOENIX AZ 85016","(602) 381-6000","(602) 381-6019"]
["070414099","COMPASS CENTER","3609 N. 27TH ST.","PHOENIX AZ 85016","(602) 381-4660","(602) 381-7269"]
["070414110","CREIGHTON ELEMENTARY SCHOOL","2802 E. MCDOWELL ROAAD","PHOENIX AZ 85008","() -","() -"]
["070414120","GATEWAY SCHOOL","1100 N 35TH ST","PHOENIX AZ 85008","() -","() -"]
["070414130","LARRY C KENNEDY SCHOOL","2702 E. OSBORN","PHOENIX AZ 85016","() -","() -"]
["070414140","LOMA LINDA ELEMENTARY SCHOOL","2002 E. CLARENDON AVENUE","PHOENIX AZ 85016","() -","() -"]
["070414150","WILLIAM T MACHAN ELEMENTARY SCHOOL","2140 E. VIRGINIA AVE.","PHOENIX AZ 85006","() -","() -"]
["070414160","MONTE VISTA ELEMENTARY SCHOOL","3501 E. OSBORN RD.","PHOENIX AZ 85018","() -","() -"]
["070414170","PAPAGO SCHOOL","2013 NORTH 36TH STREET","PHOENIX AZ 85008","(602) 381-6100","(602) 381-6118"]
["070414180","BILTMORE PREPARATORY ACADEMY","4601 N. 34TH STREET","PHOENIX AZ 85018","() -","() -"]
["070414190","EXCELENCIA SCHOOL","2181 EAST MCDOWELL ROAD","PHOENIX AZ 85006","() -","() -"]
["070417000","TOLLESON ELEMENTARY DISTRICT","9261 W VAN BUREN","TOLLESON AZ 85353","(623) 936-9740","(623) 936-1723"]
["070417101","PORFIRIO H. GONZALES ELEMENTARY SCHOOL","9401 W. GARFIELD ST.","TOLLESON AZ 85353","() -","( ) -"]
["070417102","ARIZONA DESERT ELEMENTARY SCHOOL","8803 W. VAN BUREN STREET","TOLLESON AZ 85353","() -","( ) -"]
["070417103","SHEELY FARMS ELEMENTARY SCHOOL","9450 W. ENCANTO","PHOENIX AZ 85037","() -","( ) -"]
["070417104","DESERT OASIS ELEMENTARY SCHOOL","9401 W. GARFIELD ST.","TOLLESON AZ 85353","(623) 533-3901","(623) 533-3902"]
["070421000","MURPHY ELEMENTARY DISTRICT","2615 W BUCKEYE RD.","PHOENIX AZ 85009","(602) 353-5002","(602) 353-5081"]
["070421101","ARTHUR M HAMILTON SCHOOL","2020 W. DURANGO STREET","PHOENIX AZ 85009","() -","() -"]
["070421102","JACK L KUBAN ELEMENTARY SCHOOL","3201 WEST SHERMAN ST.","PHOENIX AZ 85009","() -","() -"]
["070421103","WILLIAM R SULLIVAN ELEMENTARY SCHOOL","2 N. 31 AVE.","PHOENIX AZ 85009","() -","() -"]
["070421104","ALFRED F GARCIA SCHOOL","1441 S. 27TH AVE","PHOENIX AZ 85009","() -","() -"]
["070425000","LIBERTY ELEMENTARY DISTRICT","19871 W. FREMONT RD.","BUCKEYE AZ 85326","(623) 474-6600","(623) 474-6629"]
["070425101","LIBERTY ELEMENTARY SCHOOL","19818 W HWY 85","BUCKEYE AZ 85326","(623) 327-2810","(623) 327-2819"]
["070425102","ESTRELLA MOUNTAIN ELEMENTARY SCHOOL","10301 S SAN MIGUEL","GOODYEAR AZ 85338","() -","() -"]
["070425103","RAINBOW VALLEY ELEMENTARY SCHOOL","19716 W. NARRAMORE ROAD","BUCKEYE AZ 85326","() -","() -"]
["070425104","WESTAR ELEMENTARY SCHOOL","19818 W. HWY 85","BUCKEYE AZ 85326","() -","() -"]
["070425105","FREEDOM ELEMENTARY SCHOOL","22150 W. SUNDANCE PARKWAY","BUCKEYE AZ 85326","() -","( ) -"]
["070428000","KYRENE ELEMENTARY DISTRICT","8700 S KYRENE ROAD","TEMPE AZ 85284","(480) 541-1000","(480) 541-1802"]
["070428136","KYRENE APRENDE MIDDLE SCHOOL","777 N. DESERT BREEZE BLVD. EAST","CHANDLER AZ 85226","() -","() -"]
["070428137","KYRENE ALTADENA MIDDLE SCHOOL","14620 S. DESERT FOOTHILLS BLVD.","PHOENIX AZ 85048","() -","() -"]
["070428138","KYRENE AKIMEL A-AL MIDDLE SCHOOL","2720 EAST LIBERTY LANE","PHOENIX AZ 85048","() -","() -"]
["070428139","KYRENE CENTENNIAL MIDDLE SCHOOL","13808 S. 36TH STREET","PHOENIX AZ 85044","() -","() -"]
["070428140","KYRENE DEL PUEBLO MIDDLE SCHOOL","360 S. TWELVE OAKS BLVD.","CHANDLER AZ 85226","() -","() -"]
["070428141","KYRENE MIDDLE SCHOOL","1050 EAST CARVER ROAD","TEMPE AZ 85284","(480) 783-1000","(480) 831-0169"]
["070428142","C I WAGGONER SCHOOL","1050 E CARVER RD","TEMPE AZ 85284","() -","() -"]
["070428143","KYRENE DEL NORTE SCHOOL","1331 EAST REDFIELD ROAD","TEMPE AZ 85283","() -","() -"]
["070428144","KYRENE DE LAS LOMAS SCHOOL","11820 S. WARNER ELLIOT LOOP","PHOENIX AZ 85044","() -","() -"]
["070428145","KYRENE DE LOS NINOS SCHOOL","1330 E. DAVA DR.","TEMPE AZ 85283","() -","() -"]
["070428146","KYRENE DEL CIELO SCHOOL","1350 N. LAKESHORE DR.","CHANDLER AZ 85226","() -","() -"]
["070428147","KYRENE DE LA PALOMA SCHOOL","5000 WEST WHITTEN","CHANDLER AZ 85226 4521","() -","() -"]
["070428148","KYRENE DE LA COLINA SCHOOL","13612 S. 36TH STREET","PHOENIX AZ 85044","() -","() -"]
["070428149","KYRENE TRADITIONAL ACADEMY AT SURENO","3375 W. GALVESTON RD.","CHANDLER AZ 85226","() -","() -"]
["070428150","KYRENE DE LA MARIPOSA SCHOOL","50 E. KNOX ROAD","TEMPE AZ 85284","() -","() -"]
["070428151","KYRENE DE LOS LAGOS SCHOOL","17001 S 34TH WAY","PHOENIX AZ 85048 7806","() -","() -"]
["070428152","KYRENE MONTE VISTA SCHOOL","15221 S RAY RD","PHOENIX AZ 85048","(480) 541-4400","(480) 541-4410"]
["070428153","KYRENE DE LA SIERRA SCHOOL","1122 E LIBERTY LANE","PHOENIX AZ 85048 8426","() -","() -"]
["070428154","KYRENE DE LA MIRADA SCHOOL","5500 W GALVESTON STREET","CHANDLER AZ 85226","() -","() -"]
["070428155","KYRENE DE LA ESPERANZA SCHOOL","14841 S. 41ST PLACE","PHOENIX AZ 85044","() -","() -"]
["070428156","KYRENE DE LAS BRISAS SCHOOL","777 N. DESERT BREEZE BLVD. E. #1","CHANDLER AZ 85226","() -","() -"]
["070428157","KYRENE DE LOS CERRITOS SCHOOL","14620 S. DESERT FOOTHILLS PKWY, BLDG. #3","PHOENIX AZ 85048","() -","() -"]
["070428158","KYRENE DE LA ESTRELLA ELEMENTARY SCHOOL","2620 E. LIBERTY LANE","PHOENIX AZ 85048","() -","() -"]
["070428159","KYRENE DE LAS MANITAS SCHOOL","1201 W COURTNEY LANE","TEMPE AZ 85284","() -","() -"]
["070428160","KYRENE DEL MILENIO","4630 E. FRYE ROAD","PHOENIX AZ 85048","() -","() -"]
["070428170","CASA VIDA","13612 SOUTH 36TH STREET","PHOENIX AZ 85044","() -","( ) -"]
["070431000","BALSZ ELEMENTARY DISTRICT","4825 E. ROOSEVELT","PHOENIX AZ 85008","(602) 629-6400","(602) 629-6470"]
["070431101","BALSZ SCHOOL","4309 E BELLEVIEW ST.","PHOENIX AZ 85008","() -","() -"]
["070431102","DAVID CROCKETT SCHOOL","501 N 36TH STREET","PHOENIX AZ 85008","() -","() -"]
["070431103","GRIFFITH ELEMENTARY SCHOOL","4505 E PALM LANE","PHOENIX AZ 85008","() -","() -"]
["070431104","ORANGEDALE JUNIOR HIGH PREP ACADEMY","5048 E. OAK ST","PHOENIX AZ 85008","(602) 629-6800","(602) 629-6804"]
["070431105","BRUNSON-LEE ELEMENTARY SCHOOL","1350 N. 48TH STREET","PHOENIX AZ 85008","() -","() -"]
["070433000","BUCKEYE ELEMENTARY DISTRICT","25555 WEST DURANGO STREET","BUCKEYE AZ 85326","(623) 925-3400","(623) 386-6063"]
["070433102","BALES ELEMENTARY SCHOOL","210 S. 6TH STREET","BUCKEYE AZ 85326","(623) 847-8503","(623) 386-6063"]
["070433103","WESTPARK ELEMENTARY SCHOOL","210 S. 6TH STREET","BUCKEYE AZ 85326","() -","( ) -"]
["070433104","STEVEN R. JASINSKI ELEMENTARY SCHOOL","210 S. 6TH STREET","BUCKEYE AZ 85326","() -","( ) -"]
["070433105","SUNDANCE ELEMENTARY","23800 WEST HADLEY","BUCKEYE AZ 85326","() -","() -"]
["070433107","INCA ELEMENTARY SCHOOL","25555 WEST DURANGO STREET","BUCKEYE AZ 85326","() -","( ) -"]
["070433108","BUCKEYE PRIMARY","210 SOUTH SIXTH STREET","BUCKEYE AZ 85326","() -","() -"]
["070433109","BUCKEYE ELEMENTARY SCHOOL","25555 W DURANGO","BUCKEYE AZ 85326","() -","( ) -"]
["070438000","MADISON ELEMENTARY DISTRICT","5601 N 16TH ST","PHOENIX AZ 85016","(602) 664-7900","(602) 664-7999"]
["070438110","MADISON #1 ELEMENTARY SCHOOL","5525 N 16TH STREET","PHOENIX AZ 85016","() -","() -"]
["070438111","MADISON TRADITIONAL ACADEMY","925 E. MARYLAND AVE","PHOENIX AZ 85014","(602) 745-4001","(602) 745-4099"]
["070438120","MADISON CAMELVIEW ELEMENTARY","2002 E. CAMPBELL","PHOENIX AZ 85016","(602) 664-7200","(602) 664-7299"]
["070438130","MADISON RICHARD SIMIS SCHOOL","7302 N 10TH STREET","PHOENIX AZ 85020 5327","() -","() -"]
["070438140","MADISON ROSE LANE SCHOOL","1155 E. ROSE LANE","PHOENIX AZ 85014 1600","() -","() -"]
["070438150","MADISON PARK SCHOOL","1431 E. CAMPBELL","PHOENIX AZ 85014","() -","() -"]
["070438160","MADISON MEADOWS SCHOOL","225 W OCOTILLO RD","PHOENIX AZ 85013 1299","() -","() -"]
["070438180","MADISON HEIGHTS ELEMENTARY SCHOOL","7150 N 22ND STREET","PHOENIX AZ 85020","(602) 664-7800","(602) 664-7899"]
["070440000","GLENDALE ELEMENTARY DISTRICT","7301 N 58TH AVE","GLENDALE AZ 85301","(623) 237-4000","(623) 237-7291"]
["070440101","GLENDALE LANDMARK MIDDLE SCHOOL","5730 WEST MYRTLE AVENUE","GLENDALE AZ 85301","() -","() -"]
["070440102","ISAAC E IMES SCHOOL","6625 N 56TH AVE","GLENDALE AZ 85301","() -","() -"]
["070440103","HAROLD W SMITH SCHOOL","6534 N 63RD AVE","GLENDALE AZ 85301","() -","() -"]
["070440104","MELVIN E SINE SCHOOL","4932 WEST MYRTLE","GLENDALE AZ 85301","() -","() -"]
["070440105","WILLIAM C JACK SCHOOL","6600 WEST MISSOURI AVENUE","GLENDALE AZ 85301 5541","() -","() -"]
["070440106","DON MENSENDICK SCHOOL","5535 N 67TH AVE","GLENDALE AZ 85301","() -","() -"]
["070440107","GLENN F BURTON SCHOOL","4801 W MARYLAND AVE","GLENDALE AZ 85301","() -","() -"]
["070440108","GLENDALE AMERICAN SCHOOL","8530 N 55TH AVE","GLENDALE AZ 85302","() -","() -"]
["070440109","BICENTENNIAL NORTH SCHOOL","7237 W MISSOURI AVENUE","GLENDALE AZ 85303","() -","() -"]
["070440110","HORIZON SCHOOL","8520 N. 47TH AVE","GLENDALE AZ 85302","() -","() -"]
["070440111","CHALLENGER MIDDLE SCHOOL","6905 W. MARYLAND AVE","GLENDALE AZ 85303 3600","() -","() -"]
["070440112","BICENTENNIAL SOUTH SCHOOL","7240 W COLTER ST","GLENDALE AZ 85303","() -","() -"]
["070440113","DISCOVERY SCHOOL","7910 W MARYLAND AVE","GLENDALE AZ 85303","() -","() -"]
["070440114","DESERT GARDEN ELEMENTARY SCHOOL","7020 W. OCOTILLO ROAD","GLENDALE AZ 85303","(623) 237-5401","(623) 237-5415"]
["070440115","COYOTE RIDGE","7677 W. BETHANY","GLENDALE AZ 85303","() -","() -"]
["070440116","DESERT SPIRIT","7355 W. ORANGEWOOD","GLENDALE AZ 85303","() -","() -"]
["070440117","SUNSET VISTA","7775 W ORANGEWOOD AVENUE","GLENDALE AZ 85303","() -","() -"]
["070444000","AVONDALE ELEMENTARY DISTRICT","295 W WESTERN AVE","AVONDALE AZ 85323","(623) 772-5000","(623) 772-5001"]
["070444102","MICHAEL ANDERSON","45 S. THIRD AVE.","AVONDALE AZ 85323","(623) 772-5100","(623) 772-5120"]
["070444103","ELISEO C. FELIX SCHOOL","540 E. LA PASADA","GOODYEAR AZ 85338","(623) 772-4300","(623) 772-4320"]
["070444104","LATTIE COOR","1406 N. CENTRAL AVENUE","AVONDALE AZ 85323","(623) 772-4500","(623) 772-4520"]
["070444106","WILDFLOWER SCHOOL","325 S. WILDFLOWER DRIVE","GOODYEAR AZ 85338","(623) 772-5200","(623) 772-5220"]
["070444107","DESERT STAR","2131 SOUTH 157TH AVENUE","GOODYEAR AZ 85338","() -","() -"]
["070444108","DESERT THUNDER","16750 W. GARFIELD DRIVE","GOODYEAR AZ 85338","(623) 772-4700","(623) 774-4720"]
["070444110","COPPER TRAILS","16875 WEST CANYON TRAILS BLVD.","GOODYEAR AZ 85338","(623) 772-4100","(623) 772-4120"]
["070444111","CENTERRA MIRAGE","15151 WEST CENTERRA DRIVE SOUTH","GOODYEAR AZ 85338","() -","( ) -"]
["070444112","AVONDALE MIDDLE SCHOOL","1406 N. CENTRAL AVENUE","AVONDALE AZ 85323","(623) 772-7700","(623) 772-4420"]
["070445000","FOWLER ELEMENTARY DISTRICT","1617 S 67TH AVE","PHOENIX AZ 85043","(623) 707-4500","(623) 707-4560"]
["070445101","FOWLER ELEMENTARY SCHOOL","6707 WEST VAN BUREN STREET","PHOENIX AZ 85043","(623) 707-2500","(623) 707-4680"]
["070445102","SUNRIDGE ELEMENTARY SCHOOL","6244 W ROOSEVELT ST","PHOENIX AZ 85043","(623) 707-4600","( ) -"]
["070445103","SANTA MARIA MIDDLE SCHOOL","7250 W. LOWER BUCKEYE ROAD","PHOENIX AZ 85043","(623) 707-1000","(623) 707-1110"]
["070445104","SUN CANYON SCHOOL","8150 W. DURANGO","PHOENIX AZ 85043","(623) 707-2000","( ) -"]
["070445105","WESTERN VALLEY ELEMENTARY SCHOOL","6250 W. DURANGO","PHOENIX AZ 85043","(623) 707-2100","( ) -"]
["070445106","WESTERN VALLEY MIDDLE SCHOOL","6250 WEST DURANGO","PHOENIX AZ 85043","(623) 707-2200","( ) -"]
["070445107","TUSCANO ELEMENTARY SCHOOL","3850 S 79TH AVE","PHOENIX AZ 85043","(623) 707-2300","( ) -"]
["070447000","ARLINGTON ELEMENTARY DISTRICT","9410 S 355TH AVE","ARLINGTON AZ 85322","(623) 386-2031","(623) 386-1627"]
["070447101","ARLINGTON ELEMENTARY SCHOOL","9410 S. 355TH AVE","ARLINGTON AZ 85322","() -","() -"]
["070449000","PALO VERDE ELEMENTARY DISTRICT","P O BOX 108","PALO VERDE AZ 85343","(623) 327-3690","(623) 327-3695"]
["070449101","PALO VERDE ELEMENTARY SCHOOL","P.O. BOX 108","PALO VERDE AZ 85343","() -","() -"]
["070459000","LAVEEN ELEMENTARY DISTRICT","5001 W. DOBBINS ROAD","LAVEEN AZ 85339","(602) 237-9100","(602) 237-9135"]
["070459101","LAVEEN ELEMENTARY SCHOOL","5001 W. DOBBINS ROAD","LAVEEN AZ 85339","(602) 237-9110","(602) 237-9134"]
["070459102","MAURICE C. CASH ELEMENTARY SCHOOL","3851 W. ROESER ROAD","PHOENIX AZ 85041","(602) 237-9120","(602) 237-9133"]
["070459103","VISTA DEL SUR TRADITIONAL SCHOOL","3908 W. SOUTH MOUNTAIN AVE","LAVEEN AZ 85339","(602) 237-3046","(602) 237-1976"]
["070459104","CHEATHAM ELEMENTARY SCHOOL","4725 W. SOUTH MOUNTAIN WAY","LAVEEN AZ 85339","(602) 237-7040","(602) 237-3376"]
["070459105","TRAILSIDE POINT ELEMENTARY","7275 W. VINEYARD ROAD","LAVEEN AZ 85339","(602) 605-8540","(602) 605-8545"]
["070459106","DESERT MEADOWS ELEMENTARY SCHOOL","6855 W. MEADOWS LOOP EAST","LAVEEN AZ 85339","(602) 304-2020","(602) 304-2025"]
["070459107","ROGERS RANCH SCHOOL","6735 S. 47TH AVENUE","LAVEEN AZ 85339","(602) 304-2030","(602) 304-2035"]
["070462000","UNION ELEMENTARY DISTRICT","3834 S. 91ST AVE","TOLLESON AZ 85353","(623) 478-5005","(623) 478-5006"]
["070462101","UNION ELEMENTARY SCHOOL","3834 S. 91ST AVE.","TOLLESON AZ 85353","() -","() -"]
["070462102","HURLEY RANCH ELEMENTARY","8950 W. ILLINI ST.","TOLLESON AZ 85353","() -","() -"]
["070462103","DOS RIOS ELEMENTARY","2150 S. 87TH AVENUE","TOLLESON AZ 85353","(623) 474-7000","( ) -"]
["070465000","LITTLETON ELEMENTARY DISTRICT","P. O. BOX 280","CASHION AZ 85329","(623) 478-5600","(623) 478-5625"]
["070465101","LITTLETON ELEMENTARY SCHOOL","1252 S. AVONDALE BLVD.","AVONDALE AZ 85323","() -","( ) -"]
["070465102","UNDERDOWN JUNIOR HIGH SCHOOL","1252 S. AVONDALE BLVD.","AVONDALE AZ 85323","() -","( ) -"]
["070465104","COLLIER ELEMENTARY SCHOOL","1252 S. AVONDALE BLVD.","AVONDALE AZ 85323","() -","( ) -"]
["070465105","QUENTIN ELEMENTARY SCHOOL","1252 S. AVONDALE BLVD.","AVONDALE AZ 85323","() -","( ) -"]
["070465106","COUNTRY PLACE ELEMENTARY","1252 S. AVONDALE BLVD.","AVONDALE AZ 85353","() -","( ) -"]
["070465107","ESTRELLA VISTA ELEMENTARY SCHOOL","1252 S. AVONDALE BLVD.","AVONDALE AZ 85323","() -","( ) -"]
["070465108","TRES RIOS ELEMENTARY SCHOOL","5025 S. 103RD AVENUE","TOLLESON AZ 85353","(623) 478-6300","(623) 478-6320"]
["070466000","ROOSEVELT ELEMENTARY DISTRICT","6000 S 7TH ST","PHOENIX AZ 85042 4294","(602) 243-4800","(602) 243-2637"]
["070466002","CESAR E CHAVEZ COMMUNITY SCHOOL","4001 SOUTH THIRD STREET","PHOENIX AZ 85040","() -","() -"]
["070466003","PERCY L JULIAN SCHOOL","2149 E CARVER DRIVE","PHOENIX AZ 85040","() -","() -"]
["070466004","SUNLAND ELEMENTARY SCHOOL","5401 S. 7TH AVE.","PHOENIX AZ 85041","() -","() -"]
["070466005","SIERRA VISTA ELEMENTARY SCHOOL","6401 S 16TH ST","PHOENIX AZ 85040","() -","() -"]
["070466006","VALLEY VIEW SCHOOL","8220 S 7TH AVE","PHOENIX AZ 85041","() -","() -"]
["070466007","C J JORGENSEN SCHOOL","1701 W ROESER RD","PHOENIX AZ 85041 3899","() -","() -"]
["070466008","BROOKS ACADEMY","3146 EAST WIER AVENUE","PHOENIX AZ 85040 2754","() -","() -"]
["070466009","ROSE LINDA SCHOOL","4610 S 12TH ST","PHOENIX AZ 85040","() -","() -"]
["070466011","MARTIN LUTHER KING JR ELEMENTARY SCHOOL","4615 S. 22ND ST.","PHOENIX AZ 85040","() -","() -"]
["070466012","T G BARR SCHOOL","2041 EAST VINEYARD","PHOENIX AZ 85042","() -","() -"]
["070466013","V H LASSEN ELEMENTARY SCHOOL","909 W VINEYARD","PHOENIX AZ 85041","() -","() -"]
["070466014","JOHN F KENNEDY ELEMENTARY SCHOOL","6825 SOUTH 10TH STREET","PHOENIX AZ 85042","() -","() -"]
["070466015","AMY L. HOUSTON ACADEMY","7139 S 10TH ST","PHOENIX AZ 85042","() -","() -"]
["070466016","C O GREENFIELD SCHOOL","7009 S 10TH ST","PHOENIX AZ 85042 5520","() -","() -"]
["070466017","IGNACIO CONCHOS SCHOOL","1718 W. VINEYARD RD.","PHOENIX AZ 85041","() -","() -"]
["070466018","JOHN R DAVIS SCHOOL","6209 S 15TH AVE","PHOENIX AZ 85041","() -","() -"]
["070466019","MAXINE O BUSH ELEMENTARY SCHOOL","602 E SIESTA DRIVE","PHOENIX AZ 85042","() -","() -"]
["070466020","SOUTHWEST ELEMENTARY SCHOOL","1111 W. DOBBINS ROAD","PHOENIX AZ 85041","() -","() -"]
["070466021","ED & VERMA PASTOR ELEMENTARY SCHOOL","2101 WEST ALTA VISTA","PHOENIX AZ 85041","() -","() -"]
["070466022","CLOVES C CAMPBELL SR ELEMENTARY SCHOOL","2624 EAST SOUTH MOUNTAIN AVENUE","PHOENIX AZ 85042","() -","() -"]
["070466024","BERNARD BLACK ELEMENTARY SCHOOL","6550 S. 27TH AVENUE","PHOENIX AZ 85041","() -","() -"]
["070468000","ALHAMBRA ELEMENTARY DISTRICT","4510 N 37TH AVE","PHOENIX AZ 85019","(602) 336-2920","(602) 336-2270"]
["070468101","ALHAMBRA TRADITIONAL SCHOOL","3736 W OSBORN RD","PHOENIX AZ 85019","(602) 484-8816","(602) 484-8952"]
["070468102","ANDALUCIA MIDDLE SCHOOL","4730 W. CAMPBELL","PHOENIX AZ 85031","(623) 848-8646","(623) 846-6044"]
["070468103","JAMES W. RICE PRIMARY SCHOOL","4530 W. CAMPBELL AVE.","PHOENIX AZ 85031","(623) 848-8420","(623) 848-1998"]
["070468104","BARCELONA MIDDLE SCHOOL","6130 N. 44TH AVE.","GLENDALE AZ 85301","(623) 842-8616","(623) 842-1384"]
["070468105","CAROL G. PECK ELEMENTARY SCHOOL","5810 N. 49TH AVE.","GLENDALE AZ 85301","(623) 842-3889","(623) 847-7151"]
["070468106","CATALINA VENTURA SCHOOL","6331 W. 39TH AVE.","PHOENIX AZ 85019","(602) 841-7445","(602) 841-6892"]
["070468107","CORDOVA MIDDLE SCHOOL","5631 N. 35TH AVE.","PHOENIX AZ 85017","(602) 841-0704","(602) 973-8416"]
["070468108","CORDOVA PRIMARY SCHOOL","6615 N. 39TH AVE.","PHOENIX AZ 85019","(602) 242-5828","(602) 973-8416"]
["070468109","GRANADA EAST SCHOOL","3022 W CAMPBELL","PHOENIX AZ 85017","(602) 589-0110","(602) 589-0140"]
["070468110","GRANADA PRIMARY SCHOOL","3232 W. CAMPBELL","PHOENIX AZ 85017","(602) 841-1403","(602) 973-8438"]
["070468111","MONTEBELLO SCHOOL","5725 N 27TH AVENUE","PHOENIX AZ 85017","(602) 336-2000","(602) 249-7233"]
["070468112","SEVILLA PRIMARY SCHOOL","3801 W. MISSOURI","PHOENIX AZ 85019","(602) 242-0281","(602) 242-2791"]
["070468113","R E SIMPSON SCHOOL","5330 N 23RD AVE","PHOENIX AZ 85015","(602) 246-0699","(602) 246-4305"]
["070468114","WESTWOOD PRIMARY SCHOOL","4711 N. 23RD AVE.","PHOENIX AZ 85015","(602) 242-2442","(602) 242-2514"]
["070468115","SEVILLA WEST SCHOOL","3851 W. MISSOURI AVE.","PHOENIX AZ 85019","(602) 347-0232","(602) 347-9906"]
["070479000","LITCHFIELD ELEMENTARY DISTRICT","272 E. SAGEBRUSH","LITCHFIELD PARK AZ 85340","() -","( ) -"]
["070479101","LITCHFIELD ELEMENTARY SCHOOL","272 EAST SAGEBRUSH STREET","LITCHFIELD PARK AZ 85340","() -","( ) -"]
["070479102","SCOTT L LIBBY ELEMENTARY SCHOOL","272 E. SAGEBRUSH ST.","LITCHFIELD PARK AZ 85340","() -","( ) -"]
["070479103","WESTERN SKY MIDDLE SCHOOL","272 E. SAGEBRUSH ST.","LITCHFIELD PARK AZ 85340","() -","( ) -"]
["070479104","PALM VALLEY ELEMENTARY","272 E. SAGEBRUSH ST.","LITCHFIELD PARK AZ 85395","() -","( ) -"]
["070479105","RANCHO SANTA FE ELEMENTARY SCHOOL","272 E. SAGEBRUSH ST.","LITCHFIELD PARK AZ 85340","() -","( ) -"]
["070479106","WHITE TANKS LEARNING CENTER","272 E. SAGEBRUSH ST.","LITCHFIELD PARK AZ 85340","() -","( ) -"]
["070479107","WIGWAM CREEK MIDDLE SCHOOL","272 E. SAGEBRUSH ST.","LITCHFIELD PARK AZ 85340","() -","( ) -"]
["070479108","CORTE SIERRA ELEMENTARY SCHOOL","272 EAST SAGEBRUSH STREET","LITCHFIELD PARK AZ 85340","() -","( ) -"]
["070479109","DREAMING SUMMIT ELEMENTARY","272 EAST SAGEBRUSH STREET","LITCHFIELD AZ 85340","(623) 547-1200","( ) -"]
["070479110","VERRADO MIDDLE SCHOOL","272 E. SAGEBRUSH ST.","LITCHFIELD PARK AZ 85340","() -","( ) -"]
["070479111","BARBARA B. ROBEY ELEMENTARY SCHOOL","272 EAST SAGEBRUSH STREET","LITCHFIELD PARK AZ 85340","() -","( ) -"]
["070479112","L. THOMAS HECK MIDDLE SCHOOL","272 EAST SAGEBRUSH STREET","LITCHFIELD PARK AZ 85340","() -","( ) -"]
["070479113","VERRADO ELEMENTARY SCHOOL","272 E. SAGEBRUSH ST.","LITCHFIELD PARK AZ 85340","(623) 547-1600","( ) -"]
["070479114","MABEL PADGETT ELEMENTARY SCHOOL","272 E. SAGEBRUSH ST.","LITCHFIELD PARK AZ 85340","() -","( ) -"]
["070483000","CARTWRIGHT ELEMENTARY DISTRICT","3401 N 67TH AVE","PHOENIX AZ 85033","(623) 691-4000","(623) 691-5920"]
["070483101","CARTWRIGHT SCHOOL","2825 N. 59TH AVENUE","PHOENIX AZ 85031","(623) 691-4100","(623) 691-4120"]
["070483102","GLENN L. DOWNS SCHOOL","3611 N 47TH AVE","PHOENIX AZ 85031","(623) 691-4211","( ) -"]
["070483103","JOHN F. LONG","4407 NORTH 55TH. AVENUE","PHOENIX AZ 85031","() -","( ) -"]
["070483104","JUSTINE SPITALNY SCHOOL","3201 N 46TH DR.","PHOENIX AZ 85031","(623) 691-4400","(623) 691-4420"]
["070483105","HOLIDAY PARK SCHOOL","4417 N. 66TH AVE.","PHOENIX AZ 85033","(623) 691-4500","(623) 691-4520"]
["070483106","SUNSET SCHOOL","6602 W. OSBORN ROAD","PHOENIX AZ 85033","() -","( ) -"]
["070483107","STARLIGHT PARK SCHOOL","7960 W. OSBORN RD.","PHOENIX AZ 85033","(623) 691-4700","(623) 691-4720"]
["070483108","CHARLES W. HARRIS SCHOOL","2252 NORTH 55TH AVENUE","PHOENIX AZ 85035","(623) 691-4800","( ) -"]
["070483109","DESERT SANDS MIDDLE SCHOOL","6308 W CAMPBELL AVE","PHOENIX AZ 85033","() -","() -"]
["070483110","FRANK BORMAN SCHOOL","3637 N. 55TH AVE.","PHOENIX AZ 85033","() -","() -"]
["070483111","CARTWRIGHT EARLY CHILDHOOD CENTER - CLOSED","5480 W CAMPBELL","PHOENIX AZ 85031","(623) 691-5100","(623) 691-5120"]
["070483112","HEATHERBRAE SCHOOL","7070 WEST HEATHERBRAE DRIVE","PHOENIX AZ 85033","(623) 691-5200","(623) 691-5220"]
["070483113","PALM LANE NORTH - CLOSED","6339 W MONTE VISTA RD","PHOENIX AZ 85035 3429","(623) 691-5300","(623) 691-5320"]
["070483114","ESTRELLA MIDDLE SCHOOL","3733 N 75TH AVE","PHOENIX AZ 85033","() -","() -"]
["070483115","PALM LANE","2043 N. 64TH DR.","PHOENIX AZ 85035","() -","() -"]
["070483116","PERALTA SCHOOL","7125 W. ENCANTO BLVD.","PHOENIX AZ 85035","() -","() -"]
["070483117","BYRON A. BARRY SCHOOL - CLOSED","2533 N. 60TH AVE.","PHOENIX AZ 85035","() -","( ) -"]
["070483118","TOMAHAWK SCHOOL","7820 WEST TURNEY AVENUE","PHOENIX AZ 85033","() -","( ) -"]
["070483119","FLOR DEL SOL - CLOSED","3818 N. 67TH AVE","PHOENIX AZ 85033","() -","() -"]
["070483120","G. FRANK DAVIDSON","6935 W. OSBORN RD","PHOENIX AZ 85033","() -","() -"]
["070483121","MARC T. ATKINSON MIDDLE SCHOOL","4315 N. MARYVALE PKWY.","PHOENIX AZ 85031","() -","() -"]
["070483122","BRET R. TARVER","4308 N 51ST AVENUE SUITE 102","PHOENIX AZ 85031","() -","() -"]
["070483123","MANUEL PENA JR. SCHOOL","2550 N. 79TH AVENUE","PHOENIX AZ 85035","() -","() -"]
["070483129","RAUL H. CASTRO MIDDLE SCHOOL","2730 N. 79TH AVENUE","PHOENIX AZ 85035","(623) 691-5300","(623) 691-5320"]
["070492000","PENDERGAST ELEMENTARY DISTRICT","3802 N 91ST AVE","PHOENIX AZ 85037","(623) 772-2215","(623) 877-3717"]
["070492010","PENDERGAST PRIVATE ALTERNATIVE SCHOOL","3841 NORTH 91ST AVENUE","PHOENIX AZ 85037","(623) 772-2340","(623) 877-1028"]
["070492011","CALDERWOOD ALTERNATIVE SCHOOL","10730 WEST CAMPBELL AVENUE","PHOENIX AZ 85037","() -","( ) -"]
["070492012","PENDERGAST ELEMENTARY SCHOOL","3802 NORTH 91ST AVENUE","PHOENIX AZ 85037","() -","( ) -"]
["070492013","DESERT HORIZON ELEMENTARY SCHOOL","8525 WEST OSBORN ROAD","PHOENIX AZ 85037","() -","( ) -"]
["070492014","WESTWIND INTERMEDIATE SCHOOL - CLOSED","9040A WEST CAMPBELL AVE","PHOENIX AZ 85037","() -","() -"]
["070492015","VILLA DE PAZ ELEMENTARY SCHOOL","4940 NORTH 103RD AVENUE","PHOENIX AZ 85037","() -","( ) -"]
["070492016","GARDEN LAKES ELEMENTARY SCHOOL","10825 W. GARDEN LAKES PARKWAY","AVONDALE AZ 85323","() -","( ) -"]
["070492017","DESERT MIRAGE ELEMENTARY SCHOOL","8605 W. MARYLAND AVENUE","GLENDALE AZ 85305","() -","( ) -"]
["070492018","COPPER KING ELEMENTARY","10730 W.CAMPBELL","PHOENIX AZ 85037","() -","( ) -"]
["070492019","CANYON BREEZE ELEMENTARY","11675 W. ENCANTO BLVD","AVONDALE AZ 85323","() -","( ) -"]
["070492020","SONORAN SKY ELEMENTARY SCHOOL","10150 W. MISSOURI AVE.","GLENDALE AZ 85307","() -","( ) -"]
["070492021","RIO VISTA ELEMENTARY","10237 W ENCANTO BLVD","AVONDALE AZ 85323","() -","( ) -"]
["070492022","SUNSET RIDGE ELEMENTARY SCHOOL","8490 W. MISSOURI AVE.","GLENDALE AZ 85305","() -","( ) -"]
["070492023","WESTWIND ELEMENTARY SCHOOL","3802 N 91ST AVE","PHOENIX AZ 85037","(623) 772-2700","(623) 772-8464"]
["070492024","AMBERLEA ELEMENTARY SCHOOL","8455 WEST VIRGINIA AVENUE","PHOENIX AZ 85037","() -","( ) -"]
["070501000","BUCKEYE UNION HIGH SCHOOL DISTRICT","1000 EAST NARRAMORE AVENUE","BUCKEYE AZ 85326","(623) 386-9700","(623) 386-9705"]
["070501201","BUCKEYE UNION HIGH SCHOOL","902 EASON AVENUE","BUCKEYE AZ 85326","() -","() -"]
["070501202","ESTRELLA FOOTHILLS HIGH SCHOOL","13033 S ESTRELLA PARKWAY","GOODYEAR AZ 85338","(623) 327-2470","(623) 327-2499"]
["070501203","THE BUCKEYE ACADEMY","402 W NARRAMORE","BUCKEYE AZ 85236","() -","() -"]
["070501204","YOUNGKER HIGH SCHOOL","3000 S. APACHE ROAD","BUCKEYE AZ 85326","(623) 474-0100","(623) 386-9705"]
["070505000","GLENDALE UNION HIGH SCHOOL DISTRICT","7650 N 43RD AVE","GLENDALE AZ 85301 1661","(623) 435-6000","(623) 435-6078"]
["070505201","GLENDALE HIGH SCHOOL","6216 W. GLENDALE AVENUE","GLENDALE AZ 85301","() -","( ) -"]
["070505202","SUNNYSLOPE HIGH SCHOOL","35 WEST DUNLAP","PHOENIX AZ 85021","() -","( ) -"]
["070505203","WASHINGTON HIGH SCHOOL","2217 W. GLENDALE AVE.","PHOENIX AZ 85021","() -","( ) -"]
["070505204","CORTEZ HIGH SCHOOL","8828 N. 31ST AVENUE","PHOENIX AZ 85051","() -","( ) -"]
["070505205","MOON VALLEY HIGH SCHOOL","3625 W CACTUS RD","PHOENIX AZ 85029","(623) 915-8000","(623) 915-8070"]
["070505206","APOLLO HIGH SCHOOL","8045 N. 47TH AVENUE","GLENDALE AZ 85302","() -","( ) -"]
["070505207","THUNDERBIRD HIGH SCHOOL","1750 W. THUNDERBIRD","PHOENIX AZ 85023","() -","( ) -"]
["070505208","GREENWAY HIGH SCHOOL","3930 W. GREENWAY ROAD","PHOENIX AZ 85053","() -","( ) -"]
["070505209","INDEPENDENCE HIGH SCHOOL","6602 N. 75TH AVENUE","GLENDALE AZ 85303","() -","( ) -"]
["070505210","METROCENTER ACADEMY","9617 METRO PARKWAY WEST SUITE 2214","PHOENIX AZ 85051","() -","( ) -"]
["070510000","PHOENIX UNION HIGH SCHOOL DISTRICT","4502 N. CENTRAL AVE","PHOENIX AZ 85012","(602) 764-1100","(602) 271-3593"]
["070510210","ALHAMBRA HIGH SCHOOL","3839 WEST CAMELBACK ROAD","PHOENIX AZ 85019","() -","() -"]
["070510212","METRO TECH HIGH SCHOOL","1900 W. THOMAS ROAD","PHOENIX AZ 85015","() -","() -"]
["070510214","BOSTROM ALTERNATIVE CENTER","3535 N. 27TH AVENUE","PHOENIX AZ 85017","() -","() -"]
["070510220","TREVOR BROWNE HIGH SCHOOL","7402 W. CATALINA","PHOENIX AZ 85033","() -","() -"]
["070510225","CAMELBACK HIGH SCHOOL","4612 N. 28TH STREET","PHOENIX AZ 85016","() -","() -"]
["070510230","CENTRAL HIGH SCHOOL","4525 N. CENTRAL AVE","PHOENIX AZ 85012","() -","() -"]
["070510245","CARL HAYDEN HIGH SCHOOL","3333 W. ROOSEVELT","PHOENIX AZ 85009","() -","() -"]
["070510250","MARYVALE HIGH SCHOOL","3415 N. 59TH AVE.","PHOENIX AZ 85033 4623","() -","() -"]
["070510255","NORTH HIGH SCHOOL","1101 EAST THOMAS ROAD","PHOENIX AZ 85014","() -","() -"]
["070510260","SOUTH MOUNTAIN HIGH SCHOOL","5401 S 7TH STREET","PHOENIX AZ 85040 3104","() -","() -"]
["070510270","CESAR CHAVEZ HIGH SCHOOL","3921 WEST BASELINE ROAD","LAVEEN AZ 85339","() -","() -"]
["070510280","SUNS-DIAMONDBACKS EDUCATION ACADEMY","2920 N.7TH STREET","PHOENIX AZ 85014","(602) 764-0050","(602) 744-1221"]
["070510281","FRANKLIN POLICE AND FIRE HIGH SCHOOL","1645 WEST MCDOWELL ROAD","PHOENIX AZ 85007","(602) 764-0200","(602) 258-2868"]
["070510282","PHOENIX UNION CYBER HIGH SCHOOL","3701 W. THOMAS ROAD","PHOENIX AZ 85009","(602) 764-1500","(602) 271-3131"]
["070510284","PHOENIX UNION BIOSCIENCE HIGH SCHOOL","512 EAST PIERCE STREET","PHOENIX AZ 85004","(602) 764-5600","(602) 764-5699"]
["070510290","BETTY FAIRFAX HIGH SCHOOL","8225 S. 59TH AVENUE","LAVEEN AZ 85339","() -","( ) -"]
["070513000","TEMPE UNION HIGH SCHOOL DISTRICT","500 W GUADALUPE RD","TEMPE AZ 85283","(480) 839-0292","(480) 413-0685"]
["070513091","TEMPE HIGH SCHOOL","1730 S. MILL AVE.","TEMPE AZ 85281","() -","() -"]
["070513092","MCCLINTOCK HIGH SCHOOL","1830 E DEL RIO DR","TEMPE AZ 85282","() -","() -"]
["070513093","MARCOS DE NIZA HIGH SCHOOL","6000 S LAKESHORE DRIVE","TEMPE AZ 85283 3049","() -","() -"]
["070513094","CORONA DEL SOL HIGH SCHOOL","1001 E. KNOX ROAD","TEMPE AZ 85284","() -","( ) -"]
["070513095","MOUNTAIN POINTE HIGH SCHOOL","4201 E KNOX RD","PHOENIX AZ 85044","() -","() -"]
["070513096","DESERT VISTA HIGH SCHOOL","16440 S 32ND ST","PHOENIX AZ 85048","() -","( ) -"]
["070513097","COMPADRE HIGH SCHOOL","500 W GUADALUPE RD","TEMPE AZ 85283","() -","() -"]
["070514000","TOLLESON UNION HIGH SCHOOL DISTRICT","9801 W. VAN BUREN STREET","TOLLESON AZ 85353","(623) 478-4000","(623) 936-5048"]
["070514201","TOLLESON UNION HIGH SCHOOL","9419 WEST VAN BUREN","TOLLESON AZ 85353 2804","() -","() -"]
["070514202","WESTVIEW HIGH SCHOOL","10850 W. GARDEN LAKES PARKWAY","AVONDALE AZ 85353","(623) 478-4600","( ) -"]
["070514203","LA JOYA COMMUNITY HIGH SCHOOL","11650 W. WHYMAN AVENUE","AVONDALE AZ 85353","() -","( ) -"]
["070514204","COPPER CANYON HIGH SCHOOL","9126 WEST CAMELBACK RD","GLENDALE AZ 85305","() -","() -"]
["070514205","SIERRA LINDA HIGH SCHOOL","9801 W. VAN BUREN STREET","TOLLESON AZ 85353","() -","( ) -"]
["070514206","TOLLESON #206","9801 WEST VAN BUREN STREET","TOLLESON AZ 85353","() -","( ) -"]
["070514207","UNIVERSITY HIGH SCHOOL","9419 WEST VAN BUREN STREET","TOLLESON AZ 85353","(623) 478-4380","(623) 936-8843"]
["070516000","AGUA FRIA UNION HIGH SCHOOL DISTRICT","1481 N. ELISEO C. FELIX JR. WAY, SUITE 110","AVONDALE AZ 85323","(623) 932-7000","(623) 932-2796"]
["070516201","AGUA FRIA HIGH SCHOOL","530 E. RILEY DR.","AVONDALE AZ 85323","() -","() -"]
["070516202","MILLENNIUM HIGH SCHOOL","14802 W WIGWAM BLVD","GOODYEAR AZ 85338","() -","() -"]
["070516203","DESERT EDGE HIGH SCHOOL","15778 WEST YUMA ROAD","GOODYEAR AZ 85338","() -","() -"]
["070516204","VERRADO HIGH SCHOOL","20050 W. INDIAN SCHOOL ROAD","BUCKEYE AZ 85326","() -","() -"]
["072772004","PARK HOUSE","PO BOX 2754","CHANDLER AZ 85225","(480) 722-2730","(480) 664-4296"]
["078101000","LEAD CHARTER SCHOOLS","633 EAST RAY ROAD SUITE 132","GILBERT AZ 85296","(480) 633-0414","(480) 558-7038"]
["078101001","LEADING EDGE ACADEMY QUEEN CREEK","633 EAST RAY ROAD SUITE 132","GILBERT AZ 85234","(480) 655-6787","(480) 655-6788"]
["078101002","LEADING EDGE ACADEMY SAN TAN","633 E RAY ROAD SUITE 132","GILBERT AZ 85234","(480) 882-1631","(480) 655-6788"]
["078201000","EXCEL PREPARATORY ACADEMY, INC","PO BOX 11471","CHANDLER AZ 85248","() -","( ) -"]
["078201001","EXCEL PREPARATORY ACADEMY","PO BOX 11471","CHANDLER AZ 85248","() -","( ) -"]
["078202000","EAGLE COLLEGE PREP II, INC. DBA EAGLE COLLEGE PREP HARMONY","2435 E. PECAN RD.","PHOENIX AZ 85040","(602) 885-7333","(602) 323-5401"]
["078202001","EAGLE COLLEGE PREP HARMONY","2450 W. SOUTH MTN AVE.","PHOENIX AZ 85041","(602) 885-7333","( ) -"]
["078203000","THE PAIDEIA ACADEMY OF CHANDLER, INC.","550 WEST WARNER ROAD","CHANDLER AZ 85225","(480) 710-2159","( ) -"]
["078204000","HIRSCH ACADEMY A CHALLENGE FOUNDATION","1 E. WASHINGTON STREET 500","PHOENIX AZ 85004","(602) 686-4480","( ) -"]
["078204001","HIRSCG ACADEMY A CHALLENGE FOUNDATION","6536 EAST OSBORN AVE, BUILDINGS 4 AND 5","SCOTTSDALE AZ 85251","() -","( ) -"]
["078205001","ASU PREPARATORY ACADEMY-POLYTECHNIC ELEMENTARY","6859 E REMBRANDT AVE","MESA AZ 85212","(480) 727-5700","(480) 727-5701"]
["078205002","ASU PREPARATORY ACADEMY-POLYTECHNIC MIDDLE SCHOOL","6110 S SAGEWOOD ST","MESA AZ 85212","(480) 727-5750","(480) 727-5751"]
["078206000","THE PAIDEIA ACADEMIES, INC","7777 S. 15TH TERRACE","PHOENIX AZ 85042","(602) 343-3040","( ) -"]
["078206001","THE PAIDEIA ACADEMY OF SOUTH PHOENIX","7777 SOUTH 15TH TERRACE","PHOENIX AZ 85042","(602) 343-3040","(800) 381-9029"]
["078207001","ASU PREPARATORY ACADEMY- PHOENIX HIGH SCHOOL","735 E FILMORE ST","PHOENIX AZ 85006","(602) 257-4843","(602) 257-4852"]
["078208001","ASU PREPARATORY ACADEMY-POLYTECHNIC HIGH SCHOOL","7350 E UNITY AVE","MESA AZ 85212","(480) 727-5750","(480) 727-5751"]
["078209000","REID TRADITIONAL SCHOOLS' PAINTED ROCK ACADEMY INC.","14841 N. BLACK CANYON HIGHWAY","PHOENIX AZ 85023","(623) 466-8855","(623) 455-3270"]
["078209001","REID TRADITIONAL SCHOOLS' PAINTED ROCK ACADEMY","14800 N. 25TH DRIVE","PHOENIX AZ 85023","(623) 478-2344","(623) 478-2333"]
["078210000","INCITO SCHOOLS","849 NORTH THIRD AVENUE","PHOENIX AZ 85003","(480) 216-6110","( ) -"]
["078211000","CAMINO MONTESSORI","2118 E. LA DONNA DR.","TEMPE AZ 85283","(480) 295-2806","( ) -"]
["078212000","BASIS SCHOOL, INC","11440 NORTH 136TH STREET","SCOTTSDALE AZ 85259","(480) 289-2088","( ) -"]
["078212001","BASIS AHWATUKEE","10210 S. 50TH PLACE","PHOENIX AZ 85044","() -","( ) -"]
["078214000","ARCHWAY CLASSICAL ACADEMY NORTH PHOENIX","3102 N 56TH STREET 300","PHOENIX AZ 85018","(602) 996-4355","(602) 883-0187"]
["078214002","GREAT HEARTS ACADEMY - ARCHWAY NORTH PHOENIX","3102 N. 56TH ST SUITE 300","PHOENIX AZ 85018","() -","( ) -"]
["078215000","LEGACY TRADITIONAL CHARTER SCHOOL - LAVEEN VILLAGE","7900 S 43RD AVE","LAVEEN AZ 85339","(602) 903-6615","(888) 420-5454"]
["078215001","LEGACY TRADITIONAL CHARTER SCHOOL - LAVEEN VILLAGE","3201 S GILBERT RD BUILDING A","CHANDLER AZ 85286","() -","( ) -"]
["078224000","VISTA COLLEGE PREPARATORY, INC.","841 N. 2ND AVE SUITE #102","PHOENIX AZ 85003","(602) 625-7893","( ) -"]
["078225000","BASIS SCHOOL, INC.","7975 N. HAYDEN ROAD SUITE B-100","SCOTTSDALE AZ 85258","(480) 289-2088","( ) -"]
["078225001","BASIS MESA","5010 S. EASTMARK PARKWAY","MESA AZ 85212","() -","( ) -"]
["078228000","SOUTHWEST LEADERSHIP ACADEMY","2560 BUSINESS PARKWAY A","MINDEN NV 89423","(775) 392-2659","(775) 392-2443"]
["078228001","SOUTHWEST LEADERSHIP ACADEMY","2560 BUSINESS PARKWAY A","MINDEN NV 89423","(775) 392-2659","(775) 392-2443"]
["078229000","LEGACY TRADITIONAL SCHOOL - GILBERT","3201 S. GILBERT RD BLDG. A","CHANDLER AZ 85286","(480) 270-5438","( ) -"]
["078229001","LEGACY TRADITIONAL CHARTER SCHOOL - GILBERT","3201 S. GILBERT RD BLDG. A","CHANDLER AZ 85286","() -","( ) -"]
["078230000","DESERT MIRAGE PREPARATORY ACADEMY PUBLIC CHARTER ELEMENTARY SCHOOL","7878 NORTH 16TH STREET SUITE 150","PHOENIX AZ 85020","(602) 953-2933","( ) -"]
["078230001","DESERT MIRAGE PREPARATORY ACADEMY","13226 NORTH 113TH AVENUE","YOUNGTOWN AZ 85363","() -","( ) -"]
["078240000","SOUTH MOUNTAIN PREPARATORY ACADEMY PUBLIC CHARTER ELEMENTARY SCHOOL","7878 N. 16TH STREET SUITE 150","PHOENIX AZ 85020","(602) 953-2933","( ) -"]
["078240001","SOUTH MOUNTAIN PREPARATORY ACADEMY","449 EAST SOUTHERN AVENUE","PHOENIX AZ 85040","() -","( ) -"]
["078242000","ACADEMY OF MATHEMATICS AND SCIENCE SOUTH, INC.","1557 WEST PRINCE ROAD","TUCSON AZ 85705","(520) 293-2676","(520) 888-1732"]
["078242001","ACADEMY OF MATHEMATICS AND SCIENCE SOUTH","1557 W. PRINCE RD","TUCSON AZ 85705","() -","( ) -"]
["078243000","SCOTTSDALE COUNTRY DAY SCHOOL","10460 N 56 ST","SCOTTSDALE AZ 85283","(480) 452-5777","( ) -"]
["078243001","SCOTTSDALE COUNTRY DAY SCHOOL","10460 N 56TH ST","SCOTTSDALE AZ 85253","(480) 452-5777","( ) -"]
["078245000","LEGACY TRADITIONAL CHARTER SCHOOLS - CASA GRANDE","3201 S. GILBERT RD BLDG A","CHANDLER AZ 85286","(480) 374-5390","(888) 420-5454"]
["078246001","SEQUOIA PATHWAY ACADEMY","1460 S. HORNE","MESA AZ 85204","() -","( ) -"]
["078401000","EMPOWER COLLEGE PREP","1718 W. COLTER ST. 143","PHOENIX AZ 85015","(602) 501-6602","( ) -"]
["078401001","EMPOWER COLLEGE PREP","5757 N CENTRAL AVE","PHOENIX AZ 85012","(602) 501-6602","( ) -"]
["078403000","BASIS SCHOOLS, INC","7975 N. HAYDEN RD. SUITE B-100","SCOTTSDALE AZ 85258","(602) 595-9870","( ) -"]
["078403001","BASIS PHOENIX","11850 N. 32ND ST","PHOENIX AZ 85028","(602) 595-9870","(602) 595-9820"]
["078406000","ARCHWAY CLASSICAL ACADEMY GLENDALE","3102 N. 56TH ST. SUITE 300","PHOENIX AZ 85018","(602) 438-7045","( ) -"]
["078406001","GREAT HEARTS ACADEMIES - ARCHWAY GLENDALE","3102 N. 56TH ST. SUITE 300","PHOENIX AZ 85018","() -","( ) -"]
["078501000","AHWATUKEE FOOTHILLS PREP, INC.","10210 SOUTH 50TH PLACE","PHOENIX AZ 85044","(480) 763-5101","(480) 763-5107"]
["078501001","MOSAICA PREPARATORY ACADEMY OF CHANDLER","5835 WEST RAY ROAD","CHANDLER AZ 85226","(480) 763-5101","(480) 763-5107"]
["078504000","PILLAR CHARTER SCHOOL","8433 NORTH BLACK CANYON HWY SUITE 160","PHOENIX AZ 85021","(602) 920-8253","(602) 430-7701"]
["078504201","PILLAR ACADEMY OF BUSINESS & FINANCE","2301 W. DUNLAP AVE. SUITE 202","PHOENIX AZ 85021","(602) 944-5111","(602) 944-4533"]
["078505000","ESPERANZA COMMUNITY COLLEGIAL ACADEMY","2507 E. BELL ROAD","PHOENIX AZ 85032","(602) 996-1125","(602) 996-4238"]
["078505201","ESPERANZA COMMUNITY COLLEGIAL ACADEMY","2507 E. BELL RD","PHOENIX AZ 85032","(602) 996-1125","(602) 996-4238"]
["078507000","LEGACY EDUCATION GROUP","7420 E. MAIN STREET","MESA AZ 85207","(480) 981-2008","(480) 641-4473"]
["078507201","EAST VALLEY HIGH SCHOOL","7420 E. MAIN STREET","MESA AZ 85207","(480) 981-2008","(480) 641-4473"]
["078508000","ROSEFIELD CHARTER ELEMENTARY SCHOOL, INC.","18052 N. BLACK CANYON HIGHWAY","PHOENIX AZ 85053","(602) 547-7960","(602) 547-7922"]
["078508101","IMAGINE ROSEFIELD","12050 N. BULLARD AVENUE","SURPRISE AZ 85379","(623) 344-4300","(623) 344-4310"]
["078509000","EAST MESA CHARTER ELEMENTARY SCHOOL, INC.","18052 N. BLACK CANYON HIGHWAY","PHOENIX AZ 85053","(602) 547-7960","(602) 547-7922"]
["078509101","IMAGINE EAST MESA ELEMENTARY","18052 N. BLACK CANYON HIGHWAY","PHOENIX AZ 85053","(602) 445-8000","(602) 445-8100"]
["078510000","ARIZONA AGRIBUSINESS & EQUINE CENTER, INC.","P.O. BOX 84108","PHOENIX AZ 85071","(602) 297-8500","(602) 297-8540"]
["078510201","ARIZONA AGRIBUSINESS & EQUINE CENTER, INC. - RED MOUNTAIN","2165 N. POWER ROAD","MESA AZ 85215","(602) 297-8500","(602) 297-8540"]
["078511000","ARIZONA CONNECTIONS ACADEMY CHARTER SCHOOL, INC.","1017 SOUTH GILBERT ROAD SUITE 210","MESA AZ 85204","(480) 782-5842","(480) 782-5845"]
["078513000","COUNTRY GARDENS CHARTER SCHOOLS","6307 W. ALTA VISTA RD.","LAVEEN AZ 85339","(602) 237-3741","(602) 237-3892"]
["078513001","COUNTRY GARDENS CHARTER SCHOOL","6307 W. ALTA VISTA RD.","LAVEEN AZ 85339","(602) 237-7370","(602) 237-3892"]
["078515000","CHANDLER PREPARATORY ACADEMY","3102 NORTH 56TH STREET SUITE 300","PHOENIX AZ 85018","(602) 438-7045","(602) 438-7242"]
["078515001","GREAT HEARTS ACADEMIES - CHANDLER PREP","1951 N. ALMA SCHOOL RD.","CHANDLER AZ 85225","(480) 899-9181","(480) 855-7789"]
["078516000","PRESCOTT VALLEY CHARTER SCHOOL","PO BOX 27348","PRESCOTT VALLEY AZ 86312","(928) 772-8744","(928) 775-4457"]
["078516002","PRESCOTT VALLEY SCHOOL","P.O. BOX 27348","PRESCOTT VALLEY AZ 86312","() -","( ) -"]
["078517000","AMERICAN CHARTER SCHOOLS FOUNDATION D.B.A. SOUTH RIDGE HIGH SCHOOL","7878 N. 16TH ST. SUITE 150","PHOENIX AZ 85020","(602) 953-2933","(602) 277-4900"]
["078517201","SOUTH RIDGE HIGH SCHOOL","1122 S. 67TH AVE.","PHOENIX AZ 85043","(602) 953-2933","(602) 953-0831"]
["078518000","LEGACY TRADITIONAL CHARTER SCHOOL - MARICOPA","3201 S GILBERT RD BLD A","CHANDLER AZ 85286","() -","( ) -"]
["078518002","LEGACY TRADITIONAL SCHOOL - CASA GRANDE","17760 REGENT DR.","MARICOPA AZ 85138","() -","( ) -"]
["078518003","LEGACY TRADITIONAL SCHOOL - QUEEN CREEK","3201 S GILBERT RD BUILDING A","CHANDLER AZ 85286","() -","( ) -"]
["078518101","LEGACY TRADITIONAL SCHOOL - MARICOPA","3201 S GILBERT RD BUILDING A","CHANDLER AZ 85286","() -","( ) -"]
["078519000","IMAGINE CHARTER ELEMENTARY AT CAMELBACK, INC.","18052 N. BLACK CANYON HIGHWAY","PHOENIX AZ 85053","(602) 547-7960","(602) 547-7922"]
["078519101","IMAGINE CAMELBACK ELEMENTARY","18052 N. BLACK CANYON HIGHWAY","PHOENIX AZ 85053","(602) 547-7961","(602) 547-7922"]
["078520000","IMAGINE CHARTER ELEMENTARY AT DESERT WEST, INC.","18052 N. BLACK CANYON HIGHWAY","PHOENIX AZ 85053","(602) 547-7960","(602) 547-7922"]
["078520101","IMAGINE DESERT WEST ELEMENTARY","6738 WEST MCDOWELL RD.","PHOENIX AZ 85035","(623) 344-7150","(623) 344-7160"]
["078521000","IMAGINE MIDDLE AT EAST MESA, INC.","18052 N. BLACK CANYON HIGHWAY","PHOENIX AZ 85053","(602) 547-7960","(602) 547-7922"]
["078521001","IMAGINE EAST MESA MIDDLE","18052 N. BLACK CANYON HIGHWAY","PHOENIX AZ 85053","(602) 547-7961","(602) 547-7922"]
["078522000","IMAGINE MIDDLE AT SURPRISE, INC.","14850 N 156TH AVENUE","SURPRISE AZ 85379","() -","( ) -"]
["078522101","IMAGINE SURPRISE MIDDLE","18052 N. BLACK CANYON HIGHWAY","PHOENIX AZ 85053","(623) 344-4300","(623) 344-4310"]
["078523000","IMAGINE ELEMENTARY AT TEMPE, INC.","18052 N. BLACK CANYON HIGHWAY","PHOENIX AZ 85053","(602) 547-7960","(602) 547-7922"]
["078523101","IMAGINE TEMPE","1538 EAST SOUTHERN AVE.","TEMPE AZ 85282","(480) 355-1640","(480) 355-1650"]
["078524000","CAREER SUCCESS SCHOOLS","16004 N. 36TH DR.","PHOENIX AZ 85053","(602) 296-5552","(602) 296-5552"]
["078524001","CAREER SUCCESS SCHOOL -- SAGE CAMPUS","3120 N 32ND ST","PHOENIX AZ 85018","() -","() -"]
["078524201","CAREER SUCCESS HIGH SCHOOL - MAIN CAMPUS","3816 N 27TH AVE","PHOENIX AZ 85017","(602) 285-5525","(602) 285-0026"]
["078524203","CAREER SUCCESS HIGH SCHOOL - GLENDALE","3816 N 27TH AVE","PHOENIX AZ 85017","() -","() -"]
["078524205","CAREER SUCCESS HIGH SCHOOL - ROBERT L. DUFFY","2550 EAST JEFFERSON STREET","PHOENIX AZ 85034","(602) 393-4200","(602) 393-4205"]
["078524206","CAREER SUCCESS JR/SR HIGH SCHOOL - WOODS CAMPUS","16004 NORTH 36TH DRIVE","PHOENIX AZ 85053","() -","( ) -"]
["078525000","ANTHEM PREPARATORY ACADEMY","3102 N. 56TH ST. SUITE 300","PHOENIX AZ 85018","(602) 438-7045","(602) 438-7242"]
["078525001","GREAT HEARTS ACADEMIES - ANTHEM PREP","42101 N. 41ST DRIVE C-101","PHOENIX AZ 85086","(602) 438-7045","(602) 438-7242"]
["078527000","MESA PREPARATORY ACADEMY, INC.","444 N. 44TH STREET SUITE 100","PHOENIX AZ 85008","(602) 438-7045","(602) 438-7242"]
["078527001","GREAT HEARTS ACADEMIES - MESA PREP","1303 S. LINDSEY DR.","MESA AZ 85204","(480) 222-4233","(480) 222-4234"]
["078528000","FREEDOM ACADEMY, INC.","22616 N. 39TH TERRACE","PHOENIX AZ 85050","(602) 424-0771","(602) 424-0773"]
["078528101","FREEDOM ACADEMY","15014 N 56TH","SCOTTSDALE AZ 85254","(602) 424-0771","(602) 424-0773"]
["078528102","FREEDOM ACADEMY NORTH","28700 N. PIMA ROAD","SCOTTSDALE AZ 85266","(602) 424-0771","(602) 424-0773"]
["078529000","AMBASSADOR ACADEMY","3820 E. RAY RD. STE. 8","PHOENIX AZ 85044","(480) 961-2214","(480) 993-3222"]
["078529101","AMBASSADOR ACADEMY","3820 E. RAY RD. STE. 8","PHOENIX AZ 85044","(480) 961-2214","(480) 993-3222"]
["078530000","CONCORDIA CHARTER SCHOOL, INC.","142 N. DATE","MESA AZ 85201","(480) 461-0555","(480) 461-0556"]
["078530101","CONCORDIA CHARTER SCHOOL","142 NORTH DATE ST.","MESA AZ 85201","(480) 461-0555","(480) 461-0556"]
["078530102","EASTERN SKY COMMUNITY CHARTER SCHOOL","3101 W. PEORIA AVE B-310","PHOENIX AZ 85029","(602) 564-7300","(602) 564-7381"]
["078530103","CONCORDIA CHARTER SCHOOL- NAVAJO MISSION","142 N DATE ST","MESA AZ 85201","(480) 461-0555","(480) 461-0556"]
["078531000","IMAGINE CAMELBACK MIDDLE, INC.","18052 N. BLACK CANYON HIGHWAY","PHOENIX AZ 85053","(602) 547-7960","(602) 547-7922"]
["078531101","IMAGINE CAMELBACK MIDDLE","5050 N. 19TH AVE.","PHOENIX AZ 85015","(602) 344-4620","(602) 344-4630"]
["078532000","IMAGINE DESERT WEST MIDDLE, INC.","18052 N. BLACK CANYON HIGHWAY","PHOENIX AZ 85053","(602) 547-7960","(602) 547-7922"]
["078532101","IMAGINE DESERT WEST MIDDLE","6738 W. MCDOWELL RD.","PHOENIX AZ 85035","(623) 344-7150","(623) 344-7160"]
["078533000","SCOTTSDALE PREPARATORY ACADEMY","3102 N 56TH ST SUITE 300","PHOENIX AZ 85018","(602) 438-7045","(602) 438-7242"]
["078533001","GREAT HEARTS ACADEMIES - SCOTTSDALE PREP","7496 EAST TIERRA BUENA LANE","SCOTTSDALE AZ 85260","(480) 776-1970","(480) 776-1975"]
["078534000","CANDEO SCHOOLS, INC.","9965 W. CALLE LEJOS","PEORIA AZ 85383","(623) 979-6500","(623) 979-6510"]
["078534001","CANDEO PEORIA","9965 W. CALLE LEJOS","PEORIA AZ 85383","(623) 979-6500","(623) 979-6510"]
["078535000","IMAGINE AVONDALE ELEMENTARY, INC.","18052 N. BLACK CANYON HIGHWAY","PHOENIX AZ 85053","(602) 547-7961","(602) 547-7922"]
["078535101","IMAGINE AVONDALE ELEMENTARY","950 N ELISEO FELIX JR WAY","AVONDALE AZ 85323","(602) 547-7961","(602) 547-7922"]
["078536000","IMAGINE COOLIDGE ELEMENTARY, INC.","18052 N. BLACK CANYON HIGHWAY","PHOENIX AZ 85053","(602) 547-7961","(602) 547-7922"]
["078536101","IMAGINE COOLIDGE ELEMENTARY","18052 N. BLACK CANYON HIGHWAY","PHOENIX AZ 85053","(602) 547-7961","(602) 547-7922"]
["078537000","IMAGINE PREP SUPERSTITION, INC.","18052 N. BLACK CANYON HIGHWAY","PHOENIX AZ 85053","(602) 547-7961","(602) 547-7922"]
["078537101","IMAGINE PREP SUPERSTITION","18052 N. BLACK CANYON HIGHWAY","PHOENIX AZ 85053","(602) 547-7961","(602) 547-7922"]
["078538000","IMAGINE PREP SURPRISE, INC.","18052 N. BLACK CANYON HIGHWAY","PHOENIX AZ 85053","(602) 547-7961","(602) 547-7922"]
["078538101","IMAGINE PREP SURPRISE","18052 N. BLACK CANYON HIGHWAY","PHOENIX AZ 85053","(602) 547-7961","(602) 547-7922"]
["078539000","SAN TAN MONTESSORI SCHOOL, INC.","1475 S. HIGLEY RD.","GILBERT AZ 85236","(480) 222-0811","(480) 471-5990"]
["078539101","SAN TAN LEARNING CENTER","1475 S. HIGLEY RD.","GILBERT AZ 85236","(480) 222-0811","(480) 471-5990"]
["078539102","FULTON RANCH LEARING CENTER","204 W CHANDLER HEIGHTS ROAD","CHANDLER AZ 85248","(480) 717-7140","(480) 471-5990"]
["078540000","GLENDALE PREPARATORY ACADEMY","3102 NORTH 56TH STREET 300","PHOENIX AZ 85018","(602) 438-7045","(602) 438-7242"]
["078540101","GREAT HEARTS ACADEMIES - GLENDALE PREP","7201 W. BEARDSLEY ROAD","GLENDALE AZ 85308","(623) 889-0822","(623) 889-0825"]
["078541000","EAGLE SOUTH MOUNTAIN CHARTER, INC.","2450 WEST SOUTH MOUNTAIN AVE.","PHOENIX AZ 85041","(602) 323-5400","(602) 323-5401"]
["078541101","EAGLE COLLEGE PREP","2450 WEST SOUTH MOUNTAIN AVE.","PHOENIX AZ 85041","(602) 323-5400","(602) 323-5401"]
["078542000","AZ COMPASS SCHOOLS, INC.","2020 N. ARIZONA AVE. G-62","CHANDLER AZ 85225","(480) 779-2000","(480) 779-2100"]
["078542101","AZ COMPASS PREP SCHOOL","2020 N. ARIZONA AVE SUITE G-62","CHANDLER AZ 85225","(480) 287-5588","(480) 287-5581"]
["078544000","PARAGON EDUCATION CORPORATION","5580 W. CHANDLER BLVD.","CHANDLER AZ 85226","(480) 753-3889","(480) 736-3385"]
["078544101","PARAGON SCIENCE ACADEMY","5580 W. CHANDLER BLVD.","CHANDLER AZ 85226","(480) 753-3889","(480) 736-3385"]
["078545000","TEMPE PREPARATORY JUNIOR ACADEMY","1251 E. SOUTHERN AVENUE","TEMPE AZ 85282","(480) 839-3402","(480) 755-0546"]
["078545101","TEMPE PREPARATORY JUNIOR ACADEMY","1251 E. SOUTHERN AVENUE","TEMPE AZ 85282","(480) 839-3402","(480) 755-0546"]
["078546101","POLYTECHNIC ELEMENTARY SCHOOL - CLOSED","112 N. CENTRAL AVENUE SUITE 700","PHOENIX AZ 85004","(480) 727-5700","(480) 727-5701"]
["078546102","ASU PREPARATORY ACADEMY- PHOENIX ELEMENTARY","112 N. CENTRAL AVENUE SUITE 700","PHOENIX AZ 85004","(602) 257-4843","(602) 257-4852"]
["078547000","IMAGINE PREP COOLIDGE, INC.","1290 W. VAH KI INN RD","COOLIDGE AZ 85128","(520) 424-2791","(520) 723-6315"]
["078547101","IMAGINE PREP COOLIDGE","1290B W. VAH KI INN ROAD","COOLIDGE AZ 85228","() -","( ) -"]
["078548000","WEST VALLEY ARTS AND TECHNOLOGY ACADEMY, INC.","5625 S 51ST AVE","LAVEEN AZ 85339","(602) 285-3003","(602) 285-5560"]
["078548101","RIVERBEND PREP","5625 S. 51ST AVE","LAVEEN AZ 85339","(602) 285-3003","(602) 285-5560"]
["078549000","CHOICE ACADEMIES, INC.","2323 W. PARKSIDE LANE","PHOENIX AZ 85027","(602) 938-5517","(602) 938-1179"]
["078549001","ADAMS TRADITIONAL ACADEMY","2323 W. PARKSIDE LANE","PHOENIX AZ 85027","(602) 938-5517","(602) 938-1179"]
["078550000","CHALLENGE FOUNDATION ACADEMIES OF ARIZONA, INC.","4300 N. MILLER RD. SUITE 141","SCOTTSDALE AZ 85251","(813) 832-3832","(480) 222-2044"]
["078550001","PIONEER PREPARATORY - A CHALLENGE FOUNDATION","6510 W. CLARENDON AVE","GLENDALE AZ 85033","(602) 933-3733","(623) 252-0022"]
["078551000","TELEOS PREPARATORY ACADEMY","3102 N. 56TH ST SUITE 300","PHOENIX AZ 85008","(602) 438-7045","(602) 438-7242"]
["078551001","GREAT HEARTS ACADEMIES - TELEOS PREP","1401 E. JEFFERSON","PHOENIX AZ 85034","(602) 275-5455","(602) 275-5954"]
["078552000","IMAGINE SUPERSTITION MIDDLE, INC.","18052 NORTH BLACK CANYON HIGHWAY","PHOENIX AZ 85053","(602) 547-7961","(602) 547-7922"]
["078552001","IMAGINE SUPERSTITION MIDDLE","1843 WEST 16TH AVENUE","APACHE JUNCTION AZ 85220","(480) 355-0530","(480) 355-0540"]
["078553000","IMAGINE AVONDALE MIDDLE, INC.","18052 NORTH BLACK CANYON HIGHWAY","PHOENIX AZ 85053","(602) 547-7961","(602) 547-7922"]
["078553001","IMAGINE AVONDALE MIDDLE","950 NORTH ELISEO C. FELIX JR. WAY","AVONDALE AZ 85323","(623) 344-1730","(623) 344-1740"]
["078554000","ALHAMBRA EDUCATION PARTNERSHIPS, INC.","4510 NORTH 37TH AVENUE","PHOENIX AZ 85019","(602) 336-2921","(602) 336-2266"]
["078554001","ALHAMBRA COLLEGE PREPARATORY HIGH SCHOOL","3802 WEST MARYLAND","PHOENIX AZ 85019","(602) 246-0578","(602) 246-0725"]
["078555000","NEW DESTINY LEADERSHIP CHARTER SCHOOL","2454 EAST BROADWAY RD.","PHOENIX AZ 85040","(602) 268-2234","(602) 276-2991"]
["078555001","NEW DESTINY LEADERSHIP CHARTER SCHOOL","1923 EAST BROADWAY RD","PHOENIX AZ 85040","(602) 268-2234","(602) 276-2991"]
["078556000","MORRISON EDUCATION GROUP, INC.","5806 S. 35TH AVENUE BLDG. E","PHOENIX AZ 85041","(602) 692-4914","(866) 612-2196"]
["078556001","SUN VALLEY CHARTER SCHOOL","5806 S. 35TH AVE., BLDG E","PHOENIX AZ 85041","(602) 692-4914","(866) 612-2196"]
["078557000","OPPORTUNITIES FOR YOUTH, INC.","C/O LEADING EDGE SOLUTIONS, 459 N GILBERT ROAD #A140","GILBERT AZ 85234","(480) 984-6311","(480) 984-6309"]
["078557001","LEADING EDGE PREP VISTA","2122 S. GOLDFIELD ROAD","APACHE JUNCTION AZ 85219","(480) 984-6311","(480) 558-7038"]
["078558000","EDUCATIONAL OPTIONS FOUNDATION","2150 E. SOUTHERN AVE.","TEMPE AZ 85282","(480) 621-3365","(480) 621-3383"]
["078558001","EDOPTIONS HIGH SCHOOL","2150 E. SOUTHERN AVE.","TEMPE AZ 85282","() -","( ) -"]
["078559000","PHOENIX COLLEGIATE ACADEMY, INC.","5610 S. CENTRAL AVENUE","PHOENIX AZ 85040","(602) 268-9900","(602) 268-9911"]
["078559001","PHOENIX COLLEGIATE ACADEMY CHARTER SCHOOL","5610 S. CENTRAL AVENUE","PHOENIX AZ 85040","(602) 268-9900","(602) 268-9911"]
["078560000","RESEARCH BASED EDUCATION CORPORATION","8433 N BLACK CANYON HWY 160","PHOENIX AZ 85021","(602) 944-5111","(602) 944-4533"]
["078560001","PAULDEN COMMUNITY SCHOOL","P.O. BOX 940","PAULDEN AZ 86334","(928) 636-1430","(928) 636-3087"]
["078561000","THE ODYSSEY PREPARATORY ACADEMY, INC.","6500 S. APACHE","BUCKEYE AZ 85326","(623) 327-3111","( ) -"]
["078561001","THE ODYSSEY PREPARATORY ACADEMY","4290 S. MILLER RD. SUITE 112","BUCKEYE AZ 85326","(623) 824-4776","(623) 327-3040"]
["078561002","THE ODYSSEY PREPARATORY ACADEMY","4290 S. MILLER RD. SUITE 112","BUCKEYE AZ 85326","(623) 327-3111","(623) 327-0554"]
["078561003","THE ODYSSEY PREPARATORY ACADEMY GOODYEAR","6500 S. APACHE","BUCKEYE AZ 85326","(623) 327-3111","(623) 327-0554"]
["078561004","ODYSSEY INSTITUTE FOR ADVANCED AND INTERNATIONAL STUDIES","6500 S APACHE RD","BUCKEYE AZ 85326","(602) 402-4090","(623) 327-3040"]
["078562000","VECTOR SCHOOL DISTRICT, INC.","550 WEST WARNER ROAD","CHANDLER AZ 85225","(480) 779-2003","(480) 779-2100"]
["078562001","VECTOR PREP AND ARTS ACADEMY","2020 N. ARIZONA AVE. 62","CHANDLER AZ 85225","(480) 779-2000","(480) 779-2099"]
["078563000","OMBUDSMAN EDUCATIONAL SERVICES, LTD, A SUBSIDIARY OF EDUCATIONAL SERVICES OF AME","1585 NORTH MILWAUKEE AVE. 2","LIBERTYVILLE IL 60048","(800) 833-9235","(847) 367-0367"]
["078563001","OMBUDSMAN - CHARTER EAST","13832 N. 32ND ST., STE 218 BLDG C","PHOENIX AZ 85032","() -","() -"]
["078563002","OMBUDSMAN - CHARTER EAST II","1585 N. MILWAUKEE AVE. 2","LIBERTYVILLE IL 60048","(847) 247-6613","(847) 367-0367"]
["078563003","OMBUDSMAN - CHARTER VALENCIA","1686 W. VALENCIA ROAD","TUCSON AZ 85746","(520) 573-5858","(520) 807-9333"]
["078563004","OMBUDSMAN - CHARTER CENTRAL","1525 N. ORACLE ROAD","TUCSON AZ 85705","(520) 624-2260","(520) 882-2160"]
["078564000","CAFA, INC. DBA LEARNING FOUNDATION AND PERFORMING ARTS GILBERT","1120 S. GILBERT RD., BLDG. 200, 112","GILBERT AZ 85296","(480) 635-1900","(480) 635-1906"]
["078564001","LEARNING FOUNDATION AND PERFORMING ARTS GILBERT","1120 S. GILBERT RD.","GILBERT AZ 85296","(480) 635-1900","(480) 635-1906"]
["078565000","CAFA, INC. DBA LEARNING FOUNDATION AND PERFORMING ARTS ALTA MESA","1120 S. GILBERT RD., BLDG. 200 112","GILBERT AZ 85296","(480) 635-1900","(480) 635-1906"]
["078565001","LEARNING FOUNDATION AND PERFORMING ARTS ALTA MESA","1120 S. GILBERT RD. BLDG. 200, SUITE 112","GILBERT AZ 85296","(480) 635-1900","(480) 635-1906"]
["078566000","SKYLINE GILA RIVER SCHOOLS, LLC","17667 N. 91ST AVE.","PEORIA AZ 85382","(623) 385-3580","(623) 385-3516"]
["078566001","SKYLINE D5","17667 N. 91ST AVE.","PEORIA AZ 85382","(480) 763-8425","(480) 705-9045"]
["078567000","KAIZEN EDUCATION FOUNDATION DBA VISTA GROVE PREPARATORY ACADEMY ELEMENTARY","7878 N 16TH STREET","PHOENIX AZ 85020","(602) 953-2933","(602) 953-0831"]
["078567001","KAIZEN EDUCATION FOUNDATION DBA VISTA GROVE PREPARATORY ACADEMY ELEMENTARY","2929 E. MCKELLIPS ROAD","MESA AZ 85213","(480) 924-1500","(480) 924-0552"]
["078569000","DAISY EDUCATION CORPORATION DBA SONORAN SCIENCE ACADEMY - AHWATUKEE","14647 S. 50TH STREET SUITE 175","PHOENIX AZ 85044","(480) 961-5370","(480) 961-5397"]
["078569001","SONORAN SCIENCE ACADEMY - AHWATUKEE","14647 S. 50TH STREET BUILDING 1, SUITE 125","PHOENIX AZ 85044","(480) 961-5370","(480) 961-5397"]
["078570000","KAIZEN EDUCATION FOUNDATION DBA GILBERT ARTS PUBLIC CHARTER ACADEMY","7878 N. 16TH STREET","PHOENIX AZ 85020","(602) 953-2933","(602) 277-4900"]
["078570001","KAIZEN EDUCATION FOUNDATION DBA GILBERT ARTS ACADEMY","862 E. ELLOIT ROAD","GILBERT AZ 85234","(602) 953-2933","(602) 953-0831"]
["078571000","KAIZEN EDUCATION FOUNDATION DBA LIBERTY ARTS ACADEMY","7878 N. 16TH STREET","PHOENIX AZ 85020","(602) 953-2933","(602) 277-4900"]
["078571001","LIBERTY ARTS ACADEMY","3015 S. POWER ROAD","MESA AZ 85212","(480) 830-3444","(480) 830-4335"]
["078572000","US MENTAL MATH FEDERATION INCORP","430 W. WARNER RD. SUITE #130","TEMPE AZ 85284","(602) 330-9579","(208) 445-4555"]
["078572001","AIM HIGH INSTITUTE","430 W. WARNER RD. #103","TEMPE AZ 85284","(480) 559-9224","(208) 445-4555"]
["078575000","BASIS SCHOOL, INC.","7975 N. HAYDEN RD. SUITE B-100","SCOTTSDALE AZ 85258","(520) 977-7248","(480) 289-2089"]
["078575301","BASIS ORO VALLEY","11155 N. ORACLE RD.","ORO VALLEY AZ 85737","(520) 308-5220","(520) 308-5220"]
["078576000","KAIZEN EDUCATION FOUNDATION DBA MISSION HEIGHTS PREPARATORY HIGH SCHOOL","7878 NORTH 16TH STREET","PHOENIX AZ 85022","(602) 568-5219","( ) -"]
["078576001","MISSION HEIGHTS PREPARATORY HIGH SCHOOL","7878 NORTH 16TH STREET 150","PHOENIX AZ 85020","(520) 836-9383","(520) 836-9662"]
["078577000","SONORAN SCIENCE ACADEMY - PHOENIX METRO","14647 S 50TH ST 175","PHOENIX AZ 85044","(480) 940-5440","(480) 940-5458"]
["078577001","SONORAN SCIENCE ACADEMY - PHOENIX METRO","17667 N. 91ST AVENUE","PEORIA AZ 85382","(480) 940-5440","(480) 940-5458"]
["078578000","SOUTH VALLEY ACADEMY, INC.","15220 S. 50TH STREET SUITE 105","PHOENIX AZ 85044","(623) 385-3580","(623) 875-9261"]
["078578301","SOUTH VALLEY PREP AND ARTS SCHOOL","4039 E RAYMOND STREET #3","PHOENIX AZ 85040","(480) 763-4032","(480) 705-9045"]
["078580000","KAIZEN EDUCATION FOUNDATION DBA HAVASU PREPARATORY ACADEMY","7878 N. 16TH STREET","PHOENIX AZ 85020","(602) 953-2933","( ) -"]
["078580001","HAVASU PREPARATORY ACADEMY","7878 N. 16TH STREET 150","PHOENIX AZ 85020","(928) 854-4011","( ) -"]
["078581000","BNE ASHUR","P.O. BOX 84405","PHOENIX AZ 85071","() -","( ) -"]
["078581001","CORE CONTINENTAL","17340 N. 63RD AVE","GLENDALE AZ 85308","(623) 236-3381","(888) 391-9532"]
["078582000","AHWATUKEE FOOTHILLS PREP EARLY COLLEGE HIGH SCHOOL, INC.","10210 S. 50TH PLACE","PHOENIX AZ 85044","(480) 763-5101","(480) 763-5107"]
["078582001","AHWATUKEE FOOTHILLS PREP EARLY COLLEGE HIGH","10210 S. 50TH PLACE","PHOENIX AZ 85044","(480) 763-5101","(480) 763-5107"]
["078583000","INTERNATIONAL CHARTER SCHOOL OF ARIZONA","10460 N 56TH STREET","SCOTTSDALE AZ 85253","(602) 733-9342","(602) 412-8188"]
["078583001","INTERNATIONAL CHARTER SCHOOL OF ARIZONA","9128 EAST SAN SALVADOR DRIVE","SCOTTSDALE AZ 85258","(480) 443-2545","( ) -"]
["078584000","NORTH PHOENIX PREPARATORY ACADEMY","3102 N. 56TH STREET 300","PHOENIX AZ 85018","(602) 438-7045","(602) 438-7242"]
["078584001","GREAT HEARTS ACADEMIES - NORTH PHOENIX PREP","3102 N 56TH STREET 300","PHOENIX AZ 85018","(602) 438-7045","(602) 438-7242"]
["078585000","GEORGE GERVIN YOUTH CENTER, INC.","6903 SUNBELT DR. S.","SAN ANTONIO TX 78218","() -","( ) -"]
["078585001","GEORGE GERVIN PREP ACADEMY","40 W BASELINE RD SUITE 101","TEMPE AZ 85283","() -","( ) -"]
["078586000","BALL CHARTER SCHOOLS (VAL VISTA)","2207 NORTH DOBSON ROAD","CHANDLER AZ 85224","(480) 855-6325","(480) 855-6323"]
["078586001","BALL CHARTER SCHOOLS (VAL VISTA)","4120 S. VAL VISTA DR.","GILBERT AZ 85297","(480) 656-5555","( ) -"]
["078587000","ARIZONA AGRIBUSINESS & EQUINE CENTER, INC.","PO BOX 84108","PHOENIX AZ 85071","(602) 297-8500","(602) 297-8540"]
["078587201","ARIZONA AGRIBUSINESS & EQUINE CENTER - ESTRELLA","3400 DYSART RD BLDGS A-D","AVONDALE AZ 85007","(623) 535-0754","(602) 297-8540"]
["078588000","BASIS SCHOOL, INC.","7975 N. HAYDEN RD. SUITE B-100","SCOTTSDALE AZ 85258","(480) 767-7696","(480) 289-2089"]
["078588301","BASIS PEORIA","25950 NORTH LAKE PLEASANT PARKWAY","PEORIA AZ 85383","(623) 566-9100","(623) 566-9109"]
["078589000","BASIS SCHOOL, INC.","7975 N. HAYDEN RD. SUITE B-100","SCOTTSDALE AZ 85258","(480) 289-2088","(480) 289-2089"]
["078589301","BASIS CHANDLER","1800 EAST CHANDLER BLVD","CHANDLER AZ 85225","(480) 289-2088","(480) 289-2089"]
["078590000","ARCHWAY CLASSICAL ACADEMY SCOTTSDALE","3102 N. 56TH ST 300","PHOENIX AZ 85018","(602) 438-7045","(602) 438-7242"]
["078590301","GREAT HEARTS ACADEMIES - ARCHWAY SCOTTSDALE","444 N. 44TH ST 100","PHOENIX AZ 85008","() -","( ) -"]
["078591000","TRIVIUM PREPARATORY ACADEMY","444 N. 44TH STREET 100","PHOENIX AZ 85008","(602) 438-7045","(602) 438-7242"]
["078591301","GREAT HEARTS ACADEMIES - TRIVIUM PREP","3102 N. 56TH STREET 300","PHOENIX AZ 85018","(623) 414-4883","( ) -"]
["078592000","MARYVALE PREPARATORY ACADEMY","444 N. 44TH STREET 100","PHOENIX AZ 85008","(602) 438-7045","(602) 438-7242"]
["078592001","GREAT HEARTS ACADEMIES- MARYVALE PREP","3102 N. 56TH ST. SUITE 300","PHOENIX AZ 85018","() -","( ) -"]
["078593000","GREENHOUSE MONTESSORI SCHOOL, INC.","505 SOUTH GILBERT ROAD","GILBERT AZ 85296","(480) 635-0386","( ) -"]
["078593001","GREENHOUSE MONTESSORI SCHOOL","505 S GILBERT RD","GILBERT AZ 85296","(480) 635-0386","( ) -"]
["078594000","HAPPY VALLEY SCHOOL, INC.","827 E. SIXTH AVE","MESA AZ 85204","(623) 376-2900","(623) 376-9030"]
["078594001","HAPPY VALLEY SCHOOL EAST CAMPUS","827 E. 6TH AVE","MESA AZ 85204","(480) 560-5540","(480) 964-6566"]
["078595000","ARCHWAY CLASSICAL ACADEMY TRIVIUM","444 N. 44TH ST 100","PHOENIX AZ 85008","() -","( ) -"]
["078595301","GREAT HEARTS ACADEMIES - ARCHWAY TRIVIUM","444 NORTH 44TH ST. 100","PHOENIX AZ 85008","() -","( ) -"]
["078596000","ARCHWAY CLASSICAL ACADEMY VERITAS","444 N. 44TH ST. 100","PHOENIX AZ 85008","() -","( ) -"]
["078596301","GREAT HEARTS ACADEMIES - ARCHWAY VERITAS","444 NORTH 44TH ST 100","PHOENIX AZ 85008","() -","( ) -"]
["078597000","ARCHWAY CLASSICAL ACADEMY CHANDLER","444 N. 44TH ST. 100","CHANDLER AZ 85008","(480) 855-6474","(480) 855-7475"]
["078597301","GREAT HEARTS ACADEMIES - ARCHWAY CHANDLER","444 N. 44TH ST. 100","PHOENIX AZ 85008","() -","( ) -"]
["078598000","PLC ARTS ACADEMY AT SCOTTSDALE, INC.","2504 S. 91ST AVE.","TOLLESON AZ 85353","(623) 474-2120","(623) 936-5337"]
["078598001","PLC ARTS ACADEMY AT SCOTTSDALE, INC.","2504 S. 91ST AVE.","TOLLESON AZ 85353","(623) 474-2120","(623) 936-5337"]
["078599000","SOUTH PHOENIX ACADEMY INC.","15220 S. 50TH STREET SUITE 105","PHOENIX AZ 85044","(623) 385-3580","(623) 875-9261"]
["078599301","SOUTH PHOENIX PREP AND ARTS ACADEMY","4039 E RAYMOND STREET #3","PHOENIX AZ 85040","(480) 763-4032","(480) 705-9045"]
["078603000","OMEGA SCHOOLS D.B.A. OMEGA ACADEMY, INC.","8632 W. NORTHERN AVE.","GLENDALE AZ 85305","(623) 979-7173","(623) 218-1332"]
["078603001","OMEGA ACADEMY","17505 N. 79TH AVE.. SUITE 112","GLENDALE AZ 85308","(623) 776-2069","(623) 878-4254"]
["078603002","OASIS HIGH SCHOOL","17505 N. 79TH AVE. SUITE 112","GLENDALE AZ 85308","(623) 776-2069","(623) 878-4254"]
["078603005","S. STURGEON MIDDLE SCHOOL","17505 N. 79TH AVE. SUITE 112","GLENDALE AZ 85308","(623) 776-2069","(623) 878-4254"]
["078603006","LA PUERTA HIGH SCHOOL","17505 N. 79TH AVE. SUITE 112","GLENDALE AZ 85308","(623) 776-2069","(623) 878-4254"]
["078603007","C. DOBY MIDDLE SCHOOL","17505 N. 79TH AVE. SUITE 112","GLENDALE AZ 85308","(623) 776-2069","(623) 878-4254"]
["078603008","STELLAR PREP","17505 N. 79TH AVE. SUITE 112","GLENDALE AZ 85308","(623) 776-2069","(623) 878-4254"]
["078604000","ACADEMY OF EXCELLENCE, INC.","425 N 36TH STREET","PHOENIX AZ 85008","(602) 389-4271","(602) 389-4278"]
["078604004","ACADEMY OF EXCELLENCE - CENTRAL ARIZONA","1530 S. ARIZONA BLVD","COOLIDGE AZ 85228","(520) 723-4773","( ) -"]
["078604101","ACADEMY OF EXCELLENCE","425 NORTH 36TH STREET","PHOENIX AZ 85008","(602) 389-4271","(602) 389-4278"]
["078604102","FAY LANDRUM ACADEMY","1902 WEST ROESER ROAD","PHOENIX AZ 85041","(602) 237-6030","(602) 358-7606"]
["078608000","FLORENCE CRITTENTON SERVICES OF ARIZONA, INC.","715 WEST MARIPOSA STREET","PHOENIX AZ 85013","(602) 274-7318","(602) 288-4118"]
["078608001","GIRLS LEADERSHIP ACADEMY OF ARIZONA","715 W. MARIPOSA ST.","PHOENIX AZ 85013","() -","( ) -"]
["078609000","RIDGELINE ACADEMY, A CHALLENGE FOUNDATION ACADEMY","33625 NORTH VALLEY PARKWAY","PHOENIX AZ 85085","(623) 223-1335","( ) -"]
["078609101","RIDGELINE ACADEMY-A CHALLENGE FOUNDATION ACADEMY, INC.","33625 NORTH VALLEY PARKWAY","PHOENIX AZ 85085","(623) 223-1335","( ) -"]
["078611000","FRIENDLY HOUSE, INC.","P. O. BOX 3695","PHOENIX AZ 85030","(602) 257-1870","(602) 254-3135"]
["078611001","FRIENDLY HOUSE ACADEMIA DEL PUEBLO ELEM","PO BOX 3695","PHOENIX AZ 85031","() -","( ) -"]
["078613000","BOYS & GIRLS CLUBS OF THE EAST VALLEY DBA MESA ARTS ACADEMY","221 WEST SIXTH AVENUE","MESA AZ 85210","(480) 844-3965","(480) 844-0205"]
["078613101","MESA ARTS ACADEMY","221 WEST 6TH AVENUE","MESA AZ 85210 2446","() -","() -"]
["078614000","AVONDALE LEARNING DBA PRECISION ACADEMY","7318 W. LYNWOOD","PHOENIX AZ 85035","(623) 936-8682","(623) 936-8559"]
["078614201","PRECISION ACADEMY","7318 WEST LYNWOOD ST.","PHOENIX AZ 85035","(623) 936-8682","(623) 936-8559"]
["078621000","PARTNERSHIP WITH PARENTS, INC.","5821 W. BEVERLY LN","GLENDALE AZ 85306","(602) 896-2900","(602) 467-9540"]
["078621101","DESERT HEIGHTS CHARTER SCHOOL","5821 WEST BEVERLY LANE","GLENDALE AZ 85306","(602) 896-2900","( ) -"]
["078628000","FOOTHILLS ACADEMY","7191 E. ASHLER HILLS DRIVE","SCOTTSDALE AZ 85266","(480) 488-5583","(480) 488-6902"]
["078628001","FOOTHILLS ACADEMY","7191 EAST ASHLER HILLS DRIVE","SCOTTSDALE AZ 85266","(480) 488-5583","(480) 488-6902"]
["078630000","TWENTY FIRST CENTURY CHARTER SCHOOL, INC. BENNETT ACADEMY","2930 W. BETHANY HOME ROAD","PHOENIX AZ 85017","(602) 943-1317","(602) 943-0280"]
["078630001","BENNETT ACADEMY","2930 WEST BETHANY HOME ROAD","PHOENIX AZ 85017","() -","() -"]
["078630003","BENNETT ACADEMY - VENTURE SITE","1535 W. DUNLAP AVE.","PHOENIX AZ 85020","(602) 242-4220","( ) -"]
["078634000","STEP UP SCHOOLS, INC.","44 EAST 5TH STREET","MESA AZ 85201","(480) 813-9537","(480) 813-6742"]
["078634202","STEP UP SCHOOL","44 EAST 5TH STREET","MESA AZ 85201","(480) 606-8674","(480) 813-9537"]
["078647000","MARICOPA COUNTY COMMUNITY COLLEGE DISTRICT DBA GATEWAY EARLY COLLEGE HIGH SCHOOL","108 NORTH 40TH STREET","PHOENIX AZ 85034","(602) 286-8759","(602) 286-8752"]
["078647201","GATEWAY EARLY COLLEGE HIGH SCHOOL","108 NORTH 40TH STREET","PHOENIX AZ 85034","() -","() -"]
["078656000","SALT RIVER PIMA-MARICOPA COMMUNITY SCHOOLS","10005 E OSBORN RD","SCOTTSDALE AZ 85256","(480) 850-7663","(480) 850-7600"]
["078656001","SALT RIVER HIGH SCHOOL","10,005 E. OSBORN RD.","SCOTTSDALE AZ 85256","(480) 362-2000","(480) 362-2090"]
["078656002","SALT RIVER ACCELERATED LEARNING ACADEMY","10005 EAST OSBORN ROAD","SCOTTSDALE AZ 85256","(480) 362-2130","(480) 362-2131"]
["078663000","GLOBAL RENAISSANCE ACADEMY OF DISTINGUISHED EDUCATION","7541 SOUTH WILLOW DRIVE","TEMPE AZ 85283","(480) 233-3622","(480) 456-0505"]
["078663007","GRAND CANYON COLLEGE PREPARATORY CHARTER SCHOOL","7541 SOUTH WILLOW DRIVE","TEMPE AZ 85283","(480) 233-3622","(480) 491-7096"]
["078664000","EMPLOY-ABILITY UNLIMITED, INC.","7785 W. PEORIA AVE.","PEORIA AZ 85345","(623) 930-1734","(623) 930-8709"]
["078664001","COPPER CANYON ACADEMY","7785 W. PEORIA AVE","PEORIA AZ 85345","(623) 930-1734","(623) 930-8709"]
["078664002","DESERT POINTE ACADEMY","7785 W. PEORIA AVE","PEORIA AZ 85345","(623) 930-1734","(623) 930-8709"]
["078665000","ARIZONA ACADEMY OF SCIENCE AND TECHNOLOGY, INC.","P.O. BOX 13606","PHOENIX AZ 85002","(602) 253-1199","(602) 253-0327"]
["078665001","ARIZONA ACADEMY OF SCIENCE AND TECHNOLOGY","P.O. BOX 13606","PHOENIX AZ 85002","() -","( ) -"]
["078670000","PRECISION ACADEMY SYSTEMS, INC","3906 E. BROADWAY 105","PHOENIX AZ 85040","(602) 453-3661","(602) 453-3667"]
["078670201","PRECISION ACADEMY SYSTEM CHARTER SCHOOL","3906 EAST BRAODWAY","PHOENIX AZ 85040","(602) 453-3661","(602) 453-3667"]
["078679000","GAR, LLC DBA STUDENT CHOICE HIGH SCHOOL","1833 N. SCOTTSDALE RD.","TEMPE AZ 85281","(480) 947-9511","(480) 947-9624"]
["078679101","STUDENT CHOICE HIGH SCHOOL","1833 N. SCOTTSDALE ROAD","TEMPE AZ 85281","(480) 947-9511","(480) 947-9624"]
["078679102","STUDENT CHOICE HIGH SCHOOL","8194 W. DEER VALLEY RD B108","PEORIA AZ 85382","(480) 947-9511","(480) 947-9624"]
["078679103","STUDENT CHOICE HIGH SCHOOL TATUM CAMPUS","4645 E. MARILYN RD","PHOENIX AZ 85032","(602) 334-4104","(602) 493-0033"]
["078683000","EAST VALLEY ACADEMY","910 N. 85TH PLACE","SCOTTSDALE AZ 85257","(480) 946-3071","(480) 421-0183"]
["078683101","EAST VALLEY ACADEMY","910 NORTH 85TH PLACE","SCOTTSDALE AZ 85257","() -","() -"]
["078685000","LEGACY SCHOOLS","7420 E. MAIN ST.","MESA AZ 85207","(480) 981-2008","(480) 641-4473"]
["078685101","LEGACY ELEMENTARY SCHOOL","7618 E. UNIVERSITY DR.","MESA AZ 85207","(480) 981-1500","(480) 641-4473"]
["078687000","EDUPRIZE SCHOOLS, LLC","4567 W ROBERTS","QUEEN CREEK AZ 85242","(480) 888-1610","(480) 888-1655"]
["078687101","EDUPRIZE SCHOOL","4567 W. ROBERTS","QUEEN CREEK AZ 85242","(480) 888-1610","(480) 888-1655"]
["078687102","EDUPRIZE SCHOOL GILBERT","580 W. MELODY AVE.","GILBERT AZ 85233","(480) 813-9537","(480) 813-6742"]
["078688000","SAGE ACADEMY, INC.","1055 E. HEARN RD","PHOENIX AZ 85022","(602) 485-3402","(602) 485-7874"]
["078688101","SAGE ACADEMY","1055 E HEARN RD","SCOTTSDALE AZ 85022","(602) 485-3402","(602) 485-7874"]
["078701000","ACCLAIM CHARTER SCHOOL","7624 W. INDIAN SCHOOL RD.","PHOENIX AZ 85033","(623) 691-0919","(623) 691-6091"]
["078701101","ACCLAIM ACADEMY","7624 W. INDIAN SCHOOL ROAD","PHOENIX AZ 85033","(623) 691-0919","(623) 691-6091"]
["078704000","DCS PARTNER, INC. DBA DESTINY COMMUNITY SCHOOL.","1543 W. ELLIOT RD. SUITE 104","GILBERT AZ 85233","(480) 325-8950","(480) 452-0911"]
["078704101","DESTINY COMMUNITY SCHOOL","4710 E. BASELINE RD.","MESA AZ 85206","(480) 325-8950","(480) 452-0911"]
["078705000","SEQUOIA CHOICE SCHOOLS, LLLP","1460 SOUTH HORNE","MESA AZ 85204","(480) 461-3222","(480) 890-4106"]
["078705206","SEQUOIA CHOICE - STAR PERFORMING ARTS","1460 SOUTH HORNE","MESA AZ 85204","() -","( ) -"]
["078705208","SEQUOIA CHOICE - VILLAGE","1460 SOUTH HORNE","MESA AZ 85204","() -","( ) -"]
["078707000","ARIZONA AGRIBUSINESS & EQUINE CENTER, INC.","P.O. BOX 84108","PHOENIX AZ 85071","(602) 297-8500","(602) 297-8540"]
["078707202","AAEC - PARADISE VALLEY","17811 NORTH 32ND STREET","PHOENIX AZ 85032","(602) 243-8004","(602) 243-8001"]
["078708000","GENESIS PROGRAM, INC.","P.O. BOX 24430","PHOENIX AZ 85074","(602) 254-8050","(602) 254-8094"]
["078708201","GENESIS ACADEMY","525 EAST MCDOWELL RD.","PHOENIX AZ 85004","(602) 254-8090","(602) 254-8094"]
["078710000","INTERNATIONAL COMMERCE SECONDARY SCHOOLS, INC.","5201 NORTH 7TH STREET","PHOENIX AZ 85014","(602) 650-1333","(602) 650-1881"]
["078710001","HUMANITIES AND SCIENCES HIGH SCHOOL - PHOENIX","5201 N. 7TH STREET","PHOENIX AZ 85014","(602) 650-1333","(602) 650-1881"]
["078710003","INTERNATIONAL COMMERCE HIGH SCHOOL - PHOENIX","5201 N. 7TH STREET","PHOENIX AZ 85014","(602) 650-1116","(602) 650-1881"]
["078711000","ESPIRITU COMMUNITY DEVELOPMENT CORP.","4848 SOUTH 2ND STREET","PHOENIX AZ 85040","(602) 243-7788","(602) 243-7799"]
["078711001","NFL YET COLLEGE PREP ACADEMY","4848 SOUTH 2ND STREET","PHOENIX AZ 85040","() -","() -"]
["078711004","REYES MARIA RUIZ LEADERSHIP ACADEMY","4848 S. 2ND ST.","PHOENIX AZ 85040","(602) 243-7788","(602) 243-7799"]
["078711005","ESPERANZA MONTESSORI ACADEMY","4848 S. 2ND ST.","PHOENIX AZ 85040","(602) 243-7788","(602) 243-7799"]
["078712000","HERITAGE ACADEMY, INC.","32 SOUTH CENTER","MESA AZ 85210","(480) 969-5641","(480) 969-6972"]
["078712001","HERITAGE ACADEMY","32 S. CENTER","MESA AZ 85210","() -","() -"]
["078712002","HERITAGE ACADEMY QUEEN CREEK","32 S. CENTER STREET","MESA AZ 85210","(480) 969-5641","(480) 969-6921"]
["078713000","HUMANITIES AND SCIENCES ACADEMY OF THE UNITED STATES, INC.","5201 N. 7TH STREET","PHOENIX AZ 85014","(602) 650-1116","(602) 650-1881"]
["078713003","INTERNATIONAL COMMERCE HIGH SCHOOL - TEMPE","1105 E. BROADWAY ROAD","TEMPE AZ 85282","() -","() -"]
["078713004","HUMANITIES AND SCIENCE HIGH SCHOOL - TEMPE","5201 NORTH 7TH STREET","PHOENIX AZ 85014","() -","( ) -"]
["078714000","PHOENIX ADVANTAGE CHARTER SCHOOL, INC.","3738 N. 16TH STREET","PHOENIX AZ 85016","(602) 263-8777","(602) 263-8822"]
["078714001","PHOENIX ADVANTAGE CHARTER SCHOOL","3738 N. 16TH STREET","PHOENIX AZ 85016","() -","() -"]
["078715000","VILLA MONTESSORI CHARTER SCHOOL","4535 NORTH 28TH STREET","PHOENIX AZ 85016","(602) 955-2210","(602) 957-4017"]
["078715101","VILLA MONTESSORI - PHOENIX CAMPUS","4535 N. 28TH STREET","PHOENIX AZ 85016","() -","() -"]
["078716000","PHOENIX EDUCATION MANAGEMENT, LLC,","1903 EAST ROESER","PHOENIX, AZ 85040","(602) 305-8865","(602) 323-5526"]
["078716001","SABIS INTERNATIONAL","1903 E. ROESER RD","PHOENIX AZ 85040","(602) 305-8865","(602) 323-5526"]
["078717000","EDUPRENEURSHIP, INC.","2632 W. AUGUSTA AVE.","PHOENIX AZ 85051","(602) 973-8998","(602) 973-5510"]
["078717102","EDUPRENEURSHIP STUDENT CENTER (ESC) PHOENIX","2632 W. AUGUSTA AVE.","PHOENIX AZ 85051","(602) 973-8998","(602) 973-5510"]
["078718000","KAIZEN EDUCATION FOUNDATION DBA EL DORADO HIGH SCHOOL","7878 N. 16TH ST. SUITE 150","PHOENIX AZ 85020","(602) 953-2933","(602) 277-4900"]
["078718212","KAIZEN EDUCATION FOUNDATION DBA EL DORADO HIGH SCHOOL","2200 N. ARIZONA AVE. SUITE 17","CHANDLER AZ 85224","(480) 726-9536","(480) 726-9543"]
["078720000","PINNACLE EDUCATION-MESA, INC.","2224 W SOUTHERN AVE. SUITE 1","TEMPE AZ 85282","(480) 755-8222","(480) 755-8111"]
["078720002","PINNACLE HIGH SCHOOL - MESA","151 N. CENTENNIAL WAY","MESA AZ 85201","(480) 668-5003","( ) -"]
["078722000","ARIZONA SCHOOL FOR THE ARTS","1410 N THIRD STREET","PHOENIX AZ 85004","(602) 257-1444","(602) 252-7795"]
["078722001","ARIZONA SCHOOL FOR THE ARTS","1410 NORTH 3RD STREET","PHOENIX AZ 85004","(602) 257-1444","(602) 252-7795"]
["078723000","ARIZONA CALL-A-TEEN YOUTH RESOURCES, INC.","649 N 6TH AVE","PHOENIX AZ 85003","(602) 252-6721","(602) 252-2952"]
["078723201","ARIZONA CALL-A-TEEN CENTER FOR EXCELLENCE","649 NORTH 6TH AVENUE","PHOENIX AZ 85003","() -","() -"]
["078724000","ALLEN-COCHRAN ENTERPRISES, INC.","1691 WEST GRAND CANYON DRIVE","CHANDLER AZ 85248","(480) 632-1940","(480) 831-3036"]
["078724101","CENTER FOR EDUCATIONAL EXCELLENCE","1700 E. ELLIOT, #9","TEMPE AZ 85284","(480) 632-1940","(480) 831-3036"]
["078725000","AMERICAN LEADERSHIP ACADEMY, INC.","2350 E. GERMANN ROAD SUITE 26","CHANDLER AZ 85286","(480) 988-3204","(480) 988-3280"]
["078725001","AMERICAN LEADERSHIP ACADEMY","3155 S. SANTAN VILLAGE PKWY","GILBERT AZ 85295","() -","( ) -"]
["078725002","AMERICAN LEADERSHIP ACADEMY - QUEEN CREEK","17019 SOUTH GREENFIELD ROAD","GILBERT AZ 85295","(480) 988-3204","(480) 988-3280"]
["078725003","ALA SAN TAN","34696 N VILLAGE LANE","SAN TAN VALLEY AZ 85142","(480) 420-2100","(480) 888-0881"]
["078725004","ALA MESA","2350 E. GERMANN RD. SUITE 26","CHANDLER AZ 85286","(480) 420-2110","(480) 398-2073"]
["078725005","ALA QC ELEM","19843 E. CHANDLER HEIGHTS RD.","QUEEN CREEK AZ 85142","(480) 420-2150","(480) 987-4527"]
["078726000","PINNACLE EDUCATION-TEMPE, INC.","2224 W. SOUTHERN AVENUE SUITE 1","TEMPE AZ 85282","(480) 755-8222","(480) 755-8111"]
["078726001","PINNACLE HIGH SCHOOL - TEMPE","2224 W. SOUTHERN AVE. SUITE #2","TEMPE AZ 85282","() -","() -"]
["078731000","BACK-TO-BASICS SCHOOL","PO BOX 2208","PEORIA AZ 85380","(623) 444-7963","(623) 444-8630"]
["078731101","HORIZONS BACK-TO-BASICS","PO BOX 2208","PEORIA AZ 85380","(623) 444-7963","(623) 444-8630"]
["078733000","PATRIOT ACADEMY, INC.","19011 E. SAN TAN BLVD SUITE 101","QUEEN CREEK AZ 85242","(602) 367-0378","(480) 807-1209"]
["078733101","PATRIOT ACADEMY","19011 E. SAN TAN BLVD. SUITE 101","QUEEN CREEK AZ 85242","() -","() -"]
["078734000","SCOTTSDALE HORIZONS CHARTER SCHOOL","PO BOX 2208","PEORIA AZ 85380","(623) 444-7963","(623) 444-8630"]
["078734102","PEORIA HORIZONS CHARTER SCHOOL","PO BOX 2208","PEORIA AZ 85380","(480) 990-7223","(480) 990-0936"]
["078734106","MONTAGE ACADEMY","PO BOX 2208","PEORIA AZ 85380","(480) 488-0215","(480) 488-0241"]
["078735000","RSD CHARTER SCHOOL, INC.","12814 N. 28TH DRIVE SUITE 115","PHOENIX AZ 85029","(602) 993-5225","(602) 993-0508"]
["078735201","INTELLI-SCHOOL CHARTER HIGH SCHOOL - GLENDALE SITE","13806 NORTH 51ST AVENUE #205","GLENDALE AZ 85306","(602) 564-7300","(602) 564-7301"]
["078735202","RSD COMPUTERIZED PLUS HIGH SCHOOL","12814 N. 28TH DRIVE 100","PHOENIX AZ 85029","(602) 993-5225","(602) 993-0506"]
["078736000","BASIS SCHOOL, INC.","11485 N. 136TH STREET 109","SCOTTSDALE AZ 85259","(480) 289-2088","(480) 289-2089"]
["078736001","BASIS SCOTTSDALE","11440 N. 136TH STREET","SCOTTSDALE AZ 85259","(480) 451-7500","(480) 451-4555"]
["078740000","EDKEY, INC. - REDWOOD ACADEMY","1460 S. HORNE","MESA AZ 85204","(480) 461-3200","(480) 649-0747"]
["078740101","SEQUOIA REDWOOD CHARTER SCHOOL","6810 W. THUNDERBIRD RD.","PEORIA AZ 85048","(623) 878-0986","(623) 776-7956"]
["078741000","INTELLI-SCHOOL, INC.","2222 W. NORTHERN AVE. SUITE A110","PHOENIX AZ 85021","(602) 564-7380","(602) 564-7381"]
["078741205","INTELLI-SCHOOL - PARADISE VALLEY","2222 W. NORTHERN AVE. SUITE A110","PHOENIX AZ 85021","(602) 564-7280","(602) 564-7281"]
["078742000","EDKEY, INC. - PATHFINDER ACADEMY","1460 S. HORNE","MESA AZ 85204","(480) 461-3200","(480) 649-0747"]
["078742001","PATHFINDER ACADEMY","2542 N. 76TH PLACE","MESA AZ 85207","(480) 986-7071","(480) 986-9858"]
["078743000","MCCCD ON BEHALF OF PHOENIX COLLEGE PREPARATORY ACADEMY","2411 W. 14TH STREET","TEMPE AZ 85281","(480) 731-8106","(480) 731-8111"]
["078743201","PHOENIX COLLEGE PREPARATORY ACADEMY","1202 WEST THOMAS ROAD OSE105","PHOENIX AZ 85013","(602) 285-7998","(602) 285-7697"]
["078744000","EDKEY, INC. - SEQUOIA SCHOOL FOR THE DEAF AND HARD OF HEARING","1460 S. HORNE","MESA AZ 85204","(480) 461-3200","(480) 649-0747"]
["078744001","SEQUOIA SCHOOL FOR THE DEAF AND HARD OF HEARING","1460 S. HORNE","MESA AZ 85204","() -","( ) -"]
["078744002","SEQUOIA SCHOOL FOR THE DEAF AND HARD OF HEARING - CLOSED","1460 SOUTH HORNE","MESA AZ 85204","() -","( ) -"]
["078745000","BLUEPRINT EDUCATION","5651 W. TALAVI BLVD. SUITE 170","GLENDALE AZ 85306","(602) 674-5555","(602) 943-9700"]
["078745201","HOPE HIGH SCHOOL","7620 W. LOWER BUCKEYE RD. SUITE 104","PHOENIX AZ 85043","(623) 772-8013","( ) -"]
["078745203","BLUEPRINT HIGH SCHOOL","670 NORTH ARIZONA AVENUE 1","CHANDLER AZ 85225","(480) 892-0235","(480) 892-0236"]
["078746000","BRADLEY ACADEMY OF EXCELLENCE, INC.","16060 W. LOWER BUCKEYE PARKWAY","GOODYEAR AZ 85338","(623) 932-9902","(623) 932-9904"]
["078746101","BRADLEY ACADEMY OF EXCELLENCE","200 NORTH DYSART ROAD","AVONDALE AZ 85323","() -","() -"]
["078747000","TERTULIA","812 SOUTH 6TH AVENUE","PHOENIX AZ 85003","(602) 262-2200","(602) 262-2570"]
["078747001","TERTULIA PRE-COLLEGE COMMUNITY PRIMARY CAMPUS","812 SOUTH 6TH AVENUE","PHOENIX AZ 85003","() -","() -"]
["078747002","TERTULIA PRE-COLLEGE COMMUNITY INTERMEDIATE CAMPUS","812 SOUTH 6TH AVENUE","PHOENIX AZ 85003","() -","() -"]
["078748201","CAREER SUCCESS HIGH SCHOOL - MESA","1455 S. STAPLEY DRIVE SUITE 20","MESA AZ 85204","() -","() -"]
["078749000","REID TRADITIONAL SCHOOLS' VALLEY ACADEMY, INC.","14841 N. BLACK CANYON HIGHWAY","PHOENIX AZ 85023","(623) 478-2344","(623) 478-2333"]
["078749001","REID TRADITIONAL SCHOOLS' VALLEY ACADEMY","1520 WEST ROSE GARDEN LANE","PHOENIX AZ 85027","() -","() -"]
["078751000","INTEGRITY EDUCATION INCORPORATED","PO BOX 10247","SCOTTSDALE AZ 85271","(480) 731-4829","(480) 945-2008"]
["078751001","INTEGRITY EDUCATION CENTRE","PO BOX 10247","SCOTTSDALE AZ 85271","(480) 731-4829","(480) 945-2008"]
["078752000","HORIZON COMMUNITY LEARNING CENTER, INC.","16233 S. 48TH STREET","PHOENIX AZ 85048","(480) 659-3000","(480) 659-3022"]
["078752003","HORIZON COMMUNITY LEARNING CENTER","16233 S. 48TH ST.","PHOENIX AZ 85048","() -","() -"]
["078753000","KACHINA COUNTRY DAY SCHOOL","6602 EAST MALCOMB DRIVE","PARADISE VALLEY AZ 85253","(480) 348-1333","(480) 348-1454"]
["078753001","KACHINA COUNTRY DAY SCHOOL #1","6602 E. MALCOMB DRIVE","PARADISE VALLEY AZ 85253","(480) 951-0745","(480) 951-1267"]
["078753005","KACHINA COUNTRY DAY SCHOOL - NORTH CAMPUS","6602 E. MALCOMB DR.","PARADISE VALLEY AZ 85253","(602) 393-6500","(602) 393-6501"]
["078754000","BENJAMIN FRANKLIN CHARTER SCHOOL","320 E WARNER RD.","GILBERT AZ 85296","(480) 264-3710","(480) 264-4405"]
["078754101","BENJAMIN FRANKLIN CHARTER SCHOOL - MESA","2345 N. HORNE","MESA AZ 85203","() -","() -"]
["078754102","BENJAMIN FRANKLIN CHARTER SCHOOL - QUEEN CREEK","21151 CRISMON ROAD","QUEEN CREEK AZ 85242","() -","() -"]
["078754103","BENJAMIN FRANKLIN CHARTER SCHOOL - GILBERT","320 E. WARNER RD.","GILBERT AZ 85296","(480) 632-0722","(480) 632-8716"]
["078754104","BENJAMIN FRANKLIN CHARTER SCHOOL - POWER","13732 E. WARNER RD.","GILBERT AZ 85296","(480) 632-0722","(480) 558-1197"]
["078755000","FOUNTAIN HILLS CHARTER SCHOOL","P.O. BOX 18419","FOUNTAIN HILLS AZ 85269","(480) 837-0046","(480) 837-0024"]
["078755101","FOUNTAIN HILLS CHARTER SCHOOL","P.O. BOX 18419","FOUNTAIN HILLS AZ 85269","(480) 837-0046","(480) 837-0024"]
["078757000","VICTORY HIGH SCHOOL, INC.","P.O. BOX 8374","PHOENIX AZ 85066","(602) 243-7583","(602) 243-7563"]
["078757202","VICTORY HIGH SCHOOL - CAMPUS","P O BOX 8374","PHOENIX AZ 85066","() -","( ) -"]
["078758000","MONTESSORI DAY PUBLIC SCHOOLS CHARTERED, INC.","9201 NORTH 7TH AVENUE","PHOENIX AZ 85021","(602) 943-7672","(602) 395-0271"]
["078758001","MONTESSORI DAY PUBLIC SCHOOLS CHARTERED - TEMPE","1700 WEST WARNER ROAD","CHANDLER AZ 85224","(480) 730-8886","(480) 730-9072"]
["078758003","MONTESSORI DAY PUBLIC SCHOOLS CHARTERED - MOUNTAINSIDE","9215 N. 14TH STREET","PHOENIX AZ 85020","(602) 943-7672","(602) 395-0271"]
["078759000","KHALSA MONTESSORI ELEMENTARY SCHOOLS","2536 NORTH 3RD STREET","PHOENIX AZ 85004","(602) 252-3759","(602) 252-5224"]
["078759101","KHALSA MONTESSORI ELEMENTARY SCHOOL - PHOENIX","2536 N. 3RD STREET","PHOENIX AZ 85004","(602) 252-3799","(602) 252-5224"]
["078760000","NEW WORLD EDUCATIONAL CENTER","5818 N. 7TH ST.","PHOENIX AZ 85014","(602) 238-9577","(602) 238-9210"]
["078760001","NEW WORLD EDUCATIONAL CENTER","5818 N. 7TH STREET","PHOENIX AZ 85014","(602) 238-9577","(602) 238-9210"]
["078761000","TEMPE PREPARATORY ACADEMY","1251 E. SOUTHERN AVE.","TEMPE AZ 85282","(480) 839-3402","(480) 755-0546"]
["078761001","TEMPE PREPARATORY ACADEMY","1251 E. SOUTHERN AVE","TEMPE AZ 85283","(480) 839-3402","(480) 755-0546"]
["078762000","BRIGHT BEGINNINGS SCHOOL, INC.","400 N. ANDERSEN BLVD.","CHANDLER AZ 85224","(480) 821-1404","(480) 659-0031"]
["078762101","BRIGHT BEGINNINGS SCHOOL #1","400 N. ANDERSEN BLVD.","CHANDLER AZ 85224","(480) 821-1404","(480) 659-0031"]
["078762103","BRIGHT BEGINNINGS MIDDLE SCHOOL","2716 N. DOBSON RD.","CHANDLER AZ 85224","(480) 634-8867","(480) 659-8587"]
["078763000","MONTESSORI EDUCATION CENTRE CHARTER SCHOOL","2834 EAST SOUTHERN AVE","MESA AZ 85204","(480) 926-8375","(480) 503-0515"]
["078763001","MONTESSORI EDUCATION CENTRE CHARTER SCHOOL - MESA","2834 EAST SOUTHERN AVENUE","MESA AZ 85204","(480) 926-8375","(480) 503-0515"]
["078763002","MONTESSORI EDUCATION CENTRE CHARTER SCHOOL - NORTH CAMPUS","815 N. GILBERT RD.","MESA AZ 85203","() -","() -"]
["078765000","KAIZEN EDUCATION FOUNDATION DBA SOUTH POINTE JUNIOR HIGH SCHOOL","7878 N. 16TH STREET 150","PHOENIX AZ 85020","(602) 953-2933","(602) 277-4900"]
["078765103","SOUTH POINTE JUNIOR HIGH SCHOOL","7878 N. 16TH ST. 150","PHOENIX AZ 85020","(602) 953-2933","(602) 953-0831"]
["078766000","BENCHMARK SCHOOL, INC.","4120 E. ACOMA DRIVE","PHOENIX AZ 85032","(602) 765-3582","(602) 765-1932"]
["078766101","BENCHMARK SCHOOL","4120 E. ACOMA DR.","PHOENIX AZ 85032","() -","() -"]
["078767000","OMBUDSMAN EDUCATIONAL SERVICES, LTD.,A SUBSIDIARY OF EDUCATIONAL SERVICES OF AME","1585 NORTH MILWAUKEE AVENUE","LIBERTYVILLE IL 60048","(800) 833-9235","(847) 367-6191"]
["078767002","OMBUDSMAN - CHARTER WEST","3624 WEST BELL ROAD SUITE 4, 5 AND 6","GLENDALE AZ 85308","(602) 564-8102","(602) 993-1371"]
["078767003","OMBUDSMAN - CHARTER METRO","13832 N. 32ND ST., STE 218 BLDG C","PHOENIX AZ 85032","() -","() -"]
["078767004","OMBUDSMAN - CHARTER NORTHEAST","13832 N. 32ND ST., STE 218 BLDG C","PHOENIX, AZ AZ 85032","() -","() -"]
["078767006","OMBUDSMAN - CHARTER NORTHWEST","13832 N. 32ND ST., STE 218 BLDG C","PHOENIX AZ 60048","() -","() -"]
["078768000","CAMBRIDGE ACADEMY EAST, INC","9412 E. BROWN RD.","MESA AZ 85207","(480) 641-2828","(480) 325-2365"]
["078768101","CAMBRIDGE ACADEMY EAST","9412 E. BROWN RD.","MESA AZ 85207","(480) 641-2828","(480) 325-2365"]
["078768102","CAMBRIDGE ACADEMY EAST","9412 EAST BROWN ROAD","MESA AZ 85207","() -","( ) -"]
["078771000","NEW HORIZON SCHOOL FOR THE PERFORMING ARTS","446 E. BROADWAY","MESA AZ 85204","(480) 655-7444","(480) 655-8220"]
["078771001","NEW HORIZON SCHOOL FOR THE PERFORMING ARTS","446 E BROADWAY","MESA AZ 85204","() -","() -"]
["078772000","CHALLENGE SCHOOL, INC.","5801 W. GREENBRIAR DR.","GLENDALE AZ 85308","(602) 938-5411","(602) 938-5393"]
["078772001","CHALLENGE CHARTER SCHOOL","5801 WEST GREENBRIAR DRIVE","GLENDALE AZ 85308","(602) 938-5411","(602) 938-5393"]
["078773000","WESTWIND CHILDREN'S SERVICES","2045 WEST NORTHERN AVENUE","PHOENIX AZ 85021","(602) 864-7731","(602) 864-7720"]
["078773001","WESTWIND PREPARATORY ACADEMY","2045 W. NORTHERN AVENUE","PHOENIX AZ 85021","() -","() -"]
["078773003","WESTWIND PREP AT ANTHEM","2045 W. NORTHERN AVENUE","PHOENIX AZ 85021","(602) 864-1211","(602) 841-4260"]
["078774000","GEM CHARTER SCHOOL, INC.","1704 NORTH CENTER STREET","MESA AZ 85201","(480) 833-2622","(480) 833-2655"]
["078774001","GEM CHARTER SCHOOL","1704 N. CENTER STREET","MESA AZ 85201","(480) 833-2622","( ) -"]
["078775000","VICKI A. ROMERO HIGH SCHOOL","3005 E. FILLMORE ST.","PHOENIX AZ 85008","(602) 850-2600","(602) 850-2615"]
["078775201","VICKI A. ROMERO HIGH SCHOOL","3005 EAST FILLMORE STREET","PHOENIX AZ 85008","() -","( ) -"]
["078776000","PHOENIX SCHOOL OF ACADEMIC EXCELLENCE THE","5312 N. 12TH STREET SUITE 302","PHOENIX AZ 85014","(602) 424-0287","(602) 424-0281"]
["078776002","LEARNING INSTITUTE, THE","5312 N 12TH STREET 302","PHOENIX AZ 85014","(602) 241-7876","(602) 241-7886"]
["078779000","KEYSTONE MONTESSORI CHARTER SCHOOL, INC.","1025 E. LIBERTY LANE","PHOENIX AZ 85048","(480) 460-7312","(480) 283-8402"]
["078779001","KEYSTONE MONTESSORI CHARTER SCHOOL","1025 E. LIBERTY LANE","PHOENIX AZ 85048","() -","() -"]
["078781000","STEPPING STONES ACADEMY","35812 N. 7TH STREET","PHOENIX AZ 85086","(623) 465-4910","(623) 587-8514"]
["078781101","STEPPING STONES ACADEMY","35812 NORTH 7TH STREET","PHOENIX AZ 85086","(623) 465-4910","(623) 587-8514"]
["078782000","ADVANCED EDUCATION SERVICES, INC.","P.O. BOX 848","COLTON CA 92324","(909) 370-1866","(909) 370-1883"]
["078782101","CHANDLER SCHOLASTIC ACADEMY","2716 NORTH DOBSON ROAD","CHANDLER AZ 85224","(480) 782-1082","(480) 782-1089"]
["078784000","LIBERTY TRADITIONAL CHARTER SCHOOL","6400 E. GRANT RD. SUITE 120","TUCSON AZ 85715","(520) 545-0575","(520) 989-8002"]
["078784101","LIBERTY TRADITIONAL CHARTER SCHOOL","4027 N. 45TH AVE.","PHOENIX AZ 85031","(602) 442-8791","(602) 353-9270"]
["078784104","LIBERTY TRADITIONAL CHARTER SCHOOL - SADDLEBACK","5704 E GRANT RD","TUCSON AZ 85712","(520) 364-6311","(520) 364-6312"]
["078785000","FIT KIDS, INC. DBA CHAMPION SCHOOLS","7900 SOUTH JESSE OWENS PARKWAY","PHOENIX AZ 85042","(602) 341-6527","(602) 341-6529"]
["078785102","CHAMPION SCHOOLS - SOUTH MOUNTAIN YMCA","1313 NORTH 2ND STREET 18","PHOENIX AZ 85004","() -","( ) -"]
["078786000","SONORAN DESERT SCHOOL","6724 S KINGS RANCH ROAD SUITE 102","GOLD CANYON AZ 85118","(480) 396-5463","(480) 396-4980"]
["078786201","SONORAN DESERT SCHOOL","4448 E. MAIN ST. 7","MESA AZ 85205 7916","(480) 396-5463","(480) 396-4980"]
["078791000","MILESTONES CHARTER SCHOOL","4707 E. ROBERT E. LEE STREET","PHOENIX AZ 85032","(602) 404-1009","(602) 404-5456"]
["078791101","MILESTONES CHARTER SCHOOL","4707 EAST ROBERT E LEE STREET","PHOENIX AZ 85032","(602) 404-1009","(602) 404-5456"]
["078792000","PATHFINDER CHARTER SCHOOL FOUNDATION","18052 N. BLACK CANYON HIGHWAY","PHOENIX AZ 85053","(602) 547-7960","(602) 547-7922"]
["078792101","IMAGINE CORTEZ PARK ELEMENTARY","3535 W. DUNLAP","PHOENIX AZ 85051","(602) 589-9840","(602) 589-9841"]
["078793000","AIBT NON-PROFIT CHARTER HIGH SCHOOL - PHOENIX","6049 N. 43RD AVE. SUITE 200","PHOENIX AZ 85019","(602) 973-6018","(602) 589-1349"]
["078793201","RCB MEDICAL ARTS ACADEMY","6049 N. 43RD AVE","PHOENIX AZ 85019 1600","() -","() -"]
["078794000","ACADEMY WITH COMMUNITY PARTNERS INC","433 NORTH HALL","MESA AZ 85203","(480) 833-0068","(480) 833-8966"]
["078794201","ACADEMY WITH COMMUNITY PARTNERS","433 N HALL","MESA AZ 85203 7404","() -","() -"]
["078795000","JAMES MADISON PREPARATORY SCHOOL","5815 S. MCCLINTOCK","TEMPE AZ 85283","(480) 345-2306","(480) 345-0059"]
["078795201","JAMES MADISON PREPARATORY SCHOOL","5815 S. MCCLINTOCK","TEMPE AZ 85283 3227","() -","() -"]
["078796000","SELF DEVELOPMENT CHARTER SCHOOL","1709 N. GREENFIELD RD.","MESA AZ 85205","(480) 641-2640","(480) 641-2678"]
["078796101","SELF DEVELOPMENT CHARTER SCHOOL","1709 N GREENFIELD","MESA AZ 85205","(480) 641-2640","(480) 641-2678"]
["078901000","EXCALIBUR CHARTER SCHOOLS, INC.","1045 SOUTH SAN MARCOS","APACHE JUNCTION AZ 85120","(480) 373-9575","(480) 373-9600"]
["078901001","EXCALIBUR CHARTER SCHOOL","1045 SOUTH SAN MARCOS","APACHE JUNCTION AZ 85120","(480) 373-9575","(480) 373-9600"]
["078901003","AVALON ELEMENTARY","1045 SOUTH SAN MARCOS","APACHE JUNCTION AZ 85120","(480) 671-4584","(480) 671-4586"]
["078902000","CARDEN TRADITIONAL SCHOOL OF GLENDALE, INC.","4744 W. GROVERS AVENUE","GLENDALE AZ 85308","(602) 547-8806","(602) 547-2841"]
["078902102","CARDEN TRADITIONAL SCHOOL OF GLENDALE","4744 W. GROVERS AVE","GLENDALE AZ 85308","(602) 439-5026","(602) 547-2841"]
["078903000","NEW SCHOOL FOR THE ARTS","1216 EAST APACHE BOULEVARD","TEMPE AZ 85281","(480) 947-3917","(480) 970-6625"]
["078903201","NEW SCHOOL FOR THE ARTS","1216 EAST APACHE BOULEVARD","TEMPE AZ 85281","(480) 947-3917","(480) 970-6625"]
["078904000","MISSION CHARTER SCHOOL, INC.","21639 N 12TH AVE SUITE 204","PHOENIX AZ 85027","(623) 581-7400","(623) 879-1119"]
["078904101","MISSION SCHOOLS","1118 W. GLENDALE AVE","PHOENIX AZ 85021","(602) 943-4986","(602) 943-5936"]
["078904102","INSPIRE EDUCATION, A MISSION CHARTER SCHOOL","19602 N 23RD AVE.","PHOENIX AZ 85020","(602) 944-2097","(602) 944-0252"]
["078904201","MISSION ACADEMY HIGH SCHOOL","5350 W. INDIAN SCHOOL RD.","PHOENIX AZ 85031","(602) 944-2097","(602) 944-0252"]
["078905000","PARAMOUNT EDUCATION STUDIES INC","PMB 93 8987 WEST OLIVE AVENUE 117","PEORIA AZ 85345 9126","(623) 977-0614","(623) 977-0615"]
["078905102","PARAMOUNT ACADEMY","8987 W OLIVE AVE #117, PMB 93","PEORIA AZ 85345","() -","() -"]
["078906000","METROPOLITAN ARTS INSTITUTE, INC.","1700 N 7TH AVE","PHOENIX AZ 85007","(602) 258-9500","(602) 258-9504"]
["078906201","METROPOLITAN ARTS INSTITUTE","1700 N. 7TH AVE.","PHOENIX AZ 85007","() -","() -"]
["078907000","P.L.C. CHARTER SCHOOLS","2504 S. 91ST AVE.","TOLLESON AZ 85353","(623) 474-2120","(623) 936-5337"]
["078907101","ARTS ACADEMY AT SOUTH MOUNTAIN - CLOSED","4039 E. RAYMOND ST., SUITE 3,","PHOENIX AZ 85040","() -","( ) -"]
["078907103","ARTS ACADEMY AT ESTRELLA MOUNTAIN","2504 SOUTH 91ST AVE.","TOLLESON AZ 85353","(623) 474-2120","(623) 936-5337"]
["078907104","ARTS ACADEMY AT SCOTTSDALE - CLOSED","4039 EAST RAYMOND STREET 3","PHOENIX AZ 85040","(602) 437-3927","(602) 426-1342"]
["078909000","CALIBRE ACADEMY","4744 W. GROVERS AVE.","GLENDALE AZ 85308","(623) 556-2179","(623) 556-2806"]
["078909102","CALIBRE ACADEMY SURPRISE","15688 WEST ACOMA LANE","SURPRISE AZ 85379","(623) 556-2179","(623) 556-2806"]
["078909104","CALIBRE ACADEMY OF GLENDALE","4744 W GROVERS","GLENDALE AZ 85308","(602) 439-5026","(602) 889-0351"]
["078911000","E-INSTITUTE CHARTER SCHOOLS, INC.","4744 W. GROVERS AVE.","GLENDALE AZ 85308","(602) 547-8806","(602) 547-2841"]
["078911201","E-INSTITUTE AT UNION HILLS","4744 W. GROVERS AVE.","GLENDALE AZ 85308","(602) 843-3891","(602) 843-4375"]
["078911202","E-INSTITUTE AT SURPRISE","4744 W. GROVERS","GLENDALE AZ 85308","(623) 544-9285","(623) 546-9540"]
["078911203","E-INSTITUTE AT METRO","4744 W. GROVERS AVENUE","GLENDALE AZ 85308","(602) 621-4398","(602) 889-0351"]
["078911204","E-INSTITUTE AT GROVERS","4744 W. GROVERS AVENUE","GLENDALE AZ 85308","(602) 621-4398","(602) 889-0351"]
["078911205","E-INSTITUTE AT BUCKEYE","4744 W. GROVERS AVENUE","GLENDALE AZ 85308","(602) 621-4398","(602) 889-0351"]
["078911207","E-INSTITUTE AT AVONDALE","4744 WEST GROVERS","GLENDALE AZ 85308","(623) 760-9061","(623) 760-9068"]
["078911208","E-INSTITUTE - TEMPE - CLOSED","4744 W. GROVERS","GLENDALE AZ 85308","(602) 439-5026","( ) -"]
["078912000","PARAGON MANAGEMENT, INC.","12775 N. 175TH AVENUE","SURPRISE AZ 85374","(623) 975-2646","(623) 975-4380"]
["078912101","PARADISE EDUCATION CENTER","15533 W. PARADISE LN.","SURPRISE AZ 85374","() -","() -"]
["078912103","PARADISE HONORS HIGH SCHOOL","12775 N. 175TH AVENUE","SURPRISE AZ 85374","(623) 455-7400","(623) 975-4380"]
["078914000","SKYLINE SCHOOLS, INC.","7490 S. 40TH ST","PHOENIX AZ 85042","(623) 385-3580","(623) 385-3615"]
["078914201","SKYLINE PREP HIGH SCHOOL","15220 SOUTH 50TH STREET SUITE 109","PHOENIX AZ 85244","(480) 763-8425","(480) 763-8427"]
["078914202","SONORAN WEST ACADEMY","17667 N. 91ST AVE.","PEORIA AZ 85382","(623) 875-3175","(623) 875-9261"]
["078915000","EDKEY, INC. - SEQUOIA CHARTER SCHOOL","1460 S. HORNE","MESA AZ 85204","(480) 461-3200","(480) 649-0747"]
["078915001","SEQUOIA SECONDARY SCHOOL","1460 S. HORNE","MESA AZ 85204","() -","( ) -"]
["078915005","SEQUOIA CHARTER ELEMENTARY SCHOOL","1460 S. HORNE","MESA AZ 85204","() -","() -"]
["078915006","SEQUOIA CHARTER MIDDLE SCHOOL - CLOSED","1460 S. HORNE","MESA AZ 85204","(480) 461-3200","(480) 649-0747"]
["078915007","SEQUOIA CHARTER SCHOOL - MARICOPA - CLOSED","1460 SOUTH HORNE","MESA AZ 85204","() -","( ) -"]
["078916000","EDKEY, INC.","1460 S. HORNE","MESA AZ 85204","(480) 461-3200","(480) 649-0747"]
["078916001","SEQUOIA ACADEMICS AND ARTS ELEMENTARY CHARTER SCHOOL","1460 S. HORNE","MESA AZ 85204","(480) 446-9288","(480) 449-9565"]
["078916003","SEQUOIA ACADEMICS AND ARTS CHARTER SCHOOL","1460 SOUTH HORNE","MESA AZ 85204","(480) 461-3200","(480) 649-0747"]
["078917000","EDKEY, INC. - SEQUOIA VILLAGE SCHOOL","1460 S. HORNE","MESA AZ 85204","(480) 461-3200","(480) 649-0747"]
["078917001","SEQUOIA VILLAGE SCHOOL","982 FULL HOUSE LANE","SHOW LOW AZ 85901","(928) 537-1208","(928) 537-4275"]
["078920000","PINNACLE EDUCATION-WMCB, INC.","2224 W SOUTHERN AVE. SUITE 1","TEMPE AZ 85282","(480) 755-8222","(480) 755-8111"]
["078920008","PINNACLE CHARTER HIGH SCHOOL","2224 W. SOUTHERN AVE. #1","TEMPE AZ 85282","() -","() -"]
["078921000","CROWN CHARTER SCHOOL, INC","P.O. BOX 363","LITCHFIELD AZ 85340","(623) 535-9300","(623) 535-5410"]
["078921101","CROWN CHARTER SCHOOL","P O BOX 363","LITCHFIELD, AZ AZ 85340","() -","() -"]
["078922000","ARIZONA SCHOOL FOR INTEGRATED ACADEMICS AND TECHNOLOGIES, INC.","2611 TEMPLE HEIGHTS DRIVE A","OCEANSIDE CA 92056","(760) 631-3408","(760) 631-3472"]
["078922201","SCHOOL FOR INTEGRATED ACADEMICS AND TECHNOLOGIES","518 SOUTH 3RD STREET","PHOENIX AZ 85004","(602) 254-5921","(602) 340-1965"]
["078922202","SCHOOL FOR INTEGRATED ACADEMICS AND TECHNOLOGIES","901 SOUTH CAMPBELL AVENUE","TUCSON AZ 85719","() -","() -"]
["078924000","SUCCESS SCHOOL","P.O. BOX 1929","SURPRISE AZ 85378","(623) 974-4959","(623) 974-4931"]
["078924001","ARIZONA CHARTER ACADEMY","P.O. BOX 1929","SURPRISE AZ 85378","(623) 974-4959","(623) 974-4931"]
["078925000","POINTE EDUCATIONAL SERVICES","5940 W UNION HILLS DRIVE SUITE B-100","GLENDALE AZ 85308","(602) 843-2014","(602) 843-2015"]
["078925001","NORTH POINTE PREPARATORY","10215 N. 43RD AVENUE","PHOENIX AZ 85051","(623) 209-0017","(623) 209-0021"]
["078925002","CANYON POINTE ACADEMY","4941 WEST UNION HILLS DRIVE","GLENDALE AZ 85308","(602) 896-1166","(602) 896-1164"]
["078925003","PINNACLE POINTE ACADEMY","6753 WEST PINNACLE PEAK ROAD","GLENDALE AZ 85310","(623) 537-3535","(623) 537-4433"]
["078926000","PRIMAVERA TECHNICAL LEARNING CENTER","2471 N. ARIZONA AVE.","CHANDLER AZ 85225","(480) 456-6678","(480) 355-2100"]
["078926201","PRIMAVERA TECHNICAL LEARNING CENTER","2471 N. ARIZONA AVE.","CHANDLER AZ 85225","(480) 456-6678","(480) 820-2168"]
["078928000","JAMES SANDOVAL PREPARATORY HIGH SCHOOL","3830 NORTH 67TH AVENUE","PHOENIX AZ 85033","(623) 845-0781","(623) 849-2840"]
["078928201","JAMES SANDOVAL PREPARATORY HIGH SCHOOL","3830 NORTH 67TH AVENUE","PHOENIX AZ 85033","(623) 845-0781","(623) 849-2840"]
["078930000","NOAH WEBSTER BASIC SCHOOL","7301 EAST BASELINE ROAD","MESA AZ 85209","(480) 986-2335","(480) 354-3490"]
["078930101","NOAH WEBSTER BASIC SCHOOL","7301 E. BASELINE ROAD","MESA AZ 85209","() -","( ) -"]
["078931000","WESTWIND MIDDLE SCHOOL ACADEMY","2045 WEST NORTHERN AVENUE","PHOENIX AZ 85021","(602) 864-7731","(602) 864-7720"]
["078931101","WESTWIND MIDDLE SCHOOL","2045 W. NORTHERN AVENUE","PHOENIX AZ 85021","() -","() -"]
["078933000","YOUNGTOWN PUBLIC CHARTER SCHOOL","13226 NORTH 113TH AVENUE","YOUNGTOWN AZ 85363","(623) 974-0355","(623) 815-8902"]
["078933101","YOUNGTOWN PUBLIC CHARTER SCHOOL","PO BOX 396","YOUNGTOWN AZ 85363","(623) 974-0355","(623) 815-8902"]
["078934000","DEER VALLEY CHARTER SCHOOLS, INC.","3050 W. AGUA FRIA FREEWAY SUITE 250","PHOENIX AZ 85027","(602) 467-6874","(602) 467-6955"]
["078934201","DEER VALLEY ACADEMY","3050 W. AGUA FRIA FREEWAY SUITE 250","PHOENIX AZ 85027","(602) 467-6874","(602) 467-6955"]
["078935000","WEST GILBERT CHARTER ELEMENTARY SCHOOL, INC.","18052 N. BLACK CANYON HIGHWAY","PHOENIX AZ 85053","(602) 547-7960","(602) 547-7922"]
["078935102","IMAGINE WEST GILBERT ELEMENTARY","2061 S. GILBERT RD.","GILBERT AZ 85296","(480) 855-2700","(480) 855-2701"]
["078936000","MONTESSORI HOUSE, INC.","2415 NORTH TERRACE CIRCLE","MESA AZ 85203","(480) 464-2800","(480) 464-2836"]
["078936101","MONTESSORI HOUSE CHARTER SCHOOL","2415 N. TERRACE CIRCLE","MESA AZ 85203","() -","() -"]
["078939000","PREMIER CHARTER HIGH SCHOOL","7544 WEST INDIAN SCHOOL ROAD SUITE 2A","PHOENIX AZ 85033","(623) 245-1500","(623) 245-1506"]
["078939201","PREMIER CHARTER HIGH SCHOOL","7544 W. INDIAN SCHOOL RD. SUITE 2A","PHOENIX AZ 85033","() -","() -"]
["078940000","PAN-AMERICAN ELEMENTARY CHARTER","3001 W. INDIAN SCHOOL RD.","PHOENIX AZ 85017","(602) 266-3989","(602) 266-3979"]
["078940101","PAN-AMERICAN CHARTER SCHOOL","3001 W. INDIAN SCHOOL","PHOENIX AZ 85017","() -","() -"]
["078945000","NORTH STAR CHARTER SCHOOL, INC.","14970 W. INDIAN SCHOOL ROAD SUITE 230","GOODYEAR AZ 85395","(602) 568-5565","(602) 532-7186"]
["078945201","ARIZONA PREPARATORY ACADEMY","10720 W INDIAN SCHOOL RD.","PHOENIX AZ 85037","(623) 907-2661","(623) 907-2501"]
["078946000","KAIZEN EDUCATION FOUNDATION DBA VISTA GROVE PREPARATORY ACADEMY MIDDLE SCHOOL","7878 N. 16TH ST. SUITE 150","PHOENIX AZ 85020","(602) 953-2933","(602) 277-4900"]
["078946001","VISTA GROVE PREPARATORY ACADEMY MIDDLE SCHOOL","2929 E. MCKELLIPS ROAD","MESA AZ 85213","(480) 288-0337","(480) 288-0340"]
["078947000","AMERICAN CHARTER SCHOOLS FOUNDATION D.B.A. DESERT HILLS HIGH SCHOOL","7878 N. 16TH ST. SUITE 150","PHOENIX AZ 85020","(602) 953-2933","(602) 277-4900"]
["078947001","DESERT HILLS HIGH SCHOOL","1515 S. VAL VISTA DR.","GILBERT AZ 85296","() -","() -"]
["078948000","AMERICAN CHARTER SCHOOLS FOUNDATION D.B.A. ESTRELLA HIGH SCHOOL","7878 N. 16TH ST. SUITE 150","PHOENIX AZ 85020","(602) 953-2933","(602) 277-4900"]
["078948001","ESTRELLA HIGH SCHOOL","510 NORTH CENTRAL AVENUE","AVONDALE AZ 85323","(623) 932-6561","(623) 932-1263"]
["078949000","KAIZEN EDUCATION FOUNDATION DBA MAYA HIGH SCHOOL","7878 N. 16TH ST. SUITE 150","PHOENIX AZ 85020","(602) 953-2933","(602) 277-4900"]
["078949001","KAIZEN EDUCATION FOUNDATION DBA MAYA HIGH SCHOOL","3660 WEST GLENDALE AVE.","PHOENIX AZ 85051","(602) 242-3442","(602) 242-5255"]
["078950000","AMERICAN CHARTER SCHOOLS FOUNDATION D.B.A. CRESTVIEW COLLEGE PREPARATORY HIGH SC","7878 N. 16TH ST. SUITE 150","PHOENIX AZ 85020","(602) 953-2933","(602) 277-4900"]
["078950001","CRESTVIEW COLLEGE PREPARATORY HIGH SCHOOL","2616 EAST GREENWAY","PHOENIX AZ 85032","(602) 765-8470","(602) 765-8471"]
["078951000","AMERICAN CHARTER SCHOOLS FOUNDATION D.B.A. PEORIA ACCELERATED HIGH SCHOOL","7878 N. 16TH ST. SUITE 150","PHOENIX AZ 85020","(602) 953-2933","(602) 277-4900"]
["078951001","PEORIA ACCELERATED HIGH SCHOOL","8885 W PEORIA AVE.","PEORIA AZ 85345","(623) 979-0031","(623) 979-0113"]
["078952000","KAIZEN EDUCATION FOUNDATION DBA SUMMIT HIGH SCHOOL","7878 N. 16TH STREET SUITE 150","PHOENIX AZ 85020","(602) 953-2933","(602) 277-4900"]
["078952001","KAIZEN EDUCATION FOUNDATION DBA SUMMIT HIGH SCHOOL","728 E. MCDOWELL RD.","PHOENIX AZ 85006","() -","() -"]
["078953000","AMERICAN CHARTER SCHOOLS FOUNDATION D.B.A. SUN VALLEY HIGH SCHOOL","7878 N. 16TH ST. SUITE 150","PHOENIX AZ 85020","(602) 953-2933","(602) 277-4900"]
["078953001","SUN VALLEY HIGH SCHOOL","1143 S LINDSAY RD","MESA AZ 85204","() -","() -"]
["078954000","KAIZEN EDUCATION FOUNDATION DBA TEMPE ACCELERATED HIGH SCHOOL","7878 N. 16TH STREET SUITE 150","PHOENIX AZ 85020","(602) 953-2933","(602) 277-4900"]
["078954001","KAIZEN EDUCATION FOUNDATION DBA QUEST HIGH SCHOOL","5040 S. PRICE RD.","TEMPE AZ 85282","() -","() -"]
["078956000","AMERICAN CHARTER SCHOOLS FOUNDATION D.B.A. WEST PHOENIX HIGH SCHOOL","7878 N. 16TH ST. SUITE 150","PHOENIX AZ 85020","(602) 953-2933","(602) 277-4900"]
["078956001","WEST PHOENIX HIGH SCHOOL","3835 WEST THOMAS ROAD","PHOENIX AZ 85019","(602) 269-1110","(602) 269-1112"]
["078957000","CHALLENGER BASIC SCHOOL, INC.","4505 EAST FAIRFIELD STREET","MESA AZ 85205","(480) 830-1750","(480) 830-1763"]
["078957001","CHALLENGER BASIC SCHOOL","1315 NORTH GREENFIELD ROAD","GILBERT AZ 85234","(480) 830-1750","(480) 830-1763"]
["078959000","CAMELBACK EDUCATION, INC","7634 W CAMELBACK RD","GLENDALE AZ 85303","(623) 247-2204","(623) 247-1113"]
["078959001","CAMELBACK ACADEMY","7634 WEST CAMELBACK ROAD","GLENDALE AZ 85303","(623) 247-2204","(623) 247-1113"]
["078960000","VISTA CHARTER SCHOOL","7318 WEST LYNWOOD","PHOENIX AZ 85035","(623) 936-8682","(623) 936-8559"]
["078960002","MIDTOWN HIGH SCHOOL","7318 WEST LYNWOOD ST.","PHOENIX AZ 85035","(623) 936-8682","( ) -"]
["078962000","SC JENSEN CORPORATION, INC. DBA INTELLI-SCHOOL","2222 W. NORTHERN AVE. A110","PHOENIX AZ 85021","(602) 564-7380","(602) 564-7381"]
["078962201","INTELLI-SCHOOL","1727 NORTH ARIZONA AVE SUITE 5","CHANDLER AZ 85225","(480) 855-5318","(480) 855-5904"]
["078963000","PAS CHARTER, INC., DBA INTELLI-SCHOOL","2222 W NORTHERN AVE A110","PHOENIX AZ 85021","(602) 564-7300","(602) 564-7301"]
["078963201","INTELLI-SCHOOL - METRO CENTER","2222 W NORTHERN AVE A110","PHOENIX AZ 85021","() -","( ) -"]
["078963202","INTELLI-SCHOOL GLENDALE","3101 WEST PEORIA AVENUE B-310","PHOENIX AZ 85029","() -","( ) -"]
["078964000","VALLEY OF THE SUN WALDORF EDUCATION ASSOCIATION, DBA DESERT MARIGOLD SCHOOL","6210 SOUTH 28TH STREET","PHOENIX AZ 85042","(602) 243-6909","(602) 243-6933"]
["078964101","DESERT MARIGOLD SCHOOL","6210 SOUTH 28TH STREET","PHOENIX AZ 85042","(602) 243-6909","(602) 243-6933"]
["078967000","ALL ABOARD CHARTER SCHOOL","5827 NORTH 35TH AVENUE","PHOENIX AZ 85017","(602) 433-0500","(602) 973-8208"]
["078967101","ALL ABOARD CHARTER SCHOOL","5827 NORTH 35TH AVENUE","PHOENIX AZ 85017","() -","( ) -"]
["078968000","LEAD CHARTER SCHOOLS","633 E RAY ROAD SUITE 132","GILBERT AZ 85296","(480) 545-8011","(480) 558-7038"]
["078968101","LEADING EDGE ACADEMY GILBERT","633 E RAY ROAD SUITE 1321","GILBERT AZ 85296","(480) 545-6646","(480) 558-7038"]
["078968102","LEADING EDGE ACADEMY - QUEEN CREEK","415 N. GILBERT ROAD SUITE 102","GILBERT AZ 85234","(480) 655-6787","(480) 655-6788"]
["078968103","LEADING EDGE ACADEMY AT EAST MESA","633 E. RAY RD. SUITE 132","GILBERT AZ 85234","(480) 984-5645","(480) 627-3634"]
["078968104","LEADING EDGE ACADEMY AT HERITAGE","459 N. GILBERT ROAD A140","GILBERT AZ 85234","(480) 633-0414","(480) 558-7038"]
["078968201","GILBERT EARLY COLLEGE, A LEADING EDGE HIGH SCHOOL","415 N. GILBERT RD. SUITE 102","GILBERT AZ 85243","(480) 545-8011","(480) 558-7038"]
["078970000","AIR ACADEMY CHARTER HIGH SCHOOL DBA THOMAS JEFFERSON HIGH SCHOOL","5625 S. 51ST AVE.","LAVEEN AZ 85339","(602) 285-3003","(602) 285-5560"]
["078971000","EDKEY, INC. - ARIZONA CONSERVATORY FOR ARTS AND ACADEMICS","1460 SOUTH HORNE","MESA AZ 85204","(480) 461-3200","(480) 649-0747"]
["078971001","ARIZONA CONSERVATORY FOR ARTS AND ACADEMICS","1460 SOUTH HORNE","MESA AZ 85204","(602) 266-4278","(602) 978-2764"]
["078971002","ARIZONA CONSERVATORY FOR ARTS AND ACADEMICS MIDDLE SCHOOL","1460 SOUTH HORNE","MESA AZ 85204","() -","( ) -"]
["078972000","BELL CANYON CHARTER SCHOOL, INC","18052 NORTH BLACK CANYON HIGHWAY","PHOENIX AZ 85053","(602) 547-7960","(602) 547-7922"]
["078972101","IMAGINE BELL CANYON","18052 NO. BLACK CANYON HWY.","PHOENIX AZ 85053","(602) 547-7920","(602) 547-7923"]
["078973000","SIERRA VISTA CHARTER SCHOOL, INC.","18052 NORTH BLACK CANYON HIGHWAY","PHOENIX AZ 85053","(602) 547-7960","(602) 547-7922"]
["078973101","IMAGINE SIERRA VISTA","18052 N. BLACK CANYON HIGHWAY","PHOENIX AZ 85053","(520) 224-2500","(520) 224-2511"]
["078974000","WEST GILBERT CHARTER MIDDLE SCHOOL, INC.","18052 NORTH BLACK CANYON HIGHWAY","PHOENIX AZ 85053","(602) 547-7960","(602) 547-7922"]
["078974101","IMAGINE WEST GILBERT MIDDLE","2061 S. GILBERT RD.","GILBERT AZ 85296","(480) 855-2700","(480) 855-2701"]
["078975000","CORTEZ PARK CHARTER MIDDLE SCHOOL, INC.","18052 NORTH BLACK CANYON HIGHWAY","PHOENIX AZ 85053","(602) 547-7960","(602) 547-7922"]
["078975101","IMAGINE CORTEZ PARK MIDDLE","3535 WEST DUNLAP AVENUE","PHOENIX AZ 85051","(602) 589-9840","(602) 589-9841"]
["078976000","MIDTOWN PRIMARY SCHOOL","3823 NORTH 11TH STREET","PHOENIX AZ 85014","(602) 265-5133","(602) 604-2337"]
["078976101","MIDTOWN PRIMARY SCHOOL","4735 NORTH 19TH AVE","PHOENIX AZ 85015","() -","() -"]
["078977000","MONTESSORI ACADEMY, INC.","6050 N INVERGORDON RD","PARADISE VALLEY AZ 85253","(480) 945-1121","(480) 874-2928"]
["078977101","MONTESSORI ACADEMY","6050 N. INVERGORDON","PARADISE VALLEY AZ 85253","(480) 945-1121","(480) 874-2928"]
["078979000","ACCELERATED LEARNING CENTER, INC.","4105 E. SHEA BLVD","PHOENIX AZ 85028","(602) 485-0309","(602) 485-9356"]
["078979201","ACCELERATED LEARNING CENTER","4105 EAST SHEA BLVD.","PHOENIX AZ 85028","(602) 485-0309","(602) 485-9356"]
["078980000","LIFE SKILLS CENTER OF ARIZONA, INC.","8123 N. 35TH AVE. SUITE 2","PHOENIX AZ 85051","(602) 242-6400","(602) 242-6823"]
["078980201","LIFE SKILLS CENTER OF ARIZONA","8123 NORTH 35TH AVENUE 2","PHOENIX AZ 85051","() -","( ) -"]
["078981000","NEW SCHOOL FOR THE ARTS MIDDLE SCHOOL","1216 E. APACHE BOULEVARD","TEMPE AZ 85281","(480) 481-9235","(480) 970-6625"]
["078981001","NEW SCHOOL FOR THE ARTS MIDDLE SCHOOL","1216 E. APACHE BLVD","TEMPE AZ 85281","(480) 947-3917","(480) 970-6625"]
["078982000","LEONA ADVANCED VIRTUAL ACADEMY","7878 N. 16TH STREET SUITE 150","PHOENIX AZ 85020","(602) 953-2933","(602) 277-4900"]
["078982001","MONTEZUMA MIDDLE SCHOOL","5040 S. PRICE ROAD","TEMPE AZ 85282","() -","() -"]
["078983000","AMERICAN CHARTER SCHOOLS FOUNDATION D.B.A. SOUTH POINTE HIGH SCHOOL","7878 N. 16TH ST. SUITE 150","PHOENIX AZ 85020","(602) 953-2933","(602) 277-4900"]
["078983201","SOUTH POINTE HIGH SCHOOL","8325 SOUTH CENTRAL AVENUE","PHOENIX AZ 85042","(602) 243-0600","(602) 243-0800"]
["078984000","VERITAS PREPARATORY ACADEMY","444 N. 44TH ST. #100","PHOENIX AZ 85008","(602) 438-7045","(602) 438-7242"]
["078984001","GREAT HEARTS ACADEMIES - VERITAS PREP","2131 EAST LINCOLN DRIVE","PHOENIX AZ 85016","(602) 263-1128","(602) 263-7997"]
["078985000","HERITAGE ELEMENTARY SCHOOL","6400 E. GRANT RD. SUITE 120","TUCSON AZ 85715","(520) 545-0575","(520) 989-8002"]
["078985101","HERITAGE ELEMENTARY SCHOOL","13419 W OCOTILLO","GLENDALE AZ 85031","(623) 935-1931","(623) 935-1931"]
["078985103","HERITAGE ELEMENTARY - WILLIAMS","13419 WEST OCOTILLO ROAD","GLENDALE AZ 85307","(623) 935-1945","(623) 935-1614"]
["078987000","BALL CHARTER SCHOOLS (HEARN)","17606 N. 7TH AVE.","PHOENIX AZ 85023","(602) 896-9160","(602) 896-1997"]
["078987103","HEARN ACADEMY, THE - A BALL CHARTER SCHOOL","17606 N. 7TH AVE","PHOENIX AZ 85022","() -","() -"]
["078988000","BALL CHARTER SCHOOLS (DOBSON)","2207 N. DOBSON RD.","CHANDLER AZ 85224","(480) 855-6325","(480) 855-6323"]
["078988102","DOBSON ACADEMY, THE - A BALL CHARTER SCHOOL","2207 NORTH DOBSON ROAD","CHANDLER AZ 85224","() -","() -"]
["078989000","AMERICAN BASIC SCHOOLS LLC","827 E. 6TH AVE","MESA AZ 85204","(480) 964-4602","(480) 655-7870"]
["078989101","BURKE BASIC SCHOOL","131 E. SOUTHERN AVE.","MESA AZ 85210","() -","() -"]
["078990000","E-CADEMIE, A CHARTER SCHOOL","417 N 16TH ST","PHOENIX AZ 85006","(602) 416-6400","(602) 416-6393"]
["078990201","E-CADEMIE","417 N 16TH ST","PHOENIX AZ 85006","(602) 416-6400","(602) 416-6393"]
["078991000","ARIZONA MONTESSORI CHARTER SCHOOL AT ANTHEM","2045 WEST NORTHERN AVE.","PHOENIX AZ 85021","(602) 864-7731","(602) 864-7720"]
["078991101","AMCS AT ANTHEM DBA CAURUS ACADEMY","41900 N. 42ND AVE.","ANTHEM AZ 85086","(623) 551-5083","(623) 551-5679"]
["078992000","STARSHINE ACADEMY","3535 MCDOWELL ROAD","PHOENIX AZ 85008","(602) 957-9557","(602) 956-0065"]
["078992001","STARSHINE ACADEMY","3535 EAST MCDOWELL ROAD","PHOENIX AZ 85008","(602) 957-9557","(602) 956-0065"]
["078992002","STARSHINE ST. JOHN'S","4102 W. UNION HILLS DRIVE","GLENDALE AZ 85308","(602) 957-9557","(602) 956-0065"]
["078992003","STARSHINE FAY LANDRUM ACADEMY","1902 W. ROESER ROAD","PHOENIX AZ 85041","(602) 678-0999","(602) 956-0065"]
["078993000","ARIZONA AGRIBUSINESS & EQUINE CENTER, INC.","P.O. BOX 84108","PHOENIX AZ 85071","(602) 297-8500","(602) 297-8540"]
["078993201","AAEC - SMCC CAMPUS","7050 S. 24TH STREET BUILDING AAEC","PHOENIX AZ 85042","(602) 243-8004","(602) 297-8540"]
["078994000","CORNERSTONE CHARTER SCHOOL,INC","7107 N BLACK CANYON HWY","PHOENIX AZ 85021","(602) 595-2198","(602) 242-2398"]
["078994001","CORNERSTONE CHARTER SCHOOL","7107 N BLACK CANYON HWY","PHOENIX AZ 85021","(602) 595-2198","(602) 242-2398"]
["078995000","CHOLLA ACADEMY","4141 N 67TH AVENUE","PHOENIX AZ 85033","(623) 247-6456","(623) 247-6520"]
["078995001","WESTLAND SCHOOL","4141 N. 67TH AVE","PHOENIX AZ 85033","() -","() -"]
["078997000","LITTLE LAMB COMMUNITY SCHOOL","12990 E. SHEA BLVD.","SCOTTSDALE AZ 85259","(480) 860-4330","(480) 657-3715"]
["078997101","MISSION MONTESSORI ACADEMY","12990 E. SHEA BLVD.","SCOTTSDALE AZ 85259","() -","() -"]
["078998000","HAPPY VALLEY SCHOOL, INC.","827 E. 6TH AVE.","MESA AZ 85204","(480) 655-7868","(480) 655-7870"]
["078998001","HAPPY VALLEY SCHOOL","827 E. 6TH AVENUE","MESA AZ 85204","(623) 376-2900","(623) 376-9030"]
["078999000","KAIZEN EDUCATION FOUNDATION DBA SOUTH POINTE ELEMENTARY SCHOOL","7878 N. 16TH ST. SUITE 150","PHOENIX AZ 85020","(602) 953-2933","(602) 277-4900"]
["078999001","KAIZEN EDUCATION FOUNDATION DBA SOUTH POINTE ELEMENTARY SCHOOL","2033 E. SOUTHERN AVE","PHOENIX AZ 85040","(602) 953-2933","(602) 953-0831"]
["080201000","LAKE HAVASU UNIFIED DISTRICT","2200 HAVASUPAI BLVD","LAKE HAVASU CITY AZ 86403","(928) 505-6900","(928) 505-6999"]
["080201101","SMOKETREE ELEMENTARY SCHOOL","2395 SMOKETREE AVE","LAKE HAVASU CITY AZ 86403","() -","() -"]
["080201102","THUNDERBOLT MIDDLE SCHOOL","695 THUNDERBOLT AVENUE","LAKE HAVASU CITY AZ 86406","(928) 854-7224","(928) 854-7482"]
["080201103","HAVASUPAI ELEMENTARY SCHOOL","880 CASHMERE DR","LAKE HAVASU CITY AZ 86404","() -","() -"]
["080201104","STARLINE ELEMENTARY SCHOOL","3150 STARLINE DR.","LAKE HAVASU CITY AZ 86406","(928) 855-4088","(928) 505-1940"]
["080201105","NAUTILUS ELEMENTARY SCHOOL","1425 PATRICIAN DRIVE","LAKE HAVASU CITY AZ 86404","() -","() -"]
["080201106","ORO GRANDE ELEMENTARY SCHOOL","1250 PAWNEE DRIVE","LAKE HAVASU CITY AZ 86406","(928) 505-6080","(928) 505-6099"]
["080201108","DAYTONA MIDDLE SCHOOL","98 SWANSON PLAZA","LAKE HAVASU CITY AZ 86403","(928) 505-1460","(928) 505-1479"]
["080201109","JAMAICA ELEMENTARY SCHOOL","3437 JAMAICA BLVD. SO.","LAKE HAVASU CITY AZ 86406","() -","() -"]
["080201207","LAKE HAVASU HIGH SCHOOL","2675 S. PALO VERDE BLVD.","LAKE HAVASU CITY AZ 86403","(928) 854-5001","(928) 854-5499"]
["080201211","ROUND TABLE PROGRAM","2200 HAVASUPAI BLVD.","LAKE HAVASU CITY AZ 86403","(928) 855-6455","( ) -"]
["080208000","PEACH SPRINGS UNIFIED DISTRICT","P O BOX 360","PEACH SPRINGS AZ 86434","(928) 769-2202","(928) 769-2676"]
["080208001","PEACH SPRINGS SCHOOL","PO BOX 360","PEACH SPRINGS AZ 86434","() -","() -"]
["080208002","MUSIC MOUNTAIN JR./SR. HIGH SCHOOL","PO BOX 360","PEACH SPRINGS AZ 86434","() -","() -"]
["080209000","LITTLEFIELD UNIFIED DISTRICT","P O BOX 730","BEAVER DAM AZ 86432","(928) 347-5486","(928) 347-5967"]
["080209001","BEAVER DAM ELEMENTARY","P.O. BOX 730","LITTLEFIELD AZ 86432","() -","() -"]
["080209201","BEAVER DAM HIGH SCHOOL","P.O. BOX 730","LITTLEFIELD AZ 86432","() -","() -"]
["080214000","COLORADO CITY UNIFIED DISTRICT","P O BOX 309","COLORADO CITY AZ 86021","(928) 875-9000","(928) 875-8066"]
["080214101","EL CAPITAN PUBLIC SCHOOL","PO BOX 309","COLORADO CITY AZ 86021","() -","() -"]
["080214103","COLORADO CITY JR HIGH SCHOOL","255 N. COTTOWNWOOD ST.","COLORADO CITY AZ 86021 0309","(928) 875-9001","(928) 875-9098"]
["080214202","COLORADO CITY HIGH SCHOOL","255 N. COTTOWNWOOD ST.","COLORADO CITY AZ 86021 0309","(928) 875-9001","(928) 875-9098"]
["080220000","KINGMAN UNIFIED SCHOOL DISTRICT","3033 MACDONALD AVE.","KINGMAN AZ 86401","(928) 753-5678","(928) 753-6910"]
["080220110","HUALAPAI ELEMENTARY","350 EASTERN STREET","KINGMAN AZ 86401","(928) 753-1919","(928) 753-1418"]
["080220111","LA SENITA ELEMENTARY","3175 GORDON DRIVE","KINGMAN AZ 86401","(928) 757-4328","(928) 757-7537"]
["080220112","MANZANITA ELEMENTARY","2901 DETROIT AVENUE","KINGMAN AZ 86401","(928) 753-6197","(928) 753-7756"]
["080220113","PALO CHRISTI ELEMENTARY","500 MAPLE STREET","KINGMAN AZ 86401","(928) 753-2472","(928) 753-7895"]
["080220114","KINGMAN MIDDLE SCHOOL","1969 DETROIT AVENUE","KINGMAN AZ 86401","(928) 753-3583","(928) 753-1336"]
["080220115","CERBAT ELEMENTARY","2689 JAGERSON AVENUE","KINGMAN AZ 86401","() -","( ) -"]
["080220116","BLACK MOUNTAIN ELEMENTARY SCHOOL","3404 N. SANTA MARIA ROAD","GOLDEN VALLEY AZ 86413","(928) 565-9111","(928) 565-9190"]
["080220117","MT TIPTON ELEMENTARY SCHOOL","P O BOX 248","DOLAN SPRINGS AZ 86441","(928) 767-3350","(928) 767-4330"]
["080220118","WHITE CLIFFS MIDDLE SCHOOL","400 GRANDVIEW AVENUE","KINGMAN AZ 86401","(928) 753-6238","(928) 753-4042"]
["080220119","DESERT WILLOW ELEMENTARY SCHOOL","3700 PROSPECTOR STREET","KINGMAN AZ 86401","() -","( ) -"]
["080220202","KINGMAN HIGH SCHOOL","4182 N. BANK STREET","KINGMAN AZ 86401","() -","( ) -"]
["080220203","LEE WILLIAMS HIGH SCHOOL","400 GRANDVIEW AVENUE","KINGMAN AZ 86401","(928) 753-5678","( ) -"]
["080303000","HACKBERRY SCHOOL DISTRICT","9501 NELLIE DRIVE","KINGMAN AZ 86401","(928) 692-0013","(928) 692-1075"]
["080303002","CEDAR HILLS SCHOOL","HC 30 BOX 1101","KINGMAN AZ 86401","(928) 692-0013","(928) 692-1075"]
["080306000","OWENS-WHITNEY ELEMENTARY DISTRICT","P O BOX 38","WIKIEUP AZ 85360 0038","(928) 765-2311","(928) 765-2335"]
["080306101","OWENS ELEMENTARY SCHOOL","PO BOX 38","WIKIEUP AZ 85360","() -","() -"]
["080313000","YUCCA ELEMENTARY DISTRICT","P O BOX 128","YUCCA AZ 86438","(928) 766-2581","(928) 766-2509"]
["080313101","YUCCA ELEMENTARY SCHOOL","P O BOX 128","YUCCA AZ 86438","() -","() -"]
["080322000","VALENTINE ELEMENTARY DISTRICT","HC 35 BOX 50","PEACH SPRINGS AZ 86434 9650","(928) 769-2310","(928) 769-2389"]
["080322001","VALENTINE ELEMENTARY SCHOOL","HC 35 BOX 50","PEACH SPRINGS AZ 86434","() -","() -"]
["080412000","TOPOCK ELEMENTARY DISTRICT","P O BOX 370","TOPOCK AZ 86436","(928) 768-3344","(928) 768-9253"]
["080412012","TOPOCK ELEMENTARY SCHOOL","P.O.BOX 370","TOPOCK AZ 86436","() -","( ) -"]
["080415000","BULLHEAD CITY SCHOOL DISTRICT","1004 HANCOCK RD","BULLHEAD CITY AZ 86442","(928) 758-3961","(928) 758-4996"]
["080415103","COYOTE CANYON SCHOOL","1820 LAKESIDE DRIVE","BULLHEAD CITY AZ 86442","(928) 758-4909","(928) 758-8670"]
["080415104","SUNRISE ELEMENTARY","2645 WEST LANDON DRIVE","BULLHEAD CITY AZ 86429","(928) 754-1815","(928) 754-1820"]
["080415105","DESERT VALLEY SCHOOL","1066 MARINA BLVD.","BULLHEAD CITY AZ 86442","(928) 758-6606","(928) 758-5726"]
["080415107","DIAMONDBACK ELEMENTARY SCHOOL","2550 TESOTA WAY","BULLHEAD CITY AZ 86442","() -","() -"]
["080415110","FOX CREEK JR HIGH SCHOOL","3101 DESERT SKY BOULEVARD","BULLHEAD CITY AZ 86442","() -","() -"]
["080415115","MOUNTAIN VIEW ELEMENTARY","2380 E. 3RD STREET","BULLHEAD CITY AZ 86429","() -","() -"]
["080415130","BULLHEAD CITY JR HIGH SCHOOL","1062 HANCOCK ROAD","BULLHEAD CITY AZ 86442","() -","() -"]
["080416000","MOHAVE VALLEY ELEMENTARY DISTRICT","8450 S OLIVE","MOHAVE VALLEY AZ 86440","(928) 768-2507","(928) 768-2510"]
["080416101","MOHAVE VALLEY ELEMENTARY","1419 E. WILLOW ROAD","MOHAVE VALLEY AZ 86440","() -","() -"]
["080416103","MOHAVE VALLEY JUNIOR HIGH SCHOOL","6565 GIRARD AVENUE","MOHAVE VALLEY AZ 86446","() -","() -"]
["080416104","FORT MOHAVE ELEMENTARY SCHOOL","1760 JOY LANE","FORT MOHAVE AZ 86426","() -","() -"]
["080416105","CAMP MOHAVE ELEMENTARY","1797 E LA ENTRADA","BULLHEAD CITY AZ 86426","() -","() -"]
["080502000","COLORADO RIVER UNION HIGH SCHOOL DISTRICT","P O BOX 21479","BULLHEAD CITY AZ 86439","(928) 768-1665","(928) 768-1702"]
["080502001","MOHAVE HIGH SCHOOL","2251 HIGHWAY 95","BULLHEAD CITY AZ 86442","() -","() -"]
["080502002","RIVER VALLEY HIGH SCHOOL","2250 E. LAGUNA","MOHAVE VALLEY AZ 86440","() -","() -"]
["088620000","KINGMAN ACADEMY OF LEARNING","3410 N. BURBANK ST.","KINGMAN AZ 86409","(928) 681-2400","(928) 681-2424"]
["088620101","KINGMAN ACADEMY OF LEARNING - PRIMARY SCHOOL","3400 N. BURBANK ST.","KINGMAN AZ 86409","(928) 692-2500","(928) 692-2505"]
["088620102","KINGMAN ACADEMY OF LEARNING - INTERMEDIATE SCHOOL","3410 N. BURBANK ST.","KINGMAN AZ 86409","(928) 681-3200","(928) 681-2424"]
["088620103","KINGMAN ACADEMY OF LEARNING - MIDDLE SCHOOL","3410 N. BURBANK ST.","KINGMAN AZ 86409","(928) 692-5265","(928) 681-2424"]
["088620204","KINGMAN ACADEMY OF LEARNING - HIGH SCHOOL","3420 N. BURBANK AVE.","KINGMAN AZ 86409","(928) 681-2900","(928) 681-2424"]
["088702000","TELESIS CENTER FOR LEARNING, INC.","2598 STARLITE LANE","LAKE HAVASU CITY AZ 86403","(928) 855-8661","(928) 855-9302"]
["088702001","TELESIS PREPARATORY ACADEMY","2598 STARLITE LANE","LAKE HAVASU CITY AZ 86403","() -","() -"]
["088702002","TELESIS PREPARATORY","2598 STARLITE LANE","LAKE HAVASU CITY AZ 86403","() -","() -"]
["088703000","MOHAVE ACCELERATED ELEMENTARY SCHOOL, INC.","625 MARINA BLVD","BULLHEAD CITY AZ 86442","(928) 704-9345","(928) 704-4977"]
["088703101","MOHAVE ACCELERATED ELEMENTARY SCHOOL","625 MARINA BLVD.","BULLHEAD CITY AZ 86442","(928) 704-9345","( ) -"]
["088703102","MOHAVE ACCELERATED ELEMENTARY SCHOOL EAST","625 MARINA BLVD.","BULLHEAD CITY AZ 86442","() -","( ) -"]
["088704000","ACADEMY OF BUILDING INDUSTRIES, INC.","1547 E. LIPAN BOULEVARD","FORT MOHAVE AZ 86426","(928) 788-2601","(928) 788-2610"]
["088704201","ACADEMY OF BUILDING INDUSTRIES","1547 E. LIPPAN BLVD.","FORT MOHAVE AZ 86426","(928) 788-2601","( ) -"]
["088750000","LAKE HAVASU CHARTER SCHOOL, INC.","2700 S. JAMAICA BLVD.","LAKE HAVASU CITY AZ 86406","(928) 505-5427","(928) 505-3533"]
["088750003","LAKE HAVASU CHARTER SCHOOL","2700 S. JAMAICA BLVD.","LAKE HAVASU CITY AZ 86406","(928) 505-5427","(928) 505-3533"]
["088755000","YOUNG SCHOLARS ACADEMY CHARTER SCHOOL CORP.","1501 EAST VALENCIA RD.","BULLHEAD CITY AZ 86426","(928) 704-1100","(928) 704-1177"]
["088755101","YOUNG SCHOLARS ACADEMY","1501 E. VALENCIA RD.","BULLHEAD CITY AZ 86426","() -","() -"]
["088758000","MOHAVE ACCELERATED LEARNING CENTER","P.O. BOX 21288","BULLHEAD CITY AZ 86439","(928) 704-9345","(928) 704-4977"]
["088758001","MOHAVE ACCELERATED LEARNING CENTER","P.O. BOX 21288","BULLHEAD CITY AZ 86439","() -","() -"]
["088759000","MASADA CHARTER SCHOOL, INC.","P.O. BOX 2277","CENTENNIAL PARK AZ 86021","(928) 875-2525","(928) 875-2526"]
["088759101","MASADA CHARTER SCHOOL","PO BOX 2277","CENTENNIAL PARK AZ 86021 2277","() -","() -"]
["090199000","NAVAJO COUNTY ACCOMMODATION DISTRICT #99","PO BOX 668","HOLBROOK AZ 86025","(928) 524-1821","(928) 524-1748"]
["090201000","WINSLOW UNIFIED DISTRICT","P O BOX 580","WINSLOW AZ 86047","(928) 288-8101","(928) 288-8292"]
["090201102","BONNIE BRENNAN SCHOOL","PO BOX 580","WINSLOW AZ 86047","() -","() -"]
["090201103","JEFFERSON ELEMENTARY SCHOOL","P.O. BOX 580","WINSLOW AZ 86047","() -","() -"]
["090201104","WASHINGTON SCHOOL","P.O. BOX 580","WINSLOW AZ 86047","() -","() -"]
["090201105","WINSLOW JUNIOR HIGH SCHOOL","PO BOX 580","WINSLOW AZ 86047","() -","( ) -"]
["090201206","WINSLOW HIGH SCHOOL","P. O. BOX 580","WINSLOW AZ 86047","(928) 288-8101","(928) 288-8290"]
["090202000","JOSEPH CITY UNIFIED DISTRICT","P O BOX 8","JOSEPH CITY AZ 86032 0008","(928) 288-3307","(928) 288-3309"]
["090202001","JOSEPH CITY ELEMENTARY SCHOOL","PO BOX 8","JOSEPH CITY AZ 86032","() -","( ) -"]
["090202002","JOSEPH CITY HIGH SCHOOL","PO BOX 8","JOSEPH CITY AZ 86032","() -","() -"]
["090202003","JOSEPH CITY JUNIOR HIGH SCHOOL","P.O. BOX 8","JOSEPH CITY AZ 86032","(928) 288-3361","(928) 288-3825"]
["090203000","HOLBROOK UNIFIED DISTRICT","P O BOX 640","HOLBROOK AZ 86025","(928) 524-6144","(928) 524-3073"]
["090203102","HULET ELEMENTARY SCHOOL","P. O. BOX 640","HOLBROOK AZ 86025","() -","() -"]
["090203103","PARK ELEMENTARY SCHOOL","P.O. BOX 640","HOLBROOK AZ 86025 0640","() -","() -"]
["090203104","INDIAN WELLS ELEMENTARY","PO BOX 640","HOLBROOK AZ 86025","() -","() -"]
["090203106","HOLBROOK JUNIOR HIGH SCHOOL","P. O. BOX 640","HOLBROOK AZ 86025","() -","() -"]
["090203207","HOLBROOK HIGH SCHOOL","455 NORTH 8TH AVENUE","HOLBROOK AZ 86025","() -","() -"]
["090204000","PINON UNIFIED DISTRICT","P O BOX 839","PINON AZ 86510","(928) 725-3450","(928) 725-2123"]
["090204101","PINON ELEMENTARY SCHOOL","P.O.BOX 839","PINON AZ 86510","() -","() -"]
["090204102","PINON MIDDLE SCHOOL","P.O. BOX 839","PINON AZ 86510","() -","() -"]
["090204203","PINON HIGH SCHOOL","P. O. BOX 839","PINON AZ 86510","() -","() -"]
["090205000","SNOWFLAKE UNIFIED DISTRICT","682 SCHOOL BUS LN.","SNOWFLAKE AZ 85937","(928) 536-4156","(928) 536-2634"]
["090205001","SNOWFLAKE INTERMEDIATE SCHOOL","682 SCHOOL BUS LANE","SNOWFLAKE AZ 85937","() -","() -"]
["090205002","TAYLOR ELEMENTARY SCHOOL","682 SCHOOL BUS LANE","SNOWFLAKE AZ 85937","(928) 536-4156","(928) 536-2642"]
["090205003","SNOWFLAKE JUNIOR HIGH SCHOOL","682 SCHOOL BUS LANE","SNOWFLAKE AZ 85937","() -","() -"]
["090205004","TAYLOR INTERMEDIATE SCHOOL","682 SCHOOL BUS LANE","SNOWFLAKE AZ 85937","() -","() -"]
["090205005","SNOWFLAKE HIGH SCHOOL","682 SCHOOL BUS LANE","SNOWFLAKE AZ 85937","() -","() -"]
["090205006","HIGHLAND PRIMARY SCHOOL","682 SCHOOL BUS LANE","SNOWFLAKE AZ 85937","() -","() -"]
["090205007","SNOWFLAKE PRESCHOOL","682 SCHOOL BUS LANE","SNOWFLAKE AZ 85937","(928) 536-4156","(928) 536-2634"]
["090206000","HEBER-OVERGAARD UNIFIED DISTRICT","PO BOX 547","HEBER AZ 85928","(928) 535-4622","(928) 535-5146"]
["090206101","MOUNTAIN MEADOWS PRIMARY","P.O. BOX 40","OVERGAARD AZ 85933","() -","() -"]
["090206102","CAPPS ELEMENTARY SCHOOL","P. O. BOX 820","HEBER AZ 85928","(928) 535-4667","(928) 535-9044"]
["090206103","MOGOLLON JR HIGH SCHOOL","PO BOX 820","HEBER AZ 85928","(928) 535-4667","(928) 535-9044"]
["090206201","MOGOLLON HIGH SCHOOL","PO BOX 279","HEBER AZ 85928","() -","() -"]
["090210000","SHOW LOW UNIFIED DISTRICT","500 W OLD LINDEN RD","SHOW LOW AZ 85901 4645","(928) 537-6001","(928) 537-6009"]
["090210001","SHOW LOW PRESCHOOL","500 W OLD LINDEN RD","SHOW LOW AZ 85901","(520) 537-6000","( ) -"]
["090210111","WHIPPLE RANCH ELEMENTARY SCHOOL","500 WEST OLD LINDEN ROAD","SHOW LOW AZ 85901","() -","() -"]
["090210115","NIKOLAUS HOMESTEAD ELEMENTARY SCHOOL","500 W. OLD LINDEN RD","SHOW LOW AZ 85901","() -","() -"]
["090210116","LINDEN ELEMENTARY SCHOOL","500 WEST OLD LINDEN ROAD","SHOW LOW AZ 85901","() -","() -"]
["090210117","PINEDALE ELEMENTARY SCHOOL","500 OLD LINDEN ROAD","SHOW LOW AZ 85901","(928) 537-6010","(928) 537-6004"]
["090210118","CLAY SPRINGS SCHOOL","500 W. OLD LINDEN RD.","SHOW LOW AZ 85901","() -","() -"]
["090210120","SHOW LOW JUNIOR HIGH SCHOOL","500 W. OLD LINDEN RD.","SHOW LOW AZ 85901","(928) 537-6100","(928) 537-6149"]
["090210225","SHOW LOW HIGH SCHOOL","500 W. OLD LINDEN RD.","SHOW LOW AZ 85901","() -","() -"]
["090210226","WHITE MOUNTAIN INSTITUTE","500 W. OLD LINDEN RD.","SHOW LOW AZ 85901","() -","() -"]
["090220000","WHITERIVER UNIFIED DISTRICT","P O BOX 190","WHITERIVER AZ 85941","(928) 338-4842","(928) 338-5124"]
["090220101","WHITERIVER ELEMENTARY","BOX 190","WHITERIVER AZ 85941","() -","( ) -"]
["090220103","CANYON DAY JUNIOR HIGH SCHOOL","P.O. BOX 190","WHITERIVER AZ 85941","() -","() -"]
["090220106","CRADLEBOARD SCHOOL","PO BOX 190","WHITERIVER AZ 85941","() -","() -"]
["090220107","SEVEN MILE SCHOOL","P.O. BOX190","WHITERIVER AZ 85941","() -","() -"]
["090220204","ALCHESAY HIGH SCHOOL","PO BOX 190","WHITERIVER AZ 85941","() -","() -"]
["090225000","CEDAR UNIFIED DISTRICT","P O BOX 367","KEAMS CANYON AZ 86034","(928) 738-2367","(928) 738-5275"]
["090225001","JEDDITO SCHOOL","P.O. BOX 367","KEAMS CANYON AZ 86034 0367","() -","() -"]
["090225002","WHITE CONE - INACTIVE","P.O. BOX 367","KEAMS CANYON AZ 86034","() -","() -"]
["090225200","WHITE CONE HIGH SCHOOL","POST OFFICE BOX 367","KEAMS CANYON AZ 86034","() -","() -"]
["090227000","KAYENTA UNIFIED DISTRICT","P O BOX 337","KAYENTA AZ 86033","(928) 697-2006","(928) 697-2011"]
["090227102","KAYENTA MIDDLE SCHOOL","P.O. BOX 337","KAYENTA AZ 86033","() -","() -"]
["090227103","KAYENTA ELEMENTARY SCHOOL","PO BOX 337","KAYENTA AZ 86033","() -","() -"]
["090227104","KAYENTA PRIMARY SCHOOL","P.O. BOX 337","KAYENTA AZ 86033","() -","() -"]
["090227201","MONUMENT VALLEY HIGH SCHOOL","P.O. BOX 337","KAYENTA AZ 86033","() -","( ) -"]
["090232000","BLUE RIDGE UNIFIED DISTRICT","1200 W WHITE MOUNTAIN BLVD","LAKESIDE AZ 85929 0885","(928) 368-6126","(928) 368-5570"]
["090232101","BLUE RIDGE ELEMENTARY SCHOOL","1200 W WHITE MOUNTAIN BLVD","LAKESIDE AZ 85929","() -","() -"]
["090232102","BLUE RIDGE MIDDLE SCHOOL","1200 W. WHITE MOUNTAIN BLVD.","LAKESIDE AZ 85929","() -","() -"]
["090232103","BLUE RIDGE JR HIGH SCHOOL","1200 W WHITE MOUNTAIN BLVD","LAKESIDE AZ 85929","() -","( ) -"]
["090232104","BLUE RIDGE INTERMEDIATE SCHOOL","1200 WEST WHITE MOUNTAIN BLVD.","PINETOP-LAKESIDE AZ 85929","(928) 368-6126","(928) 368-5570"]
["090232204","BLUE RIDGE HIGH SCHOOL","1200 W WHITE MOUNTAIN BLVD","LAKESIDE AZ 85929","() -","() -"]
["098651000","DEVELOPING INNOVATIONS IN NAVAJO EDUCATION, INC. (DINE, INC.)","HC 63 BOX 303","WINSLOW AZ 86047","(928) 657-3272","(928) 657-3310"]
["098651201","DINE SOUTHWEST HIGH SCHOOL","HC 63 BOX 303","WINSLOW AZ 86047","(928) 657-3272","(928) 657-3272"]
["098745000","CAREER DEVELOPMENT, INC.","PO BOX 125","TAYLOR AZ 85939","(928) 536-4222","(928) 536-4441"]
["098745201","NORTHERN AZ ACADEMY FOR CAREER DEV. - WINSLOW","502 AIRPORT ROAD","WINSLOW AZ 86047","(928) 289-3329","(928) 289-4485"]
["098745204","NORTHERN AZ ACADEMY FOR CAREER DEV. - TAYLOR","PO BOX 125","TAYLOR AZ 85939","(928) 536-4222","(928) 536-4441"]
["098746000","SHONTO GOVERNING BOARD OF EDUCATION, INC.","P.O. BOX 7900","SHONTO AZ 86054","(928) 672-2652","(928) 672-3507"]
["098746001","SHONTO PREPARATORY TECHNOLOGY HIGH SCHOOL","P.O. BOX 7900","SHONTO AZ 86054","(928) 672-2852","(928) 672-2657"]
["098748000","LITTLE SINGER COMMUNITY SCHOOL BOARD INC.","P.O. BOX AQ","WINSLOW AZ 86047","(928) 526-6680","(928) 526-3332"]
["098748101","LITTLE SINGER COMMUNITY JUNIOR HIGH SCHOOL","P.O. BOX AQ","WINSLOW AZ 86047","(928) 526-2950","(928) 526-3334"]
["098749000","CAFA, INC. DBA LEARNING FOUNDATION PERFORMING ARTS SCHOOL","1120 S. GILBERT RD BUILDING 200, SUITE 112","GILBERT AZ 85296","(480) 635-1900","(480) 635-1906"]
["098749002","LEARNING FOUNDATION","851 NORTH STAPLEY DRIVE BLD 6","MESA AZ 85203","() -","() -"]
["098750000","FOUNDING FATHERS ACADEMIES, INC","40 SOUTH 11TH STREET","SHOW LOW AZ 85901","(928) 537-5432","(928) 537-0440"]
["098750001","JEFFERSON ACADEMY OF ADVANCED LEARNING","40 SOUTH 11TH STREET","SHOW LOW AZ 85901","(928) 537-5432","( ) -"]
["098751000","SUCCESSFUL BEGINNINGS CHARTER SCHOOL","841 E. MCNEIL ST.","SHOW LOW AZ 85901","(928) 537-2365","(928) 537-2365"]
["098751001","SUCCESSFUL BEGINNINGS CHARTER SCHOOL","841 E. MCNEIL ST.","SHOW LOW AZ 85901","(928) 537-2365","(928) 537-2365"]
[100100000,"PIMA ACCOMMODATION DISTRICT","130 W CONGRESS ST 4TH FLOOR","TUCSON AZ 85701","(520) 740-4704","(520) 882-5184"]
[100201000,"TUCSON UNIFIED DISTRICT","1010 E. 10TH ST.","TUCSON AZ 85719","(520) 225-6060","(520) 225-6174"]
[100201120,"LAURA N. BANKS ELEMENTARY","3200 S.LEAD FLOWER","TUCSON AZ 85735","() -","() -"]
[100201122,"DIRECT LINK I","445 S. PARK","TUCSON AZ 85719","(520) 225-2698","(520) 225-2625"]
[100201125,"BLENMAN ELEMENTARY SCHOOL","1695 N. COUNTRY CLUB","TUCSON AZ 85716","() -","() -"]
[100201128,"BLOOM ELEMENTARY","8310 E. PIMA","TUCSON AZ 85715","(520) 731-3700","(520) 731-3701"]
[100201131,"BONILLAS ELEMENTARY BASIC CURRICULUM MAGNET SCHOOL","4757 E. WINSETT STREET","TUCSON AZ 85711","() -","() -"]
[100201137,"BOOTH MAGNET ELEMENTARY SCHOOL","450 EAST MONTEGO DRIVE","TUCSON AZ 85710","() -","() -"]
[100201140,"BORMAN ELEMENTARY SCHOOL","6630 LIGHTNING DRIVE","TUCSON AZ 85708","(520) 584-4600","(520) 584-4601"]
[100201143,"BORTON PRIMARY MAGNET SCHOOL","700 E. 22ND ST.","TUCSON AZ 85713","() -","() -"]
[100201149,"BRICHTA ELEMENTARY SCHOOL","2110 W. BRICHTA DR.","TUCSON AZ 85745","() -","() -"]
[100201161,"CARRILLO INTERMEDIATE MAGNET SCHOOL","440 S. MAIN AVE.","TUCSON AZ 85701","(520) 225-1200","(520) 225-1201"]
[100201167,"CAVETT ELEMENTARY SCHOOL","2120 E. NACO VISTA","TUCSON AZ 85713","(520) 225-1300","(520) 225-1301"]
[100201170,"COLLIER ELEMENTARY SCHOOL","3900 NORTH BEAR CANYON ROAD","TUCSON AZ 85749","() -","() -"]
[100201173,"CORBETT ELEMENTARY SCHOOL","5949 EAST 29TH ST.","TUCSON AZ 85711","() -","() -"]
[100201179,"CRAGIN ELEMENTARY SCHOOL","2945 N. TUCSON BLVD.","TUCSON AZ 85716 1898","() -","() -"]
[100201185,"DAVIDSON ELEMENTARY SCHOOL","3950 PARADISE FALLS DR.","TUCSON AZ 85712","() -","() -"]
[100201191,"DAVIS BILINGUAL MAGNET SCHOOL","500 W. ST. MARY'S RD.","TUCSON AZ 85701","() -","() -"]
[100201195,"MARY MEREDITH K-12 SCHOOL","755 N MAGNOLIA AVE","TUCSON AZ 85711","() -","() -"]
[100201197,"DIETZ ELEMENTARY SCHOOL","7575 E. PALMA STREET","TUCSON AZ 85710","(520) 731-4000","(520) 731-4001"]
[100201203,"DRACHMAN PRIMARY MAGNET SCHOOL","1085 S. TENTH AVE.","TUCSON AZ 85701","() -","() -"]
[100201209,"DUFFY ELEMENTARY SCHOOL","5145 E 5TH STREET","TUCSON AZ 85711","() -","() -"]
[100201211,"DUNHAM ELEMENTARY SCHOOL","9850 E. 29TH STREET","TUCSON AZ 85748","() -","() -"]
[100201215,"IRENE ERICKSON ELEMENTARY SCHOOL","6750 E. STELLA ROAD","TUCSON AZ 85730","(520) 584-5000","(520) 584-5001"]
[100201218,"FORD ELEMENTARY","8001 EAST STELLA ROAD","TUCSON AZ 85730","() -","() -"]
[100201221,"FORT LOWELL ELEMENTARY SCHOOL","5151 EAST PIMA STREET","TUCSON AZ 85712 3627","() -","() -"]
[100201225,"FRUCHTHENDLER ELEMENTARY SCHOOL","7470 E CLOUD RD","TUCSON AZ 85750","(520) 731-4400","(520) 731-4401"]
[100201228,"GALE ELEMENTARY SCHOOL","678 SOUTH GOLLOB ROAD","TUCSON AZ 85710","(520) 731-4500","(520) 731-4501"]
[100201231,"RAUL GRIJALVA ELEMENTARY SCHOOL","1795 WEST DREXEL RD.","TUCSON AZ 85746","(520) 908-3600","(520) 908-3601"]
[100201233,"HOLLINGER ELEMENTARY SCHOOL","150 W. AJO WAY","TUCSON AZ 85713","() -","() -"]
[100201238,"ANNA HENRY ELEMENTARY SCHOOL","650 NORTH IGO WAY","TUCSON AZ 85710","(520) 731-4700","(520) 731-4701"]
[100201239,"HOLLADAY INTERMEDIATE MAGNET SCHOOL","1110 E. 33RD ST.","TUCSON AZ 85713","() -","() -"]
[100201245,"HOWELL PETER ELEMENTARY","401 N. IRVING","TUCSON AZ 85711","() -","() -"]
[100201251,"HUDLOW ELEMENTARY SCHOOL","502 N. CARIBE","TUCSON AZ 85710","() -","() -"]
[100201257,"SAM HUGHES ELEMENTARY","700 N. WILSON","TUCSON AZ 85719","() -","() -"]
[100201263,"JEFFERSON PARK ELEMENTARY SCHOOL","1701 EAST SENECA STREET","TUCSON AZ 85719","() -","() -"]
[100201266,"HARRIET JOHNSON PRIMARY SCHOOL","6060 SOUTH JOSEPH AVENUE","TUCSON AZ 85757","() -","() -"]
[100201269,"JULIA KEEN ELEMENTARY SCHOOL","23538 E. ELLINGTON PL.","TUCSON AZ 85713","(520) 232-7600","(520) 232-7601"]
[100201275,"ANNIE KELLOND ELEMENTARY SCHOOL","6606 E. LEHIGH DRIVE","TUCSON AZ 85710","() -","() -"]
[100201277,"ANNA LAWRENCE INTERMEDIATE SCHOOL","4850 W. JEFFREY RD","TUCSON AZ 85757","() -","() -"]
[100201281,"LINEWEAVER ELEMENTARY SCHOOL","461 SOUTH BRYANT","TUCSON AZ 85711 4775","() -","() -"]
[100201287,"LYNN URQUIDES","1573 W. AJO WAY","TUCSON AZ 85713","() -","() -"]
[100201288,"NAN LYONS ELEMENTARY SCHOOL","7555 E. DOGWOOD","TUCSON AZ 85730 4299","() -","() -"]
[100201290,"MALDONADO AMELIA ELEMENTARY SCHOOL","3535 W. MESSALA WAY","TUCSON AZ 85746","(520) 908-4100","(520) 908-4101"]
[100201293,"MANZO ELEMENTARY SCHOOL","855 N.MELROSE","TUCSON AZ 85745","() -","() -"]
[100201295,"MARSHALL ELEMENTARY SCHOOL","9066 E. 29TH ST.","TUCSON AZ 85710","(520) 731-4900","(520) 731-4901"]
[100201299,"MENLO PARK ELEMENTARY SCHOOL","1100 W. FRESNO STREET","TUCSON AZ 85745","() -","() -"]
[100201305,"MILES-EXPLORATORY LEARNING CENTER","1400 EAST BROADWAY","TUCSON AZ 85719","() -","() -"]
[100201308,"MILLER ELEMENTARY SCHOOL","6951 S. CAMINO DE LA TIERRA","TUCSON AZ 85746","() -","() -"]
[100201311,"MISSION VIEW ELEMENTARY SCHOOL","2600 S. 8TH AVE.","TUCSON AZ 85713","() -","() -"]
[100201317,"MYERS-GANOUNG ELEMENTARY SCHOOL","5000 E. ANDREW ST.","TUCSON AZ 85711","() -","() -"]
[100201323,"OCHOA ELEMENTARY SCHOOL","101 W. 25TH STREET","TUCSON AZ 85713","() -","() -"]
[100201327,"HENRY HANK OYAMA","2700 S. LA CHOLLA BLVD.","TUCSON AZ 85713","() -","() -"]
[100201329,"PUEBLO GARDENS ELEMENTARY","2210 E. 33RD STREET","TUCSON AZ 85713","() -","() -"]
[100201338,"REYNOLDS ELEMENTARY SCHOOL","7450 E. STELLA ROAD","TUCSON AZ 85730","() -","() -"]
[100201341,"RICHEY ELEMENTARY SCHOOL","2209 N 15 TH AVENUE","TUCSON AZ 85705","() -","() -"]
[100201347,"ROBERTS ELEMENTARY SCHOOL - CLOSED","4355 CALLE AURORA","TUCSON AZ 85711","() -","( ) -"]
[100201351,"ROBINS ELEMENTARY SCHOOL","3939 N. MAGNETITE LANE","TUCSON AZ 85745","(520) 908-4300","(520) 908-4301"]
[100201353,"ROBISON ELEMENTARY SCHOOL","2745 E. 18TH ST.","TUCSON AZ 85716","(520) 232-7800","(520) 232-7801"]
[100201359,"ROGERS ELEMENTARY SCHOOL","6000 E. 14TH STREET","TUCSON AZ 85711","() -","() -"]
[100201371,"C E ROSE ELEMENTARY SCHOOL","710 W. MICHIGAN DRIVE","TUCSON AZ 85714","() -","() -"]
[100201377,"ROSKRUGE BILINGUAL ELEMENTARY SCHOOL - CLOSED","501 E. 6TH ST.","TUCSON AZ 85705","(520) 225-2900","(520) 225-2901"]
[100201383,"SAFFORD ELEMENTARY SCHOOL","200 E. 13TH STREET","TUCSON AZ 85701","() -","() -"]
[100201389,"SCHUMAKER ELEMENTARY SCHOOL","501 N. MAGUIRE AVENUE","TUCSON AZ 85710","(520) 731-5200","(520) 731-5201"]
[100201395,"W ARTHUR SEWEL ELEMENTARY SCHOOL","425 N. SAHUARA","TUCSON AZ 85711","() -","() -"]
[100201401,"LOWELL H SMITH ELEMENTARY SCHOOL","5741 IRONWOOD STREET","TUCSON AZ 85708","(520) 584-7300","(520) 584-7301"]
[100201410,"SOLENG TOM ELEMENTARY SCHOOL","11141 EAST CAMINO QUINCE","TUCSON AZ 85748","() -","() -"]
[100201413,"HAROLD STEELE ELEMENTARY SCHOOL","700 S. SARNOFF DRIVE","TUCSON AZ 85710","(520) 731-6800","(520) 731-6801"]
[100201417,"TOLSON ELEMENTARY SCHOOL","1000 S. GREASEWOOD","TUCSON AZ 85745","(520) 225-3300","(520) 225-3301"]
[100201419,"TULLY ELEMENTARY ACCELERATED MAGNET SCHOOL","1701 W. EL RIO DRIVE","TUCSON AZ 85745","() -","() -"]
[100201431,"VAN BUSKIRK ELEMENTARY SCHOOL","725 E. FAIR ST","TUCSON AZ 85714","(520) 225-3700","(520) 225-3701"]
[100201433,"VAN HORNE ELEMENTARY SCHOOL","7550 EAST PIMA STREET","TUCSON AZ 85715","() -","() -"]
[100201435,"VESEY ELEMENTARY SCHOOL","5005 S. BUTTS ROAD","TUCSON AZ 85757","(520) 908-4600","(520) 908-4601"]
[100201440,"FRANCES J WARREN ELEMENTARY SCHOOL","3505 W. MILTON RD","TUCSON AZ 85746","() -","() -"]
[100201443,"WHEELER ELEMENTARY SCHOOL","1818 AVENIDA DEL SOL","TUCSON AZ 85710 5319","() -","() -"]
[100201449,"JOHN E WHITE ELEMENTARY SCHOOL","2315 W. CANADA ST.","TUCSON AZ 85746","() -","() -"]
[100201455,"W V WHITMORE ELEMENTARY SCHOOL","5330 E. GLENN STREET","TUCSON AZ 85712 1319","() -","() -"]
[100201461,"JOHN E WRIGHT ELEMENTARY SCHOOL","4311 E. LINDEN","TUCSON AZ 85712","() -","() -"]
[100201467,"WRIGHTSTOWN ELEMENTARY","8950 E. WRIGHTSTOWN ROAD","TUCSON AZ 85715","() -","() -"]
[100201502,"IDA FLOOD DODGE TRADITIONAL MIDDLE MAGNET SCHOOL","5831 E. PIMA STREET","TUCSON AZ 85712","(520) 731-4100","( ) -"]
[100201503,"CARSON MIDDLE SCHOOL","7777 E. STELLA RD.","TUCSON AZ 85730","() -","() -"]
[100201505,"DOOLEN MIDDLE SCHOOL","2400 NORTH COUNTRY CLUB ROAD","TUCSON AZ 85716","() -","() -"]
[100201510,"BOOTH-FICKETT MATH/SCIENCE MAGNET SCHOOL","450 S. MONTEGO DRIVE","TUCSON AZ 85710","() -","() -"]
[100201511,"GRIDLEY MIDDLE SCHOOL","350 S. HARRISON","TUCSON AZ 85748","() -","() -"]
[100201513,"HOHOKAM MIDDLE SCHOOL","7400 S. SETTLER RD.","TUCSON AZ 85746","() -","() -"]
[100201515,"MAGEE MIDDLE SCHOOL","8300 E. SPEEDWAY BLVD.","TUCSON AZ 85710","() -","() -"]
[100201520,"MANSFELD MIDDLE SCHOOL","1300 E. 6TH STREET","TUCSON AZ 85719","() -","() -"]
[100201522,"MAXWELL MIDDLE SCHOOL","2802 W. ANKLAM RD.","TUCSON AZ 85745","(520) 225-2000","(520) 225-2001"]
[100201523,"MCCORKLE PK-8","4455 S MISSION RD","TUCSON AZ 85746","(520) 877-2000","(520) 889-5171"]
[100201525,"NAYLOR MIDDLE SCHOOL","1701 S. COLUMBUS BLVD","TUCSON AZ 85711","(520) 584-6000","(520) 584-6001"]
[100201527,"PISTOR MIDDLE SCHOOL","5455 S. CARDINAL","TUCSON AZ 85746","() -","() -"]
[100201535,"SAFFORD ENGINEERING/TECHNOLOGY MAGNET MIDDLE SCHOOL","200 E. 13TH STREET","TUCSON AZ 85701","() -","() -"]
[100201537,"SECRIST MIDDLE SCHOOL","3400 SOUTH HOUGHTON ROAD","TUCSON AZ 85730","() -","() -"]
[100201545,"TOWNSEND MIDDLE SCHOOL","2120 N. BEVERLY","TUCSON AZ 85712","() -","( ) -"]
[100201550,"UTTERBACK MIDDLE SCHOOL","3233 S. PINAL VISTA","TUCSON AZ 85713","(520) 225-3500","(520) 225-3501"]
[100201555,"ALICE VAIL MIDDLE SCHOOL","5350 E. 16TH STREET","TUCSON AZ 85711","(520) 584-5400","(520) 584-5401"]
[100201557,"VALENCIA MIDDLE SCHOOL","4400 W. IRVINGTON RD.","TUCSON AZ 85746","() -","() -"]
[100201560,"WAKEFIELD MIDDLE SCHOOL","101 W. 44TH ST","TUCSON AZ 85713","() -","() -"]
[100201578,"JOYCE DRAKE ALTERNATIVE MIDDLE SCHOOL","445 S. PARK","TUCSON AZ 85719","() -","() -"]
[100201580,"SOUTHWEST ALTERNATIVE MIDDLE SCHOOL","6855 S. MARK ROAD","TUCSON AZ 85746","() -","() -"]
[100201595,"ROSKRUGE BILINGUAL MAGNET MIDDLE SCHOOL","501 E 6TH ST","TUCSON AZ 85705","(520) 225-2900","(520) 225-2901"]
[100201602,"DIRECT LINK II","445 S. PARK","TUCSON AZ 85719","(520) 225-2698","(520) 225-2625"]
[100201610,"CATALINA HIGH MAGNET SCHOOL","3645 E. PIMA","TUCSON AZ 85716","() -","() -"]
[100201615,"CHOLLA HIGH MAGNET SCHOOL","2001 W. STARR PASS BLVD.","TUCSON AZ 85713","() -","() -"]
[100201620,"PALO VERDE HIGH MAGNET SCHOOL","1302 S. AVENIDA VEGA","TUCSON AZ 85710","() -","() -"]
[100201630,"PUEBLO HIGH MAGNET SCHOOL","3500 S. 12TH AVE.","TUCSON AZ 85713","(520) 225-4300","(520) 225-4301"]
[100201640,"RINCON HIGH SCHOOL","421 ARCADIA","TUCSON AZ 85711","() -","() -"]
[100201645,"SABINO HIGH SCHOOL","5000 NORTH BOWES ROAD","TUCSON AZ 85749","() -","() -"]
[100201650,"SAHUARO HIGH SCHOOL","545 N. CAMINO SECO","TUCSON AZ 85710","() -","() -"]
[100201655,"SANTA RITA HIGH SCHOOL","3951 S. PANTANO RD","TUCSON AZ 85730 4099","() -","() -"]
[100201660,"TUCSON MAGNET HIGH SCHOOL","400 N. SECOND AVENUE","TUCSON AZ 85705","() -","() -"]
[100201667,"AZTEC DESERT VISTA","5901 S. CALLE SANTA CRUZ","TUCSON AZ 85746","(520) 206-5000","( ) -"]
[100201668,"AZTEC MIDDLE COLLEGE NORTHWEST","7600 N. SHANNON ROAD, BLDG. D 103","TUCSON AZ 85741","() -","() -"]
[100201669,"AZTEC MIDDLE COLLEGE - EAST","8181 E. IRVINGTON BLDG E-5","TUCSON AZ 85719","() -","() -"]
[100201671,"PASS ALTERNATIVE HIGH SCHOOL","2102 E. BROADWAY","TUCSON AZ 85719","() -","() -"]
[100201672,"PACE ALTERNATIVE","594 SOUTH CAMPBELL","TUCSON AZ 85719","() -","() -"]
[100201673,"AZTEC MIDDLE COLLEGE","2202 W ANKLAM RD","TUCSON AZ 85709","() -","() -"]
[100201674,"PROJECT MORE HIGH SCHOOL","440 S. PARK","TUCSON AZ 85719","() -","() -"]
[100201675,"UNIVERSITY HIGH SCHOOL","421 N. ARCADIA BLVD.","TUCSON AZ 85711","() -","() -"]
[100201676,"TEENAGE PARENT PROGRAM - TAPP","102 N. PLUMER","TUCSON AZ 85719","() -","() -"]
[100201677,"DOWNTOWN ALTERNATIVE HIGH SCHOOL","39 N. 6TH AVENUE","TUCSON AZ 85701","() -","() -"]
[100201678,"SOUTHWEST ALTERNATIVE HIGH SCHOOL","6855 S. MARK ROAD","TUCSON AZ 85746","() -","() -"]
[100201680,"HOWENSTINE HIGH SCHOOL","555 SOUTH TUCSON BLVD.","TUCSON AZ 85716","() -","() -"]
[100201681,"BROADWAY BRIDGE ALTERNATIVE SCHOOL","2120 E. BROADWAY","TUCSON, AZ AZ 85719","() -","() -"]
[100201685,"MUSEUM SCHOOL FOR THE VISUAL ARTS","3601 EAST BROADWAY","TUCSON AZ 85719","() -","() -"]
[100201690,"MARY MEREDITH HIGH SCHOOL","755 NORTH MAGNOLIA AVENUE","TUCSON AZ 85711","() -","() -"]
[100201905,"WINGS ON WORDS PRESCHOOL","202 E. SPEEDWAY","TUCSON AZ 85705","(520) 628-1659","( ) -"]
[100206000,"MARANA UNIFIED DISTRICT","11279 W GRIER RD SUITE 115A","MARANA AZ 85653","(520) 682-4749","(520) 682-4811"]
[100206038,"A. C. E.","11279 W GRIER RD","MARANA AZ 85653","() -","() -"]
[100206111,"DEGRAZIA ELEMENTARY SCHOOL","5051 W. OVERTON ROAD","TUCSON AZ 85742","(520) 579-4800","(520) 579-4840"]
[100206112,"MARJORIE W ESTES ELEMENTARY SCHOOL","11279 W. GRIER ROAD, SUITE 100","MARANA AZ 85653","() -","() -"]
[100206113,"THORNYDALE ELEMENTARY SCHOOL","7651 N. OLDFATHER DR.","TUCSON AZ 85741","() -","() -"]
[100206114,"BUTTERFIELD ELEMENTARY SCHOOL","3400 WEST MASSINGALE ROAD","TUCSON AZ 85741","() -","() -"]
[100206115,"ROADRUNNER ELEMENTARY SCHOOL","16651 W. CALLE CARMELA","MARANA AZ 85653","(520) 616-6363","(520) 616-6383"]
[100206116,"DESERT WINDS ELEMENTARY SCHOOL","12675 W RUDASILL RD","TUCSON AZ 85743","() -","() -"]
[100206117,"IRONWOOD ELEMENTARY SCHOOL","3300 W. FREER DR.","TUCSON AZ 85742","(520) 579-5150","(520) 579-5164"]
[100206118,"QUAIL RUN ELEMENTARY SCHOOL","4600 W CORTARO FARMS RD","TUCSON AZ 85742","() -","() -"]
[100206119,"COYOTE TRAIL ELEMENTARY SCHOOL","8000 N SILVERBELL RD","TUCSON AZ 85743","() -","() -"]
[100206120,"PICTURE ROCKS INTERMEDIATE SCHOOL","5875 N. SANDERS ROAD","TUCSON AZ 85743","() -","() -"]
[100206121,"TWIN PEAKS ELEMENTARY SCHOOL","7995 W. TWIN PEAKS RD.","TUCSON AZ 85743","(520) 579-4750","(520) 579-4785"]
[100206122,"RATTLESNAKE RIDGE ELEMENTARY","8500 N. CONTINENTAL LOOP DRIVE","TUCSON AZ 85743","(520) 682-4749","(520) 682-4811"]
[100206130,"MARANA MIDDLE SCHOOL","11279 WEST GRIER ROAD 105","MARANA AZ 85653","(520) 682-4730","(520) 682-4790"]
[100206131,"TORTOLITA MIDDLE SCHOOL","4101 W. HARDY RD","TUCSON AZ 85742","(520) 579-4600","(520) 579-4646"]
[100206240,"MARANA HIGH SCHOOL","11279 W. GRIER ROAD","MARANA AZ 85653","(520) 616-6400","(520) 616-6426"]
[100206241,"MOUNTAIN VIEW HIGH SCHOOL","3901 W. LINDA VISTA BLVD.","TUCSON AZ 85742 8764","() -","() -"]
[100208105,"EMILY MESCHTER EARLY LEARNING CENTER","4605 N. LA CHOLLA BLVD.","TUCSON AZ 85705","(520) 690-5657","( ) -"]
[100208110,"CENTENNIAL ELEMENTARY SCHOOL","2200 W WETMORE","TUCSON AZ 85705","() -","() -"]
[100208120,"HOMER DAVIS ELEMENTARY SCHOOL","4250 N ROMERO RD","TUCSON AZ 85705","() -","() -"]
[100208130,"WALTER DOUGLAS ELEMENTARY SCHOOL","3302 N FLOWING WELLS RD","TUCSON AZ 85705","() -","() -"]
[100208140,"J ROBERT HENDRICKS ELEMENTARY SCHOOL","3400 W ORANGE GROVE RD","TUCSON AZ 85741 2828","() -","() -"]
[100208150,"LAGUNA ELEMENTARY SCHOOL","5001 N SHANNON RD","TUCSON AZ 85705","() -","() -"]
[100208160,"ROBERT RICHARDSON ELEMENTARY SCHOOL","6901 N CAMINO DE LA TIERRA","TUCSON AZ 85741","() -","() -"]
[100208170,"FLOWING WELLS JUNIOR HIGH SCHOOL","4545 N. LACHOLLA","TUCSON AZ 85705","() -","() -"]
[100208210,"FLOWING WELLS HIGH SCHOOL","3725 N FLOWING WELLS RD","TUCSON AZ 85705","() -","() -"]
[100210000,"AMPHITHEATER UNIFIED DISTRICT","701 W WETMORE","TUCSON AZ 85705","(520) 696-5000","(520) 696-5065"]
[100210106,"MARION DONALDSON ELEMENTARY SCHOOL","2040 W OMAR DR","TUCSON AZ 85704","() -","() -"]
[100210107,"WINIFRED HARELSON ELEMENTARY SCHOOL","826 W CHAPALA DR.","TUCSON AZ 85704","() -","() -"]
[100210108,"FRANCES OWEN HOLAWAY ELEMENTARY SCHOOL","3500 N CHERRY AVE","TUCSON AZ 85719","() -","() -"]
[100210109,"HELEN KEELING ELEMENTARY SCHOOL","2837 N. LOS ALTOS AVENUE","TUCSON AZ 85705","() -","() -"]
[100210110,"E C NASH SCHOOL","515 W KELSO","TUCSON AZ 85705","() -","() -"]
[100210111,"L M PRINCE SCHOOL","125 E. PRINCE ROAD","TUCSON AZ 85705 3635","() -","() -"]
[100210112,"LULU WALKER SCHOOL","1750 W ROLLER COASTER RD","TUCSON AZ 85704","() -","() -"]
[100210114,"PAINTED SKY ELEMENTARY SCHOOL","12620 N. WOODBURNE AVE.","TUCSON AZ 85755","() -","() -"]
[100210115,"CORONADO K-8 SCHOOL","3401 E. WILDS ROAD","TUCSON AZ 85739","(520) 696-6610","(520) 696-6701"]
[100210116,"MESA VERDE ELEMENTARY SCHOOL","1661 W SAGE","TUCSON AZ 85704","() -","() -"]
[100210117,"RIO VISTA ELEMENTARY SCHOOL","1351 E. LIMBERLOST","TUCSON AZ 85719","(520) 696-5250","(520) 696-5260"]
[100210118,"COPPER CREEK ELEMENTARY SCHOOL","11620 N COPPER SPRING TRAIL","TUCSON AZ 85737","() -","() -"]
[100210125,"RILLITO CENTER","266 E PASTIME ROAD","TUCSON AZ 85705","() -","() -"]
[100210165,"LA CIMA MIDDLE SCHOOL","5600 N. LA CANADA","TUCSON AZ 85704","() -","() -"]
[100210166,"AMPHITHEATER MIDDLE SCHOOL","315 EAST PRINCE ROAD","TUCSON AZ 85705","(520) 696-6230","(520) 696-6236"]
[100210167,"LAWRENCE W CROSS MIDDLE SCHOOL","1000 W. CHAPALA DR.","TUCSON AZ 85704","() -","() -"]
[100210168,"RICHARD B WILSON JR SCHOOL","2330 W GLOVER RD","TUCSON AZ 85742","() -","() -"]
[100210280,"IRONWOOD RIDGE HIGH SCHOOL","2475 WEST NARANJA DRIVE","TUCSON AZ 85742","() -","() -"]
[100210281,"AMPHITHEATER HIGH SCHOOL","125 W YAVAPAI ROAD","TUCSON AZ 85705","() -","(520) 696-5555"]
[100210282,"CANYON DEL ORO HIGH SCHOOL","25 WEST CALLE CONCORDIA","ORO VALLEY AZ 85704 8505","() -","() -"]
[100212000,"SUNNYSIDE UNIFIED DISTRICT","2238 E. GINTER RD","TUCSON AZ 85706","(520) 545-2000","(520) 545-2115"]
[100212106,"APOLLO MIDDLE SCHOOL","265 WEST NEBRASKA STREET","TUCSON AZ 85706","() -","() -"]
[100212108,"CRAYCROFT ELEMENTARY SCHOOL","5455 E. LITTLETOWN RD.","TUCSON AZ 85706","(520) 545-2600","(520) 545-2616"]
[100212109,"CHAPARRAL MIDDLE SCHOOL","3700 E ALVORD","TUCSON AZ 85706","(520) 545-4700","(520) 545-4716"]
[100212112,"DREXEL ELEMENTARY SCHOOL","801 E DREXEL RD","TUCSON AZ 85706","(520) 545-2700","(520) 545-2716"]
[100212114,"ELVIRA ELEMENTARY SCHOOL","250 W ELVIRA RD","TUCSON AZ 85706","() -","() -"]
[100212115,"ESPERANZA ELEMENTARY SCHOOL","2353 E BANTAM ROAD","TUCSON AZ 85706","(520) 545-2900","(520) 545-2916"]
[100212116,"LIBERTY ELEMENTARY SCHOOL","5495 S LIBERTY AVE","TUCSON AZ 85706 3257","() -","() -"]
[100212117,"GALLEGO BASIC ELEMENTARY SCHOOL","2238 E. GINTER ROAD","TUCSON AZ 85706","(520) 545-3000","(520) 545-3016"]
[100212118,"LOS NINOS ELEMENTARY SCHOOL","5445 S ALVERNON WAY","TUCSON AZ 85706 1958","() -","() -"]
[100212119,"LOS AMIGOS ELEMENTARY SCHOOL","2200 E DREXEL RD","TUCSON AZ 85706","(520) 545-3200","(520) 545-3216"]
[100212120,"LOS RANCHITOS ELEMENTARY SCHOOL","2054 E GINTER RD","TUCSON AZ 85706","() -","() -"]
[100212122,"MISSION MANOR ELEMENTARY SCHOOL","600 W SANTA ROSA","TUCSON AZ 85706","() -","() -"]
[100212123,"SUMMIT VIEW ELEMENTARY","1900 E SUMMIT ST","TUCSON AZ 85706","() -","() -"]
[100212124,"RIVERA ELEMENTARY","5102 S. CHERRY AVENUE","TUCSON AZ 85706","(520) 545-3900","(520) 545-3916"]
[100212126,"SANTA CLARA ELEMENTARY SCHOOL","6910 S SANTA CLARA","TUCSON AZ 85706 6568","() -","() -"]
[100212127,"LAS VILLAS DE KINO","6015 S. SANTA CLARA","TUCSON AZ 85706","(520) 545-2376","(520) 545-2380"]
[100212131,"SIERRA MIDDLE SCHOOL","5801 S. DEL MORAL BLVD.","TUCSON AZ 85706","() -","() -"]
[100212132,"CHALLENGER MIDDLE SCHOOL","100 EAST ELVIRA ROAD","TUCSON AZ 85706","() -","() -"]
[100212133,"BILLY LANE LAUFFER MIDDLE SCHOOL","5385 EAST LITTLETOWN ROAD","TUCSON AZ 85706","(520) 545-4900","(520) 545-4916"]
[100212134,"OCOTILLO EARLY LEARNING CENTER","5702 S CAMPBELL","TUCSON AZ 85706","() -","() -"]
[100212211,"DESERT VIEW HIGH SCHOOL","4101 EAST VALENCIA ROAD","TUCSON AZ 85706 5005","() -","() -"]
[100212230,"SUNNYSIDE HIGH SCHOOL","1725 E BILBY RD","TUCSON AZ 85706 4499","() -","() -"]
[100212513,"S.T.A.R. ACADEMIC CENTER","5093 S. LIBERTY","TUCSON AZ 85706","() -","() -"]
[100213000,"TANQUE VERDE UNIFIED DISTRICT","2300 N TANQUE VERDE LOOP RD BLDG 1","TUCSON AZ 85749","(520) 749-5751","(520) 749-5400"]
[100213002,"EMILY GRAY JUNIOR HIGH SCHOOL","11150 E TANQUE VERDE ROAD","TUCSON AZ 85749","() -","( ) -"]
[100213103,"TANQUE VERDE ELEMENTARY SCHOOL","2600 N FENNIMORE","TUCSON AZ 85749","() -","() -"]
[100213105,"AGUA CALIENTE SCHOOL","11420 E LIMBERLOST ROAD","TUCSON AZ 85749 8412","() -","() -"]
[100213201,"TANQUE VERDE HIGH SCHOOL","4201 N. MELPOMENE","TUCSON, AZ AZ 85749","() -","() -"]
[100215000,"AJO UNIFIED DISTRICT","P O BOX 68","AJO AZ 85321 0031","(520) 387-5618","(520) 387-6545"]
[100215001,"AJO ELEMENTARY SCHOOL","P.O. BOX 68","AJO AZ 85321","(520) 387-7601","(520) 387-7603"]
[100215002,"AJO HIGH SCHOOL","P.O. BOX 68","AJO AZ 85321","() -","( ) -"]
[100216000,"CATALINA FOOTHILLS UNIFIED DISTRICT","2101 E RIVER RD","TUCSON AZ 85718","(520) 209-7500","(520) 209-7570"]
[100216101,"SUNRISE DRIVE ELEMENTARY SCHOOL","5301 E. SUNRISE DRIVE","TUCSON AZ 85718","() -","() -"]
[100216102,"MANZANITA SCHOOL","3000 E. MANZANITA AVE.","TUCSON AZ 85718","() -","() -"]
[100216103,"ORANGE GROVE MIDDLE SCHOOL","1911 E ORANGE GROVE RD","TUCSON AZ 85718","(520) 209-8200","(520) 209-8275"]
[100216104,"CANYON VIEW ELEMENTARY SCHOOL","5725 N. SABINO CANYON RD.","TUCSON AZ 85750 0958","() -","() -"]
[100216105,"CATALINA FOOTHILLS VALLEY VIEW EARLY LEARNING CENTER","3435 E. SUNRISE DRIVE","TUCSON AZ 85718","(520) 209-7600","(520) 209-7664"]
[100216107,"ESPERERO CANYON MIDDLE SCHOOL","5801 N SABINO CANYON RD","TUCSON AZ 85750","() -","() -"]
[100216108,"VENTANA VISTA ELEMENTARY SCHOOL","6085 N KOLB RD","TUCSON AZ 85750","(520) 209-8000","( ) -"]
[100216206,"CATALINA FOOTHILLS HIGH SCHOOL","4300 E SUNRISE DR","TUCSON AZ 85718 4300","() -","() -"]
[100220000,"VAIL UNIFIED DISTRICT","P O BOX 800","VAIL AZ 85641","(520) 762-2040","(520) 762-2078"]
[100220102,"ACACIA ELEMENTARY SCHOOL","12955 E. COLOSSAL CAVE ROAD","VAIL AZ 85641","() -","() -"]
[100220104,"OLD VAIL MIDDLE SCHOOL","13299 EAST COLOSSAL CAVE ROAD","VAIL AZ 85641","() -","() -"]
[100220105,"DESERT WILLOW ELEMENTARY SCHOOL","9400 EAST ESMOND LOOP","TUCSON AZ 85747","() -","() -"]
[100220106,"MESQUITE ELEMENTARY SCHOOL","9455 E. RITA ROAD","TUCSON AZ 85747","() -","() -"]
[100220107,"COTTONWOOD ELEMENTARY SCHOOL","PO BOX 800","VAIL AZ 85641","() -","() -"]
[100220108,"DESERT SKY MIDDLE SCHOOL","9850 E. RANKIN LOOP","VAIL AZ 85747","() -","() -"]
[100220109,"SYCAMORE ELEMENTARY SCHOOL","16701 S. HOUGHTON ROAD","CORONA AZ 85641","() -","() -"]
[100220110,"CORONA FOOTHILLS MIDDLE SCHOOL","16705 SOUTH HOUGHTON ROAD","CORONA DE TUCSON AZ 85641","() -","() -"]
[100220111,"PANTANO MIDDLE SCHOOL","12775 E. MARY ANN CLEVELAND WAY","VAIL AZ 85641","() -","() -"]
[100220112,"OCOTILLO RIDGE ELEMENTARY","P.O. BOX 800","VAIL AZ 85641","(520) 879-3600","(520) 879-3601"]
[100220113,"SENITA VALLEY ELEMENTARY SCHOOL","P.O. BOX 800","VAIL AZ 85641","() -","( ) -"]
[100220114,"RINCON VISTA MIDDLE SCHOOL","10770 EAST BILBY ROAD","TUCSON AZ 85747","(520) 879-3200","(520) 879-3201"]
[100220201,"CIENEGA HIGH SCHOOL","12775 E. MARY ANN CLEVELAND WAY","VAIL AZ 85641","() -","() -"]
[100220202,"PANTANO HIGH SCHOOL","12775 E. MARY ANN CLEVELAND WAY","VAIL AZ 85641","() -","() -"]
[100220203,"EMPIRE HIGH SCHOOL","10701 E. MARYANN CLEVELAND WAY","TUCSON AZ 85602","() -","() -"]
[100220204,"ANDRADA POLYTECHNIC HIGH SCHOOL","P. O. BOX 800","VAIL AZ 85641","(520) 879-3304","( ) -"]
[100220700,"VAIL HIGH SCHOOL","P.O. BOX 800","VAIL AZ 85641","(520) 879-1900","(520) 879-1901"]
[100220701,"VAIL ACADEMY & HIGH SCHOOL","P. O. BOX 800","VAIL AZ 85641","(520) 879-2089","(520) 879-3901"]
[100220705,"CIVANO CHARTER SCHOOL","PO BOX 800","VAIL AZ 85641","(520) 731-3466","(520) 762-2001"]
[100220706,"CIVANO CHARTER SCHOOL","10673 E. MIRA LANE","TUCSON AZ 85747","() -","() -"]
[100220710,"VAIL CHARTER SCHOOLS","P. O. BOX 800","VAIL AZ 85641","(520) 879-2000","(520) 879-2001"]
[100220711,"ACACIA ELEMENTARY SCHOOL","12955 E. COLOSSAL CAVE ROAD","VAIL AZ 85641","(520) 879-2200","( ) -"]
[100220712,"MESQUITE ELEMENTARY SCHOOL","9455 E. RITA ROAD","TUCSON AZ 85747","(520) 879-2100","( ) -"]
[100230000,"SAHUARITA UNIFIED DISTRICT","350 W SAHUARITA RD","SAHUARITA AZ 85629 9522","(520) 625-3502","(520) 625-4609"]
[100230101,"SAHUARITA PRIMARY SCHOOL","350 W SAHUARITA ROAD","SAHUARITA AZ 85629","() -","() -"]
[100230102,"SOPORI ELEMENTARY SCHOOL","350 W. SAHUARITA ROAD","SAHUARITA AZ 88562","() -","() -"]
[100230103,"SAHUARITA MIDDLE SCHOOL","350 W SAHUARITA RD","SAHUARITA AZ 85629","() -","() -"]
[100230104,"COPPER VIEW ELEMENTARY SCHOOL","350 W. SAHUARITA RD","SAHUARITA AZ 85629","(520) 625-3502","(520) 625-4609"]
[100230105,"SAHUARITA INTERMEDIATE SCHOOL","350 WEST SAHUARITA ROAD","SAHUARITA AZ 85629 9000","() -","() -"]
[100230106,"ANZA TRAIL","350 W. SAHUARITA ROAD","SAHUARITA AZ 85629","(520) 625-3502","(520) 625-4609"]
[100230204,"SAHUARITA HIGH SCHOOL","350 W SAHUARITA RD","SAHUARITA AZ 85629 6522","() -","() -"]
[100230205,"WALDEN GROVE HIGH SCHOOL","350 WEST SAHUARITA RD","SAHUARITA AZ 85629","() -","( ) -"]
[100240000,"BABOQUIVARI UNIFIED SCHOOL DISTRICT #40","PO BOX 248","SELLS AZ 85634","(520) 383-6746","(520) 383-5441"]
[100240101,"INDIAN OASIS ELEMENTARY SCHOOL","111 W. MAIN","SELLS AZ 85634","(520) 383-6750","(520) 383-5970"]
[100240102,"INDIAN OASIS INTERMEDIATE SCHOOL TO BABOQUIVARI MIDDLE SCHOOL - CLOSED","P.O. BOX 248","SELLS AZ 85634","() -","( ) -"]
[100240103,"BABOQUIVARI MIDDLE SCHOOL","P.O. BOX 248","SELLS AZ 85634","(520) 383-6950","(520) 383-5930"]
[100240105,"ALTERNATIVE MIDDLE SCHOOL (INDIAN OASIS MIDDLE SCHOOL)","P. O. BOX 248","SELLS AZ 85634","(520) 383-6746","(520) 383-5441"]
[100240204,"BABOQUIVARI HIGH SCHOOL","P.O. BOX 248","SELLS AZ 85634","(520) 383-6800","(520) 383-4852"]
[100240205,"ALTERNATIVE HIGH SCHOOL (INDIAN OASIS HIGH SCHOOL)","P. O. BOX 248","SELLS AZ 85634","(520) 383-6746","(520) 383-5441"]
[100335000,"SAN FERNANDO ELEMENTARY DISTRICT","P O BOX 80","SASABE AZ 85633 0080","(520) 823-4243","(520) 823-4273"]
[100335001,"SAN FERNANDO ELEMENTARY SCHOOL","P. O. BOX 80","SASABE AZ 85633","() -","() -"]
[100337000,"EMPIRE ELEMENTARY DISTRICT","HC1 BOX 1100","SONOITA AZ 85637","(520) 455-0529","(520) 623-9308"]
[100339000,"CONTINENTAL ELEMENTARY DISTRICT","P O BOX 547","GREEN VALLEY AZ 85622 0547","(520) 625-4581","(520) 648-2569"]
[100339001,"CONTINENTAL ELEMENTARY SCHOOL","P.O. BOX 547","GREEN VALLEY AZ 85622","() -","( ) -"]
[100344000,"REDINGTON ELEMENTARY DISTRICT","130 W CONGRESS ST. 4TH FLOOR","TUCSON AZ 85701","(520) 740-8997","(520) 623-9308"]
[100351000,"ALTAR VALLEY ELEMENTARY DISTRICT","HCR 1 BOX 130","TUCSON AZ 85736","(520) 822-1484","(520) 822-1798"]
[100351100,"ROBLES ELEMENTARY SCHOOL","HC#1 BOX 130","TUCSON AZ 85736","(520) 822-9418","(520) 822-1798"]
[100351103,"ALTAR VALLEY MIDDLE SCHOOL","HC 3 BOX 130","TUCSON AZ 85736","() -","() -"]
[108401000,"TUCSON COLLEGIATE PREP, INC.","1236 E. DRACHMAN","TUCSON AZ 85719","() -","( ) -"]
[108401001,"TUCSON COLLEGIATE PREP","40 W. FORT LOWELL","TUCSON AZ 85705","(520) 870-1670","( ) -"]
[108403000,"RISING SCHOOLS, INC.","5405 N. ORACLE ROAD 101","TUCSON AZ 85704","() -","( ) -"]
[108403001,"THE RISING SCHOOL","5405 N. ORACLE ROAD 101","TUCSON AZ 85704","() -","( ) -"]
[108501000,"BLUE ADOBE PROJECT","3101 N SABINO CANYON RD","TUCSON AZ 85715","(520) 382-9210","(520) 382-5888"]
[108501101,"SKY ISLANDS","201 S. WILMOT ROAD","TUCSON AZ 85711","(520) 382-9210","(520) 382-5888"]
[108502000,"DAISY EDUCATION CORPORATION DBA SONORAN SCIENCE ACADEMY - PHOENIX","14647 S. 50TH STREET SUITE 175","PHOENIX AZ 85044","(520) 665-3400","(520) 665-3420"]
[108502101,"SONORAN SCIENCE ACADEMY - PHOENIX","4837 E. MCDOWELL ROAD","PHOENIX AZ 85008","(602) 244-9855","(602) 244-9856"]
[108503000,"SONORAN SCIENCE ACADEMY - BROADWAY","6880 E. BROADWAY BLVD.","TUCSON AZ 85710","(520) 751-2401","(520) 751-2451"]
[108503101,"SONORAN SCIENCE ACADEMY - BROADWAY","6880 E. BROADWAY","TUCSON AZ 85710","(520) 751-2401","(520) 751-2451"]
[108504000,"SONORAN SCIENCE ACADEMY - DAVIS MONTHAN","5741 E. IRONWOOD ST","TUCSON AZ 85708","(520) 300-5699","(520) 207-7698"]
[108504001,"SONORAN SCIENCE ACADEMY - DAVIS MONTHAN","5741 E. IRONWOOD ST BUILDING 623","TUCSON AZ 85708","(520) 300-5699","( ) -"]
[108505000,"CPLC COMMUNITY SCHOOLS DBA HIAKI HIGH SCHOOL","251 W IRVINGTON ROAD","TUCSON AZ 85714","(520) 324-3673","(520) 624-0998"]
[108505001,"HIAKI HIGH SCHOOL","200 NORTH STONE AVENUE","TUCSON AZ 85701","(520) 882-3029","(520) 882-3041"]
[108506000,"ED AHEAD","3025 NORTH WINSTEL","TUCSON AZ 85716","(520) 465-1415","(520) 760-3800"]
[108506101,"ACADEMY ADVENTURES MIDTOWN","3025 N. WINSTEL","TUCSON AZ 85716","(520) 465-1415","(520) 760-3800"]
[108507000,"PIMA PREVENTION PARTNERSHIP","924 N ALVERNON WAY","TUCSON AZ 85711","(520) 791-2711","(520) 791-2202"]
[108509000,"PRESIDIO SCHOOL, INC.","1695 E. FT. LOWELL ROAD","TUCSON AZ 85719","(520) 881-5222","( ) -"]
[108509301,"PRESIDIO DE LAS SIERRAS","1695 E. FT. LOWELL ROAD","TUCSON AZ 85719","(520) 335-2898","(520) 335-6025"]
[108512000,"OPEN DOORS COMMUNITY SCHOOL, INC.","13644 N. SANDARIO RD.","MARANA AZ 85653","(520) 744-9595","(520) 744-2127"]
[108512001,"OPEN DOORS COMMUNITY SCHOOL","13644 N. SANDARIO RD.","MARANA AZ 85653","(520) 744-9595","(520) 744-2127"]
[108601000,"PIMA COUNTY BOARD OF SUPERVISORS","97 EAST CONGRESS #30","TUCSON AZ 85701","(520) 243-1740","(520) 903-0753"]
[108601201,"PIMA VOCATIONAL HIGH SCHOOL","97 EAST CONGRESS SUITE 30","TUCSON AZ 85701","(520) 243-1740","(520) 903-0753"]
[108602000,"PIMA ROSE ACADEMY, INC.","3686 W. ORANGE GROVE RD. 192","TUCSON AZ 85741","() -","( ) -"]
[108602001,"PIMA ROSE ACADEMY","3686 W. ORANGE GROVE RD. 192","TUCSON AZ 85741","(520) 797-4884","(520) 797-8868"]
[108653000,"EDGE SCHOOL, INC., THE","2555 E FIRST STREET","TUCSON AZ 85716","(520) 881-1389","(520) 881-0852"]
[108653001,"EDGE HIGH SCHOOL - HIMMEL PARK","2555 EAST FIRST STREET SUITE 111","TUCSON AZ 85716","(520) 881-1389","(520) 881-0852"]
[108653002,"EDGE HIGH SCHOOL - SAHUARITA","2555 EAST FIRST STREET SUITE 111","TUCSON AZ 85716","() -","( ) -"]
[108653005,"EDGE HIGH SCHOOL - NORTHWEST","2555 EAST FIRST STREET SUITE 111","TUCSON AZ 85716","() -","( ) -"]
[108660000,"TUCSON YOUTH DEVELOPMENT/ACE CHARTER HIGH SCHOOL","1901 NORTH STONE AVE.","TUCSON AZ 85705","(520) 623-5843","(520) 791-9893"]
[108660201,"ALTERNATIVE COMPUTERIZED EDUCATION (ACE) CHARTER HIGH SCHOOL","1929 NORTH STONE AVENUE","TUCSON AZ 85705","(520) 628-8316","(520) 791-9893"]
[108660202,"YOUTH WORKS CHARTER HIGH SCHOOL","P.O. BOX 27453","TUCSON AZ 85726","(520) 623-5843","(520) 791-9893"]
[108665000,"ACADEMY OF TUCSON, INC.","10720 E. 22ND STREET","TUCSON AZ 85748","(520) 733-0096","(520) 733-0097"]
[108665101,"ACADEMY OF TUCSON MIDDLE SCHOOL","7310 E. 22ND STREET","TUCSON AZ 85710","(520) 749-1413","(520) 749-2824"]
[108665102,"ACADEMY OF TUCSON ELEMENTARY SCHOOL","9209 E. WRIGHTSTOWN ROAD","TUCSON AZ 85715","(520) 886-6076","(520) 886-6575"]
[108665201,"ACADEMY OF TUCSON HIGH SCHOOL","10720 EAST 22ND STREET","TUCSON AZ 85748","(520) 733-0096","(520) 733-0097"]
[108666000,"DAISY EDUCATION CORPORATION DBA SONORAN SCIENCE ACADEMY","14647 S. 50TH STREET SUITE 175","PHOENIX AZ 85044","(520) 665-3400","(520) 665-3420"]
[108666001,"SONORAN SCIENCE ACADEMY - TUCSON","2325 W. SUNSET RD.","TUCSON AZ 85741","(520) 665-3400","(520) 665-3420"]
[108667001,"CALIBER COLLEGE PREP HIGH SCHOOL SOUTH","P. O. BOX 22046","TUCSON AZ 85734","(520) 807-9668","(520) 907-9575"]
[108701000,"HERMOSA MONTESSORI CHARTER SCHOOL","12051 E FORT LOWELL","TUCSON AZ 85749","(520) 749-5518","(520) 749-6087"]
[108701001,"HERMOSA MONTESSORI CHARTER","12051 E. FT. LOWELL","TUCSON AZ 85749","() -","() -"]
[108702000,"LUZ ACADEMY OF TUCSON, INC","2797 N. INTROSPECT DR.","TUCSON AZ 85745","(520) 882-6216","(520) 623-9291"]
[108702001,"LUZ-GUERRERO EARLY COLLEGE HIGH SCHOOL","2797 NORTH INTROSPECT DRIVE","TUCSON AZ 85745","(520) 882-6216","(520) 623-9291"]
[108703000,"MONTESSORI SCHOOLHOUSE OF TUCSON, INC.","1301 EAST FORT LOWELL ROAD","TUCSON AZ 85719","(520) 319-8668","(520) 881-4096"]
[108703002,"MONTESSORI SCHOOLHOUSE","1301 E. FT. LOWELL ROAD","TUCSON AZ 85719","() -","() -"]
[108703101,"MONTESSORI SCHOOLHOUSE","1301 E. FT. LOWELL ROAD","TUCSON AZ 85719","() -","() -"]
[108705000,"VISION CHARTER SCHOOL, INC.","P.O. BOX 23455","TUCSON AZ 85734","(520) 444-0241","(520) 741-8123"]
[108705201,"VISION CHARTER SCHOOL","P.O. BOX 23455","TUCSON AZ 85734","() -","() -"]
[108706000,"KAIZEN EDUCATION FOUNDATION DBA SKYVIEW HIGH SCHOOL","7878 N. 16TH STREET SUITE 150","PHOENIX AZ 85020","(602) 953-2933","(602) 277-4900"]
[108707000,"NOSOTROS, INC","440 NORTH GRANDE","TUCSON AZ 85745","(520) 624-1023","(520) 624-7999"]
[108707001,"NOSOTROS ACADEMY","440 N. GRANDE AVE.","TUCSON AZ 85745","() -","() -"]
[108708000,"LIFELONG LEARNING RESEARCH INSTITUTE, INC.","3295 WEST ORANGE GROVE ROAD","TUCSON AZ 85741","(520) 219-4383","( ) -"]
[108708001,"LIFELONG LEARNING ACADEMY","P.O. BOX 35393","TUCSON AZ 85741","(520) 219-4383","( ) -"]
[108709000,"ARIZONA COMMUNITY DEVELOPMENT CORPORATION","2050 NORTH WILMOT ROAD","TUCSON AZ 85712","(520) 721-4205","(520) 721-4263"]
[108709101,"LA PALOMA ACADEMY","2050 N. WILMOT ROAD","TUCSON AZ 85712","() -","() -"]
[108709103,"LA PALOMA ACADEMY (LAKESIDE)","8140 E. GOLFLINKS RD.","TUCSON AZ 85730","(520) 733-7373","(520) 733-7392"]
[108709104,"LA PALOMA ACADEMY-SOUTH","6400 E GRANT RD 120","TUCSON AZ 85715","(520) 545-0575","(520) 202-5838"]
[108710000,"SIERRA OAKS SCHOOL, INC","650 WEST LINDA VISTA ROAD","ORACLE AZ 85623","(520) 896-3100","(520) 896-3101"]
[108710001,"SIERRA OAKS SCHOOL","650 WEST LINDA VISTA ROAD","ORACLE AZ 85623","() -","() -"]
[108711000,"PIMA PREVENTION PARTNERSHIP DBA PIMA PARTNERSHIP SCHOOL, THE","924 N ALVERNON WAY","TUCSON AZ 85711","(520) 791-2711","(520) 791-2202"]
[108711201,"PIMA PARTNERSHIP SCHOOL, THE","1346 NORTH STONE AVENUE","TUCSON AZ 85705","() -","( ) -"]
[108713000,"ACADEMY OF MATHEMATICS AND SCIENCE, INC.","1557 WEST PRINCE ROAD","TUCSON AZ 85705","(520) 293-2676","(520) 888-1732"]
[108713101,"ACADEMY OF MATH AND SCIENCE","1557 W PRINCE RD","TUCSON AZ 85705","() -","() -"]
[108714000,"TUCSON INTERNATIONAL ACADEMY, INC.","2700 W. BROADWAY BLVD.","TUCSON AZ 85745","(520) 792-3255","(520) 792-3245"]
[108714101,"TUCSON INTERNATIONAL ACADEMY","2700 W. BROADWAY BLVD.","TUCSON AZ 85745","(520) 792-3255","(520) 792-3245"]
[108714102,"TUCSON INTERNATIONAL ACADEMY MIDVALE","2700 W. BROADWAY BLVD.","TUCSON AZ 85745","(520) 792-3255","(520) 792-3245"]
[108714103,"TIA EAST","2700 W. BROADWAY BLVD.","TUCSON AZ 85745","(520) 792-3255","(520) 792-3245"]
[108714104,"TIA WEST","2700 W. BROADWAY BLVD.","TUCSON AZ 85745","(520) 792-3255","(520) 792-3245"]
[108715000,"CANYON ROSE ACADEMY, INC.","3686 W. ORANGE GROVE ROAD SUITE 192","TUCSON AZ 85741","(520) 797-4884","(520) 797-8868"]
[108715201,"CANYON ROSE ACADEMY","3686 W. ORANGE GROVE RD. 192","TUCSON AZ 85741","(520) 514-5112","(520) 797-8868"]
[108716000,"ALLSPORT ACADEMY","6211 EAST SPEEDWAY BLVD.","TUCSON AZ 85712","(520) 731-2150","(520) 731-2160"]
[108716001,"ALLSPORT ACADEMY","6211 EAST SPEEDWAY BLVD.","TUCSON AZ 85712","(520) 731-2150","(520) 731-2160"]
[108717000,"EDUCATIONAL IMPACT, INC.","1950 E. PLACITA SIN NOMBRE","TUCSON AZ 85718","(602) 821-6900","(520) 721-4472"]
[108717101,"ACADEMY ADVENTURES PRIMARY SCHOOL","3902 NORTH FLOWING WELLS ROAD","TUCSON AZ 85705","(520) 407-1200","(520) 407-1201"]
[108717102,"ADVENTURE SCHOOL","1950 EAST PLACITA SIN NOMBRE","TUCSON AZ 85718","(520) 296-0656","(520) 721-4472"]
[108717103,"ACADEMY ADVENTURES MID-TOWN","1950 E. PLACITA SIN NOMBRE","TUCSON AZ 85718","(520) 407-1200","(520) 407-1201"]
[108719000,"SATORI, INC.","3727 NORTH FIRST AVE","TUCSON AZ 85719","(520) 293-7555","(520) 293-7020"]
[108719101,"SATORI CHARTER SCHOOL","3727 NORTH FIRST AVENUE","TUCSON AZ 85719","(520) 293-7555","(520) 293-7020"]
[108720000,"TUCSON SMALL SCHOOL PROJECT","48 E. PENNINGTON ST","TUCSON AZ 85701","(520) 623-7223","(520) 547-0680"]
[108720201,"CITY HIGH SCHOOL","48 EAST PENNINGTON ST","TUCSON AZ 85701","(520) 623-7223","(520) 547-0680"]
[108721000,"GLOBAL EDUCATION FOUNDATION","PO BOX 40543","TUCSON AZ 85701","(520) 850-9668","(520) 744-9595"]
[108721001,"TUCSON ACADEMY OF LEADERSHIP & ARTS","2555 N. STONE AVE","TUCSON AZ 85705","(520) 850-9668","(520) 744-9595"]
[108722000,"THE CHARTER FOUNDATION, INC.","5383 E ROCKRIDGE ROAD","PHOENIX AZ 85018","(602) 354-4299","(602) 368-9334"]
[108722001,"AMERISCHOOLS ACADEMY - CAMELBACK","1333 WEST CAMELBACK ROAD","PHOENIX AZ 85013","() -","() -"]
[108722004,"AMERISCHOOLS ACADEMY - YUMA","2098 S. 3RD AVE.","YUMA AZ 85364 6425","() -","() -"]
[108722005,"AMERISCHOOLS ACADEMY - COUNTRY CLUB","1150 NORTH COUNTRY CLUB","TUCSON AZ 85716","(520) 620-1100","(520) 322-5351"]
[108722008,"AMERISCHOOLS ACADEMY NORTH","5383 E ROCKRIDGE ROAD","PHOENIX AZ 85019","() -","( ) -"]
[108724000,"NEW WEST SCHOOL","3891 S. CAMINO SIERRA PANTANO","TUCSON AZ 85730","(520) 574-3033","(520) 663-1363"]
[108724001,"NEW WEST SCHOOL","98 N. OAK DR.","BENSON AZ 85602","() -","() -"]
[108725000,"BASIS SCHOOL, INC.","7975 N. HAYDEN RD SUITE B-100","SCOTTSDALE AZ 85258","(520) 326-3444","(520) 326-3450"]
[108725001,"BASIS TUCSON","3825 EAST 2ND ST","TUCSON AZ 85716","() -","( ) -"]
[108726000,"HA:SAN EDUCATIONAL SERVICES","1333 EAST 10TH STREET","TUCSON AZ 85719","(520) 882-8826","(520) 882-8651"]
[108726001,"HA:SAN PREPARATORY & LEADERSHIP SCHOOL","1333 E. 10TH ST.","TUCSON AZ 85719","() -","() -"]
[108727000,"CPLC COMMUNITY SCHOOLS DBA CALLI OLLIN HIGH SCHOOL","200 NORTH STONE AVENUE 3RD FLOOR","TUCSON AZ 85701","(520) 882-3029","(520) 882-3041"]
[108729000,"WILDCAT SECONDARY SCHOOL","42 E. ADAMS","TUCSON AZ 85705","(520) 294-2843","(520) 294-5475"]
[108729101,"WILDCAT SCHOOL","25 E. DRACHMAN","TUCSON AZ 85705","(520) 294-5473","(520) 294-5475"]
[108730101,"HA SAN MIDDLE SCHOOL","1333 E. 10TH STREET","TUCSON AZ 85719","(520) 882-8826","(520) 882-8651"]
[108731000,"A CHILD'S VIEW SCHOOL, INC.","2846 WEST DREXEL ROAD SUITE 100","TUCSON AZ 85746","(520) 578-2075","(520) 578-2076"]
[108731101,"A CHILD'S VIEW SCHOOL","2846 DREXEL ROAD SUITE 100","TUCSON AZ 85746","(520) 578-2075","(520) 578-2076"]
[108732000,"DESERT SKY COMMUNITY SCHOOL, INC.","1350 N ARCADIA AVE","TUCSON AZ 85712","(520) 745-3888","(520) 745-5110"]
[108732101,"DESERT SKY COMMUNITY SCHOOL","1350 N. ARCADIA AVE","TUCSON AZ 85712","(520) 745-3888","(520) 745-5110"]
[108733000,"ARIZONA ACADEMY OF LEADERSHIP, INC.","P.O. BOX 22046","TUCSON AZ 85734","(520) 887-5863","(520) 887-5869"]
[108733101,"ARIZONA ACADEMY OF LEADERSHIP","P.O. BOX 22046","TUCSON AZ 85734","(520) 887-5863","(520) 887-5869"]
[108733102,"ARIZONA ACADEMY OF LEADERSHIP - CENTRAL","PO BOX 22046","TUCSON AZ 85734","(520) 807-9668","(520) 807-9575"]
[108733103,"YOUNG LEADERS PRIMARY SCHOOL","PO BOX 22046","TUCSON AZ 85734","(520) 940-3784","(866) 612-2196"]
[108734000,"ACADEMY DEL SOL, INC.","8379 W. AVECENNA ST.","TUCSON AZ 85757","(520) 325-2800","(520) 325-2812"]
[108734001,"ACADEMY DEL SOL","8379 W. AVECENNA ST.","TUCSON AZ 85757","(520) 325-2800","(520) 325-2812"]
[108734002,"ACADEMY DEL SOL - HOPE","4525 E. BROADWAY BLVD.","TUCSON AZ 85711","(520) 325-2800","(520) 325-2811"]
[108735000,"INSTITUTE FOR TRANSFORMATIVE EDUCATION, INC.","1300 S. BELVEDERE AVE.","TUCSON AZ 85711","(520) 615-2200","(520) 615-2112"]
[108735001,"WESTERN INSTITUTE FOR LEADERSHIP DEVELOPMENT","1300 S. BELVEDERE AVE","TUCSON AZ 85711","(520) 615-2200","(520) 615-2112"]
[108737000,"BASIS SCHOOL, INC.","11485 NORTH 136TH STREET SUITE 110","SCOTTSDALE AZ 85259","() -","( ) -"]
[108737001,"BASIS TUCSON NORTH","5740 E. RIVER RD.","TUCSON AZ 85750","(520) 207-0076","(520) 207-6606"]
[108744000,"PORTABLE PRACTICAL EDUCATIONAL PREPARATION, INC. (PPEP, INC.)","1840 E. BENSON HWY","TUCSON AZ 85714","(520) 294-6997","(520) 294-7738"]
[108744201,"PPEP TEC - CELESTINO FERNANDEZ LEARNING CENTER","1840 E. BENSON HIGHWAY","TUCSON AZ 85714","(520) 889-8276","(520) 741-4369"]
[108744202,"PPEP TEC - 'LITO' PENA LEARNING CENTER","725 N. CENTRAL AVENUE 113","AVONDALE AZ 85323","(623) 925-2161","(623) 925-1035"]
[108744204,"PPEP TEC - ALICE S. PAUL LEARNING CENTER","220 E. FLORENCE BLVD.","CASA GRANDE AZ 85222","(520) 836-6549","(520) 836-0290"]
[108744205,"PPEP TEC - RAUL H. CASTRO LEARNING CENTER","1840 E. BENSON HWY","TUCSON AZ 85714"]
[108744206,"PPEP TEC - CESAR CHAVEZ LEARNING CENTER","PO BOX 6779","SAN LUIS AZ 85349","(928) 627-8550","(928) 627-8980"]
[108744207,"PPEP TEC - JOSE YEPEZ LEARNING CENTER","PO BOX 499","SOMERTON AZ 85350","(928) 627-9648","(928) 627-9197"]
[108744208,"PPEP TEC - COLIN L. POWELL LEARNING CENTER","1840 E. BENSON HWY","TUCSON AZ 85714"]
[108744210,"PPEP TEC - VICTOR SOLTERO LEARNING CENTER","8677 E. GOLF LINKS","TUCSON AZ 85730","(520) 290-9167","(520) 290-9220"]
[108744211,"PPEP TEC - MANUEL BORJORQUEZ LEARNING CENTER","203 BISBEE ROAD, SUITE A","BISBEE AZ 85603","(520) 432-5445","(520) 432-5414"]
[108744212,"PPEP TEC - JOHN DAVID ARNOLD LEARNING CENTER","4140 W. INA ROAD SUITE 118","TUCSON AZ 85741","(520) 579-8560","(520) 579-8566"]
[108744216,"PPEC TEC - ROBLES JUNCTION LEARNING CENTER","1840 E. BENSON HIGHWAY","TUCSON AZ 85714","(520) 822-3064","(520) 822-5070"]
[108767000,"ACCELERATED ELEMENTARY AND SECONDARY SCHOOLS","5245 N. CAMINO DE OESTE","TUCSON AZ 85745","(520) 743-2256","(520) 743-2417"]
[108767001,"ACCELERATED LEARNING LABORATORY","5245 NORTH CAMINO DE OESTE","TUCSON AZ 85745","(520) 743-2256","(520) 743-2417"]
[108768000,"TUCSON PREPARATORY SCHOOL","104 E. PRINCE RD.","TUCSON AZ 85705","(520) 622-4185","(520) 622-4755"]
[108768001,"TUCSON PREPARATORY SCHOOL","1010 W. LIND RD.","TUCSON AZ 85705","(520) 622-4185","(520) 622-4755"]
[108769000,"MOUNTAIN ROSE ACADEMY, INC.","3686 W.ORANGE GROVE RD. 192","TUCSON AZ 85741","(520) 229-1985","(520) 797-8868"]
[108769001,"MOUNTAIN ROSE ACADEMY","3686 W. ORANGE GROVE RD. 192","TUCSON AZ 85741","() -","() -"]
[108770000,"GREAT EXPECTATIONS ACADEMY","1466 WEST CAMINO ANTIGUA","SAHUARITA AZ 85629","(520) 399-2121","(520) 399-2123"]
[108770101,"GREAT EXPECTATIONS ACADEMY","1466 W. CAMINO ANTIGUA","SAHUARITA AZ 85629 9720","() -","() -"]
[108771000,"DESERT SPRINGS ACADEMY","3833 E. 2ND STREET","TUCSON AZ 85716","(520) 321-9233","(520) 321-9316"]
[108771102,"DESERT SPRINGS ACADEMY","3833 E. 2ND ST.","TUCSON AZ 85716","() -","() -"]
[108772000,"SOUTHERN ARIZONA COMMUNITY ACADEMY, INC.","2470 N. TUCSON BLVD.","TUCSON AZ 85716","(520) 319-6113","(520) 319-6115"]
[108772201,"SOUTHERN ARIZONA COMMUNITY HIGH SCHOOL","2470 NORTH TUCSON BOULEVARD","TUCSON AZ 85716","() -","() -"]
[108773000,"TUCSON COUNTRY DAY SCHOOL, INC.","9239 E. WRIGHTSTOWN RD.","TUCSON AZ 85715","(520) 296-0883","(520) 290-1521"]
[108773101,"TUCSON COUNTRY DAY SCHOOL","9239 E. WRIGHTSTOWN ROAD","TUCSON AZ 85715","() -","() -"]
[108774000,"MULTIDIMENSIONAL LITERACY CORP.","5757 WEST AJO HIGHWAY","TUCSON AZ 85735","(520) 578-2022","(520) 578-0834"]
[108774001,"DESERT MOSAIC SCHOOL","5757 W. AJO HIGHWAY","TUCSON AZ 85735","() -","() -"]
[108775000,"HIGHLAND FREE SCHOOL","510 SOUTH HIGHLAND AVENUE","TUCSON AZ 85719","(520) 623-0104","(520) 903-1318"]
[108775101,"HIGHLAND FREE SCHOOL","510 S. HIGHLAND AVE.","TUCSON AZ 85719","() -","() -"]
[108776000,"CHILDREN'S SUCCESS ACADEMY, INC.","P.O. BOX 11368","TUCSON AZ 85734 1368","(520) 799-8403","(520) 799-8427"]
[108776101,"CHILDREN'S SUCCESS ACADEMY","P.O. BOX 11368","TUCSON AZ 85734","(520) 799-8403","(520) 799-8427"]
[108777000,"CARDEN OF TUCSON, INC.","5260 N ROYAL PALM DR","TUCSON AZ 85705","(520) 293-6661","(520) 408-7366"]
[108777101,"CARDEN OF TUCSON","5260 N. ROYAL PALM DRIVE","TUCSON AZ 85705 1148","() -","() -"]
[108778000,"PRESIDIO SCHOOL","1695 E. FORT LOWELL ROAD","TUCSON AZ 85719 2319","(520) 881-5222","(520) 881-5522"]
[108778201,"PRESIDIO SCHOOL","1695 EAST FORT LOWELL ROAD","TUCSON AZ 85719","(520) 881-5222","(520) 881-5522"]
[108779000,"SOUTHGATE ACADEMY, INC.","850 WEST VALENCIA ROAD","TUCSON AZ 85706","(520) 741-7900","(520) 741-7901"]
[108779101,"SOUTHGATE ACADEMY","850 W. VALENCIA RD.","TUCSON AZ 85706","(520) 741-7900","(520) 741-7901"]
[108780000,"TAG ELEMENTARY, INC.","10129 EAST SPEEDWAY BOULEVARD","TUCSON AZ 85748","(520) 296-0006","(520) 296-0046"]
[108780101,"TAG ELEMENTARY","10129 EAST SPEEDWAY BOULEVARD","TUCSON AZ 85748","(520) 296-0006","(520) 296-0046"]
[108781000,"EASTPOINTE HIGH SCHOOL, INC.","8495 EAST BROADWAY","TUCSON AZ 85710","(520) 731-8180","(520) 731-8179"]
[108781201,"EASTPOINTE HIGH SCHOOL","8495 E. BROADWAY","TUCSON AZ 85710","() -","() -"]
[108784000,"KHALSA FAMILY SERVICES","3701 EAST RIVER ROAD","TUCSON AZ 85718","(520) 529-3611","(520) 615-0625"]
[108784101,"KHALSA SCHOOL","3701 E. RIVER RD.","TUCSON AZ 85718","(520) 529-3611","(520) 615-0625"]
[108785000,"APRENDER TUCSON","2701 SOUTH CAMPBELL AVENUE","TUCSON AZ 85713","(520) 623-7102","(520) 623-7125"]
[108785001,"SOUTHSIDE COMMUNITY SCHOOL","2701 S. CAMPBELL AVE","TUCSON AZ 85713","(520) 623-7102","(520) 623-7125"]
[108787000,"DESERT ROSE ACADEMY,INC.","3686 W. ORANGE GROVE RD. 192","TUCSON AZ 85741","(520) 797-4884","(520) 797-8868"]
[108787201,"DESERT ROSE ACADEMY CHARTER SCHOOL","3686 W. ORANGE GROVE RD. 192","TUCSON AZ 85741","(520) 696-0819","(520) 797-8868"]
[108788000,"COMPASS HIGH SCHOOL, INC.","PO BOX 17810","TUCSON AZ 85731","(520) 296-4070","(520) 296-4103"]
[108788201,"COMPASS HIGH SCHOOL","PO BOX 17810","TUCSON AZ 85710","(520) 294-4070","(520) 296-4103"]
[108789000,"GRIFFIN FOUNDATION, INC. THE","1844 S. ALVERNON WAY","TUCSON AZ 85711","(520) 790-8400","(520) 745-2848"]
[108789101,"CHILDREN REACHING FOR THE SKY PREPARATORY","1844 S. ALVERNON WAY","TUCSON AZ 85711","(520) 790-8400","(520) 620-6570"]
[108789102,"FUTURE INVESTMENT MIDDLE SCHOOL","1854 SOUTH ALVERNON WAY","TUCSON AZ 85711","(520) 747-3733","(520) 745-2848"]
[108790000,"OLD PUEBLO CHILDREN'S ACADEMY","165 N. SARNOFF DR.","TUCSON AZ 85710","(520) 296-1600","(520) 298-0558"]
[108790101,"OLD PUEBLO CHILDREN'S ACADEMY","165 N. SARNOFF DR.","TUCSON AZ 85710","(520) 296-1600","(520) 298-0558"]
[108792000,"EL CENTRO FOR THE STUDY OF PRIMARY AND SECONDARY EDUCATION, INC.","2797 N. INTROSPECT DR.","TUCSON AZ 85745","(520) 882-6216","(520) 623-9291"]
[108792101,"ADALBERTO M. GUERRERO SCHOOL","2797 N. INTROSPECT DR.","TUCSON AZ 85745"]
[108793000,"CPLC COMMUNITY SCHOOLS DBA TOLTECALLI HIGH SCHOOL","251 W IRVINGTON ROAD","TUCSON AZ 85714","() -","( ) -"]
[108793201,"TOLTECALI HIGH SCHOOL","251 W. IRVINGTON RD","TUCSON AZ 85714","(520) 807-7923","(520) 807-7827"]
[108794000,"AMERICAN CHARTER SCHOOLS FOUNDATION D.B.A. ALTA VISTA HIGH SCHOOL","7878 N. 16TH ST. SUITE 150","PHOENIX AZ 85020","(602) 953-2933","(602) 277-4900"]
[108794201,"ALTA VISTA HIGH SCHOOL","5040 S. CAMPBELL AVENUE","TUCSON AZ 85706","() -","() -"]
[108796000,"PORTABLE PRACTICAL EDUCATIONAL PREPARATION, INC. (PPEP, INC.)","99 E. VIRGINIA AVE. SUITE 200","PHOENIX AZ 85004","(602) 476-1320","(602) 595-6874"]
[108797000,"EL PUEBLO INTEGRAL - TEACHING & LEARNING COLLABORATIVE","3851 NORTH VINES END PLACE","TUCSON AZ 85719","(520) 624-7552","(520) 624-7518"]
[108797101,"PAULO FREIRE FREEDOM SCHOOL","300 E. UNIVERSITY BLVD.","TUCSON AZ 85705","(520) 624-7552","(520) 624-7518"]
[108798000,"MATH AND SCIENCE SUCCESS ACADEMY, INC.","1557 W. PRINCE ROAD","TUCSON AZ 85705","(520) 293-2676","(520) 888-1732"]
[108798101,"MATH AND SCIENCE SUCCESS ACADEMY","434 W. LERDO RD.","TUCSON AZ 85706","(520) 751-2783","(520) 888-1732"]
[108799000,"PIMA PREVENTION PARTNERSHIP DBA PIMA PARTNERSHIP ACADEMY","924 N. ALVERNON WAY","TUCSON AZ 85711","(520) 791-2711","(520) 624-5811"]
[108799101,"PIMA PARTNERSHIP ACADEMY","3130 E. BROADWAY 180","TUCSON AZ 85716","(520) 326-2528","(520) 326-2527"]
[108908000,"LIFELONG LEARNING RESEARCH INSTITUTE, INC.","PO BOX 36045","TUCSON AZ 85741","(520) 219-4383","(520) 219-4383"]
[108908001,"JACK THOMAN AIR AND SPACE ACADEMY AND PERFORMING ARTS STUDIO","730 W. CALLE ARROYO SUR,","GREEN VALLEY AZ 85614","(520) 219-4383","(520) 219-4383"]
[108908002,"DIGITAL TECHNOLOGY ACADEMY","1250 W. CONTINENTAL RD.","GREEN VALLEY AZ 85614","(520) 837-9758","( ) -"]
[108909000,"COLLABORATIVE PATHWAYS, INC.","7444 E. BROADWAY BLVD","TUCSON AZ 85711","(520) 722-1200","( ) -"]
[108909001,"ARIZONA COLLEGE PREP ACADEMY","7444 E. BROADWAY","TUCSON AZ 85710","(520) 722-1200","(520) 624-4376"]
[110100000,"MARY C O'BRIEN ACCOMMODATION DISTRICT","P.O. BOX 3117","CASA GRANDE AZ 85222","(520) 866-6565","(520) 450-4303"]
[110199000,"PINAL COUNTY SPECIAL EDUCATION PROGRAM","P O BOX 769","FLORENCE AZ 85232","(520) 868-6565","(520) 723-7232"]
[110201000,"FLORENCE UNIFIED SCHOOL DISTRICT","P O BOX 2850","FLORENCE AZ 85232","(520) 866-3500","(520) 868-2302"]
[110201101,"FLORENCE K-8","PO BOX 2850","FLORENCE AZ 85132","(520) 866-3540","(520) 868-2312"]
[110201102,"WALKER BUTTE K-8","P.O. BOX 2850","FLORENCE AZ 85132","(480) 987-5360","(480) 987-5369"]
[110201103,"COPPER BASIN","PO BOX 2850","FLORENCE AZ 85132","(480) 888-7500","(480) 888-2134"]
[110201105,"ANTHEM ELEMENTARY SCHOOL","P.O. BOX 2850","FLORENCE AZ 85132","(520) 723-6400","(520) 723-3575"]
[110201106,"CIRCLE CROSS RANCH K8 SCHOOL","P.O. BOX 2850","FLORENCE AZ 85132","(480) 987-7600","(480) 888-0349"]
[110201107,"MAGMA RANCH K8 SCHOOL","PO BOX 2850","FLORENCE AZ 85132","(520) 868-7300","(520) 723-5370"]
[110201201,"FLORENCE HIGH SCHOOL","P.O. BOX 2850","FLORENCE AZ 85132","(520) 866-3560","(520) 868-2329"]
[110201202,"POSTON BUTTE HIGH SCHOOL","P.O. BOX 2850","FLORENCE AZ 85132","(480) 474-6100","(480) 474-6108"]
[110201501,"SUMMIT SCHOOL","PO BOX 2850","FLORENCE AZ 85132","() -","( ) -"]
[110203000,"RAY UNIFIED DISTRICT","P O BOX 427","KEARNY AZ 85137","(520) 363-5515","(520) 363-5642"]
[110203101,"RAY ELEMENTARY SCHOOL","P.O. BOX 427","KEARNY AZ 85137","() -","( ) -"]
[110203103,"RAY ELEMENTARY SCHOOL","PO BOX 427","KEARNY AZ 85137","() -","( ) -"]
[110203202,"RAY JR/SR HIGH SCHOOL","P.O. BOX 427","KEARNY AZ 85137","() -","( ) -"]
[110208000,"MAMMOTH-SAN MANUEL UNIFIED DISTRICT","P O BOX 406","SAN MANUEL AZ 85631","(520) 385-2337","(520) 385-2621"]
[110208106,"MAMMOTH ELEMENTARY SCHOOL","P.O. BOX 406","SAN MANUEL AZ 85631","(520) 487-2242","( ) -"]
[110208107,"FIRST AVENUE ELEMENTARY SCHOOL","P.O. BOX 406","SAN MANUEL AZ 85631","(520) 385-4341","(520) 385-2118"]
[110208108,"AVENUE B SCHOOL - CLOSED","P.O. BOX 406","SAN MANUEL AZ 85631","() -","( ) -"]
[110208166,"SAN MANUAL JR. HIGH SCHOOL","P.O. BOX 406","SAN MANUEL AZ 85631","(520) 385-2336","(520) 385-3035"]
[110208281,"SAN MANUEL HIGH SCHOOL","P.O. BOX 406","SAN MANUEL AZ 85631","(520) 385-2336","(520) 385-3035"]
[110215000,"SUPERIOR UNIFIED SCHOOL DISTRICT","1500 SUNSET DRIVE 101","SUPERIOR AZ 85273","(520) 689-3002","(520) 689-3009"]
[110215101,"JOHN F KENNEDY SCHOOL","1500 SUNSET DR","SUPERIOR AZ 85273","(520) 689-3050","(520) 689-3197"]
[110215102,"SUPERIOR JUNIOR HIGH SCHOOL","100 MARY DRIVE","SUPERIOR AZ 85273","() -","() -"]
[110215205,"SUPERIOR SENIOR HIGH SCHOOL","100 MARY DRIVE","SUPERIOR AZ 85273","() -","() -"]
[110220000,"MARICOPA UNIFIED SCHOOL DISTRICT","45012 W. HONEYCUTT AVE.","MARICOPA AZ 85239","(520) 568-5100","(520) 568-5151"]
[110220101,"MARICOPA ELEMENTARY","45012 W. HONEYCUTT AVE.","MARICOPA AZ 85239","() -","() -"]
[110220104,"SANTA ROSA ELEMENTARY SCHOOL","21400 N. SANTA ROSA DR.","MARICOPA AZ 85239","() -","() -"]
[110220105,"PIMA BUTTE","45012 W HONEYCUTT AVE","MARICOPA AZ 85239","() -","() -"]
[110220106,"SANTA CRUZ ELEMENTARY","45012 W. HONEYCUTT AVE.","MARICOPA AZ 85239","() -","() -"]
[110220108,"BUTTERFIELD ELEMENTARY SCHOOL","45012 WEST HONEYCUTT AVENUE","MARICOPA AZ 85239","() -","( ) -"]
[110220109,"SADDLEBACK ELEMENTARY SCHOOL","45012 WEST HONEYCUTT AVENUE","MARICOPA AZ 85239","(520) 568-5100","(520) 568-5151"]
[110220133,"MARICOPA WELLS MIDDLE SCHOOL","45012 W. HONEYCUTT AVE.","MARICOPA AZ 85239","() -","() -"]
[110220134,"DESERT WIND MIDDLE SCHOOL","45012 WEST HONEYCUTT AVENUE","MARICOPA AZ 85239","() -","( ) -"]
[110220202,"MARICOPA HIGH SCHOOL","45012 W. HONEYCUTT AVE.","MARICOPA AZ 85239","() -","() -"]
[110221000,"COOLIDGE UNIFIED DISTRICT","450 N ARIZONA BLVD.","COOLIDGE AZ 85128","(520) 723-2040","(520) 723-2442"]
[110221001,"WEST ELEMENTARY SCHOOL","460 S. 7TH ST.","COOLIDGE AZ 85128","(520) 723-2702","(520) 723-2707"]
[110221004,"BARELY BEARS","221 W. CENTRAL AVE.","COOLIDGE AZ 85228","(520) 723-2434","(502) 723-2432"]
[110221005,"HOHOKAM MIDDLE SCHOOL","800 N. 9TH STREET","COOLIDGE AZ 85128","(520) 723-2202","(520) 723-2203"]
[110221006,"MCCRAY ELEMENTARY SCHOOL","450 N. ARIZONA BLVD","COOLIDGE AZ 85228","(520) 723-2102","(520) 723-2104"]
[110221007,"COOLIDGE HIGH SCHOOL","800 WEST NORTHERN AVENUE","COOLIDGE AZ 85228","() -","() -"]
[110221008,"SAN TAN HEIGHTS ELEMENTARY","2500 W. SAN TAN HEIGHTS BOULEVARD","SAN TAN VALLEY AZ 85142","(480) 888-2930","(480) 888-2932"]
[110221009,"MOUNTAIN VISTA MIDDLE SCHOOL","33622 N. MOUNTAIN VISTA BLVD.","SAN TAN VALLEY AZ 85142","(480) 677-4400","(480) 677-4406"]
[110221010,"HEARTLAND RANCH ELEMENTARY SCHOOL","1667 W. CAROLINE STREET","COOLIDGE AZ 85128","(520) 424-2100","(520) 723-2110"]
[110221011,"SAN TAN FOOTHILLS HIGH SCHOOL","1255 WEST SILVERDALE ROAD","QUEEN CREEK AZ 85243","(480) 677-4505","( ) -"]
[110243000,"APACHE JUNCTION UNIFIED DISTRICT","1575 W SOUTHERN AVE SUITE 3","APACHE JUNCTION AZ 85220","(480) 982-1110","(480) 982-6474"]
[110243101,"SUPERSTITION MOUNTAIN ELEMENTARY SCHOOL","550 SOUTH IRONWOOD","APACHE JUNCTION AZ 85220","(480) 982-1110","(480) 982-4978"]
[110243102,"FOUR PEAKS ELEMENTARY SCHOOL","1755 N IDAHO ROAD","APACHE JUNCTION AZ 85219","() -","() -"]
[110243103,"GOLD CANYON ELEMENTARY SCHOOL","5810 SOUTH ALAMEDA RD","APACHE JUNCTION AZ 85219","(480) 982-1110","(480) 671-4324"]
[110243104,"DESERT VISTA ELEMENTARY SCHOOL","3701 E BROADWAY","APACHE JUNCTION AZ 85219","() -","() -"]
[110243105,"PERALTA TRAIL ELEMENTARY SCHOOL","10965 E. PERALTA RD.","APACHE JUNCTION AZ 85218","() -","() -"]
[110243151,"CACTUS CANYON JUNIOR HIGH","801 WEST SOUTHERN AVENUE","APACHE JUNCTION AZ 85220 7100","() -","() -"]
[110243152,"THUNDER MOUNTAIN MIDDLE SCHOOL","3700 E. 16TH AVENUE","APACHE JUNCTION AZ 85219","(480) 677-7550","(480) 671-1427"]
[110243153,"MOUNTAIN SHADOWS EDUCATION CENTER","2805 S. IRONWOOD DR.","APACHE JUNCTION AZ 85220","() -","() -"]
[110243201,"APACHE JUNCTION HIGH SCHOOL","2525 S IRONWOOD DR","APACHE JUNCTION AZ 85220","() -","( ) -"]
[110244000,"J O COMBS UNIFIED SCHOOL DISTRICT","301 E COMBS RD","QUEEN CREEK AZ 85140","(480) 987-5300","(480) 987-3487"]
[110244101,"COMBS TRADITIONAL ACADEMY","37327 N GANTZEL RD","SAN TAN VALLEY AZ 85140","() -","( ) -"]
[110244102,"KATHRYN SUE SIMONTON ELEMENTARY","40300 N. SIMONTON BLVD","QUEEN CREEK AZ 85240","(480) 987-5330","(480) 987-5281"]
[110244103,"J. O. COMBS MIDDLE SCHOOL","301 E. COMBS RD","SAN TAN VALLEY AZ 85140","(480) 882-3510","(480) 888-8049"]
[110244104,"JACK HARMON ELEMENTARY SCHOOL","39315 N. CORTONA DRIVE","SAN TAN VALLEY AZ 85140","(480) 882-3500","(480) 888-9143"]
[110244105,"ELLSWORTH ELEMENTARY SCHOOL","38454 N. CAROLINA AVE","QUEEN CREEK AZ 85240","(480) 882-3520","( ) -"]
[110244106,"RANCH ELEMENTARY SCHOOL","43521 N. KENWORTHY ROAD","SAN TAN VALLEY AZ 85140","(480) 882-3530","(480) 655-6412"]
[110244201,"COMBS HIGH SCHOOL","301 E. COMBS RD","SAN TAN VALLEY AZ 85140","(480) 882-3540","(480) 987-0837"]
[110302000,"ORACLE ELEMENTARY DISTRICT","725 N. CARPENTER DRIVE","ORACLE AZ 85623","(520) 896-3071","(520) 896-3088"]
[110302101,"ORACLE RIDGE SCHOOL","HCR BOX 2743","ORACLE AZ 85623","() -","() -"]
[110302102,"MOUNTAIN VISTA SCHOOL","HCR BOX 2743","ORACLE AZ 85623","() -","() -"]
[110404000,"CASA GRANDE ELEMENTARY DISTRICT","220 WEST KORSTEN ROAD","CASA GRANDE AZ 85222","(520) 836-2111","(520) 426-3712"]
[110404101,"COTTONWOOD ELEMENTARY SCHOOL","1667 N KADOTA","CASA GRANDE AZ 85222","() -","() -"]
[110404102,"EVERGREEN ELEMENTARY SCHOOL","1000 N AMARILLO","CASA GRANDE AZ 85222","() -","() -"]
[110404104,"PALO VERDE SCHOOL","40 N. ROOSEVELT","CASA GRANDE AZ 85222","() -","() -"]
[110404105,"SAGUARO ELEMENTARY SCHOOL","1501 NORTH CENTER AVENUE","CASA GRANDE AZ 85222","() -","() -"]
[110404106,"CASA GRANDE MIDDLE SCHOOL","300 W MC MURRAY BLVD","CASA GRANDE AZ 85222 3337","() -","() -"]
[110404107,"CHOLLA ELEMENTARY SCHOOL","1180 E KORTSEN RD","CASA GRANDE AZ 85222","() -","() -"]
[110404108,"IRONWOOD SCHOOL","1460 N. PINAL AVENUE","CASA GRANDE AZ 85222","() -","() -"]
[110404109,"MESQUITE ELEMENTARY SCHOOL","129 N ARIZOLA RD","CASA GRANDE AZ 85222","() -","() -"]
[110404110,"CACTUS MIDDLE SCHOOL","1220 E. KORTSEN ROAD","CASA GRANDE AZ 85222","() -","() -"]
[110404130,"DESERT WILLOW ELEMENTARY SCHOOL","2172 N. ARIZOLA RD.","CASA GRANDE AZ 85222","() -","() -"]
[110404131,"VILLAGO MIDDLE SCHOOL","574 E. LAKESIDE PARKWAY","CASA GRANDE AZ 85222","(520) 423-0176","(520) 423-0177"]
[110404132,"MCCARTNEY RANCH ELEMENTARY SCHOOL","2631 N. BROWN AVENUE","CASA GRANDE AZ 85222","(520) 876-4235","(520) 876-4292"]
[110404133,"EARLY CHILDHOOD LEARNING CENTER","390 EAST LAKESIDE PARKWAY","CASA GRANDE AZ 85222","(520) 876-3207","(520) 876-3633"]
[110405000,"RED ROCK ELEMENTARY DISTRICT","P O BOX 1010","RED ROCK AZ 85145","(520) 682-3331","(520) 682-2128"]
[110405101,"RED ROCK ELEMENTARY SCHOOL","PO BOX 1010","RED ROCK AZ 85245","() -","() -"]
[110411000,"ELOY ELEMENTARY DISTRICT","1011 N SUNSHINE BLVD","ELOY AZ 85231","(520) 466-2100","(520) 466-2101"]
[110411102,"CURIEL ANNEX SCHOOL","1011 N SUNSHINE BLVD","ELOY AZ 85231","() -","() -"]
[110411103,"CURIEL SCHOOL","1011 N. SUNSHINE BLVD.","ELOY AZ 85231","() -","() -"]
[110411104,"ELOY INTERMEDIATE SCHOOL","1101 N. SUNSHINE BLVD.","ELOY AZ 85231","(520) 466-2100","(520) 466-2101"]
[110411105,"ELOY JUNIOR HIGH SCHOOL","1011 N SUNSHINE BLVD","ELOY AZ 85231","() -","() -"]
[110418000,"SACATON ELEMENTARY DISTRICT","P O BOX 98","SACATON AZ 85247 0098","(520) 562-8600","(480) 763-4410"]
[110418001,"SACATON ELEMENTARY","P.O. BOX 98","SACATON AZ 85147","() -","( ) -"]
[110418002,"SACATON MIDDLE SCHOOL","P.O. BOX 78","SACATON AZ 85147","() -","( ) -"]
[110422000,"TOLTEC ELEMENTARY DISTRICT","3315 N TOLTEC RD","ELOY AZ 85231","(520) 466-2360","(520) 466-2398"]
[110422101,"TOLTEC MIDDLE SCHOOL","3315 N. TOLTEC RD.","ELOY AZ 85231","() -","() -"]
[110422102,"TOLTEC ELEMENTARY SCHOOL","3315 N. TOLTEC RD.","ELOY AZ 85231","() -","() -"]
[110422103,"ARIZONA CITY ELEMENTARY SCHOOL","12115 W. BENITO DRIVE","ARIZONA CITY AZ 85231","(520) 466-2450","(520) 466-2499"]
[110424000,"STANFIELD ELEMENTARY DISTRICT","515 S STANFIELD RD","STANFIELD AZ 85272","(520) 424-3353","(520) 424-3798"]
[110424001,"STANFIELD ELEMENTARY SCHOOL","515 SOUTH STANFIELD ROAD","STANFIELD AZ 85272","() -","() -"]
[110433000,"PICACHO ELEMENTARY DISTRICT","P O BOX 8","PICACHO AZ 85241 0008","(520) 466-7942","(520) 466-7165"]
[110433133,"PICACHO SCHOOL","PO BOX 8","PICACHO AZ 85241","(520) 466-7942","(520) 466-7165"]
[110502000,"CASA GRANDE UNION HIGH SCHOOL DISTRICT","1362 N. CASA GRANDE AVE.","CASA GRANDE AZ 85122","(520) 316-3360","(520) 316-3352"]
[110502001,"CASA GRANDE UNION HIGH SCHOOL","2730 NORTH TREKELL ROAD","CASA GRANDE AZ 85222","(520) 836-8500","(520) 316-3353"]
[110502003,"DESERT WINDS HIGH SCHOOL","1362 N. CASA GRANDE AVE.","CASA GRANDE AZ 85222","() -","() -"]
[110502004,"VISTA GRANDE HIGH SCHOOL","1556 N. ARIZOLA ROAD","CASA GRANDE AZ 85222","(520) 876-9400","(520) 876-5348"]
[110502700,"CASA VERDE HIGH SCHOOL","1362 N. CASA GRANDE AVE.","CASA GRANDE AZ 85222","(520) 876-0661","(520) 876-0667"]
[110502701,"CASA VERDE HIGH SCHOOL","1362 N. CASA GRANDE AVE.","CASA GRANDE AZ 85222","() -","() -"]
[110540000,"SANTA CRUZ VALLEY UNION HIGH SCHOOL DISTRICT","900 N MAIN ST","ELOY AZ 85231","(520) 466-2220","(520) 466-2222"]
[110540001,"SANTA CRUZ VALLEY UNION HIGH SCHOOL","900 N MAIN ST","ELOY AZ 85231","(520) 466-2220","(520) 466-2222"]
[110540002,"SANTA CRUZ VALLEY UNION HIGH ALTERNATIVE SCHOOL","900 MAIN STREET","ELOY AZ 85231","(520) 466-2200","(520) 466-2222"]
[118702000,"IRA H. HAYES MEMORIAL APPLIED LEARNING CENTER, INC.","P.O. BOX 10899","BAPCHULE AZ 85221","(520) 315-5100","(520) 315-5115"]
[118702201,"IRA H. HAYES HIGH SCHOOL","2.5 MI W. OF EXIT 175, I-10, ON CASA BLANCA RD","BAPCHULE AZ 85221","(520) 315-5100","( ) -"]
[118703000,"AMERICAN CHARTER SCHOOLS FOUNDATION D.B.A. APACHE TRAIL HIGH SCHOOL","7878 N. 16TH ST. SUITE 150","PHOENIX AZ 85020","(602) 953-2933","(602) 277-4900"]
[118703001,"APACHE TRAIL HIGH SCHOOL","945 WEST APACHE TRAIL","APACHE JUNCTION AZ 85220","() -","() -"]
[118704000,"PINNACLE EDUCATION-CASA GRANDE, INC.","2224 W SOUTHERN AVE. SUITE 1","TEMPE AZ 85282","(480) 755-8222","(480) 755-8111"]
[118704003,"PINNACLE HIGH SCHOOL - CASA GRANDE","409 W. MCMURRAY BLVD","CASA GRANDE AZ 85222","(520) 423-2380","(520) 423-2383"]
[118705000,"AKIMEL O OTHAM PEE POSH CHARTER SCHOOL, INC.","3652 E. BLACKWATER SCHOOL ROAD","COOLIDGE AZ 85128","(520) 215-5859","(520) 215-5862"]
[118705001,"AKIMEL O'OTHAM PEE POSH (K-2)","3652 E. BLACKWATER SCHOOL ROAD","COOLIDGE AZ 85128","() -","( ) -"]
[118706000,"AKIMEL O'OTHAM PEE POSH CHARTER SCHOOL, INC.","3652 E. BLACKWATER SCHOOL ROAD","COOLIDGE AZ 85128","(520) 215-5859","(520) 215-5862"]
[118706001,"AKIMEL O'OTHAM PEE POSH (3-5)","3652 E. BLACKWATER SCHOOL ROAD","COOLIDGE AZ 85128","(520) 215-5859","( ) -"]
[118707000,"VECHIJ HIMDAG ALTERNATIVE SCHOOL, INC.","P.O. BOX 220","SACATON AZ 85247","(520) 562-3286","(520) 562-2028"]
[118707001,"VECHIJ HIMDAG MASHCHAMAKUD","168 S. SKILL CENTER RD.","SACATON AZ 85247"]
[118708000,"LEADING EDGE ACADEMY MARICOPA","633 E. RAY RD SUITE 132","GILBERT AZ 85234","(480) 633-0414","(480) 655-6788"]
[118708001,"LEADING EDGE ACADEMY MARICOPA","633 E. RAY RD. SUITE 132","GILBERT AZ 85234","() -","( ) -"]
[118709000,"GRAYSMARK SCHOOLS CORPORATION","PO BOX 1151","DULUTH MN 55810","(218) 260-9694","(218) 624-0504"]
[118709001,"HOLSTEINER AGRICULTURAL SCHOOL","44400 WEST HONEYCUTT RD 105","MARICOPA AZ 85138","(520) 568-8620","(520) 568-5080"]
[118711000,"ATHLOS TRADITIONAL ACADEMY","17760 NORTH REGENT DRIVE","MARICOPA AZ 85138","(520) 423-9999","( ) -"]
[118711001,"ATHLOS TRADITIONAL ACADEMY","3201 S GILBERT ROAD BUILDING A","CHANDLER AZ 85286","(520) 423-9999","( ) -"]
[118712000,"LEGACY TRADITIONAL SCHOOL - AVONDALE","3201 S GILBERT RD BLD A","CHANDLER AZ 85286","() -","( ) -"]
[118712001,"LEGACY TRADITIONAL SCHOOL - AVONDALE","3201 S GILBERT RD BUILDING A","CHANDLER AZ 85286","() -","( ) -"]
[118713000,"LEGACY TRADITIONAL SCHOOL - NORTHWEST TUCSON","3201 S GILBERT RD BLDG A","CHANDLER AZ 85286","() -","( ) -"]
[118713001,"LEGACY TRADITIONAL SCHOOL - NORTHWEST TUCSON","3201 S GILBERT RD BUILDING A","CHANDLER AZ 85286","() -","( ) -"]
[120199000,"SANTA CRUZ COUNTY REGIONAL SCHOOL DISTRICT","2935 N. GRAND AVENUE","NOGALES AZ 85621","(520) 281-9179","(520) 281-9713"]
[120201000,"NOGALES UNIFIED DISTRICT","310 W PLUM ST","NOGALES AZ 85621","(520) 287-0800","(520) 287-3586"]
[120201103,"ROBERT BRACKER ELEMENTARY","121 CAMINO DIEZ MANDAMIENTOS","NOGALES AZ 85621","() -","() -"]
[120201104,"DESERT SHADOWS MIDDLE SCHOOL","340 BLVD. DEL REY DAVID","NOGALES AZ 85621","(520) 377-2646","(520) 377-2674"]
[120201108,"VASQUEZ DE CORONADO FRANCISCO SCHOOL","2301 N AL HARRISON RD","NOGALES AZ 85621","() -","() -"]
[120201111,"WADE CARPENTER MIDDLE SCHOOL","595 W. KINO STREET","NOGALES AZ 85621","() -","() -"]
[120201113,"LINCOLN ELEMENTARY SCHOOL","310 W. PLUM STREET","NOGALES AZ 85621","() -","( ) -"]
[120201114,"A J MITCHELL ELEMENTARY SCHOOL","855 N BAUTISTA ST","NOGALES AZ 85621","(520) 287-0840","(520) 287-0847"]
[120201115,"MARY L WELTY ELEMENTARY SCHOOL","1050 W CIMARRON ST","NOGALES AZ 85621","() -","() -"]
[120201119,"CHALLENGER ELEMENTARY SCHOOL","901 E CALLE MAYER","NOGALES AZ 85621","(520) 377-0544","(520) 377-2026"]
[120201209,"PIERSON VOCATIONAL HIGH SCHOOL","310 W. PLUM STREET","NOGALES AZ 85621","() -","( ) -"]
[120201210,"NOGALES HIGH SCHOOL","1905 APACHE BLVD","NOGALES AZ 85621","(520) 377-2021","(520) 281-4448"]
[120235000,"SANTA CRUZ VALLEY UNIFIED DISTRICT","1374 W. FRONTAGE RD.","RIO RICO AZ 85648","(520) 281-8282","(520) 281-7093"]
[120235110,"SAN CAYETANO ELEMENTARY SCHOOL","1412 FRONTAGE ROAD","RIO RICO AZ 85648","() -","() -"]
[120235115,"PENA BLANCA ELEMENTARY SCHOOL","1374 W. FRONTAGE RD.","RIO RICO AZ 85648","() -","() -"]
[120235120,"MOUNTAIN VIEW SCHOOL","1374 WEST FRONTAGE RD.","RIO RICO AZ 85648","() -","() -"]
[120235130,"CALABASAS MIDDLE SCHOOL","1374 W. FRONTAGE RD.","RIO RICO AZ 85648","() -","() -"]
[120235140,"COATIMUNDI MIDDLE SCHOOL","1374 W. FRONTAGE ROAD","RIO RICO AZ 85648","() -","( ) -"]
[120235200,"RIO RICO HIGH SCHOOL","590 N. CAMINO GALINDO","RIO RICO AZ 85648","(520) 375-8700","(520) 377-9556"]
[120328000,"SANTA CRUZ ELEMENTARY DISTRICT","HC2 BOX 50","NOGALES AZ 85621","(520) 287-0737","(520) 287-6791"]
[120328101,"LITTLE RED SCHOOLHOUSE","HC2 BOX 50","NOGALES AZ 85621","(520) 287-0737","(520) 287-6791"]
[120406000,"PATAGONIA ELEMENTARY DISTRICT","P O BOX 254","PATAGONIA AZ 85624","(520) 394-3050","(520) 394-3051"]
[120406101,"PATAGONIA ELEMENTARY SCHOOL","P.O. BOX 295","PATAGONIA AZ 85624","() -","( ) -"]
[120425000,"SONOITA ELEMENTARY DISTRICT","HC 1 BOX 36","ELGIN AZ 85611","(520) 455-5514","(520) 455-5516"]
[120425101,"ELGIN ELEMENTARY SCHOOL","HC1 BOX 36","ELGIN AZ 85611","() -","() -"]
[120520000,"PATAGONIA UNION HIGH SCHOOL DISTRICT","P O BOX 254","PATAGONIA AZ 85624","(520) 394-3000","(520) 394-3051"]
[120520201,"PATAGONIA UNION HIGH SCHOOL","P.O. BOX 254","PATAGONIA AZ 85624","() -","() -"]
[128701000,"PINNACLE EDUCATION-KINO, INC.","2224 W SOUTHERN AVE. SUITE 1","TEMPE AZ 85282","(480) 755-8222","(480) 755-8111"]
[128701004,"PINNACLE CHARTER HIGH SCHOOL","2224 W. SOUTHERN AVE SUITE #1","TEMP AZ 85282","() -","() -"]
[128703000,"MEXICAYOTL ACADEMY, INC.","850 NORTH MORLEY AVE","NOGALES AZ 85621","(520) 287-6790","(520) 287-0037"]
[128703001,"MEXICAYOTL CHARTER SCHOOL","850 NORTH MORLEY AVE.","NOGALES AZ 85621","(520) 287-6790","(520) 287-0037"]
[128703002,"MEXICAYOTL ACADEMY","850 N. MORLEY AVE","NOGALES AZ 85621","(520) 287-6790","( ) -"]
[128725000,"PATAGONIA MONTESSORI ELEMENTARY SCHOOL","P.O. BOX 628","PATAGONIA AZ 85624","(520) 394-9530","(520) 394-2864"]
[128725101,"PATAGONIA MONTESSORI SCHOOL","P.O. BOX 1008","PATAGONIA AZ 85624 1008","() -","() -"]
[128726000,"SANTA CRUZ VALLEY OPPORTUNITIES IN EDUCATION, INC.","PO BOX 4706","TUBAC AZ 85646","(520) 398-0536","(520) 398-0776"]
[128726101,"MONTESSORI DE SANTA CRUZ - ST. ANN'S HALL","P.O. BOX 4706","TUBAC AZ 85646","() -","( ) -"]
[130199000,"YAVAPAI ACCOMMODATION SCHOOL DISTRICT","7497 E. ADDIS","PRESCOTT VALLEY AZ 86314","(928) 759-8126","(928) 759-8136"]
[130201000,"PRESCOTT UNIFIED DISTRICT","146 S GRANITE ST","PRESCOTT AZ 86303","(928) 445-5400","(928) 717-3207"]
[130201009,"DISCOVERY GARDENS PRESCHOOL","551 FIRST STREET","PRESCOTT AZ 86301","(928) 717-3272","( ) -"]
[130201012,"LINCOLN ELEMENTARY SCHOOL","201 PARK AVE.","PRESCOTT AZ 86303","() -","() -"]
[130201013,"MILLER VALLEY SCHOOL","900 IRON SPRINGS ROAD","PRESCOTT AZ 86305","() -","() -"]
[130201014,"TAYLOR HICKS SCHOOL","1845 CAMPBELL AVE.","PRESCOTT AZ 86301","() -","() -"]
[130201015,"WASHINGTON TRADITIONAL SCHOOL","300 EAST GURLEY STREET","PRESCOTT AZ 86301","() -","() -"]
[130201016,"ABIA JUDD ELEMENTARY SCHOOL","1749 WILLIAMSON VALLEY RD.","PRESCOTT AZ 86305","() -","() -"]
[130201050,"PRESCOTT MILE HIGH MIDDLE SCHOOL","300 SOUTH GRANITE ST.","PRESCOTT AZ 86303","() -","() -"]
[130201060,"GRANITE MOUNTAIN MIDDLE SCHOOL","1800 WILLIAMSON VALLEY RD.","PRESCOTT AZ 86305","() -","() -"]
[130201070,"PRESCOTT HIGH SCHOOL","1050 N. RUTH STREET","PRESCOTT AZ 86301","() -","() -"]
[130209000,"SEDONA-OAK CREEK JUSD #9","221 BREWER RD STE 100","SEDONA AZ 86336","(928) 204-6800","(928) 282-0232"]
[130209110,"SEDONA INTEGRATED PRESCHOOL","221 BREWER ROAD","SEDONA AZ 86336","(928) 204-6821","(928) 282-0232"]
[130209120,"WEST SEDONA ELEMENTARY SCHOOL","570 POSSE GROUND RD","SEDONA AZ 86336","() -","() -"]
[130209130,"BIG PARK COMMUNITY SCHOOL","25 WEST SADDLEHORN DR","SEDONA AZ 86351","() -","() -"]
[130209210,"SEDONA RED ROCK HIGH SCHOOL","995 UPPER RED ROCK LOOP RD","SEDONA AZ 86336","() -","() -"]
[130220000,"BAGDAD UNIFIED DISTRICT","P O BOX 427","BAGDAD AZ 86321 0427","(928) 633-4101","(928) 633-4345"]
[130220101,"BAGDAD ELEMENTARY SCHOOL","PO BOX 427","BAGDAD AZ 86321 0427","() -","() -"]
[130220202,"BAGDAD HIGH SCHOOL","PO BOX 427","BAGDAD AZ 86321","(928) 633-2201","(928) 663-4135"]
[130222000,"HUMBOLDT UNIFIED DISTRICT","6411 N. ROBERT ROAD","PRESCOTT VALLEY AZ 86314","(928) 759-4000","(928) 759-4020"]
[130222110,"LAKE VALLEY ELEMENTARY SCHOOL","3900 N. STARLIGHT DRIVE","PRESCOTT VALLEY AZ 86314","() -","( ) -"]
[130222120,"BRADSHAW MOUNTAIN MIDDLE SCHOOL","12255 TURQUOISE CIRCLE","DEWEY AZ 86327","() -","(928) 759-4920"]
[130222125,"GLASSFORD HILL MIDDLE SCHOOL","6901 PANTHER PATH","PRESCOTT VALLEY AZ 86314","() -","( ) -"]
[130222131,"HUMBOLDT ELEMENTARY SCHOOL","PO BOX 8","DEWEY-HUMBOLDT AZ 86327","() -","( ) -"]
[130222132,"MOUNTAIN VIEW ELEMENTARY SCHOOL","8601 E. LOOS DRIVE","PRESCOTT VALLEY AZ 86314","() -","( ) -"]
[130222133,"COYOTE SPRINGS ELEMENTARY SCHOOL","8101 E. HWY. 89 A","PRESCOTT VALLEY AZ 86314","() -","( ) -"]
[130222134,"LIBERTY TRADITIONAL SCHOOL","3300 LAKE VALLEY DRIVE","PRESCOTT VALLEY AZ 86314","() -","( ) -"]
[130222135,"GRANVILLE ELEMENTARY SCHOOL","5250 STOVER DRIVE","PRESCOTT VALLEY AZ 86314","() -","( ) -"]
[130222136,"BRIGHT FUTURES PRESCHOOL","3300 N. LAKE VALLEY ROAD","PRESCOTT VALLEY AZ 86314","(928) 759-4547","(928) 759-4546"]
[130222230,"BRADSHAW MOUNTAIN HIGH SCHOOL","6000 LONGLOOK RD.","PRESCOTT VALLEY AZ 86314","() -","( ) -"]
[130222240,"BRADSHAW MOUNTAIN HIGH SCHOOL EAST","6411 N. ROBERT RD.","PRESCOTT VALLEY AZ 86314","(928) 759-5100","(928) 759-5120"]
[130228000,"CAMP VERDE UNIFIED DISTRICT","410 CAMP LINCOLN","CAMP VERDE AZ 86322","(928) 567-8000","(928) 567-8004"]
[130228101,"CAMP VERDE ELEMENTARY SCHOOL","200 CAMP LINCOLN ROAD","CAMP VERDE AZ 86322","() -","() -"]
[130228102,"CAMP VERDE MIDDLE SCHOOL","370 CAMP LINCOLN","CAMP VERDE AZ 86322","() -","() -"]
[130228203,"CAMP VERDE HIGH SCHOOL","1326 MONTEZUMA CASTLE RD.","CAMP VERDE AZ 86322","() -","() -"]
[130228304,"SOUTH VERDE MIDDLE HIGH","410 CAMP LINCOLN","CAMP VERDE, ARIZONA AZ 86322","(928) 567-8076","(928) 567-8076"]
[130231000,"ASH FORK JOINT UNIFIED DISTRICT","P O BOX 247","ASH FORK AZ 86320","(928) 637-2561","(928) 637-2623"]
[130231101,"ASH FORK ELEMENTARY SCHOOL","P.O. BOX 247","ASH FORK AZ 86320","(928) 637-2561","(928) 637-2623"]
[130231102,"ASH FORK MIDDLE SCHOOL","P O BOX 247","ASH FORK AZ 86320","() -","() -"]
[130231202,"ASH FORK HIGH SCHOOL","P.O. BOX 247","ASH FORK AZ 86320","() -","() -"]
[130240000,"SELIGMAN UNIFIED DISTRICT","P O BOX 650","SELIGMAN AZ 86337","(928) 422-3233","(928) 422-3642"]
[130240101,"SELIGMAN ELEMENTARY SCHOOL","P.O. BOX 650","SELIGMAN AZ 86337 0650","() -","() -"]
[130240202,"SELIGMAN HIGH SCHOOL","P.O. BOX 650","SELIGMAN AZ 86337 0650","() -","() -"]
[130243000,"MAYER UNIFIED SCHOOL DISTRICT","P.O. BOX 1059","MAYER AZ 86333","(928) 642-1000","(928) 632-4005"]
[130243101,"MAYER ELEMENTARY SCHOOL","P.O. BOX 1059","MAYER AZ 86333","() -","() -"]
[130243102,"MAYER JUNIOR HIGH SCHOOL","P.O. BOX 1059","MAYER AZ 86333","() -","( ) -"]
[130243203,"MAYER HIGH SCHOOL","PO BOX 1059","MAYER AZ 86333","() -","() -"]
[130251000,"CHINO VALLEY UNIFIED DISTRICT","P O BOX 225","CHINO VALLEY AZ 86323","(928) 636-2458","(928) 636-1434"]
[130251004,"COUGAR LANE PRESCHOOL","P.O. BOX 225","CHINO VALLEY AZ 86323","() -","( ) -"]
[130251101,"DEL RIO ELEMENTARY SCHOOL","BOX 225","CHINO VALLEY AZ 86323","() -","() -"]
[130251102,"HERITAGE MIDDLE SCHOOL","PO BOX 225","CHINO VALLEY AZ 86323","() -","() -"]
[130251103,"TERRITORIAL ELEMENTARY SCHOOL","PO BOX 225","CHINO VALLEY AZ 86323","() -","( ) -"]
[130251203,"CHINO VALLEY HIGH SCHOOL","P.O. BOX 225","CHINO VALLEY AZ 86323","() -","() -"]
[130302000,"WILLIAMSON VALLEY ELEMENTARY SCHOOL DISTRICT","7295 N. BRIDLE PATH","PRESCOTT AZ 86305","(928) 445-8126","(928) 708-0117"]
[130307000,"WALNUT GROVE ELEMENTARY DISTRICT","HC 68 BOX 912","KIRKLAND AZ 86332","(928) 427-6378","(928) 427-6378"]
[130314000,"CHAMPIE ELEMENTARY DISTRICT","HCR 1, CASTLE HOT SPRINGS","MORRISTOWN AZ 85342","(928) 501-1400","(928) 501-1400"]
[130315000,"SKULL VALLEY ELEMENTARY DISTRICT","P O BOX 127","SKULL VALLEY AZ 86338 0127","(928) 442-3322","(928) 442-9198"]
[130315101,"SKULL VALLEY ELEMENTARY SCHOOL","POST OFFICE BOX 127","SKULL VALLEY AZ 86338","() -","() -"]
[130317000,"CONGRESS ELEMENTARY DISTRICT","P O BOX 68","CONGRESS AZ 85332","(928) 427-9850","(928) 427-9840"]
[130317001,"CONGRESS ELEMENTARY SCHOOL","BOX 68","CONGRESS AZ 85332","(928) 427-9850","(928) 427-9840"]
[130323000,"KIRKLAND ELEMENTARY DISTRICT","P O BOX 120","KIRKLAND AZ 86332","(928) 442-3258","(928) 442-9488"]
[130323001,"KIRKLAND ELEMENTARY SCHOOL","P.O. BOX 210","KIRKLAND AZ 86332","() -","() -"]
[130326000,"BEAVER CREEK ELEMENTARY DISTRICT","4810 E. BEAVER CREEK RD.","RIMROCK AZ 86335","(928) 567-4631","(928) 567-5347"]
[130326101,"BEAVER CREEK SCHOOL","4810 E. BEAVER CREEK ROAD","RIMROCK AZ 86335","(928) 567-4631","(928) 567-5347"]
[130335000,"HILLSIDE ELEMENTARY DISTRICT","HC 01 BOX 3056","BAGDAD AZ 86321 9706","(928) 442-3416","(928) 442-9591"]
[130335101,"HILLSIDE ELEMENTARY SCHOOL","HC 01 BOX 3056","BAGDAD AZ 86321","() -","() -"]
[130341000,"CROWN KING ELEMENTARY DISTRICT","P.O. BOX 188","CROWN KING AZ 86343","(928) 632-5207","(928) 632-5207"]
[130341101,"CROWN KING ELEMENTARY SCHOOL","P. O. BOX 188","CROWN KING AZ 86343","(928) 632-5207","(928) 632-5207"]
[130350000,"CANON ELEMENTARY DISTRICT","P O BOX 89","BLACK CANYON CITY AZ 85324 0089","(623) 374-5588","(623) 374-5046"]
[130350101,"CANON SCHOOL","P.O. BOX 89","BLACK CANYON CITY AZ 85324","(623) 374-5588","(623) 374-5045"]
[130352000,"YARNELL ELEMENTARY DISTRICT","P O BOX 575","YARNELL AZ 85362 0575","(928) 427-3347","(928) 427-3348"]
[130352101,"YARNELL ELEMENTARY SCHOOL","PO BOX 575","YARNELL AZ 85362","() -","() -"]
[130403000,"CLARKDALE-JEROME ELEMENTARY DISTRICT","P O BOX 248","CLARKDALE AZ 86324 0248","(928) 634-5035","(928) 639-0917"]
[130403101,"CLARKDALE-JEROME ELEMENTARY SCHOOL","1615 MAIN STREET","CLARKDALE AZ 86324 0248","() -","() -"]
[130406000,"COTTONWOOD-OAK CREEK ELEMENTARY DISTRICT","1 N WILLARD ST","COTTONWOOD AZ 86326 0057","(928) 634-2288","(928) 634-2309"]
[130406101,"COTTONWOOD ELEMENTARY SCHOOL","1 N WILLARD ST","COTTONWOOD AZ 86326","() -","() -"]
[130406102,"COTTONWOOD MIDDLE SCHOOL","1 N. WILLARD","COTTONWOOD AZ 86326","() -","() -"]
[130406103,"OAK CREEK SCHOOL","P.O. BOX 310","CORNVILLE AZ 86325","() -","() -"]
[130406104,"DR DANIEL BRIGHT ELEMENTARY SCHOOL","1 NORTH WILLARD ST.","COTTONWOOD AZ 86326","() -","() -"]
[130406105,"TAVASCI ELEMENTARY SCHOOL - CLOSED","1 NORTH WILLARD STREET","COTTONWOOD AZ 86326","() -","( ) -"]
[130406106,"MOUNTAIN VIEW PREPARATORY","1 N WILLARD ST","COTTONWOOD AZ 86326","(928) 634-2288","(928) 634-2309"]
[130504000,"MINGUS UNION HIGH SCHOOL DISTRICT","1801 E FIR ST","COTTONWOOD AZ 86326","(928) 634-8901","(928) 649-4399"]
[130504201,"MINGUS UNION HIGH SCHOOL","1801 E. FIR STREET","COTTONWOOD AZ 86326","() -","() -"]
[130504202,"THE ACADEMY AT MINGUS","1801 E. FIR STREET","COTTONWOOD AZ 86326","(928) 649-4446","(928) 639-4236"]
[138501000,"COMPASS POINTS INTERNATIONAL, INC","551 FIRST STREET","PRESCOTT AZ 86301","(928) 717-3272","(928) 541-2294"]
[138501001,"NORTHPOINT EXPEDITIONARY LEARNING ACADEMY","551 FIRST STREET","PRESCOTT AZ 86301","(928) 717-3272","(928) 541-2294"]
[138502001,"ARIZONA ARIBUSINESS AND EQUINE CENTER, INC. - PRESCOTT VALLEY","PO BOX 84108","PHOENIX AZ 85071","() -","( ) -"]
[138503000,"LA TIERRA COMMUNITY SCHOOL, INC","124 N. VIRGINIA STREET","PRESCOTT AZ 86301","(928) 445-5100","(928) 445-4802"]
[138503001,"LA TIERRA COMMUNITY SCHOOL","PO BOX 10668","PRESCOTT AZ 86304","() -","( ) -"]
[138654000,"NEW VISIONS ACADEMY, INC.","P.O. BOX 1539","COTTONWOOD AZ 86326","(928) 634-7320","(928) 634-7494"]
[138654001,"NEW VISIONS ACADEMY","P.O. BOX 1539","COTTONWOOD AZ 86326","() -","() -"]
[138654004,"NEW VISIONS ACADEMY - ST. JOHN'S CAMPUS","P.O. BOX 791","ST.JOHNS AZ 85936","() -","() -"]
[138654005,"NEW VISIONS ACADEMY - STAR VALLEY","HC4, BOX 4N","PAYSON AZ 85541","(928) 534-7320","( ) -"]
[138702000,"PATHWAYS KM CHARTER SCHOOLS, INC","P.O. BOX 248","RIMROCK AZ 86335","(928) 567-9213","(928) 567-9304"]
[138702001,"RIMROCK PUBLIC HIGH SCHOOL","P.O. BOX 248","RIMROCK AZ 86335","() -","( ) -"]
[138705000,"EDKEY, INC. - SEQUOIA RANCH SCHOOL","1460 S. HORNE","MESA AZ 85204","(480) 461-3200","(480) 649-0747"]
[138705001,"SEQUOIA RANCH","P.O. BOX 399","MAYER AZ 86333","() -","() -"]
[138705002,"SEQUOIA FAMILY LEARNING - CLOSED","1460 S. HORNE","MESA AZ 85204","() -","( ) -"]
[138705003,"CHILDREN FIRST ACADEMY - PHOENIX","1460 S. HORNE","MESA AZ 85204","(480) 461-3200","(480) 649-0747"]
[138705004,"CHILDREN FIRST ACADEMY - TEMPE","1460 S. HORNE","MESA AZ 85204","(480) 461-3200","(480) 649-0747"]
[138708000,"SEDONA CHARTER SCHOOL, INC.","165 KACHINA DRIVE","SEDONA AZ 86336","(928) 204-6464","(928) 204-6486"]
[138708101,"SEDONA CHARTER SCHOOL","165 KACHINA DRIVE","SEDONA AZ 86336"]
[138712000,"MINGUS SPRINGS CHARTER SCHOOL","3600 NORTH SUNSET DRIVE","CHINO VALLEY AZ 86323","(928) 636-4766","(928) 636-5149"]
[138712101,"MINGUS SPRINGS CHARTER SCHOOL","3600 N SUNSET DRIVE","CHINO VALLEY AZ 86323","(928) 636-4766","(928) 636-5149"]
[138714000,"DESERT STAR COMMUNITY SCHOOL, INC.","1240 S. RECYCLER RD.","CORNVILLE AZ 86325","(928) 282-0171","(928) 284-9565"]
[138714101,"DESERT STAR COMMUNITY SCHOOL","1240 S. RECYCLER RD.","CORNVILLE AZ 86325","(928) 282-0171","(928) 284-9565"]
[138751000,"FRANKLIN PHONETIC PRIMARY SCHOOL, INC.","6116 EAST HIGHWAY 69","PRESCOTT VALLEY AZ 86314","(928) 775-6747","(928) 775-6740"]
[138751001,"FRANKLIN PHONETIC PRIMARY SCHOOL","6116 E. HIGHWAY 69","PRESCOTT VALLEY AZ 86314","() -","() -"]
[138752000,"SKYVIEW SCHOOL, INC.","125 SOUTH RUSH STREET","PRESCOTT AZ 86303","(928) 776-1730","(928) 776-1742"]
[138752101,"SKYVIEW SCHOOL","125 S. RUSH STREET","PRESCOTT AZ 86303","(928) 776-1730","(928) 776-1742"]
[138753000,"CHESTER NEWTON CHARTER AND MONTESSORI SCHOOL","P.O. BOX 2166","CAMP VERDE AZ 86322","(928) 567-2363","(928) 567-5374"]
[138753001,"CHESTER NEWTON CHARTER AND MONTESSORI SCHOOL","P.O. BOX 2166","CAMP VERDE AZ 86322","() -","() -"]
[138754000,"AMERICAN HERITAGE ACADEMY","2030 E. CHERRY ST.","COTTONWOOD AZ 86326","(928) 634-2144","(928) 634-9053"]
[138754001,"AMERICAN HERITAGE ACADEMY - COTTONWOOD","2030 E. CHERRY ST.","COTTONWOOD AZ 86326","() -","() -"]
[138754003,"AMERICAN HERITAGE ACADEMY - CAMP VERDE","2030 E. CHERRY ST.","COTTONWOOD AZ 86326","(928) 634-2144","(928) 634-9053"]
[138755000,"PARK VIEW SCHOOL, INC.","9030 E. FLORENTINE ROAD","PRESCOTT VALLEY AZ 86314","(928) 775-5115","(602) 841-4260"]
[138755101,"PARK VIEW MIDDLE SCHOOL","8300 E DANA DR","PRESCOTT VALLEY AZ 86314 8183","() -","() -"]
[138756000,"PAINTED PONY RANCH CHARTER SCHOOL","2100 WILLOW CREEK ROAD","PRESCOTT AZ 86301","(928) 776-1212","(928) 776-0009"]
[138756101,"WILLOW CREEK CHARTER SCHOOL","2100 WILLOW CREEK RD","PRESCOTT AZ 86301","(928) 776-1212","( ) -"]
[138757000,"MARY ELLEN HALVORSON EDUCATIONAL FOUNDATION. DBA: TRI-CITY PREP HIGH SCHOOL","5522 SIDE ROAD","PRESCOTT AZ 86301","(928) 777-0403","(928) 777-0402"]
[138757201,"TRI-CITY COLLEGE PREP HIGH SCHOOL","5522 SIDE ROAD","PRESCOTT AZ 86301","() -","() -"]
[138758000,"PACE PREPARATORY ACADEMY, INC.","1865 WEST SR 89A C","SEDONA AZ 86336","(928) 775-0719","(928) 649-9570"]
[138758201,"PACE PREPARATORY ACADEMY","75 ENCHANTED WAY","SEDONA AZ 86336","(928) 775-0719","(928) 649-9570"]
[138758203,"PACE PREPARATORY ACADEMY","1865 WEST SR 89A, SUITE C","SEDONA AZ 86336","(928) 775-0719","(928) 649-9570"]
[138759000,"KESTREL SCHOOLS, INC.","P.O. BOX 11028","PRESCOTT AZ 86304","(928) 541-1090","(928) 541-9939"]
[138759201,"KESTREL HIGH SCHOOL","P.O. BOX 11028","PRESCOTT AZ 86304","() -","() -"]
[138760000,"ACORN MONTESSORI CHARTER SCHOOL","8556 EAST LOOS DRIVE","PRESCOTT VALLEY AZ 86314","(928) 772-5778","(928) 775-8654"]
[138760101,"ACORN MONTESSORI CHARTER SCHOOL","8556 EAST LOOS DRIVE","PRESCOTT VALLEY AZ 86314","(928) 772-5778","(928) 775-8654"]
[138760102,"ACORN MONTESSORI CHARTER SCHOOL, INC. - WEST","8556 E. LOOS DR.","PRESCOTT VALLEY AZ 86314","(928) 772-5778","(928) 775-8654"]
[138761000,"A CENTER FOR CREATIVE EDUCATION","P.O. BOX 2678","COTTONWOOD AZ 86326","(928) 634-3288","(928) 634-9781"]
[138761101,"VERDE VALLEY MONTESSORI SCHOOL - A CENTER FOR CREATIVE EDUCATION","P O BOX 2678","COTTONWOOD AZ 86326","() -","( ) -"]
[138761102,"MONTESSORI CHILDRENS HOUSE","P.O. BOX 2678","COTTONWOOD AZ 86326","() -","( ) -"]
[138763000,"ACCELERATED LEARNING CHARTER SCHOOL, INC.","320 S. MAIN ST.","COTTONWOOD AZ 86326","(928) 634-0650","(928) 634-0672"]
[138763101,"ACCELERATED LEARNING CHARTER SCHOOL","320 SOUTH MAIN STREET","COTTONWOOD AZ 86326","() -","() -"]
[138767000,"SUNNYSIDE CHARTER AND MONTESSORI SCHOOL","P .O. BOX 2166","CAMP VERDE AZ 86322","(928) 567-2363","(928) 567-5374"]
[138767001,"SUNNYSIDE CHARTER AND MONTESSORI SCHOOL","P. O. BOX 2166","CAMP VERDE AZ 86322","() -","() -"]
[138768000,"MOUNTAIN OAK CHARTER SCHOOL, INC.","124 N VIRGINIA ST","PRESCOTT AZ 86301","(928) 541-7700","(928) 445-1301"]
[138768101,"MOUNTAIN OAK CHARTER SCHOOL","124 N VIRGINIA ST","PRESCOTT AZ 86301"]
[138771000,"CAMP VERDE UNIFIED SCHOOL DISTRICT DBA SOUTH VERDE TECHNOLOGY MAGNET","410 CAMP LINCOLN ROAD","CAMP VERDE AZ 86322","(928) 567-8076","(928) 567-8093"]
[138771001,"SOUTH VERDE TECHNOLOGY MAGNET","410 CAMP LINCOLN ROAD","CAMP VERDE AZ 86322","(928) 567-8076","(928) 567-8093"]
[138785000,"ARIZONA AGRIBUSINESS & EQUINE CENTER, INC.","PO BIX 84108","PHOENIX AZ 85071","(602) 297-8500","(602) 297-8540"]
[138785201,"ARIZONA AGRIBUSINESS & EQUINE CENTER, INC. - PRESCOTT VALLEY","PO BOX 84108","PHOENIX AZ 85701","(602) 297-8500","(602) 297-8540"]
[140401000,"YUMA ELEMENTARY DISTRICT","450 WEST 6TH ST","YUMA AZ 85364","(928) 502-4352","(928) 502-4448"]
[140401101,"ALICE BYRNE ELEMENTARY SCHOOL","811 W. 16TH STREET","YUMA AZ 85364","(928) 782-9585","(928) 782-1942"]
[140401102,"GEORGE WASHINGTON CARVER ELEMENTARY SCHOOL","1341 W. 5TH STREET","YUMA AZ 85364","() -","( ) -"]
[140401103,"C W MCGRAW ELEMENTARY SCHOOL","2345 S ARIZONA AVE","YUMA AZ 85364","() -","() -"]
[140401104,"JAMES D PRICE SCHOOL","1010 BARRANCA ROAD, YUMA PROVING GROUNDS","YUMA AZ 85365","(928) 329-4279","(928) 343-9419"]
[140401105,"MARY E POST ELEMENTARY SCHOOL","400 WEST 5TH STREET","YUMA AZ 85364 2945","() -","() -"]
[140401106,"O C JOHNSON SCHOOL","1201 W. 12TH STREET","YUMA AZ 85364","(928) 502-7900","(928) 502-7879"]
[140401107,"PALMCROFT ELEMENTARY SCHOOL","901 PALMCROFT DRIVE","YUMA AZ 85364","() -","() -"]
[140401108,"PECAN GROVE ELEMENTARY SCHOOL","600 S. 21ST AVENUE","YUMA AZ 85364","() -","() -"]
[140401109,"ROOSEVELT SCHOOL","550 5TH ST","YUMA AZ 85364","() -","() -"]
[140401110,"JAMES B ROLLE SCHOOL","2711 S. ENGLER AVENUE","YUMA AZ 85365 3225","() -","() -"]
[140401111,"GWYNETH HAM ELEMENTARY SCHOOL","840 E. 22ND STREET","YUMA AZ 85365","(928) 782-9241","(928) 782-6737"]
[140401112,"MARY A OTONDO ELEMENTARY SCHOOL","2251 OTONDO DRIVE","YUMA AZ 85365","() -","() -"]
[140401113,"DESERT MESA ELEMENTARY SCHOOL","2350 S AVENUE 7 1/2 E.","YUMA AZ 85365","() -","() -"]
[140401114,"SUNRISE ELEMENTARY SCHOOL","9943 S. 28TH STREET","YUMA AZ 85367","() -","() -"]
[140401121,"FOURTH AVENUE JUNIOR HIGH SCHOOL","450 S. 4TH AVENUE","YUMA AZ 85364","(928) 783-2193","(928) 783-2195"]
[140401122,"GILA VISTA JR HIGH SCHOOL","2245 S. ARIZONA AVE","YUMA AZ 85365","(928) 782-5174","(928) 782-1483"]
[140401123,"R PETE WOODARD JR HIGH SCHOOL","2250 8TH AVENUE","YUMA AZ 85364","() -","() -"]
[140401124,"CASTLE DOME MIDDLE SCHOOL","2353 S. OTONDO DRIVE","YUMA AZ 85365","() -","() -"]
[140401125,"RON WATSON MIDDLE SCHOOL","9851 E. 28TH ST.","YUMA AZ 85365","() -","() -"]
[140411000,"SOMERTON ELEMENTARY DISTRICT","P. O. BOX 3200","SOMERTON AZ 85350","(928) 341-6000","(928) 341-6090"]
[140411101,"SOMERTON MIDDLE SCHOOL","1011 N. SOMERTON AVE.","SOMERTON AZ 85350","() -","() -"]
[140411102,"ORANGE GROVE ELEMENTARY SCHOOL","PO BOX 3200","SOMERTON AZ 85350","() -","() -"]
[140411103,"DESERT SONORA ELEMENTARY SCHOOL","P. O. BOX 3200","SOMERTON AZ 85350","() -","() -"]
[140411104,"TIERRA DEL SOL ELEMENTARY SCHOOL","PO BOX 3200","SOMERTON AZ 85350 3200","() -","() -"]
[140411105,"VALLE DEL ENCANTO LEARNING CENTER","P. O. BOX 3200","SOMERTON AZ 85350","() -","() -"]
[140411106,"PPEP YOUTH BUILD","P.O. BOX 3200","SOMERTON AZ 85350","() -","( ) -"]
[140413000,"CRANE ELEMENTARY DISTRICT","4250 W 16TH ST","YUMA AZ 85364","(928) 373-3400","(928) 782-6831"]
[140413101,"PUEBLO ELEMENTARY SCHOOL","2803 W 20TH ST","YUMA AZ 85364","(928) 373-3600","(928) 373-3699"]
[140413102,"RANCHO VIEJO ELEMENTARY SCHOOL","1020 AVENUE C","YUMA AZ 85364","(928) 373-3800","(328) 373-3899"]
[140413103,"CRANE MIDDLE SCHOOL","4450 WEST 32ND STREET","YUMA AZ 85364","(928) 373-3200","(928) 344-6821"]
[140413104,"RONALD REAGAN FUNDAMENTAL SCHOOL","3200 W 16TH ST","YUMA AZ 85364","(928) 373-3700","(928) 783-2635"]
[140413105,"H L SUVERKRUP ELEMENTARY SCHOOL","1590 AVE C","YUMA AZ 85364","(928) 373-3500","(928) 782-3132"]
[140413106,"VALLEY HORIZON ELEMENTARY SCHOOL","4501 WEST 20TH ST","YUMA AZ 85364","(928) 373-4000","(928) 329-0504"]
[140413107,"CENTENNIAL MIDDLE SCHOOL","2650 W. 20TH STREET","YUMA AZ 85364","(928) 373-3300","(928) 376-7742"]
[140413108,"GARY A. KNOX ELEMENTARY SCHOOL","2926 SOUTH 21ST DRIVE","YUMA AZ 85364","(928) 373-5500","(928) 373-5599"]
[140413109,"SALIDA DEL SOL ELEMENTARY","910 S. AVE. C","YUMA AZ 85364","(928) 373-5600","(928) 373-5699"]
[140413110,"GREAT BEGINNINGS PRE-SCHOOL","2926 S. 21ST DRIVE","YUMA AZ 85364","(928) 373-5500","(928) 373-5599"]
[140413130,"MESQUITE ELEMENTARY","4250 W. 16TH STREET","YUMA AZ 85364","(928) 373-4100","(928) 373-4199"]
[140413700,"CRANE SCHOOL DISTRICT CHARTER SCHOOLS","1590 S AVENUE C","YUMA AZ 85364","(928) 373-3410","( ) -"]
[140413701,"GOWAN SCIENCE ACADEMY","1590 S. AVENUE C","YUMA AZ 85364","(928) 539-1200","( ) -"]
[140416000,"HYDER ELEMENTARY DISTRICT","P O BOX 3001","DATELAND AZ 85333","(928) 454-2242","(928) 454-2217"]
[140416101,"DATELAND ELEMENTARY SCHOOL","1300 S. AVE. 64E, P. O. BOX 3001","DATELAND AZ 85333","() -","( ) -"]
[140417000,"MOHAWK VALLEY ELEMENTARY DISTRICT","5151 S AVE 39E","ROLL AZ 85347 9701","(928) 785-4942","(928) 785-9496"]
[140417101,"MOHAWK VALLEY SCHOOL","5151 S. AVENUE 39E","ROLL AZ 85347 9701","() -","() -"]
[140424000,"WELLTON ELEMENTARY DISTRICT","P O BOX 517","WELLTON AZ 85356 0517","(928) 785-3311","(928) 785-4323"]
[140424101,"WELLTON ELEMENTARY SCHOOL","P.O. BOX 517","WELLTON AZ 85356 0517","() -","() -"]
[140432000,"GADSDEN ELEMENTARY DISTRICT","P O BOX 6870","SAN LUIS AZ 85349","(928) 627-6540","(928) 627-3635"]
[140432101,"GADSDEN ELEMENTARY SCHOOL","P. O. BOX 6870","SAN LUIS AZ 85349","() -","() -"]
[140432102,"RIO COLORADO ELEMENTARY SCHOOL","PO BOX 6870","SAN LUIS AZ 85349","() -","() -"]
[140432103,"SAN LUIS MIDDLE SCHOOL","P.O. BOX 6870","SAN LUIS AZ 85349","() -","() -"]
[140432104,"SAN LUIS PRE-SCHOOL","P O BOX 6870","SAN LUIS AZ 85349","(928) 627-4774","(928) 627-3635"]
[140432105,"ARIZONA DESERT ELEMENTARY SCHOOL","P.O. BOX 6870","SAN LUIS AZ 85349","(928) 627-6940","(928) 627-4692"]
[140432106,"CESAR CHAVEZ ELEMENTARY","P.O. BOX 6870","SAN LUIS AZ 85349","() -","() -"]
[140432107,"SOUTHWEST JR. HIGH SCHOOL","963 N.8TH AVENUE","SAN LUIS AZ 85349","() -","() -"]
[140432108,"DESERT VIEW ELEMENTARY","P.O. BOX 6870","SAN LUIS AZ 85349 6870","() -","() -"]
[140432109,"ED PASTOR ELEMENTARY 4","PO BOX 6870","SAN LUIS AZ 85349","() -","() -"]
[140550000,"ANTELOPE UNION HIGH SCHOOL DISTRICT","9168 S AVE 36 E","WELLTON AZ 85356 9705","(928) 785-4041","(928) 785-4588"]
[140550201,"ANTELOPE UNION HIGH SCHOOL","9168 SOUTH AVE 36 EAST","WELLTON AZ 85356","() -","() -"]
[140570000,"YUMA UNION HIGH SCHOOL DISTRICT","1250 W. 11TH ST.","YUMA AZ 85364","() -","( ) -"]
[140570201,"YUMA HIGH SCHOOL","400 6TH AVE","YUMA AZ 85364","() -","() -"]
[140570202,"KOFA HIGH SCHOOL","3100 AVE A","YUMA AZ 85364","() -","() -"]
[140570203,"CIBOLA HIGH SCHOOL","4100 W 20TH ST","YUMA AZ 85364","() -","() -"]
[140570204,"VISTA ALTERNATIVE SCHOOL","2350 VIRGINIA DRIVE","YUMA AZ 85364","() -","() -"]
[140570205,"SAN LUIS HIGH SCHOOL","P. O. BOX 7380","SAN LUIS AZ 85349","() -","() -"]
[140570207,"GILA RIDGE HIGH SCHOOL","7150 E. 24TH STREET","YUMA AZ 85364","(928) 502-4600","( ) -"]
[148757000,"AZ-TEC HIGH SCHOOL","2330 WEST 28TH STREET","YUMA AZ 85364","(928) 314-1918","(928) 726-2826"]
[148757001,"AZTEC HIGH SCHOOL","2330 W. 28TH STREET","YUMA AZ 85364","() -","() -"]
[148758000,"YUMA PRIVATE INDUSTRY COUNCIL, INC.","3834 W. 16TH ST.","YUMA AZ 85364","(928) 329-0990","(928) 783-0886"]
[148758201,"EDUCATIONAL OPPORTUNITY CENTER","3834 W. 16TH STREET","YUMA AZ 85364","(928) 329-0990","(928) 783-0886"]
[148759000,"JUNIPER TREE ACADEMY","PO BOX 6502","YUMA AZ 85366","(928) 317-3113","(928) 783-3473"]
[148759101,"DESERT VIEW ACADEMY","P.O. BOX 6502","YUMA AZ 85366","() -","(928) 314-1086"]
[148760000,"HARVEST POWER COMMUNITY DEVELOPMENT GROUP, INC.","P.O. BOX 6826","YUMA AZ 85366","(928) 783-6266","(928) 783-4543"]
[148760101,"HARVEST PREPARATORY ACADEMY","P.O. BOX 6826","YUMA AZ 85366"]
[148760102,"HARVEST PREPARATORY ACADEMY, SAN LUIS AZ","350 E. 18TH STREET","YUMA AZ 85364","(928) 782-2052","(928) 819-5976"]
[148761000,"CARPE DIEM COLLEGIATE HIGH SCHOOL","P.O. BOX 6502","YUMA AZ 85366","(928) 317-3113","(928) 783-3473"]
[148761201,"CARPE DIEM COLLEGIATE HIGH SCHOOL DBA CARPE DIEM E-LEARNING COMMUNITY","P.O. BOX 6502","YUMA AZ 85366","(928) 317-3113","(928) 317-0828"]
[150227000,"PARKER UNIFIED SCHOOL DISTRICT","P O BOX 1090","PARKER AZ 85344","(928) 669-9244","(928) 669-2515"]
[150227101,"BLAKE PRIMARY SCHOOL","PO BOX 1090","PARKER AZ 85344","() -","() -"]
[150227102,"WALLACE ELEMENTARY SCHOOL","1201 16TH STREET","PARKER AZ 85344","() -","() -"]
[150227103,"LE PERA ELEMENTARY SCHOOL","PO BOX 1090","PARKER AZ 85344","() -","() -"]
[150227105,"WALLACE JR HIGH SCHOOL","1320 18TH STREET BOX 1090","PARKER AZ 85344","() -","() -"]
[150227204,"PARKER HIGH SCHOOL","P O BOX 1090","PARKER AZ 85344","() -","() -"]
[150227206,"PARKER ALTERNATIVE SCHOOL","P.O. BOX 1090","PARKER AZ 85344","() -","() -"]
[150404000,"QUARTZSITE ELEMENTARY DISTRICT","P O BOX 130","EHRENBERG AZ 85334","(928) 923-7907","(928) 923-8908"]
[150404101,"EHRENBERG ELEMENTARY SCHOOL","P.O. BOX 130","EHRENBERG AZ 85334","() -","() -"]
[150404102,"QUARTZSITE ELEMENTARY SCHOOL","P.O. BOX 130","EHRENBERG AZ 85334","() -","() -"]
[150419000,"WENDEN ELEMENTARY DISTRICT","P O BOX 8","WENDEN AZ 85357 0008","(928) 859-3806","(928) 859-3958"]
[150419101,"WENDEN ELEMENTARY SCHOOL","P.O.BOX 8","WENDEN AZ 85357","(928) 859-3806","(928) 859-3958"]
[150426000,"BOUSE ELEMENTARY DISTRICT","PO BOX S","BOUSE AZ 85325","(928) 851-2213","(928) 851-2986"]
[150426101,"BOUSE ELEMENTARY SCHOOL","PO BOX S","BOUSE AZ 85325","(928) 851-2213","(928) 851-2986"]
[150430000,"SALOME CONSOLIDATED ELEMENTARY DISTRICT","P O BOX 339","SALOME AZ 85348","(928) 859-3339","(928) 859-3085"]
[150430101,"SALOME ELEMENTARY SCHOOL","P O BOX 339","SALOME AZ 85348","() -","() -"]
[150576000,"BICENTENNIAL UNION HIGH SCHOOL DISTRICT","P O BOX 519","SALOME AZ 85348 0519","(928) 859-3453","(928) 859-3875"]
[150576201,"SALOME HIGH SCHOOL","PO BOX 519","SALOME AZ 85348","(928) 859-3453","(928) 859-3875"]
[158701000,"E.Q. SCHOLARS, INC.","P.O. BOX 3475","QUARTZSITE AZ 85359","(928) 927-9420","(928) 927-9425"]
[158701001,"SCHOLARS ACADEMY, THE","P.O. BOX 3475","QUARTZSITE AZ 85359","() -","( ) -"]

{"sheet":"Sites","index":4,"n_rows":19,"n_cols":4,"rows_kept":19,"cut":false,"hidden":false,"merged":[[2,0,2,3],[4,0,4,3],[0,0,0,3]]}
["You do not need to enter information on this page."]
[]
["Target Audience Eligibility and Reach by Category"]
[]
["Number of SNAP-Ed Delivery Sites by Type of Setting:"]
[]
["Type of Setting","Number of Different Sites/Locations","Type of Setting","Number of Different Sites/Locations"]
["Adult Education and Job Training Sites",{"$f":"(COUNTIF('Sites - Certified'!A:A,Info!A3))+(COUNTIF('Sites - Likely'!A:A,Info!A3))+(COUNTIF('Sites - Potentially-Schools'!A:A,Info!A3)+(COUNTIF('Sites - Potentially-Non-Schools'!A:A,Info!A3)))","v":0},"Libraries",{"$f":"(COUNTIF('Sites - Certified'!A:A,Info!A15))+(COUNTIF('Sites - Likely'!A:A,Info!A15))+(COUNTIF('Sites - Potentially-Schools'!A:A,Info!A15)+(COUNTIF('Sites - Potentially-Non-Schools'!A:A,Info!A15)))","v":0}]
["Adult Rehabilitation Centers",{"$f":"(COUNTIF('Sites - Certified'!A:A,Info!A4))+(COUNTIF('Sites - Likely'!A:A,Info!A4))+(COUNTIF('Sites - Potentially-Schools'!A:A,Info!A4)+(COUNTIF('Sites - Potentially-Non-Schools'!A:A,Info!A4)))","v":0},"Churches",{"$f":"(COUNTIF('Sites - Certified'!A:A,Info!A5))+(COUNTIF('Sites - Likely'!A:A,Info!A5))+(COUNTIF('Sites - Potentially-Schools'!A:A,Info!A5)+(COUNTIF('Sites - Potentially-Non-Schools'!A:A,Info!A5)))","v":0}]
["Worksites",{"$f":"(COUNTIF('Sites - Certified'!A:A,Info!A22))+(COUNTIF('Sites - Likely'!A:A,Info!A22))+(COUNTIF('Sites - Potentially-Schools'!A:A,Info!A22)+(COUNTIF('Sites - Potentially-Non-Schools'!A:A,Info!A22)))","v":0},"Public/Community Health Centers",{"$f":"(COUNTIF('Sites - Certified'!A:A,Info!A17))+(COUNTIF('Sites - Likely'!A:A,Info!A17))+(COUNTIF('Sites - Potentially-Schools'!A:A,Info!A17)+(COUNTIF('Sites - Potentially-Non-Schools'!A:A,Info!A17)))","v":0}]
["Community Centers",{"$f":"(COUNTIF('Sites - Certified'!A:A,Info!A6))+(COUNTIF('Sites - Likely'!A:A,Info!A6))+(COUNTIF('Sites - Potentially-Schools'!A:A,Info!A6)+(COUNTIF('Sites - Potentially-Non-Schools'!A:A,Info!A6)))","v":0},"Public Schools",{"$f":"(COUNTIF('Sites - Certified'!A:A,Info!A19))+(COUNTIF('Sites - Likely'!A:A,Info!A19))+(COUNTIF('Sites - Potentially-Schools'!A:A,Info!A19)+(COUNTIF('Sites - Potentially-Non-Schools'!A:A,Info!A19)))","v":0}]
["Elderly Service Centers",{"$f":"(COUNTIF('Sites - Certified'!A:A,Info!A7))+(COUNTIF('Sites - Likely'!A:A,Info!A7))+(COUNTIF('Sites - Potentially-Schools'!A:A,Info!A7)+(COUNTIF('Sites - Potentially-Non-Schools'!A:A,Info!A7)))","v":0},"Head Start Programs",{"$f":"(COUNTIF('Sites - Certified'!A:A,Info!A13))+(COUNTIF('Sites - Likely'!A:A,Info!A13))+(COUNTIF('Sites - Potentially-Schools'!A:A,Info!A13)+(COUNTIF('Sites - Potentially-Non-Schools'!A:A,Info!A13)))","v":0}]
["Emergency Food Assistance Sites",{"$f":"(COUNTIF('Sites - Certified'!A:A,Info!A8))+(COUNTIF('Sites - Likely'!A:A,Info!A8))+(COUNTIF('Sites - Potentially-Schools'!A:A,Info!A8)+(COUNTIF('Sites - Potentially-Non-Schools'!A:A,Info!A8)))","v":0},"Other Youth Education Sites (includes Parks and Recreation)",{"$f":"(COUNTIF('Sites - Certified'!A:A,Info!A16))+(COUNTIF('Sites - Likely'!A:A,Info!A16))+(COUNTIF('Sites - Potentially-Schools'!A:A,Info!A16)+(COUNTIF('Sites - Potentially-Non-Schools'!A:A,Info!A16)))","v":0}]
["Extension offices",{"$f":"(COUNTIF('Sites - Certified'!A:A,Info!A9))+(COUNTIF('Sites - Likely'!A:A,Info!A9))+(COUNTIF('Sites - Potentially-Schools'!A:A,Info!A9)+(COUNTIF('Sites - Potentially-Non-Schools'!A:A,Info!A9)))","v":0},"Shelters",{"$f":"(COUNTIF('Sites - Certified'!A:A,Info!A20))+(COUNTIF('Sites - Likely'!A:A,Info!A20))+(COUNTIF('Sites - Potentially-Schools'!A:A,Info!A20)+(COUNTIF('Sites - Potentially-Non-Schools'!A:A,Info!A20)))","v":0}]
["Farmers Markets",{"$f":"(COUNTIF('Sites - Certified'!A:A,Info!A10))+(COUNTIF('Sites - Likely'!A:A,Info!A10))+(COUNTIF('Sites - Potentially-Schools'!A:A,Info!A10)+(COUNTIF('Sites - Potentially-Non-Schools'!A:A,Info!A10)))","v":0},"WIC Programs",{"$f":"(COUNTIF('Sites - Certified'!A:A,Info!A21))+(COUNTIF('Sites - Likely'!A:A,Info!A21))+(COUNTIF('Sites - Potentially-Schools'!A:A,Info!A21)+(COUNTIF('Sites - Potentially-Non-Schools'!A:A,Info!A21)))","v":0}]
["SNAP Offices",{"$f":"(COUNTIF('Sites - Certified'!A:A,Info!A11))+(COUNTIF('Sites - Likely'!A:A,Info!A11))+(COUNTIF('Sites - Potentially-Schools'!A:A,Info!A11)+(COUNTIF('Sites - Potentially-Non-Schools'!A:A,Info!A11)))","v":0},"Other (Specify)",{"$f":"(COUNTIF('Sites - Certified'!A:A,Info!A23))+(COUNTIF('Sites - Likely'!A:A,Info!A23))+(COUNTIF('Sites - Potentially-Schools'!A:A,Info!A23)+(COUNTIF('Sites - Potentially-Non-Schools'!A:A,Info!A23)))","v":0}]
["Food Stores",{"$f":"(COUNTIF('Sites - Certified'!A:A,Info!A12))+(COUNTIF('Sites - Likely'!A:A,Info!A12))+(COUNTIF('Sites - Potentially-Schools'!A:A,Info!A12)+(COUNTIF('Sites - Potentially-Non-Schools'!A:A,Info!A12)))","v":0}]
["Public Housing",{"$f":"(COUNTIF('Sites - Certified'!A:A,Info!A18))+(COUNTIF('Sites - Likely'!A:A,Info!A18))+(COUNTIF('Sites - Potentially-Schools'!A:A,Info!A18)+(COUNTIF('Sites - Potentially-Non-Schools'!A:A,Info!A18)))","v":0}]
["Individual Homes",{"$f":"(COUNTIF('Sites - Certified'!A:A,Info!A14))+(COUNTIF('Sites - Likely'!A:A,Info!A14))+(COUNTIF('Sites - Potentially-Schools'!A:A,Info!A14)+(COUNTIF('Sites - Potentially-Non-Schools'!A:A,Info!A14)))","v":0}]

{"sheet":"Sites - Certified","index":5,"n_rows":22,"n_cols":18,"rows_kept":22,"cut":false,"hidden":false,"merged":[[8,0,9,0],[8,6,9,6],[8,5,9,5],[8,4,9,4],[8,3,9,3],[8,2,9,2],[8,1,9,1],[8,9,8,10],[8,11,8,12],[8,13,8,14],[8,7,8,8],[1,1,1,4]]}
[null,null,null,null,null,null,null,null,null,null,null,null,null,null,null,null,"Site Type","County"]
[null,"Target Audience Eligibility and Reach by Category",null,null,null,null,null,null,null,null,null,null,null,null,null,null,"A-Adult Education & Job Training Site","Apache"]
[null,null,null,null,null,null,null,null,null,null,null,null,null,null,null,null,"B-Adult Rehabilitation Center","Cochise"]
[null,"Category: Certified Eligible",null,null,null,null,null,null,null,null,null,null,null,null,null,null,"C-Church","Coconino"]
[null,null,null,null,null,null,null,null,null,null,null,null,null,null,null,null,"D-Community Center","Gila"]
[null,"Total Number of Certified Eligible Participants:",{"$f":"SUM(H11:H1010,J11:J1010,L11:L1010,N11:N1010)","v":0},null,null,null,null,null,null,null,null,null,null,null,null,null,"E-Elderly Service Center","Graham"]
[null,null,null,null,null,null,null,null,null,null,null,null,null,null,null,null,"F-Emergency Food Assistance","Greenlee"]
[null,null,null,null,null,null,null,null,null,null,null,null,null,null,null,null,"G-Extension Office","La Paz"]
["Site Type","Site Name","Street","City, State, Zip","County","Low Income Documentation","Participant Data (%)","Reach - Adults",null,"Reach - K-8",null,"Reach - CACFP",null,"Reach - Gardens",null,null,"H-Farmers Market","Maricopa"]
[null,null,null,null,null,null,null,"Participants (Unduplicated)","Contacts","Participants (Unduplicated)","Contacts","Participants (Unduplicated)","Contacts","Participants (Unduplicated)","Contacts",null,"I-SNAP Office","Mohave"]
[null,null,null,null,null,null,null,null,null,null,null,null,null,null,null,null,"J-Food Store","Navajo"]
[null,null,null,null,null,null,null,null,null,null,null,null,null,null,null,null,"K-Head Start Program","Pima"]
[null,null,null,null,null,null,null,null,null,null,null,null,null,null,null,null,"L-Individual Home","Pinal"]
[null,null,null,null,null,null,null,null,null,null,null,null,null,null,null,null,"M-Library","Santa Cruz"]
[null,null,null,null,null,null,null,null,null,null,null,null,null,null,null,null,"N-Other Youth Education Site (incl Parks and Rec)","Yavapai"]
[null,null,null,null,null,null,null,null,null,null,null,null,null,null,null,null,"O-Public/Community Health Center ","Yuma"]
[null,null,null,null,null,null,null,null,null,null,null,null,null,null,null,null,"P-Public Housing"]
[null,null,null,null,null,null,null,null,null,null,null,null,null,null,null,null,"Q-Public School"]
[null,null,null,null,null,null,null,null,null,null,null,null,null,null,null,null,"R-Shelter"]
[null,null,null,null,null,null,null,null,null,null,null,null,null,null,null,null,"S-WIC Program"]
[null,null,null,null,null,null,null,null,null,null,null,null,null,null,null,null,"T-Worksite"]
[null,null,null,null,null,null,null,null,null,null,null,null,null,null,null,null,"U-Other (Specify)"]

{"sheet":"Sites - Likely","index":6,"n_rows":22,"n_cols":18,"rows_kept":22,"cut":false,"hidden":false,"merged":[[8,4,9,4],[1,1,1,4],[8,0,9,0],[8,1,9,1],[8,2,9,2],[8,3,9,3],[8,9,8,10],[8,11,8,12],[8,13,8,14],[8,7,8,8],[8,5,9,5],[8,6,9,6]]}
[null,null,null,null,null,null,null,null,null,null,null,null,null,null,null,null,"Site Type","County"]
[null,"Target Audience Eligibility and Reach by Category",null,null,null,null,null,null,null,null,null,null,null,null,null,null,"A-Adult Education & Job Training Site","Apache"]
[null,null,null,null,null,null,null,null,null,null,null,null,null,null,null,null,"B-Adult Rehabilitation Center","Cochise"]
[null,"Category: Likely Eligible",null,null,null,null,null,null,null,null,null,null,null,null,null,null,"C-Church","Coconino"]
[null,null,null,null,null,null,null,null,null,null,null,null,null,null,null,null,"D-Community Center","Gila"]
[null,"Total Number of Likely Eligible Participants:",{"$f":"SUM(H11:H1010,J11:J1010,L11:L1010,N11:N1010)","v":0},null,null,null,null,null,null,null,null,null,null,null,null,null,"E-Elderly Service Center","Graham"]
[null,null,null,null,null,null,null,null,null,null,null,null,null,null,null,null,"F-Emergency Food Assistance","Greenlee"]
[null,null,null,null,null,null,null,null,null,null,null,null,null,null,null,null,"G-Extension Office","La Paz"]
["Site Type","Site Name","Street","City, State, Zip","County","Low Income Documentation","Participant Data (%)","Reach - Adults",null,"Reach - K-8",null,"Reach - CACFP",null,"Reach - Gardens",null,null,"H-Farmers Market","Maricopa"]
[null,null,null,null,null,null,null,"Participants (Unduplicated)","Contacts","Participants (Unduplicated)","Contacts","Participants (Unduplicated)","Contacts","Participants (Unduplicated)","Contacts",null,"I-SNAP Office","Mohave"]
[null,null,null,null,null,null,null,null,null,null,null,null,null,null,null,null,"J-Food Store","Navajo"]
[null,null,null,null,null,null,null,null,null,null,null,null,null,null,null,null,"K-Head Start Program","Pima"]
[null,null,null,null,null,null,null,null,null,null,null,null,null,null,null,null,"L-Individual Home","Pinal"]
[null,null,null,null,null,null,null,null,null,null,null,null,null,null,null,null,"M-Library","Santa Cruz"]
[null,null,null,null,null,null,null,null,null,null,null,null,null,null,null,null,"N-Other Youth Education Site (incl Parks and Rec)","Yavapai"]
[null,null,null,null,null,null,null,null,null,null,null,null,null,null,null,null,"O-Public/Community Health Center ","Yuma"]
[null,null,null,null,null,null,null,null,null,null,null,null,null,null,null,null,"P-Public Housing"]
[null,null,null,null,null,null,null,null,null,null,null,null,null,null,null,null,"Q-Public School"]
[null,null,null,null,null,null,null,null,null,null,null,null,null,null,null,null,"R-Shelter"]
[null,null,null,null,null,null,null,null,null,null,null,null,null,null,null,null,"S-WIC Program"]
[null,null,null,null,null,null,null,null,null,null,null,null,null,null,null,null,"T-Worksite"]
[null,null,null,null,null,null,null,null,null,null,null,null,null,null,null,null,"U-Other (Specify)"]

{"sheet":"Sites - Potentially-Schools","index":7,"n_rows":1768,"n_cols":17,"rows_kept":1768,"cut":false,"hidden":false,"merged":[[1,1,1,4],[7,5,7,6],[8,2,9,2],[7,7,7,8],[8,9,8,10],[8,11,8,12],[8,3,9,3],[8,8,9,8],[8,6,9,6],[8,7,9,7],[8,4,9,4],[8,5,9,5]]}
[null,null,null,null,null,null,null,null,null,null,null,null,null,null,"Site Name","Site Type","County"]
[null,"Target Audience Eligibility and Reach by Category",null,null,null,null,null,null,null,null,null,null,null,null,"A Casa de Paz - 112751003","A-Adult Education & Job Training Site","Apache"]
[null,null,null,null,null,null,null,null,null,null,null,null,null,null,"A J Mitchell Elementary School - 120201114","B-Adult Rehabilitation Center","Cochise"]
[null,"Category: Potentially Eligible Schools Only",null,null,null,null,null,null,null,null,null,null,null,null,"AAEC - SMCC Campus - 078993201","C-Church","Coconino"]
[null,null,null,null,null,null,null,null,null,null,null,null,null,null,"Abia Judd Elementary School - 130201016","D-Community Center","Gila"]
[null,"Total Number of Potentially Eligible Participants:",{"$f":"SUM(J11:J1010,L11:L1010)","v":0},null,null,null,null,null,null,null,null,null,null,null,"Abraham Lincoln Traditional School - 070406167","E-Elderly Service Center","Graham"]
[null,null,null,null,null,null,null,null,null,null,null,null,null,null,"Acacia Elementary School - 100220711","F-Emergency Food Assistance","Greenlee"]
[null,null,null,null,null,"SCHOOLS ONLY",null,"OTHER QUALIFYING DATA",null,null,null,null,null,null,"Acacia Elementary School - 070406114","G-Extension Office","La Paz"]
["Site Type","Site Name","Street","City, State, Zip","County","Low Income Documentation","Participant Data (%)","Low Income Documentation","Participant Data (%)","Reach - K-8",null,"Reach - Gardens",null,null,"Academy Adventures Midtown - 108506101","H-Farmers Market","Maricopa"]
["ONLY - Q-Public School","http://ade.az.gov/edd/",null,null,null,null,null,null,null,"Participants (Unduplicated)","Contacts","Participants (Unduplicated)","Contacts",null,"Academy Adventures Primary School - 108717101","I-SNAP Office","Mohave"]
[{"$f":"IF(ISBLANK(B11),\"\",\"Q-Public School\")","v":""},null,{"$f":"IF(ISBLANK(B11),\"\",VLOOKUP(B11,NSLPandADEtableFY14,14,FALSE))","v":""},{"$f":"IF(ISBLANK(B11),\"\",VLOOKUP(B11,NSLPandADEtableFY14,15,FALSE))","v":""},{"$f":"IF(ISBLANK(B11),\"\",VLOOKUP(B11,NSLPandADEtableFY14,2,FALSE))","v":""},{"$f":"IF(ISBLANK(B11),\"\",\"Free & Reduced Lunch Data (NSLP) March 2013\")","v":""},{"$f":"IF(ISBLANK(B11),\"\",VLOOKUP(B11,NSLPandADEtableFY14,11,FALSE))","v":""},null,null,null,null,null,null,null,"Academy Del Sol - 108734001","J-Food Store","Navajo"]
[{"$f":"IF(ISBLANK(B12),\"\",\"Q-Public School\")","v":""},null,{"$f":"IF(ISBLANK(B12),\"\",VLOOKUP(B12,NSLPandADEtableFY14,14,FALSE))","v":""},{"$f":"IF(ISBLANK(B12),\"\",VLOOKUP(B12,NSLPandADEtableFY14,15,FALSE))","v":""},{"$f":"IF(ISBLANK(B12),\"\",VLOOKUP(B12,NSLPandADEtableFY14,2,FALSE))","v":""},{"$f":"IF(ISBLANK(B12),\"\",\"Free & Reduced Lunch Data (NSLP) March 2013\")","v":""},{"$f":"IF(ISBLANK(B12),\"\",VLOOKUP(B12,NSLPandADEtableFY14,11,FALSE))","v":""},null,null,null,null,null,null,null,"Academy Del Sol - Hope - 108734002","K-Head Start Program","Pima"]
["",null,{"$f":"IF(ISBLANK(B13),\"\",VLOOKUP(B13,NSLPandADEtableFY14,14,FALSE))","v":""},{"$f":"IF(ISBLANK(B13),\"\",VLOOKUP(B13,NSLPandADEtableFY14,15,FALSE))","v":""},{"$f":"IF(ISBLANK(B13),\"\",VLOOKUP(B13,NSLPandADEtableFY14,2,FALSE))","v":""},"",{"$f":"IF(ISBLANK(B13),\"\",VLOOKUP(B13,NSLPandADEtableFY14,11,FALSE))","v":""},null,null,null,null,null,null,null,"Academy Of Excellence - 078604101","L-Individual Home","Pinal"]
["",null,{"$f":"IF(ISBLANK(B14),\"\",VLOOKUP(B14,NSLPandADEtableFY14,14,FALSE))","v":""},{"$f":"IF(ISBLANK(B14),\"\",VLOOKUP(B14,NSLPandADEtableFY14,15,FALSE))","v":""},{"$f":"IF(ISBLANK(B14),\"\",VLOOKUP(B14,NSLPandADEtableFY14,2,FALSE))","v":""},"",{"$f":"IF(ISBLANK(B14),\"\",VLOOKUP(B14,NSLPandADEtableFY14,11,FALSE))","v":""},null,null,null,null,null,null,null,"Academy of Excellence - Central Arizona - 078604004","M-Library","Santa Cruz"]
["",null,{"$f":"IF(ISBLANK(B15),\"\",VLOOKUP(B15,NSLPandADEtableFY14,14,FALSE))","v":""},{"$f":"IF(ISBLANK(B15),\"\",VLOOKUP(B15,NSLPandADEtableFY14,15,FALSE))","v":""},{"$f":"IF(ISBLANK(B15),\"\",VLOOKUP(B15,NSLPandADEtableFY14,2,FALSE))","v":""},"",{"$f":"IF(ISBLANK(B15),\"\",VLOOKUP(B15,NSLPandADEtableFY14,11,FALSE))","v":""},null,null,null,null,null,null,null,"Academy of Math and Science - 108713101","N-Other Youth Education Site (incl Parks and Rec)","Yavapai"]
["",null,{"$f":"IF(ISBLANK(B16),\"\",VLOOKUP(B16,NSLPandADEtableFY14,14,FALSE))","v":""},{"$f":"IF(ISBLANK(B16),\"\",VLOOKUP(B16,NSLPandADEtableFY14,15,FALSE))","v":""},{"$f":"IF(ISBLANK(B16),\"\",VLOOKUP(B16,NSLPandADEtableFY14,2,FALSE))","v":""},"",{"$f":"IF(ISBLANK(B16),\"\",VLOOKUP(B16,NSLPandADEtableFY14,11,FALSE))","v":""},null,null,null,null,null,null,null,"ACCLAIM Academy - 078701101","O-Public/Community Health Center ","Yuma"]
["",null,{"$f":"IF(ISBLANK(B17),\"\",VLOOKUP(B17,NSLPandADEtableFY14,14,FALSE))","v":""},{"$f":"IF(ISBLANK(B17),\"\",VLOOKUP(B17,NSLPandADEtableFY14,15,FALSE))","v":""},{"$f":"IF(ISBLANK(B17),\"\",VLOOKUP(B17,NSLPandADEtableFY14,2,FALSE))","v":""},"",{"$f":"IF(ISBLANK(B17),\"\",VLOOKUP(B17,NSLPandADEtableFY14,11,FALSE))","v":""},null,null,null,null,null,null,null,"Acorn Montessori Charter School - 138760101","P-Public Housing"]
["",null,{"$f":"IF(ISBLANK(B18),\"\",VLOOKUP(B18,NSLPandADEtableFY14,14,FALSE))","v":""},{"$f":"IF(ISBLANK(B18),\"\",VLOOKUP(B18,NSLPandADEtableFY14,15,FALSE))","v":""},{"$f":"IF(ISBLANK(B18),\"\",VLOOKUP(B18,NSLPandADEtableFY14,2,FALSE))","v":""},"",{"$f":"IF(ISBLANK(B18),\"\",VLOOKUP(B18,NSLPandADEtableFY14,11,FALSE))","v":""},null,null,null,null,null,null,null,"Acorn Montessori Charter School Inc. - West - 138760102","Q-Public School"]
["",null,{"$f":"IF(ISBLANK(B19),\"\",VLOOKUP(B19,NSLPandADEtableFY14,14,FALSE))","v":""},{"$f":"IF(ISBLANK(B19),\"\",VLOOKUP(B19,NSLPandADEtableFY14,15,FALSE))","v":""},{"$f":"IF(ISBLANK(B19),\"\",VLOOKUP(B19,NSLPandADEtableFY14,2,FALSE))","v":""},"",{"$f":"IF(ISBLANK(B19),\"\",VLOOKUP(B19,NSLPandADEtableFY14,11,FALSE))","v":""},null,null,null,null,null,null,null,"Adams Elementary School - 070204101","R-Shelter"]
["",null,{"$f":"IF(ISBLANK(B20),\"\",VLOOKUP(B20,NSLPandADEtableFY14,14,FALSE))","v":""},{"$f":"IF(ISBLANK(B20),\"\",VLOOKUP(B20,NSLPandADEtableFY14,15,FALSE))","v":""},{"$f":"IF(ISBLANK(B20),\"\",VLOOKUP(B20,NSLPandADEtableFY14,2,FALSE))","v":""},"",{"$f":"IF(ISBLANK(B20),\"\",VLOOKUP(B20,NSLPandADEtableFY14,11,FALSE))","v":""},null,null,null,null,null,null,null,"Adams Traditional Academy - 078549001","S-WIC Program"]
["",null,{"$f":"IF(ISBLANK(B21),\"\",VLOOKUP(B21,NSLPandADEtableFY14,14,FALSE))","v":""},{"$f":"IF(ISBLANK(B21),\"\",VLOOKUP(B21,NSLPandADEtableFY14,15,FALSE))","v":""},{"$f":"IF(ISBLANK(B21),\"\",VLOOKUP(B21,NSLPandADEtableFY14,2,FALSE))","v":""},"",{"$f":"IF(ISBLANK(B21),\"\",VLOOKUP(B21,NSLPandADEtableFY14,11,FALSE))","v":""},null,null,null,null,null,null,null,"Adobe Mountain School - 211001001","T-Worksite"]
["",null,{"$f":"IF(ISBLANK(B22),\"\",VLOOKUP(B22,NSLPandADEtableFY14,14,FALSE))","v":""},{"$f":"IF(ISBLANK(B22),\"\",VLOOKUP(B22,NSLPandADEtableFY14,15,FALSE))","v":""},{"$f":"IF(ISBLANK(B22),\"\",VLOOKUP(B22,NSLPandADEtableFY14,2,FALSE))","v":""},"",{"$f":"IF(ISBLANK(B22),\"\",VLOOKUP(B22,NSLPandADEtableFY14,11,FALSE))","v":""},null,null,null,null,null,null,null,"Adventure School - 108717102","U-Other (Specify)"]
["",null,{"$f":"IF(ISBLANK(B23),\"\",VLOOKUP(B23,NSLPandADEtableFY14,14,FALSE))","v":""},{"$f":"IF(ISBLANK(B23),\"\",VLOOKUP(B23,NSLPandADEtableFY14,15,FALSE))","v":""},{"$f":"IF(ISBLANK(B23),\"\",VLOOKUP(B23,NSLPandADEtableFY14,2,FALSE))","v":""},"",{"$f":"IF(ISBLANK(B23),\"\",VLOOKUP(B23,NSLPandADEtableFY14,11,FALSE))","v":""},null,null,null,null,null,null,null,"Agua Caliente School - 100213105"]
["",null,{"$f":"IF(ISBLANK(B24),\"\",VLOOKUP(B24,NSLPandADEtableFY14,14,FALSE))","v":""},{"$f":"IF(ISBLANK(B24),\"\",VLOOKUP(B24,NSLPandADEtableFY14,15,FALSE))","v":""},{"$f":"IF(ISBLANK(B24),\"\",VLOOKUP(B24,NSLPandADEtableFY14,2,FALSE))","v":""},"",{"$f":"IF(ISBLANK(B24),\"\",VLOOKUP(B24,NSLPandADEtableFY14,11,FALSE))","v":""},null,null,null,null,null,null,null,"Agua Fria High School - 070516201"]
["",null,{"$f":"IF(ISBLANK(B25),\"\",VLOOKUP(B25,NSLPandADEtableFY14,14,FALSE))","v":""},{"$f":"IF(ISBLANK(B25),\"\",VLOOKUP(B25,NSLPandADEtableFY14,15,FALSE))","v":""},{"$f":"IF(ISBLANK(B25),\"\",VLOOKUP(B25,NSLPandADEtableFY14,2,FALSE))","v":""},"",{"$f":"IF(ISBLANK(B25),\"\",VLOOKUP(B25,NSLPandADEtableFY14,11,FALSE))","v":""},null,null,null,null,null,null,null,"Aguila Elementary School - 070363101"]
["",null,{"$f":"IF(ISBLANK(B26),\"\",VLOOKUP(B26,NSLPandADEtableFY14,14,FALSE))","v":""},{"$f":"IF(ISBLANK(B26),\"\",VLOOKUP(B26,NSLPandADEtableFY14,15,FALSE))","v":""},{"$f":"IF(ISBLANK(B26),\"\",VLOOKUP(B26,NSLPandADEtableFY14,2,FALSE))","v":""},"",{"$f":"IF(ISBLANK(B26),\"\",VLOOKUP(B26,NSLPandADEtableFY14,11,FALSE))","v":""},null,null,null,null,null,null,null,"Aguilar School - 070403128"]
["",null,{"$f":"IF(ISBLANK(B27),\"\",VLOOKUP(B27,NSLPandADEtableFY14,14,FALSE))","v":""},{"$f":"IF(ISBLANK(B27),\"\",VLOOKUP(B27,NSLPandADEtableFY14,15,FALSE))","v":""},{"$f":"IF(ISBLANK(B27),\"\",VLOOKUP(B27,NSLPandADEtableFY14,2,FALSE))","v":""},"",{"$f":"IF(ISBLANK(B27),\"\",VLOOKUP(B27,NSLPandADEtableFY14,11,FALSE))","v":""},null,null,null,null,null,null,null,"Aire Libre Elementary School - 070269157"]
["",null,{"$f":"IF(ISBLANK(B28),\"\",VLOOKUP(B28,NSLPandADEtableFY14,14,FALSE))","v":""},{"$f":"IF(ISBLANK(B28),\"\",VLOOKUP(B28,NSLPandADEtableFY14,15,FALSE))","v":""},{"$f":"IF(ISBLANK(B28),\"\",VLOOKUP(B28,NSLPandADEtableFY14,2,FALSE))","v":""},"",{"$f":"IF(ISBLANK(B28),\"\",VLOOKUP(B28,NSLPandADEtableFY14,11,FALSE))","v":""},null,null,null,null,null,null,null,"Ajo Elementary School - 100215001"]
["",null,{"$f":"IF(ISBLANK(B29),\"\",VLOOKUP(B29,NSLPandADEtableFY14,14,FALSE))","v":""},{"$f":"IF(ISBLANK(B29),\"\",VLOOKUP(B29,NSLPandADEtableFY14,15,FALSE))","v":""},{"$f":"IF(ISBLANK(B29),\"\",VLOOKUP(B29,NSLPandADEtableFY14,2,FALSE))","v":""},"",{"$f":"IF(ISBLANK(B29),\"\",VLOOKUP(B29,NSLPandADEtableFY14,11,FALSE))","v":""},null,null,null,null,null,null,null,"Alchesay High School - 090220204"]
["",null,{"$f":"IF(ISBLANK(B30),\"\",VLOOKUP(B30,NSLPandADEtableFY14,14,FALSE))","v":""},{"$f":"IF(ISBLANK(B30),\"\",VLOOKUP(B30,NSLPandADEtableFY14,15,FALSE))","v":""},{"$f":"IF(ISBLANK(B30),\"\",VLOOKUP(B30,NSLPandADEtableFY14,2,FALSE))","v":""},"",{"$f":"IF(ISBLANK(B30),\"\",VLOOKUP(B30,NSLPandADEtableFY14,11,FALSE))","v":""},null,null,null,null,null,null,null,"Alfred F Garcia School - 070421104"]
["",null,{"$f":"IF(ISBLANK(B31),\"\",VLOOKUP(B31,NSLPandADEtableFY14,14,FALSE))","v":""},{"$f":"IF(ISBLANK(B31),\"\",VLOOKUP(B31,NSLPandADEtableFY14,15,FALSE))","v":""},{"$f":"IF(ISBLANK(B31),\"\",VLOOKUP(B31,NSLPandADEtableFY14,2,FALSE))","v":""},"",{"$f":"IF(ISBLANK(B31),\"\",VLOOKUP(B31,NSLPandADEtableFY14,11,FALSE))","v":""},null,null,null,null,null,null,null,"Alhambra High School - 070510210"]
["",null,{"$f":"IF(ISBLANK(B32),\"\",VLOOKUP(B32,NSLPandADEtableFY14,14,FALSE))","v":""},{"$f":"IF(ISBLANK(B32),\"\",VLOOKUP(B32,NSLPandADEtableFY14,15,FALSE))","v":""},{"$f":"IF(ISBLANK(B32),\"\",VLOOKUP(B32,NSLPandADEtableFY14,2,FALSE))","v":""},"",{"$f":"IF(ISBLANK(B32),\"\",VLOOKUP(B32,NSLPandADEtableFY14,11,FALSE))","v":""},null,null,null,null,null,null,null,"Alhambra Traditional School - 070468101"]
["",null,{"$f":"IF(ISBLANK(B33),\"\",VLOOKUP(B33,NSLPandADEtableFY14,14,FALSE))","v":""},{"$f":"IF(ISBLANK(B33),\"\",VLOOKUP(B33,NSLPandADEtableFY14,15,FALSE))","v":""},{"$f":"IF(ISBLANK(B33),\"\",VLOOKUP(B33,NSLPandADEtableFY14,2,FALSE))","v":""},"",{"$f":"IF(ISBLANK(B33),\"\",VLOOKUP(B33,NSLPandADEtableFY14,11,FALSE))","v":""},null,null,null,null,null,null,null,"Alice Byrne Elementary School - 140401101"]
["",null,{"$f":"IF(ISBLANK(B34),\"\",VLOOKUP(B34,NSLPandADEtableFY14,14,FALSE))","v":""},{"$f":"IF(ISBLANK(B34),\"\",VLOOKUP(B34,NSLPandADEtableFY14,15,FALSE))","v":""},{"$f":"IF(ISBLANK(B34),\"\",VLOOKUP(B34,NSLPandADEtableFY14,2,FALSE))","v":""},"",{"$f":"IF(ISBLANK(B34),\"\",VLOOKUP(B34,NSLPandADEtableFY14,11,FALSE))","v":""},null,null,null,null,null,null,null,"Alice Peterson Residence - 072122007"]
["",null,{"$f":"IF(ISBLANK(B35),\"\",VLOOKUP(B35,NSLPandADEtableFY14,14,FALSE))","v":""},{"$f":"IF(ISBLANK(B35),\"\",VLOOKUP(B35,NSLPandADEtableFY14,15,FALSE))","v":""},{"$f":"IF(ISBLANK(B35),\"\",VLOOKUP(B35,NSLPandADEtableFY14,2,FALSE))","v":""},"",{"$f":"IF(ISBLANK(B35),\"\",VLOOKUP(B35,NSLPandADEtableFY14,11,FALSE))","v":""},null,null,null,null,null,null,null,"Alice Vail Middle School - 100201555"]
["",null,{"$f":"IF(ISBLANK(B36),\"\",VLOOKUP(B36,NSLPandADEtableFY14,14,FALSE))","v":""},{"$f":"IF(ISBLANK(B36),\"\",VLOOKUP(B36,NSLPandADEtableFY14,15,FALSE))","v":""},{"$f":"IF(ISBLANK(B36),\"\",VLOOKUP(B36,NSLPandADEtableFY14,2,FALSE))","v":""},"",{"$f":"IF(ISBLANK(B36),\"\",VLOOKUP(B36,NSLPandADEtableFY14,11,FALSE))","v":""},null,null,null,null,null,null,null,"All Aboard Charter School - 078967101"]
["",null,{"$f":"IF(ISBLANK(B37),\"\",VLOOKUP(B37,NSLPandADEtableFY14,14,FALSE))","v":""},{"$f":"IF(ISBLANK(B37),\"\",VLOOKUP(B37,NSLPandADEtableFY14,15,FALSE))","v":""},{"$f":"IF(ISBLANK(B37),\"\",VLOOKUP(B37,NSLPandADEtableFY14,2,FALSE))","v":""},"",{"$f":"IF(ISBLANK(B37),\"\",VLOOKUP(B37,NSLPandADEtableFY14,11,FALSE))","v":""},null,null,null,null,null,null,null,"All My Children #1 a Satellite Home - 072769001"]
["",null,{"$f":"IF(ISBLANK(B38),\"\",VLOOKUP(B38,NSLPandADEtableFY14,14,FALSE))","v":""},{"$f":"IF(ISBLANK(B38),\"\",VLOOKUP(B38,NSLPandADEtableFY14,15,FALSE))","v":""},{"$f":"IF(ISBLANK(B38),\"\",VLOOKUP(B38,NSLPandADEtableFY14,2,FALSE))","v":""},"",{"$f":"IF(ISBLANK(B38),\"\",VLOOKUP(B38,NSLPandADEtableFY14,11,FALSE))","v":""},null,null,null,null,null,null,null,"All My Children #2 a Satellite Home - 072769002"]
["",null,{"$f":"IF(ISBLANK(B39),\"\",VLOOKUP(B39,NSLPandADEtableFY14,14,FALSE))","v":""},{"$f":"IF(ISBLANK(B39),\"\",VLOOKUP(B39,NSLPandADEtableFY14,15,FALSE))","v":""},{"$f":"IF(ISBLANK(B39),\"\",VLOOKUP(B39,NSLPandADEtableFY14,2,FALSE))","v":""},"",{"$f":"IF(ISBLANK(B39),\"\",VLOOKUP(B39,NSLPandADEtableFY14,11,FALSE))","v":""},null,null,null,null,null,null,null,"All My Children #3 a Satellite Home - 072769003"]
["",null,{"$f":"IF(ISBLANK(B40),\"\",VLOOKUP(B40,NSLPandADEtableFY14,14,FALSE))","v":""},{"$f":"IF(ISBLANK(B40),\"\",VLOOKUP(B40,NSLPandADEtableFY14,15,FALSE))","v":""},{"$f":"IF(ISBLANK(B40),\"\",VLOOKUP(B40,NSLPandADEtableFY14,2,FALSE))","v":""},"",{"$f":"IF(ISBLANK(B40),\"\",VLOOKUP(B40,NSLPandADEtableFY14,11,FALSE))","v":""},null,null,null,null,null,null,null,"All My Children #4 a Satellite Home - 072769004"]
["",null,{"$f":"IF(ISBLANK(B41),\"\",VLOOKUP(B41,NSLPandADEtableFY14,14,FALSE))","v":""},{"$f":"IF(ISBLANK(B41),\"\",VLOOKUP(B41,NSLPandADEtableFY14,15,FALSE))","v":""},{"$f":"IF(ISBLANK(B41),\"\",VLOOKUP(B41,NSLPandADEtableFY14,2,FALSE))","v":""},"",{"$f":"IF(ISBLANK(B41),\"\",VLOOKUP(B41,NSLPandADEtableFY14,11,FALSE))","v":""},null,null,null,null,null,null,null,"All My Children #5 a Satellite Home - 072769005"]
["",null,{"$f":"IF(ISBLANK(B42),\"\",VLOOKUP(B42,NSLPandADEtableFY14,14,FALSE))","v":""},{"$f":"IF(ISBLANK(B42),\"\",VLOOKUP(B42,NSLPandADEtableFY14,15,FALSE))","v":""},{"$f":"IF(ISBLANK(B42),\"\",VLOOKUP(B42,NSLPandADEtableFY14,2,FALSE))","v":""},"",{"$f":"IF(ISBLANK(B42),\"\",VLOOKUP(B42,NSLPandADEtableFY14,11,FALSE))","v":""},null,null,null,null,null,null,null,"Allsport Academy - 108716001"]
["",null,{"$f":"IF(ISBLANK(B43),\"\",VLOOKUP(B43,NSLPandADEtableFY14,14,FALSE))","v":""},{"$f":"IF(ISBLANK(B43),\"\",VLOOKUP(B43,NSLPandADEtableFY14,15,FALSE))","v":""},{"$f":"IF(ISBLANK(B43),\"\",VLOOKUP(B43,NSLPandADEtableFY14,2,FALSE))","v":""},"",{"$f":"IF(ISBLANK(B43),\"\",VLOOKUP(B43,NSLPandADEtableFY14,11,FALSE))","v":""},null,null,null,null,null,null,null,"Alta E Butler School - 070405103"]
["",null,{"$f":"IF(ISBLANK(B44),\"\",VLOOKUP(B44,NSLPandADEtableFY14,14,FALSE))","v":""},{"$f":"IF(ISBLANK(B44),\"\",VLOOKUP(B44,NSLPandADEtableFY14,15,FALSE))","v":""},{"$f":"IF(ISBLANK(B44),\"\",VLOOKUP(B44,NSLPandADEtableFY14,2,FALSE))","v":""},"",{"$f":"IF(ISBLANK(B44),\"\",VLOOKUP(B44,NSLPandADEtableFY14,11,FALSE))","v":""},null,null,null,null,null,null,null,"Alta Loma School - 070211106"]
["",null,{"$f":"IF(ISBLANK(B45),\"\",VLOOKUP(B45,NSLPandADEtableFY14,14,FALSE))","v":""},{"$f":"IF(ISBLANK(B45),\"\",VLOOKUP(B45,NSLPandADEtableFY14,15,FALSE))","v":""},{"$f":"IF(ISBLANK(B45),\"\",VLOOKUP(B45,NSLPandADEtableFY14,2,FALSE))","v":""},"",{"$f":"IF(ISBLANK(B45),\"\",VLOOKUP(B45,NSLPandADEtableFY14,11,FALSE))","v":""},null,null,null,null,null,null,null,"Alta Vista Elementary School - 070406116"]
["",null,{"$f":"IF(ISBLANK(B46),\"\",VLOOKUP(B46,NSLPandADEtableFY14,14,FALSE))","v":""},{"$f":"IF(ISBLANK(B46),\"\",VLOOKUP(B46,NSLPandADEtableFY14,15,FALSE))","v":""},{"$f":"IF(ISBLANK(B46),\"\",VLOOKUP(B46,NSLPandADEtableFY14,2,FALSE))","v":""},"",{"$f":"IF(ISBLANK(B46),\"\",VLOOKUP(B46,NSLPandADEtableFY14,11,FALSE))","v":""},null,null,null,null,null,null,null,"Alta Vista High School - 108794201"]
["",null,{"$f":"IF(ISBLANK(B47),\"\",VLOOKUP(B47,NSLPandADEtableFY14,14,FALSE))","v":""},{"$f":"IF(ISBLANK(B47),\"\",VLOOKUP(B47,NSLPandADEtableFY14,15,FALSE))","v":""},{"$f":"IF(ISBLANK(B47),\"\",VLOOKUP(B47,NSLPandADEtableFY14,2,FALSE))","v":""},"",{"$f":"IF(ISBLANK(B47),\"\",VLOOKUP(B47,NSLPandADEtableFY14,11,FALSE))","v":""},null,null,null,null,null,null,null,"Altar Valley Middle School - 100351103"]
["",null,{"$f":"IF(ISBLANK(B48),\"\",VLOOKUP(B48,NSLPandADEtableFY14,14,FALSE))","v":""},{"$f":"IF(ISBLANK(B48),\"\",VLOOKUP(B48,NSLPandADEtableFY14,15,FALSE))","v":""},{"$f":"IF(ISBLANK(B48),\"\",VLOOKUP(B48,NSLPandADEtableFY14,2,FALSE))","v":""},"",{"$f":"IF(ISBLANK(B48),\"\",VLOOKUP(B48,NSLPandADEtableFY14,11,FALSE))","v":""},null,null,null,null,null,null,null,"Amberlea Elementary School - 070492024"]
["",null,{"$f":"IF(ISBLANK(B49),\"\",VLOOKUP(B49,NSLPandADEtableFY14,14,FALSE))","v":""},{"$f":"IF(ISBLANK(B49),\"\",VLOOKUP(B49,NSLPandADEtableFY14,15,FALSE))","v":""},{"$f":"IF(ISBLANK(B49),\"\",VLOOKUP(B49,NSLPandADEtableFY14,2,FALSE))","v":""},"",{"$f":"IF(ISBLANK(B49),\"\",VLOOKUP(B49,NSLPandADEtableFY14,11,FALSE))","v":""},null,null,null,null,null,null,null,"AMCS at Anthem dba Caurus Academy - 078991101"]
["",null,{"$f":"IF(ISBLANK(B50),\"\",VLOOKUP(B50,NSLPandADEtableFY14,14,FALSE))","v":""},{"$f":"IF(ISBLANK(B50),\"\",VLOOKUP(B50,NSLPandADEtableFY14,15,FALSE))","v":""},{"$f":"IF(ISBLANK(B50),\"\",VLOOKUP(B50,NSLPandADEtableFY14,2,FALSE))","v":""},"",{"$f":"IF(ISBLANK(B50),\"\",VLOOKUP(B50,NSLPandADEtableFY14,11,FALSE))","v":""},null,null,null,null,null,null,null,"American Indian Christian Mission - 092001101"]
["",null,{"$f":"IF(ISBLANK(B51),\"\",VLOOKUP(B51,NSLPandADEtableFY14,14,FALSE))","v":""},{"$f":"IF(ISBLANK(B51),\"\",VLOOKUP(B51,NSLPandADEtableFY14,15,FALSE))","v":""},{"$f":"IF(ISBLANK(B51),\"\",VLOOKUP(B51,NSLPandADEtableFY14,2,FALSE))","v":""},"",{"$f":"IF(ISBLANK(B51),\"\",VLOOKUP(B51,NSLPandADEtableFY14,11,FALSE))","v":""},null,null,null,null,null,null,null,"AmeriSchools Academy - Camelback - 108722001"]
["",null,{"$f":"IF(ISBLANK(B52),\"\",VLOOKUP(B52,NSLPandADEtableFY14,14,FALSE))","v":""},{"$f":"IF(ISBLANK(B52),\"\",VLOOKUP(B52,NSLPandADEtableFY14,15,FALSE))","v":""},{"$f":"IF(ISBLANK(B52),\"\",VLOOKUP(B52,NSLPandADEtableFY14,2,FALSE))","v":""},"",{"$f":"IF(ISBLANK(B52),\"\",VLOOKUP(B52,NSLPandADEtableFY14,11,FALSE))","v":""},null,null,null,null,null,null,null,"Amparo - 102133010"]
["",null,{"$f":"IF(ISBLANK(B53),\"\",VLOOKUP(B53,NSLPandADEtableFY14,14,FALSE))","v":""},{"$f":"IF(ISBLANK(B53),\"\",VLOOKUP(B53,NSLPandADEtableFY14,15,FALSE))","v":""},{"$f":"IF(ISBLANK(B53),\"\",VLOOKUP(B53,NSLPandADEtableFY14,2,FALSE))","v":""},"",{"$f":"IF(ISBLANK(B53),\"\",VLOOKUP(B53,NSLPandADEtableFY14,11,FALSE))","v":""},null,null,null,null,null,null,null,"Amphitheater High School - 100210281"]
["",null,{"$f":"IF(ISBLANK(B54),\"\",VLOOKUP(B54,NSLPandADEtableFY14,14,FALSE))","v":""},{"$f":"IF(ISBLANK(B54),\"\",VLOOKUP(B54,NSLPandADEtableFY14,15,FALSE))","v":""},{"$f":"IF(ISBLANK(B54),\"\",VLOOKUP(B54,NSLPandADEtableFY14,2,FALSE))","v":""},"",{"$f":"IF(ISBLANK(B54),\"\",VLOOKUP(B54,NSLPandADEtableFY14,11,FALSE))","v":""},null,null,null,null,null,null,null,"Amphitheater Middle School - 100210166"]
["",null,{"$f":"IF(ISBLANK(B55),\"\",VLOOKUP(B55,NSLPandADEtableFY14,14,FALSE))","v":""},{"$f":"IF(ISBLANK(B55),\"\",VLOOKUP(B55,NSLPandADEtableFY14,15,FALSE))","v":""},{"$f":"IF(ISBLANK(B55),\"\",VLOOKUP(B55,NSLPandADEtableFY14,2,FALSE))","v":""},"",{"$f":"IF(ISBLANK(B55),\"\",VLOOKUP(B55,NSLPandADEtableFY14,11,FALSE))","v":""},null,null,null,null,null,null,null,"Amy L. Houston Academy - 070466015"]
["",null,{"$f":"IF(ISBLANK(B56),\"\",VLOOKUP(B56,NSLPandADEtableFY14,14,FALSE))","v":""},{"$f":"IF(ISBLANK(B56),\"\",VLOOKUP(B56,NSLPandADEtableFY14,15,FALSE))","v":""},{"$f":"IF(ISBLANK(B56),\"\",VLOOKUP(B56,NSLPandADEtableFY14,2,FALSE))","v":""},"",{"$f":"IF(ISBLANK(B56),\"\",VLOOKUP(B56,NSLPandADEtableFY14,11,FALSE))","v":""},null,null,null,null,null,null,null,"Anasazi Elementary - 070248128"]
["",null,{"$f":"IF(ISBLANK(B57),\"\",VLOOKUP(B57,NSLPandADEtableFY14,14,FALSE))","v":""},{"$f":"IF(ISBLANK(B57),\"\",VLOOKUP(B57,NSLPandADEtableFY14,15,FALSE))","v":""},{"$f":"IF(ISBLANK(B57),\"\",VLOOKUP(B57,NSLPandADEtableFY14,2,FALSE))","v":""},"",{"$f":"IF(ISBLANK(B57),\"\",VLOOKUP(B57,NSLPandADEtableFY14,11,FALSE))","v":""},null,null,null,null,null,null,null,"Andalucia Middle School - 070468102"]
["",null,{"$f":"IF(ISBLANK(B58),\"\",VLOOKUP(B58,NSLPandADEtableFY14,14,FALSE))","v":""},{"$f":"IF(ISBLANK(B58),\"\",VLOOKUP(B58,NSLPandADEtableFY14,15,FALSE))","v":""},{"$f":"IF(ISBLANK(B58),\"\",VLOOKUP(B58,NSLPandADEtableFY14,2,FALSE))","v":""},"",{"$f":"IF(ISBLANK(B58),\"\",VLOOKUP(B58,NSLPandADEtableFY14,11,FALSE))","v":""},null,null,null,null,null,null,null,"Andrada Polytechnic High School - 100220204"]
["",null,{"$f":"IF(ISBLANK(B59),\"\",VLOOKUP(B59,NSLPandADEtableFY14,14,FALSE))","v":""},{"$f":"IF(ISBLANK(B59),\"\",VLOOKUP(B59,NSLPandADEtableFY14,15,FALSE))","v":""},{"$f":"IF(ISBLANK(B59),\"\",VLOOKUP(B59,NSLPandADEtableFY14,2,FALSE))","v":""},"",{"$f":"IF(ISBLANK(B59),\"\",VLOOKUP(B59,NSLPandADEtableFY14,11,FALSE))","v":""},null,null,null,null,null,null,null,"Anna Henry Elementary School - 100201238"]
["",null,{"$f":"IF(ISBLANK(B60),\"\",VLOOKUP(B60,NSLPandADEtableFY14,14,FALSE))","v":""},{"$f":"IF(ISBLANK(B60),\"\",VLOOKUP(B60,NSLPandADEtableFY14,15,FALSE))","v":""},{"$f":"IF(ISBLANK(B60),\"\",VLOOKUP(B60,NSLPandADEtableFY14,2,FALSE))","v":""},"",{"$f":"IF(ISBLANK(B60),\"\",VLOOKUP(B60,NSLPandADEtableFY14,11,FALSE))","v":""},null,null,null,null,null,null,null,"Anna Lawrence Intermediate School - 100201277"]
["",null,{"$f":"IF(ISBLANK(B61),\"\",VLOOKUP(B61,NSLPandADEtableFY14,14,FALSE))","v":""},{"$f":"IF(ISBLANK(B61),\"\",VLOOKUP(B61,NSLPandADEtableFY14,15,FALSE))","v":""},{"$f":"IF(ISBLANK(B61),\"\",VLOOKUP(B61,NSLPandADEtableFY14,2,FALSE))","v":""},"",{"$f":"IF(ISBLANK(B61),\"\",VLOOKUP(B61,NSLPandADEtableFY14,11,FALSE))","v":""},null,null,null,null,null,null,null,"Anna Marie Jacobson  Elementary School - 070280112"]
["",null,{"$f":"IF(ISBLANK(B62),\"\",VLOOKUP(B62,NSLPandADEtableFY14,14,FALSE))","v":""},{"$f":"IF(ISBLANK(B62),\"\",VLOOKUP(B62,NSLPandADEtableFY14,15,FALSE))","v":""},{"$f":"IF(ISBLANK(B62),\"\",VLOOKUP(B62,NSLPandADEtableFY14,2,FALSE))","v":""},"",{"$f":"IF(ISBLANK(B62),\"\",VLOOKUP(B62,NSLPandADEtableFY14,11,FALSE))","v":""},null,null,null,null,null,null,null,"Annie Kellond Elementary School - 100201275"]
["",null,{"$f":"IF(ISBLANK(B63),\"\",VLOOKUP(B63,NSLPandADEtableFY14,14,FALSE))","v":""},{"$f":"IF(ISBLANK(B63),\"\",VLOOKUP(B63,NSLPandADEtableFY14,15,FALSE))","v":""},{"$f":"IF(ISBLANK(B63),\"\",VLOOKUP(B63,NSLPandADEtableFY14,2,FALSE))","v":""},"",{"$f":"IF(ISBLANK(B63),\"\",VLOOKUP(B63,NSLPandADEtableFY14,11,FALSE))","v":""},null,null,null,null,null,null,null,"Antelope Union High School - 140550201"]
["",null,{"$f":"IF(ISBLANK(B64),\"\",VLOOKUP(B64,NSLPandADEtableFY14,14,FALSE))","v":""},{"$f":"IF(ISBLANK(B64),\"\",VLOOKUP(B64,NSLPandADEtableFY14,15,FALSE))","v":""},{"$f":"IF(ISBLANK(B64),\"\",VLOOKUP(B64,NSLPandADEtableFY14,2,FALSE))","v":""},"",{"$f":"IF(ISBLANK(B64),\"\",VLOOKUP(B64,NSLPandADEtableFY14,11,FALSE))","v":""},null,null,null,null,null,null,null,"Anthem Elementary School - 110201105"]
["",null,{"$f":"IF(ISBLANK(B65),\"\",VLOOKUP(B65,NSLPandADEtableFY14,14,FALSE))","v":""},{"$f":"IF(ISBLANK(B65),\"\",VLOOKUP(B65,NSLPandADEtableFY14,15,FALSE))","v":""},{"$f":"IF(ISBLANK(B65),\"\",VLOOKUP(B65,NSLPandADEtableFY14,2,FALSE))","v":""},"",{"$f":"IF(ISBLANK(B65),\"\",VLOOKUP(B65,NSLPandADEtableFY14,11,FALSE))","v":""},null,null,null,null,null,null,null,"Anthem School - 070297137"]
["",null,{"$f":"IF(ISBLANK(B66),\"\",VLOOKUP(B66,NSLPandADEtableFY14,14,FALSE))","v":""},{"$f":"IF(ISBLANK(B66),\"\",VLOOKUP(B66,NSLPandADEtableFY14,15,FALSE))","v":""},{"$f":"IF(ISBLANK(B66),\"\",VLOOKUP(B66,NSLPandADEtableFY14,2,FALSE))","v":""},"",{"$f":"IF(ISBLANK(B66),\"\",VLOOKUP(B66,NSLPandADEtableFY14,11,FALSE))","v":""},null,null,null,null,null,null,null,"Anza Trail - 100230106"]
["",null,{"$f":"IF(ISBLANK(B67),\"\",VLOOKUP(B67,NSLPandADEtableFY14,14,FALSE))","v":""},{"$f":"IF(ISBLANK(B67),\"\",VLOOKUP(B67,NSLPandADEtableFY14,15,FALSE))","v":""},{"$f":"IF(ISBLANK(B67),\"\",VLOOKUP(B67,NSLPandADEtableFY14,2,FALSE))","v":""},"",{"$f":"IF(ISBLANK(B67),\"\",VLOOKUP(B67,NSLPandADEtableFY14,11,FALSE))","v":""},null,null,null,null,null,null,null,"AOC-Apache County Juvenile Detention Center - 211011001"]
["",null,{"$f":"IF(ISBLANK(B68),\"\",VLOOKUP(B68,NSLPandADEtableFY14,14,FALSE))","v":""},{"$f":"IF(ISBLANK(B68),\"\",VLOOKUP(B68,NSLPandADEtableFY14,15,FALSE))","v":""},{"$f":"IF(ISBLANK(B68),\"\",VLOOKUP(B68,NSLPandADEtableFY14,2,FALSE))","v":""},"",{"$f":"IF(ISBLANK(B68),\"\",VLOOKUP(B68,NSLPandADEtableFY14,11,FALSE))","v":""},null,null,null,null,null,null,null,"AOC-Cochise County Juvenile Dentention Centre - 211012001"]
["",null,{"$f":"IF(ISBLANK(B69),\"\",VLOOKUP(B69,NSLPandADEtableFY14,14,FALSE))","v":""},{"$f":"IF(ISBLANK(B69),\"\",VLOOKUP(B69,NSLPandADEtableFY14,15,FALSE))","v":""},{"$f":"IF(ISBLANK(B69),\"\",VLOOKUP(B69,NSLPandADEtableFY14,2,FALSE))","v":""},"",{"$f":"IF(ISBLANK(B69),\"\",VLOOKUP(B69,NSLPandADEtableFY14,11,FALSE))","v":""},null,null,null,null,null,null,null,"AOC-Coconino County Juvenile Detention Center - 211013001"]
["",null,{"$f":"IF(ISBLANK(B70),\"\",VLOOKUP(B70,NSLPandADEtableFY14,14,FALSE))","v":""},{"$f":"IF(ISBLANK(B70),\"\",VLOOKUP(B70,NSLPandADEtableFY14,15,FALSE))","v":""},{"$f":"IF(ISBLANK(B70),\"\",VLOOKUP(B70,NSLPandADEtableFY14,2,FALSE))","v":""},"",{"$f":"IF(ISBLANK(B70),\"\",VLOOKUP(B70,NSLPandADEtableFY14,11,FALSE))","v":""},null,null,null,null,null,null,null,"AOC-Graham County Juvenile Detention Center - 211015001"]
["",null,{"$f":"IF(ISBLANK(B71),\"\",VLOOKUP(B71,NSLPandADEtableFY14,14,FALSE))","v":""},{"$f":"IF(ISBLANK(B71),\"\",VLOOKUP(B71,NSLPandADEtableFY14,15,FALSE))","v":""},{"$f":"IF(ISBLANK(B71),\"\",VLOOKUP(B71,NSLPandADEtableFY14,2,FALSE))","v":""},"",{"$f":"IF(ISBLANK(B71),\"\",VLOOKUP(B71,NSLPandADEtableFY14,11,FALSE))","v":""},null,null,null,null,null,null,null,"AOC-Yavapai County Juvenile Detention Center - 211024001"]
["",null,{"$f":"IF(ISBLANK(B72),\"\",VLOOKUP(B72,NSLPandADEtableFY14,14,FALSE))","v":""},{"$f":"IF(ISBLANK(B72),\"\",VLOOKUP(B72,NSLPandADEtableFY14,15,FALSE))","v":""},{"$f":"IF(ISBLANK(B72),\"\",VLOOKUP(B72,NSLPandADEtableFY14,2,FALSE))","v":""},"",{"$f":"IF(ISBLANK(B72),\"\",VLOOKUP(B72,NSLPandADEtableFY14,11,FALSE))","v":""},null,null,null,null,null,null,null,"Apache Elementary School - 070211118"]
["",null,{"$f":"IF(ISBLANK(B73),\"\",VLOOKUP(B73,NSLPandADEtableFY14,14,FALSE))","v":""},{"$f":"IF(ISBLANK(B73),\"\",VLOOKUP(B73,NSLPandADEtableFY14,15,FALSE))","v":""},{"$f":"IF(ISBLANK(B73),\"\",VLOOKUP(B73,NSLPandADEtableFY14,2,FALSE))","v":""},"",{"$f":"IF(ISBLANK(B73),\"\",VLOOKUP(B73,NSLPandADEtableFY14,11,FALSE))","v":""},null,null,null,null,null,null,null,"Apache Junction High School - 110243201"]
["",null,{"$f":"IF(ISBLANK(B74),\"\",VLOOKUP(B74,NSLPandADEtableFY14,14,FALSE))","v":""},{"$f":"IF(ISBLANK(B74),\"\",VLOOKUP(B74,NSLPandADEtableFY14,15,FALSE))","v":""},{"$f":"IF(ISBLANK(B74),\"\",VLOOKUP(B74,NSLPandADEtableFY14,2,FALSE))","v":""},"",{"$f":"IF(ISBLANK(B74),\"\",VLOOKUP(B74,NSLPandADEtableFY14,11,FALSE))","v":""},null,null,null,null,null,null,null,"Apache Trail High School - 118703001"]
["",null,{"$f":"IF(ISBLANK(B75),\"\",VLOOKUP(B75,NSLPandADEtableFY14,14,FALSE))","v":""},{"$f":"IF(ISBLANK(B75),\"\",VLOOKUP(B75,NSLPandADEtableFY14,15,FALSE))","v":""},{"$f":"IF(ISBLANK(B75),\"\",VLOOKUP(B75,NSLPandADEtableFY14,2,FALSE))","v":""},"",{"$f":"IF(ISBLANK(B75),\"\",VLOOKUP(B75,NSLPandADEtableFY14,11,FALSE))","v":""},null,null,null,null,null,null,null,"Apollo High School - 070505206"]
[{"$f":"IF(ISBLANK(B76),\"\",\"Q-Public School\")","v":""},null,{"$f":"IF(ISBLANK(B76),\"\",VLOOKUP(B76,NSLPandADEtableFY14,14,FALSE))","v":""},{"$f":"IF(ISBLANK(B76),\"\",VLOOKUP(B76,NSLPandADEtableFY14,15,FALSE))","v":""},{"$f":"IF(ISBLANK(B76),\"\",VLOOKUP(B76,NSLPandADEtableFY14,2,FALSE))","v":""},{"$f":"IF(ISBLANK(B76),\"\",\"Free & Reduced Lunch Data (NSLP) March 2013\")","v":""},{"$f":"IF(ISBLANK(B76),\"\",VLOOKUP(B76,NSLPandADEtableFY14,11,FALSE))","v":""},null,null,null,null,null,null,null,"Apollo Middle School - 100212106"]
["",null,{"$f":"IF(ISBLANK(B77),\"\",VLOOKUP(B77,NSLPandADEtableFY14,14,FALSE))","v":""},{"$f":"IF(ISBLANK(B77),\"\",VLOOKUP(B77,NSLPandADEtableFY14,15,FALSE))","v":""},{"$f":"IF(ISBLANK(B77),\"\",VLOOKUP(B77,NSLPandADEtableFY14,2,FALSE))","v":""},"",{"$f":"IF(ISBLANK(B77),\"\",VLOOKUP(B77,NSLPandADEtableFY14,11,FALSE))","v":""},null,null,null,null,null,null,null,"Arcadia High School - 070248292"]
["",null,{"$f":"IF(ISBLANK(B78),\"\",VLOOKUP(B78,NSLPandADEtableFY14,14,FALSE))","v":""},{"$f":"IF(ISBLANK(B78),\"\",VLOOKUP(B78,NSLPandADEtableFY14,15,FALSE))","v":""},{"$f":"IF(ISBLANK(B78),\"\",VLOOKUP(B78,NSLPandADEtableFY14,2,FALSE))","v":""},"",{"$f":"IF(ISBLANK(B78),\"\",VLOOKUP(B78,NSLPandADEtableFY14,11,FALSE))","v":""},null,null,null,null,null,null,null,"Arcadia Neighborhood Learning Center - 070248108"]
["",null,{"$f":"IF(ISBLANK(B79),\"\",VLOOKUP(B79,NSLPandADEtableFY14,14,FALSE))","v":""},{"$f":"IF(ISBLANK(B79),\"\",VLOOKUP(B79,NSLPandADEtableFY14,15,FALSE))","v":""},{"$f":"IF(ISBLANK(B79),\"\",VLOOKUP(B79,NSLPandADEtableFY14,2,FALSE))","v":""},"",{"$f":"IF(ISBLANK(B79),\"\",VLOOKUP(B79,NSLPandADEtableFY14,11,FALSE))","v":""},null,null,null,null,null,null,null,"Arizona Academy of Science and Technology - 078665001"]
["",null,{"$f":"IF(ISBLANK(B80),\"\",VLOOKUP(B80,NSLPandADEtableFY14,14,FALSE))","v":""},{"$f":"IF(ISBLANK(B80),\"\",VLOOKUP(B80,NSLPandADEtableFY14,15,FALSE))","v":""},{"$f":"IF(ISBLANK(B80),\"\",VLOOKUP(B80,NSLPandADEtableFY14,2,FALSE))","v":""},"",{"$f":"IF(ISBLANK(B80),\"\",VLOOKUP(B80,NSLPandADEtableFY14,11,FALSE))","v":""},null,null,null,null,null,null,null,"Arizona Charter Academy - 078924001"]
["",null,{"$f":"IF(ISBLANK(B81),\"\",VLOOKUP(B81,NSLPandADEtableFY14,14,FALSE))","v":""},{"$f":"IF(ISBLANK(B81),\"\",VLOOKUP(B81,NSLPandADEtableFY14,15,FALSE))","v":""},{"$f":"IF(ISBLANK(B81),\"\",VLOOKUP(B81,NSLPandADEtableFY14,2,FALSE))","v":""},"",{"$f":"IF(ISBLANK(B81),\"\",VLOOKUP(B81,NSLPandADEtableFY14,11,FALSE))","v":""},null,null,null,null,null,null,null,"Arizona College Prep Erie Campus - 070280243"]
["",null,{"$f":"IF(ISBLANK(B82),\"\",VLOOKUP(B82,NSLPandADEtableFY14,14,FALSE))","v":""},{"$f":"IF(ISBLANK(B82),\"\",VLOOKUP(B82,NSLPandADEtableFY14,15,FALSE))","v":""},{"$f":"IF(ISBLANK(B82),\"\",VLOOKUP(B82,NSLPandADEtableFY14,2,FALSE))","v":""},"",{"$f":"IF(ISBLANK(B82),\"\",VLOOKUP(B82,NSLPandADEtableFY14,11,FALSE))","v":""},null,null,null,null,null,null,null,"Arizona College Prep Oakland Campus - 070280145"]
["",null,{"$f":"IF(ISBLANK(B83),\"\",VLOOKUP(B83,NSLPandADEtableFY14,14,FALSE))","v":""},{"$f":"IF(ISBLANK(B83),\"\",VLOOKUP(B83,NSLPandADEtableFY14,15,FALSE))","v":""},{"$f":"IF(ISBLANK(B83),\"\",VLOOKUP(B83,NSLPandADEtableFY14,2,FALSE))","v":""},"",{"$f":"IF(ISBLANK(B83),\"\",VLOOKUP(B83,NSLPandADEtableFY14,11,FALSE))","v":""},null,null,null,null,null,null,null,"Arizona Collegiate High School - 108507001"]
["",null,{"$f":"IF(ISBLANK(B84),\"\",VLOOKUP(B84,NSLPandADEtableFY14,14,FALSE))","v":""},{"$f":"IF(ISBLANK(B84),\"\",VLOOKUP(B84,NSLPandADEtableFY14,15,FALSE))","v":""},{"$f":"IF(ISBLANK(B84),\"\",VLOOKUP(B84,NSLPandADEtableFY14,2,FALSE))","v":""},"",{"$f":"IF(ISBLANK(B84),\"\",VLOOKUP(B84,NSLPandADEtableFY14,11,FALSE))","v":""},null,null,null,null,null,null,null,"Arizona Conservatory for Arts and Academics - 078971001"]
["",null,{"$f":"IF(ISBLANK(B85),\"\",VLOOKUP(B85,NSLPandADEtableFY14,14,FALSE))","v":""},{"$f":"IF(ISBLANK(B85),\"\",VLOOKUP(B85,NSLPandADEtableFY14,15,FALSE))","v":""},{"$f":"IF(ISBLANK(B85),\"\",VLOOKUP(B85,NSLPandADEtableFY14,2,FALSE))","v":""},"",{"$f":"IF(ISBLANK(B85),\"\",VLOOKUP(B85,NSLPandADEtableFY14,11,FALSE))","v":""},null,null,null,null,null,null,null,"Arizona Conservatory for Arts and Academics Middle School - 078971002"]
["",null,{"$f":"IF(ISBLANK(B86),\"\",VLOOKUP(B86,NSLPandADEtableFY14,14,FALSE))","v":""},{"$f":"IF(ISBLANK(B86),\"\",VLOOKUP(B86,NSLPandADEtableFY14,15,FALSE))","v":""},{"$f":"IF(ISBLANK(B86),\"\",VLOOKUP(B86,NSLPandADEtableFY14,2,FALSE))","v":""},"",{"$f":"IF(ISBLANK(B86),\"\",VLOOKUP(B86,NSLPandADEtableFY14,11,FALSE))","v":""},null,null,null,null,null,null,null,"Arizona Desert Elementary School - 140432105"]
["",null,{"$f":"IF(ISBLANK(B87),\"\",VLOOKUP(B87,NSLPandADEtableFY14,14,FALSE))","v":""},{"$f":"IF(ISBLANK(B87),\"\",VLOOKUP(B87,NSLPandADEtableFY14,15,FALSE))","v":""},{"$f":"IF(ISBLANK(B87),\"\",VLOOKUP(B87,NSLPandADEtableFY14,2,FALSE))","v":""},"",{"$f":"IF(ISBLANK(B87),\"\",VLOOKUP(B87,NSLPandADEtableFY14,11,FALSE))","v":""},null,null,null,null,null,null,null,"Arizona Desert Elementary School - 070417102"]
["",null,{"$f":"IF(ISBLANK(B88),\"\",VLOOKUP(B88,NSLPandADEtableFY14,14,FALSE))","v":""},{"$f":"IF(ISBLANK(B88),\"\",VLOOKUP(B88,NSLPandADEtableFY14,15,FALSE))","v":""},{"$f":"IF(ISBLANK(B88),\"\",VLOOKUP(B88,NSLPandADEtableFY14,2,FALSE))","v":""},"",{"$f":"IF(ISBLANK(B88),\"\",VLOOKUP(B88,NSLPandADEtableFY14,11,FALSE))","v":""},null,null,null,null,null,null,null,"Arlington Elementary School - 070447101"]
["",null,{"$f":"IF(ISBLANK(B89),\"\",VLOOKUP(B89,NSLPandADEtableFY14,14,FALSE))","v":""},{"$f":"IF(ISBLANK(B89),\"\",VLOOKUP(B89,NSLPandADEtableFY14,15,FALSE))","v":""},{"$f":"IF(ISBLANK(B89),\"\",VLOOKUP(B89,NSLPandADEtableFY14,2,FALSE))","v":""},"",{"$f":"IF(ISBLANK(B89),\"\",VLOOKUP(B89,NSLPandADEtableFY14,11,FALSE))","v":""},null,null,null,null,null,null,null,"Arredondo Elementary School - 070403123"]
["",null,{"$f":"IF(ISBLANK(B90),\"\",VLOOKUP(B90,NSLPandADEtableFY14,14,FALSE))","v":""},{"$f":"IF(ISBLANK(B90),\"\",VLOOKUP(B90,NSLPandADEtableFY14,15,FALSE))","v":""},{"$f":"IF(ISBLANK(B90),\"\",VLOOKUP(B90,NSLPandADEtableFY14,2,FALSE))","v":""},"",{"$f":"IF(ISBLANK(B90),\"\",VLOOKUP(B90,NSLPandADEtableFY14,11,FALSE))","v":""},null,null,null,null,null,null,null,"Arrowhead Elementary School - 070297127"]
["",null,{"$f":"IF(ISBLANK(B91),\"\",VLOOKUP(B91,NSLPandADEtableFY14,14,FALSE))","v":""},{"$f":"IF(ISBLANK(B91),\"\",VLOOKUP(B91,NSLPandADEtableFY14,15,FALSE))","v":""},{"$f":"IF(ISBLANK(B91),\"\",VLOOKUP(B91,NSLPandADEtableFY14,2,FALSE))","v":""},"",{"$f":"IF(ISBLANK(B91),\"\",VLOOKUP(B91,NSLPandADEtableFY14,11,FALSE))","v":""},null,null,null,null,null,null,null,"Arrowhead Elementary School - 070269110"]
["",null,{"$f":"IF(ISBLANK(B92),\"\",VLOOKUP(B92,NSLPandADEtableFY14,14,FALSE))","v":""},{"$f":"IF(ISBLANK(B92),\"\",VLOOKUP(B92,NSLPandADEtableFY14,15,FALSE))","v":""},{"$f":"IF(ISBLANK(B92),\"\",VLOOKUP(B92,NSLPandADEtableFY14,2,FALSE))","v":""},"",{"$f":"IF(ISBLANK(B92),\"\",VLOOKUP(B92,NSLPandADEtableFY14,11,FALSE))","v":""},null,null,null,null,null,null,null,"Arroyo School - 070406118"]
["",null,{"$f":"IF(ISBLANK(B93),\"\",VLOOKUP(B93,NSLPandADEtableFY14,14,FALSE))","v":""},{"$f":"IF(ISBLANK(B93),\"\",VLOOKUP(B93,NSLPandADEtableFY14,15,FALSE))","v":""},{"$f":"IF(ISBLANK(B93),\"\",VLOOKUP(B93,NSLPandADEtableFY14,2,FALSE))","v":""},"",{"$f":"IF(ISBLANK(B93),\"\",VLOOKUP(B93,NSLPandADEtableFY14,11,FALSE))","v":""},null,null,null,null,null,null,null,"Arthur M Hamilton School - 070421101"]
["",null,{"$f":"IF(ISBLANK(B94),\"\",VLOOKUP(B94,NSLPandADEtableFY14,14,FALSE))","v":""},{"$f":"IF(ISBLANK(B94),\"\",VLOOKUP(B94,NSLPandADEtableFY14,15,FALSE))","v":""},{"$f":"IF(ISBLANK(B94),\"\",VLOOKUP(B94,NSLPandADEtableFY14,2,FALSE))","v":""},"",{"$f":"IF(ISBLANK(B94),\"\",VLOOKUP(B94,NSLPandADEtableFY14,11,FALSE))","v":""},null,null,null,null,null,null,null,"Arts Academy at Estrella Mountain - 078907103"]
["",null,{"$f":"IF(ISBLANK(B95),\"\",VLOOKUP(B95,NSLPandADEtableFY14,14,FALSE))","v":""},{"$f":"IF(ISBLANK(B95),\"\",VLOOKUP(B95,NSLPandADEtableFY14,15,FALSE))","v":""},{"$f":"IF(ISBLANK(B95),\"\",VLOOKUP(B95,NSLPandADEtableFY14,2,FALSE))","v":""},"",{"$f":"IF(ISBLANK(B95),\"\",VLOOKUP(B95,NSLPandADEtableFY14,11,FALSE))","v":""},null,null,null,null,null,null,null,"ASDB/Child Nutrition Program - Closed - 001202058"]
["",null,{"$f":"IF(ISBLANK(B96),\"\",VLOOKUP(B96,NSLPandADEtableFY14,14,FALSE))","v":""},{"$f":"IF(ISBLANK(B96),\"\",VLOOKUP(B96,NSLPandADEtableFY14,15,FALSE))","v":""},{"$f":"IF(ISBLANK(B96),\"\",VLOOKUP(B96,NSLPandADEtableFY14,2,FALSE))","v":""},"",{"$f":"IF(ISBLANK(B96),\"\",VLOOKUP(B96,NSLPandADEtableFY14,11,FALSE))","v":""},null,null,null,null,null,null,null,"Ash Creek Elementary - 020453101"]
["",null,{"$f":"IF(ISBLANK(B97),\"\",VLOOKUP(B97,NSLPandADEtableFY14,14,FALSE))","v":""},{"$f":"IF(ISBLANK(B97),\"\",VLOOKUP(B97,NSLPandADEtableFY14,15,FALSE))","v":""},{"$f":"IF(ISBLANK(B97),\"\",VLOOKUP(B97,NSLPandADEtableFY14,2,FALSE))","v":""},"",{"$f":"IF(ISBLANK(B97),\"\",VLOOKUP(B97,NSLPandADEtableFY14,11,FALSE))","v":""},null,null,null,null,null,null,null,"Ash Fork Elementary School - 130231101"]
["",null,{"$f":"IF(ISBLANK(B98),\"\",VLOOKUP(B98,NSLPandADEtableFY14,14,FALSE))","v":""},{"$f":"IF(ISBLANK(B98),\"\",VLOOKUP(B98,NSLPandADEtableFY14,15,FALSE))","v":""},{"$f":"IF(ISBLANK(B98),\"\",VLOOKUP(B98,NSLPandADEtableFY14,2,FALSE))","v":""},"",{"$f":"IF(ISBLANK(B98),\"\",VLOOKUP(B98,NSLPandADEtableFY14,11,FALSE))","v":""},null,null,null,null,null,null,null,"Ashland Elementary - 070241161"]
["",null,{"$f":"IF(ISBLANK(B99),\"\",VLOOKUP(B99,NSLPandADEtableFY14,14,FALSE))","v":""},{"$f":"IF(ISBLANK(B99),\"\",VLOOKUP(B99,NSLPandADEtableFY14,15,FALSE))","v":""},{"$f":"IF(ISBLANK(B99),\"\",VLOOKUP(B99,NSLPandADEtableFY14,2,FALSE))","v":""},"",{"$f":"IF(ISBLANK(B99),\"\",VLOOKUP(B99,NSLPandADEtableFY14,11,FALSE))","v":""},null,null,null,null,null,null,null,"Ashton Ranch Elementary School - 070289111"]
["",null,{"$f":"IF(ISBLANK(B100),\"\",VLOOKUP(B100,NSLPandADEtableFY14,14,FALSE))","v":""},{"$f":"IF(ISBLANK(B100),\"\",VLOOKUP(B100,NSLPandADEtableFY14,15,FALSE))","v":""},{"$f":"IF(ISBLANK(B100),\"\",VLOOKUP(B100,NSLPandADEtableFY14,2,FALSE))","v":""},"",{"$f":"IF(ISBLANK(B100),\"\",VLOOKUP(B100,NSLPandADEtableFY14,11,FALSE))","v":""},null,null,null,null,null,null,null,"ASU Preparatory Academy- Phoenix Elementary - 078546102"]
["",null,{"$f":"IF(ISBLANK(B101),\"\",VLOOKUP(B101,NSLPandADEtableFY14,14,FALSE))","v":""},{"$f":"IF(ISBLANK(B101),\"\",VLOOKUP(B101,NSLPandADEtableFY14,15,FALSE))","v":""},{"$f":"IF(ISBLANK(B101),\"\",VLOOKUP(B101,NSLPandADEtableFY14,2,FALSE))","v":""},"",{"$f":"IF(ISBLANK(B101),\"\",VLOOKUP(B101,NSLPandADEtableFY14,11,FALSE))","v":""},null,null,null,null,null,null,null,"Audrey & Robert Ryan Elementary - 070280135"]
["",null,{"$f":"IF(ISBLANK(B102),\"\",VLOOKUP(B102,NSLPandADEtableFY14,14,FALSE))","v":""},{"$f":"IF(ISBLANK(B102),\"\",VLOOKUP(B102,NSLPandADEtableFY14,15,FALSE))","v":""},{"$f":"IF(ISBLANK(B102),\"\",VLOOKUP(B102,NSLPandADEtableFY14,2,FALSE))","v":""},"",{"$f":"IF(ISBLANK(B102),\"\",VLOOKUP(B102,NSLPandADEtableFY14,11,FALSE))","v":""},null,null,null,null,null,null,null,"Augusta Ranch Elementary - 070241162"]
["",null,{"$f":"IF(ISBLANK(B103),\"\",VLOOKUP(B103,NSLPandADEtableFY14,14,FALSE))","v":""},{"$f":"IF(ISBLANK(B103),\"\",VLOOKUP(B103,NSLPandADEtableFY14,15,FALSE))","v":""},{"$f":"IF(ISBLANK(B103),\"\",VLOOKUP(B103,NSLPandADEtableFY14,2,FALSE))","v":""},"",{"$f":"IF(ISBLANK(B103),\"\",VLOOKUP(B103,NSLPandADEtableFY14,11,FALSE))","v":""},null,null,null,null,null,null,null,"Augustus H Shaw Jr School - 070401123"]
["",null,{"$f":"IF(ISBLANK(B104),\"\",VLOOKUP(B104,NSLPandADEtableFY14,14,FALSE))","v":""},{"$f":"IF(ISBLANK(B104),\"\",VLOOKUP(B104,NSLPandADEtableFY14,15,FALSE))","v":""},{"$f":"IF(ISBLANK(B104),\"\",VLOOKUP(B104,NSLPandADEtableFY14,2,FALSE))","v":""},"",{"$f":"IF(ISBLANK(B104),\"\",VLOOKUP(B104,NSLPandADEtableFY14,11,FALSE))","v":""},null,null,null,null,null,null,null,"Aurora Day School West - 072150002"]
["",null,{"$f":"IF(ISBLANK(B105),\"\",VLOOKUP(B105,NSLPandADEtableFY14,14,FALSE))","v":""},{"$f":"IF(ISBLANK(B105),\"\",VLOOKUP(B105,NSLPandADEtableFY14,15,FALSE))","v":""},{"$f":"IF(ISBLANK(B105),\"\",VLOOKUP(B105,NSLPandADEtableFY14,2,FALSE))","v":""},"",{"$f":"IF(ISBLANK(B105),\"\",VLOOKUP(B105,NSLPandADEtableFY14,11,FALSE))","v":""},null,null,null,null,null,null,null,"Avalon Elementary - 078901003"]
["",null,{"$f":"IF(ISBLANK(B106),\"\",VLOOKUP(B106,NSLPandADEtableFY14,14,FALSE))","v":""},{"$f":"IF(ISBLANK(B106),\"\",VLOOKUP(B106,NSLPandADEtableFY14,15,FALSE))","v":""},{"$f":"IF(ISBLANK(B106),\"\",VLOOKUP(B106,NSLPandADEtableFY14,2,FALSE))","v":""},"",{"$f":"IF(ISBLANK(B106),\"\",VLOOKUP(B106,NSLPandADEtableFY14,11,FALSE))","v":""},null,null,null,null,null,null,null,"AZ Compass Prep School - 078542101"]
["",null,{"$f":"IF(ISBLANK(B107),\"\",VLOOKUP(B107,NSLPandADEtableFY14,14,FALSE))","v":""},{"$f":"IF(ISBLANK(B107),\"\",VLOOKUP(B107,NSLPandADEtableFY14,15,FALSE))","v":""},{"$f":"IF(ISBLANK(B107),\"\",VLOOKUP(B107,NSLPandADEtableFY14,2,FALSE))","v":""},"",{"$f":"IF(ISBLANK(B107),\"\",VLOOKUP(B107,NSLPandADEtableFY14,11,FALSE))","v":""},null,null,null,null,null,null,null,"AZTEC High School - 148757001"]
["",null,{"$f":"IF(ISBLANK(B108),\"\",VLOOKUP(B108,NSLPandADEtableFY14,14,FALSE))","v":""},{"$f":"IF(ISBLANK(B108),\"\",VLOOKUP(B108,NSLPandADEtableFY14,15,FALSE))","v":""},{"$f":"IF(ISBLANK(B108),\"\",VLOOKUP(B108,NSLPandADEtableFY14,2,FALSE))","v":""},"",{"$f":"IF(ISBLANK(B108),\"\",VLOOKUP(B108,NSLPandADEtableFY14,11,FALSE))","v":""},null,null,null,null,null,null,null,"Baboquivari High School - 100240204"]
["",null,{"$f":"IF(ISBLANK(B109),\"\",VLOOKUP(B109,NSLPandADEtableFY14,14,FALSE))","v":""},{"$f":"IF(ISBLANK(B109),\"\",VLOOKUP(B109,NSLPandADEtableFY14,15,FALSE))","v":""},{"$f":"IF(ISBLANK(B109),\"\",VLOOKUP(B109,NSLPandADEtableFY14,2,FALSE))","v":""},"",{"$f":"IF(ISBLANK(B109),\"\",VLOOKUP(B109,NSLPandADEtableFY14,11,FALSE))","v":""},null,null,null,null,null,null,null,"Bagdad Elementary School - 130220101"]
["",null,{"$f":"IF(ISBLANK(B110),\"\",VLOOKUP(B110,NSLPandADEtableFY14,14,FALSE))","v":""},{"$f":"IF(ISBLANK(B110),\"\",VLOOKUP(B110,NSLPandADEtableFY14,15,FALSE))","v":""},{"$f":"IF(ISBLANK(B110),\"\",VLOOKUP(B110,NSLPandADEtableFY14,2,FALSE))","v":""},"",{"$f":"IF(ISBLANK(B110),\"\",VLOOKUP(B110,NSLPandADEtableFY14,11,FALSE))","v":""},null,null,null,null,null,null,null,"Bagdad High School - 130220202"]
["",null,{"$f":"IF(ISBLANK(B111),\"\",VLOOKUP(B111,NSLPandADEtableFY14,14,FALSE))","v":""},{"$f":"IF(ISBLANK(B111),\"\",VLOOKUP(B111,NSLPandADEtableFY14,15,FALSE))","v":""},{"$f":"IF(ISBLANK(B111),\"\",VLOOKUP(B111,NSLPandADEtableFY14,2,FALSE))","v":""},"",{"$f":"IF(ISBLANK(B111),\"\",VLOOKUP(B111,NSLPandADEtableFY14,11,FALSE))","v":""},null,null,null,null,null,null,null,"Bales Elementary School - 070433102"]
["",null,{"$f":"IF(ISBLANK(B112),\"\",VLOOKUP(B112,NSLPandADEtableFY14,14,FALSE))","v":""},{"$f":"IF(ISBLANK(B112),\"\",VLOOKUP(B112,NSLPandADEtableFY14,15,FALSE))","v":""},{"$f":"IF(ISBLANK(B112),\"\",VLOOKUP(B112,NSLPandADEtableFY14,2,FALSE))","v":""},"",{"$f":"IF(ISBLANK(B112),\"\",VLOOKUP(B112,NSLPandADEtableFY14,11,FALSE))","v":""},null,null,null,null,null,null,null,"Balsz School - 070431101"]
["",null,{"$f":"IF(ISBLANK(B113),\"\",VLOOKUP(B113,NSLPandADEtableFY14,14,FALSE))","v":""},{"$f":"IF(ISBLANK(B113),\"\",VLOOKUP(B113,NSLPandADEtableFY14,15,FALSE))","v":""},{"$f":"IF(ISBLANK(B113),\"\",VLOOKUP(B113,NSLPandADEtableFY14,2,FALSE))","v":""},"",{"$f":"IF(ISBLANK(B113),\"\",VLOOKUP(B113,NSLPandADEtableFY14,11,FALSE))","v":""},null,null,null,null,null,null,null,"Barbara B. Robey Elementary School - 070479111"]
["",null,{"$f":"IF(ISBLANK(B114),\"\",VLOOKUP(B114,NSLPandADEtableFY14,14,FALSE))","v":""},{"$f":"IF(ISBLANK(B114),\"\",VLOOKUP(B114,NSLPandADEtableFY14,15,FALSE))","v":""},{"$f":"IF(ISBLANK(B114),\"\",VLOOKUP(B114,NSLPandADEtableFY14,2,FALSE))","v":""},"",{"$f":"IF(ISBLANK(B114),\"\",VLOOKUP(B114,NSLPandADEtableFY14,11,FALSE))","v":""},null,null,null,null,null,null,null,"Barcelona Middle School - 070468104"]
["",null,{"$f":"IF(ISBLANK(B115),\"\",VLOOKUP(B115,NSLPandADEtableFY14,14,FALSE))","v":""},{"$f":"IF(ISBLANK(B115),\"\",VLOOKUP(B115,NSLPandADEtableFY14,15,FALSE))","v":""},{"$f":"IF(ISBLANK(B115),\"\",VLOOKUP(B115,NSLPandADEtableFY14,2,FALSE))","v":""},"",{"$f":"IF(ISBLANK(B115),\"\",VLOOKUP(B115,NSLPandADEtableFY14,11,FALSE))","v":""},null,null,null,null,null,null,null,"Barry Goldwater High School - 070297224"]
["",null,{"$f":"IF(ISBLANK(B116),\"\",VLOOKUP(B116,NSLPandADEtableFY14,14,FALSE))","v":""},{"$f":"IF(ISBLANK(B116),\"\",VLOOKUP(B116,NSLPandADEtableFY14,15,FALSE))","v":""},{"$f":"IF(ISBLANK(B116),\"\",VLOOKUP(B116,NSLPandADEtableFY14,2,FALSE))","v":""},"",{"$f":"IF(ISBLANK(B116),\"\",VLOOKUP(B116,NSLPandADEtableFY14,11,FALSE))","v":""},null,null,null,null,null,null,null,"Basha Elementary - 070280129"]
["",null,{"$f":"IF(ISBLANK(B117),\"\",VLOOKUP(B117,NSLPandADEtableFY14,14,FALSE))","v":""},{"$f":"IF(ISBLANK(B117),\"\",VLOOKUP(B117,NSLPandADEtableFY14,15,FALSE))","v":""},{"$f":"IF(ISBLANK(B117),\"\",VLOOKUP(B117,NSLPandADEtableFY14,2,FALSE))","v":""},"",{"$f":"IF(ISBLANK(B117),\"\",VLOOKUP(B117,NSLPandADEtableFY14,11,FALSE))","v":""},null,null,null,null,null,null,null,"Basha High School - 070280203"]
["",null,{"$f":"IF(ISBLANK(B118),\"\",VLOOKUP(B118,NSLPandADEtableFY14,14,FALSE))","v":""},{"$f":"IF(ISBLANK(B118),\"\",VLOOKUP(B118,NSLPandADEtableFY14,15,FALSE))","v":""},{"$f":"IF(ISBLANK(B118),\"\",VLOOKUP(B118,NSLPandADEtableFY14,2,FALSE))","v":""},"",{"$f":"IF(ISBLANK(B118),\"\",VLOOKUP(B118,NSLPandADEtableFY14,11,FALSE))","v":""},null,null,null,null,null,null,null,"Beaver Creek School - 130326101"]
["",null,{"$f":"IF(ISBLANK(B119),\"\",VLOOKUP(B119,NSLPandADEtableFY14,14,FALSE))","v":""},{"$f":"IF(ISBLANK(B119),\"\",VLOOKUP(B119,NSLPandADEtableFY14,15,FALSE))","v":""},{"$f":"IF(ISBLANK(B119),\"\",VLOOKUP(B119,NSLPandADEtableFY14,2,FALSE))","v":""},"",{"$f":"IF(ISBLANK(B119),\"\",VLOOKUP(B119,NSLPandADEtableFY14,11,FALSE))","v":""},null,null,null,null,null,null,null,"Beaver Dam Elementary - 080209001"]
["",null,{"$f":"IF(ISBLANK(B120),\"\",VLOOKUP(B120,NSLPandADEtableFY14,14,FALSE))","v":""},{"$f":"IF(ISBLANK(B120),\"\",VLOOKUP(B120,NSLPandADEtableFY14,15,FALSE))","v":""},{"$f":"IF(ISBLANK(B120),\"\",VLOOKUP(B120,NSLPandADEtableFY14,2,FALSE))","v":""},"",{"$f":"IF(ISBLANK(B120),\"\",VLOOKUP(B120,NSLPandADEtableFY14,11,FALSE))","v":""},null,null,null,null,null,null,null,"Beaver Dam High School - 080209201"]
["",null,{"$f":"IF(ISBLANK(B121),\"\",VLOOKUP(B121,NSLPandADEtableFY14,14,FALSE))","v":""},{"$f":"IF(ISBLANK(B121),\"\",VLOOKUP(B121,NSLPandADEtableFY14,15,FALSE))","v":""},{"$f":"IF(ISBLANK(B121),\"\",VLOOKUP(B121,NSLPandADEtableFY14,2,FALSE))","v":""},"",{"$f":"IF(ISBLANK(B121),\"\",VLOOKUP(B121,NSLPandADEtableFY14,11,FALSE))","v":""},null,null,null,null,null,null,null,"Bella Vista Elementary School - 020268110"]
["",null,{"$f":"IF(ISBLANK(B122),\"\",VLOOKUP(B122,NSLPandADEtableFY14,14,FALSE))","v":""},{"$f":"IF(ISBLANK(B122),\"\",VLOOKUP(B122,NSLPandADEtableFY14,15,FALSE))","v":""},{"$f":"IF(ISBLANK(B122),\"\",VLOOKUP(B122,NSLPandADEtableFY14,2,FALSE))","v":""},"",{"$f":"IF(ISBLANK(B122),\"\",VLOOKUP(B122,NSLPandADEtableFY14,11,FALSE))","v":""},null,null,null,null,null,null,null,"Bellair Elementary School - 070297122"]
["",null,{"$f":"IF(ISBLANK(B123),\"\",VLOOKUP(B123,NSLPandADEtableFY14,14,FALSE))","v":""},{"$f":"IF(ISBLANK(B123),\"\",VLOOKUP(B123,NSLPandADEtableFY14,15,FALSE))","v":""},{"$f":"IF(ISBLANK(B123),\"\",VLOOKUP(B123,NSLPandADEtableFY14,2,FALSE))","v":""},"",{"$f":"IF(ISBLANK(B123),\"\",VLOOKUP(B123,NSLPandADEtableFY14,11,FALSE))","v":""},null,null,null,null,null,null,null,"Benjamin Franklin Charter School - Power - 078754104"]
["",null,{"$f":"IF(ISBLANK(B124),\"\",VLOOKUP(B124,NSLPandADEtableFY14,14,FALSE))","v":""},{"$f":"IF(ISBLANK(B124),\"\",VLOOKUP(B124,NSLPandADEtableFY14,15,FALSE))","v":""},{"$f":"IF(ISBLANK(B124),\"\",VLOOKUP(B124,NSLPandADEtableFY14,2,FALSE))","v":""},"",{"$f":"IF(ISBLANK(B124),\"\",VLOOKUP(B124,NSLPandADEtableFY14,11,FALSE))","v":""},null,null,null,null,null,null,null,"Benjamin Franklin Charter School - Queen Creek - 078754102"]
["",null,{"$f":"IF(ISBLANK(B125),\"\",VLOOKUP(B125,NSLPandADEtableFY14,14,FALSE))","v":""},{"$f":"IF(ISBLANK(B125),\"\",VLOOKUP(B125,NSLPandADEtableFY14,15,FALSE))","v":""},{"$f":"IF(ISBLANK(B125),\"\",VLOOKUP(B125,NSLPandADEtableFY14,2,FALSE))","v":""},"",{"$f":"IF(ISBLANK(B125),\"\",VLOOKUP(B125,NSLPandADEtableFY14,11,FALSE))","v":""},null,null,null,null,null,null,null,"Benson High School - 020209201"]
["",null,{"$f":"IF(ISBLANK(B126),\"\",VLOOKUP(B126,NSLPandADEtableFY14,14,FALSE))","v":""},{"$f":"IF(ISBLANK(B126),\"\",VLOOKUP(B126,NSLPandADEtableFY14,15,FALSE))","v":""},{"$f":"IF(ISBLANK(B126),\"\",VLOOKUP(B126,NSLPandADEtableFY14,2,FALSE))","v":""},"",{"$f":"IF(ISBLANK(B126),\"\",VLOOKUP(B126,NSLPandADEtableFY14,11,FALSE))","v":""},null,null,null,null,null,null,null,"Benson Middle School - 020209102"]
["",null,{"$f":"IF(ISBLANK(B127),\"\",VLOOKUP(B127,NSLPandADEtableFY14,14,FALSE))","v":""},{"$f":"IF(ISBLANK(B127),\"\",VLOOKUP(B127,NSLPandADEtableFY14,15,FALSE))","v":""},{"$f":"IF(ISBLANK(B127),\"\",VLOOKUP(B127,NSLPandADEtableFY14,2,FALSE))","v":""},"",{"$f":"IF(ISBLANK(B127),\"\",VLOOKUP(B127,NSLPandADEtableFY14,11,FALSE))","v":""},null,null,null,null,null,null,null,"Benson Primary School - 020209101"]
["",null,{"$f":"IF(ISBLANK(B128),\"\",VLOOKUP(B128,NSLPandADEtableFY14,14,FALSE))","v":""},{"$f":"IF(ISBLANK(B128),\"\",VLOOKUP(B128,NSLPandADEtableFY14,15,FALSE))","v":""},{"$f":"IF(ISBLANK(B128),\"\",VLOOKUP(B128,NSLPandADEtableFY14,2,FALSE))","v":""},"",{"$f":"IF(ISBLANK(B128),\"\",VLOOKUP(B128,NSLPandADEtableFY14,11,FALSE))","v":""},null,null,null,null,null,null,null,"Bernard Black Elementary School - 070466024"]
["",null,{"$f":"IF(ISBLANK(B129),\"\",VLOOKUP(B129,NSLPandADEtableFY14,14,FALSE))","v":""},{"$f":"IF(ISBLANK(B129),\"\",VLOOKUP(B129,NSLPandADEtableFY14,15,FALSE))","v":""},{"$f":"IF(ISBLANK(B129),\"\",VLOOKUP(B129,NSLPandADEtableFY14,2,FALSE))","v":""},"",{"$f":"IF(ISBLANK(B129),\"\",VLOOKUP(B129,NSLPandADEtableFY14,11,FALSE))","v":""},null,null,null,null,null,null,null,"Betty Fairfax High School - 070510290"]
["",null,{"$f":"IF(ISBLANK(B130),\"\",VLOOKUP(B130,NSLPandADEtableFY14,14,FALSE))","v":""},{"$f":"IF(ISBLANK(B130),\"\",VLOOKUP(B130,NSLPandADEtableFY14,15,FALSE))","v":""},{"$f":"IF(ISBLANK(B130),\"\",VLOOKUP(B130,NSLPandADEtableFY14,2,FALSE))","v":""},"",{"$f":"IF(ISBLANK(B130),\"\",VLOOKUP(B130,NSLPandADEtableFY14,11,FALSE))","v":""},null,null,null,null,null,null,null,"Bicentennial North School - 070440109"]
["",null,{"$f":"IF(ISBLANK(B131),\"\",VLOOKUP(B131,NSLPandADEtableFY14,14,FALSE))","v":""},{"$f":"IF(ISBLANK(B131),\"\",VLOOKUP(B131,NSLPandADEtableFY14,15,FALSE))","v":""},{"$f":"IF(ISBLANK(B131),\"\",VLOOKUP(B131,NSLPandADEtableFY14,2,FALSE))","v":""},"",{"$f":"IF(ISBLANK(B131),\"\",VLOOKUP(B131,NSLPandADEtableFY14,11,FALSE))","v":""},null,null,null,null,null,null,null,"Bicentennial South School - 070440112"]
["",null,{"$f":"IF(ISBLANK(B132),\"\",VLOOKUP(B132,NSLPandADEtableFY14,14,FALSE))","v":""},{"$f":"IF(ISBLANK(B132),\"\",VLOOKUP(B132,NSLPandADEtableFY14,15,FALSE))","v":""},{"$f":"IF(ISBLANK(B132),\"\",VLOOKUP(B132,NSLPandADEtableFY14,2,FALSE))","v":""},"",{"$f":"IF(ISBLANK(B132),\"\",VLOOKUP(B132,NSLPandADEtableFY14,11,FALSE))","v":""},null,null,null,null,null,null,null,"Big Park Community School - 130209130"]
["",null,{"$f":"IF(ISBLANK(B133),\"\",VLOOKUP(B133,NSLPandADEtableFY14,14,FALSE))","v":""},{"$f":"IF(ISBLANK(B133),\"\",VLOOKUP(B133,NSLPandADEtableFY14,15,FALSE))","v":""},{"$f":"IF(ISBLANK(B133),\"\",VLOOKUP(B133,NSLPandADEtableFY14,2,FALSE))","v":""},"",{"$f":"IF(ISBLANK(B133),\"\",VLOOKUP(B133,NSLPandADEtableFY14,11,FALSE))","v":""},null,null,null,null,null,null,null,"Billy Lane Lauffer Middle School - 100212133"]
["",null,{"$f":"IF(ISBLANK(B134),\"\",VLOOKUP(B134,NSLPandADEtableFY14,14,FALSE))","v":""},{"$f":"IF(ISBLANK(B134),\"\",VLOOKUP(B134,NSLPandADEtableFY14,15,FALSE))","v":""},{"$f":"IF(ISBLANK(B134),\"\",VLOOKUP(B134,NSLPandADEtableFY14,2,FALSE))","v":""},"",{"$f":"IF(ISBLANK(B134),\"\",VLOOKUP(B134,NSLPandADEtableFY14,11,FALSE))","v":""},null,null,null,null,null,null,null,"Biltmore Preparatory Academy - 070414180"]
["",null,{"$f":"IF(ISBLANK(B135),\"\",VLOOKUP(B135,NSLPandADEtableFY14,14,FALSE))","v":""},{"$f":"IF(ISBLANK(B135),\"\",VLOOKUP(B135,NSLPandADEtableFY14,15,FALSE))","v":""},{"$f":"IF(ISBLANK(B135),\"\",VLOOKUP(B135,NSLPandADEtableFY14,2,FALSE))","v":""},"",{"$f":"IF(ISBLANK(B135),\"\",VLOOKUP(B135,NSLPandADEtableFY14,11,FALSE))","v":""},null,null,null,null,null,null,null,"Bisbee High School - 020202201"]
["",null,{"$f":"IF(ISBLANK(B136),\"\",VLOOKUP(B136,NSLPandADEtableFY14,14,FALSE))","v":""},{"$f":"IF(ISBLANK(B136),\"\",VLOOKUP(B136,NSLPandADEtableFY14,15,FALSE))","v":""},{"$f":"IF(ISBLANK(B136),\"\",VLOOKUP(B136,NSLPandADEtableFY14,2,FALSE))","v":""},"",{"$f":"IF(ISBLANK(B136),\"\",VLOOKUP(B136,NSLPandADEtableFY14,11,FALSE))","v":""},null,null,null,null,null,null,null,"Black Mesa Community School - 093901001"]
["",null,{"$f":"IF(ISBLANK(B137),\"\",VLOOKUP(B137,NSLPandADEtableFY14,14,FALSE))","v":""},{"$f":"IF(ISBLANK(B137),\"\",VLOOKUP(B137,NSLPandADEtableFY14,15,FALSE))","v":""},{"$f":"IF(ISBLANK(B137),\"\",VLOOKUP(B137,NSLPandADEtableFY14,2,FALSE))","v":""},"",{"$f":"IF(ISBLANK(B137),\"\",VLOOKUP(B137,NSLPandADEtableFY14,11,FALSE))","v":""},null,null,null,null,null,null,null,"Black Mountain Elementary School - 070293102"]
["",null,{"$f":"IF(ISBLANK(B138),\"\",VLOOKUP(B138,NSLPandADEtableFY14,14,FALSE))","v":""},{"$f":"IF(ISBLANK(B138),\"\",VLOOKUP(B138,NSLPandADEtableFY14,15,FALSE))","v":""},{"$f":"IF(ISBLANK(B138),\"\",VLOOKUP(B138,NSLPandADEtableFY14,2,FALSE))","v":""},"",{"$f":"IF(ISBLANK(B138),\"\",VLOOKUP(B138,NSLPandADEtableFY14,11,FALSE))","v":""},null,null,null,null,null,null,null,"Black Mountain Elementary School - 080220116"]
["",null,{"$f":"IF(ISBLANK(B139),\"\",VLOOKUP(B139,NSLPandADEtableFY14,14,FALSE))","v":""},{"$f":"IF(ISBLANK(B139),\"\",VLOOKUP(B139,NSLPandADEtableFY14,15,FALSE))","v":""},{"$f":"IF(ISBLANK(B139),\"\",VLOOKUP(B139,NSLPandADEtableFY14,2,FALSE))","v":""},"",{"$f":"IF(ISBLANK(B139),\"\",VLOOKUP(B139,NSLPandADEtableFY14,11,FALSE))","v":""},null,null,null,null,null,null,null,"Blackwater Community School - 114002001"]
[{"$f":"IF(ISBLANK(B140),\"\",\"Q-Public School\")","v":""},null,{"$f":"IF(ISBLANK(B140),\"\",VLOOKUP(B140,NSLPandADEtableFY14,14,FALSE))","v":""},{"$f":"IF(ISBLANK(B140),\"\",VLOOKUP(B140,NSLPandADEtableFY14,15,FALSE))","v":""},{"$f":"IF(ISBLANK(B140),\"\",VLOOKUP(B140,NSLPandADEtableFY14,2,FALSE))","v":""},{"$f":"IF(ISBLANK(B140),\"\",\"Free & Reduced Lunch Data (NSLP) March 2013\")","v":""},{"$f":"IF(ISBLANK(B140),\"\",VLOOKUP(B140,NSLPandADEtableFY14,11,FALSE))","v":""},null,null,null,null,null,null,null,"Blake Primary School - 150227101"]
["",null,{"$f":"IF(ISBLANK(B141),\"\",VLOOKUP(B141,NSLPandADEtableFY14,14,FALSE))","v":""},{"$f":"IF(ISBLANK(B141),\"\",VLOOKUP(B141,NSLPandADEtableFY14,15,FALSE))","v":""},{"$f":"IF(ISBLANK(B141),\"\",VLOOKUP(B141,NSLPandADEtableFY14,2,FALSE))","v":""},"",{"$f":"IF(ISBLANK(B141),\"\",VLOOKUP(B141,NSLPandADEtableFY14,11,FALSE))","v":""},null,null,null,null,null,null,null,"Blenman Elementary School - 100201125"]
["",null,{"$f":"IF(ISBLANK(B142),\"\",VLOOKUP(B142,NSLPandADEtableFY14,14,FALSE))","v":""},{"$f":"IF(ISBLANK(B142),\"\",VLOOKUP(B142,NSLPandADEtableFY14,15,FALSE))","v":""},{"$f":"IF(ISBLANK(B142),\"\",VLOOKUP(B142,NSLPandADEtableFY14,2,FALSE))","v":""},"",{"$f":"IF(ISBLANK(B142),\"\",VLOOKUP(B142,NSLPandADEtableFY14,11,FALSE))","v":""},null,null,null,null,null,null,null,"Bloom Elementary - 100201128"]
["",null,{"$f":"IF(ISBLANK(B143),\"\",VLOOKUP(B143,NSLPandADEtableFY14,14,FALSE))","v":""},{"$f":"IF(ISBLANK(B143),\"\",VLOOKUP(B143,NSLPandADEtableFY14,15,FALSE))","v":""},{"$f":"IF(ISBLANK(B143),\"\",VLOOKUP(B143,NSLPandADEtableFY14,2,FALSE))","v":""},"",{"$f":"IF(ISBLANK(B143),\"\",VLOOKUP(B143,NSLPandADEtableFY14,11,FALSE))","v":""},null,null,null,null,null,null,null,"Blue Ridge Elementary School - 090232101"]
["",null,{"$f":"IF(ISBLANK(B144),\"\",VLOOKUP(B144,NSLPandADEtableFY14,14,FALSE))","v":""},{"$f":"IF(ISBLANK(B144),\"\",VLOOKUP(B144,NSLPandADEtableFY14,15,FALSE))","v":""},{"$f":"IF(ISBLANK(B144),\"\",VLOOKUP(B144,NSLPandADEtableFY14,2,FALSE))","v":""},"",{"$f":"IF(ISBLANK(B144),\"\",VLOOKUP(B144,NSLPandADEtableFY14,11,FALSE))","v":""},null,null,null,null,null,null,null,"Blue Ridge High School - 090232204"]
["",null,{"$f":"IF(ISBLANK(B145),\"\",VLOOKUP(B145,NSLPandADEtableFY14,14,FALSE))","v":""},{"$f":"IF(ISBLANK(B145),\"\",VLOOKUP(B145,NSLPandADEtableFY14,15,FALSE))","v":""},{"$f":"IF(ISBLANK(B145),\"\",VLOOKUP(B145,NSLPandADEtableFY14,2,FALSE))","v":""},"",{"$f":"IF(ISBLANK(B145),\"\",VLOOKUP(B145,NSLPandADEtableFY14,11,FALSE))","v":""},null,null,null,null,null,null,null,"Blue Ridge Jr High School - 090232103"]
["",null,{"$f":"IF(ISBLANK(B146),\"\",VLOOKUP(B146,NSLPandADEtableFY14,14,FALSE))","v":""},{"$f":"IF(ISBLANK(B146),\"\",VLOOKUP(B146,NSLPandADEtableFY14,15,FALSE))","v":""},{"$f":"IF(ISBLANK(B146),\"\",VLOOKUP(B146,NSLPandADEtableFY14,2,FALSE))","v":""},"",{"$f":"IF(ISBLANK(B146),\"\",VLOOKUP(B146,NSLPandADEtableFY14,11,FALSE))","v":""},null,null,null,null,null,null,null,"Blue Ridge Middle School - 090232102"]
["",null,{"$f":"IF(ISBLANK(B147),\"\",VLOOKUP(B147,NSLPandADEtableFY14,14,FALSE))","v":""},{"$f":"IF(ISBLANK(B147),\"\",VLOOKUP(B147,NSLPandADEtableFY14,15,FALSE))","v":""},{"$f":"IF(ISBLANK(B147),\"\",VLOOKUP(B147,NSLPandADEtableFY14,2,FALSE))","v":""},"",{"$f":"IF(ISBLANK(B147),\"\",VLOOKUP(B147,NSLPandADEtableFY14,11,FALSE))","v":""},null,null,null,null,null,null,null,"Blume House - 072711001"]
["",null,{"$f":"IF(ISBLANK(B148),\"\",VLOOKUP(B148,NSLPandADEtableFY14,14,FALSE))","v":""},{"$f":"IF(ISBLANK(B148),\"\",VLOOKUP(B148,NSLPandADEtableFY14,15,FALSE))","v":""},{"$f":"IF(ISBLANK(B148),\"\",VLOOKUP(B148,NSLPandADEtableFY14,2,FALSE))","v":""},"",{"$f":"IF(ISBLANK(B148),\"\",VLOOKUP(B148,NSLPandADEtableFY14,11,FALSE))","v":""},null,null,null,null,null,null,null,"Bogle Junior High School - 070280120"]
["",null,{"$f":"IF(ISBLANK(B149),\"\",VLOOKUP(B149,NSLPandADEtableFY14,14,FALSE))","v":""},{"$f":"IF(ISBLANK(B149),\"\",VLOOKUP(B149,NSLPandADEtableFY14,15,FALSE))","v":""},{"$f":"IF(ISBLANK(B149),\"\",VLOOKUP(B149,NSLPandADEtableFY14,2,FALSE))","v":""},"",{"$f":"IF(ISBLANK(B149),\"\",VLOOKUP(B149,NSLPandADEtableFY14,11,FALSE))","v":""},null,null,null,null,null,null,null,"Bonillas Elementary Basic Curriculum Magnet School - 100201131"]
["",null,{"$f":"IF(ISBLANK(B150),\"\",VLOOKUP(B150,NSLPandADEtableFY14,14,FALSE))","v":""},{"$f":"IF(ISBLANK(B150),\"\",VLOOKUP(B150,NSLPandADEtableFY14,15,FALSE))","v":""},{"$f":"IF(ISBLANK(B150),\"\",VLOOKUP(B150,NSLPandADEtableFY14,2,FALSE))","v":""},"",{"$f":"IF(ISBLANK(B150),\"\",VLOOKUP(B150,NSLPandADEtableFY14,11,FALSE))","v":""},null,null,null,null,null,null,null,"Bonita Elementary School - 050316101"]
["",null,{"$f":"IF(ISBLANK(B151),\"\",VLOOKUP(B151,NSLPandADEtableFY14,14,FALSE))","v":""},{"$f":"IF(ISBLANK(B151),\"\",VLOOKUP(B151,NSLPandADEtableFY14,15,FALSE))","v":""},{"$f":"IF(ISBLANK(B151),\"\",VLOOKUP(B151,NSLPandADEtableFY14,2,FALSE))","v":""},"",{"$f":"IF(ISBLANK(B151),\"\",VLOOKUP(B151,NSLPandADEtableFY14,11,FALSE))","v":""},null,null,null,null,null,null,null,"Bonnie Brennan School - 090201102"]
["",null,{"$f":"IF(ISBLANK(B152),\"\",VLOOKUP(B152,NSLPandADEtableFY14,14,FALSE))","v":""},{"$f":"IF(ISBLANK(B152),\"\",VLOOKUP(B152,NSLPandADEtableFY14,15,FALSE))","v":""},{"$f":"IF(ISBLANK(B152),\"\",VLOOKUP(B152,NSLPandADEtableFY14,2,FALSE))","v":""},"",{"$f":"IF(ISBLANK(B152),\"\",VLOOKUP(B152,NSLPandADEtableFY14,11,FALSE))","v":""},null,null,null,null,null,null,null,"Booth-Fickett Math/Science Magnet School - 100201510"]
["",null,{"$f":"IF(ISBLANK(B153),\"\",VLOOKUP(B153,NSLPandADEtableFY14,14,FALSE))","v":""},{"$f":"IF(ISBLANK(B153),\"\",VLOOKUP(B153,NSLPandADEtableFY14,15,FALSE))","v":""},{"$f":"IF(ISBLANK(B153),\"\",VLOOKUP(B153,NSLPandADEtableFY14,2,FALSE))","v":""},"",{"$f":"IF(ISBLANK(B153),\"\",VLOOKUP(B153,NSLPandADEtableFY14,11,FALSE))","v":""},null,null,null,null,null,null,null,"Borman Elementary School - 100201140"]
["",null,{"$f":"IF(ISBLANK(B154),\"\",VLOOKUP(B154,NSLPandADEtableFY14,14,FALSE))","v":""},{"$f":"IF(ISBLANK(B154),\"\",VLOOKUP(B154,NSLPandADEtableFY14,15,FALSE))","v":""},{"$f":"IF(ISBLANK(B154),\"\",VLOOKUP(B154,NSLPandADEtableFY14,2,FALSE))","v":""},"",{"$f":"IF(ISBLANK(B154),\"\",VLOOKUP(B154,NSLPandADEtableFY14,11,FALSE))","v":""},null,null,null,null,null,null,null,"Borton Primary Magnet School - 100201143"]
["",null,{"$f":"IF(ISBLANK(B155),\"\",VLOOKUP(B155,NSLPandADEtableFY14,14,FALSE))","v":""},{"$f":"IF(ISBLANK(B155),\"\",VLOOKUP(B155,NSLPandADEtableFY14,15,FALSE))","v":""},{"$f":"IF(ISBLANK(B155),\"\",VLOOKUP(B155,NSLPandADEtableFY14,2,FALSE))","v":""},"",{"$f":"IF(ISBLANK(B155),\"\",VLOOKUP(B155,NSLPandADEtableFY14,11,FALSE))","v":""},null,null,null,null,null,null,null,"Bostrom Alternative Center - 070510214"]
["",null,{"$f":"IF(ISBLANK(B156),\"\",VLOOKUP(B156,NSLPandADEtableFY14,14,FALSE))","v":""},{"$f":"IF(ISBLANK(B156),\"\",VLOOKUP(B156,NSLPandADEtableFY14,15,FALSE))","v":""},{"$f":"IF(ISBLANK(B156),\"\",VLOOKUP(B156,NSLPandADEtableFY14,2,FALSE))","v":""},"",{"$f":"IF(ISBLANK(B156),\"\",VLOOKUP(B156,NSLPandADEtableFY14,11,FALSE))","v":""},null,null,null,null,null,null,null,"Boulder Creek Elementary - 070241160"]
["",null,{"$f":"IF(ISBLANK(B157),\"\",VLOOKUP(B157,NSLPandADEtableFY14,14,FALSE))","v":""},{"$f":"IF(ISBLANK(B157),\"\",VLOOKUP(B157,NSLPandADEtableFY14,15,FALSE))","v":""},{"$f":"IF(ISBLANK(B157),\"\",VLOOKUP(B157,NSLPandADEtableFY14,2,FALSE))","v":""},"",{"$f":"IF(ISBLANK(B157),\"\",VLOOKUP(B157,NSLPandADEtableFY14,11,FALSE))","v":""},null,null,null,null,null,null,null,"Boulder Creek Elementary School - 070269144"]
["",null,{"$f":"IF(ISBLANK(B158),\"\",VLOOKUP(B158,NSLPandADEtableFY14,14,FALSE))","v":""},{"$f":"IF(ISBLANK(B158),\"\",VLOOKUP(B158,NSLPandADEtableFY14,15,FALSE))","v":""},{"$f":"IF(ISBLANK(B158),\"\",VLOOKUP(B158,NSLPandADEtableFY14,2,FALSE))","v":""},"",{"$f":"IF(ISBLANK(B158),\"\",VLOOKUP(B158,NSLPandADEtableFY14,11,FALSE))","v":""},null,null,null,null,null,null,null,"Boulder Creek High School - 070297245"]
["",null,{"$f":"IF(ISBLANK(B159),\"\",VLOOKUP(B159,NSLPandADEtableFY14,14,FALSE))","v":""},{"$f":"IF(ISBLANK(B159),\"\",VLOOKUP(B159,NSLPandADEtableFY14,15,FALSE))","v":""},{"$f":"IF(ISBLANK(B159),\"\",VLOOKUP(B159,NSLPandADEtableFY14,2,FALSE))","v":""},"",{"$f":"IF(ISBLANK(B159),\"\",VLOOKUP(B159,NSLPandADEtableFY14,11,FALSE))","v":""},null,null,null,null,null,null,null,"Bouse Elementary School - 150426101"]
["",null,{"$f":"IF(ISBLANK(B160),\"\",VLOOKUP(B160,NSLPandADEtableFY14,14,FALSE))","v":""},{"$f":"IF(ISBLANK(B160),\"\",VLOOKUP(B160,NSLPandADEtableFY14,15,FALSE))","v":""},{"$f":"IF(ISBLANK(B160),\"\",VLOOKUP(B160,NSLPandADEtableFY14,2,FALSE))","v":""},"",{"$f":"IF(ISBLANK(B160),\"\",VLOOKUP(B160,NSLPandADEtableFY14,11,FALSE))","v":""},null,null,null,null,null,null,null,"Bowie Elementary School - 020214100"]
["",null,{"$f":"IF(ISBLANK(B161),\"\",VLOOKUP(B161,NSLPandADEtableFY14,14,FALSE))","v":""},{"$f":"IF(ISBLANK(B161),\"\",VLOOKUP(B161,NSLPandADEtableFY14,15,FALSE))","v":""},{"$f":"IF(ISBLANK(B161),\"\",VLOOKUP(B161,NSLPandADEtableFY14,2,FALSE))","v":""},"",{"$f":"IF(ISBLANK(B161),\"\",VLOOKUP(B161,NSLPandADEtableFY14,11,FALSE))","v":""},null,null,null,null,null,null,null,"Bowie High School - 020214200"]
["",null,{"$f":"IF(ISBLANK(B162),\"\",VLOOKUP(B162,NSLPandADEtableFY14,14,FALSE))","v":""},{"$f":"IF(ISBLANK(B162),\"\",VLOOKUP(B162,NSLPandADEtableFY14,15,FALSE))","v":""},{"$f":"IF(ISBLANK(B162),\"\",VLOOKUP(B162,NSLPandADEtableFY14,2,FALSE))","v":""},"",{"$f":"IF(ISBLANK(B162),\"\",VLOOKUP(B162,NSLPandADEtableFY14,11,FALSE))","v":""},null,null,null,null,null,null,null,"Bradley Academy of Excellence - 078746101"]
["",null,{"$f":"IF(ISBLANK(B163),\"\",VLOOKUP(B163,NSLPandADEtableFY14,14,FALSE))","v":""},{"$f":"IF(ISBLANK(B163),\"\",VLOOKUP(B163,NSLPandADEtableFY14,15,FALSE))","v":""},{"$f":"IF(ISBLANK(B163),\"\",VLOOKUP(B163,NSLPandADEtableFY14,2,FALSE))","v":""},"",{"$f":"IF(ISBLANK(B163),\"\",VLOOKUP(B163,NSLPandADEtableFY14,11,FALSE))","v":""},null,null,null,null,null,null,null,"Bradshaw Mountain High School - 130222230"]
["",null,{"$f":"IF(ISBLANK(B164),\"\",VLOOKUP(B164,NSLPandADEtableFY14,14,FALSE))","v":""},{"$f":"IF(ISBLANK(B164),\"\",VLOOKUP(B164,NSLPandADEtableFY14,15,FALSE))","v":""},{"$f":"IF(ISBLANK(B164),\"\",VLOOKUP(B164,NSLPandADEtableFY14,2,FALSE))","v":""},"",{"$f":"IF(ISBLANK(B164),\"\",VLOOKUP(B164,NSLPandADEtableFY14,11,FALSE))","v":""},null,null,null,null,null,null,null,"Bradshaw Mountain Middle School - 130222120"]
["",null,{"$f":"IF(ISBLANK(B165),\"\",VLOOKUP(B165,NSLPandADEtableFY14,14,FALSE))","v":""},{"$f":"IF(ISBLANK(B165),\"\",VLOOKUP(B165,NSLPandADEtableFY14,15,FALSE))","v":""},{"$f":"IF(ISBLANK(B165),\"\",VLOOKUP(B165,NSLPandADEtableFY14,2,FALSE))","v":""},"",{"$f":"IF(ISBLANK(B165),\"\",VLOOKUP(B165,NSLPandADEtableFY14,11,FALSE))","v":""},null,null,null,null,null,null,null,"Bret R. Tarver - 070483122"]
["",null,{"$f":"IF(ISBLANK(B166),\"\",VLOOKUP(B166,NSLPandADEtableFY14,14,FALSE))","v":""},{"$f":"IF(ISBLANK(B166),\"\",VLOOKUP(B166,NSLPandADEtableFY14,15,FALSE))","v":""},{"$f":"IF(ISBLANK(B166),\"\",VLOOKUP(B166,NSLPandADEtableFY14,2,FALSE))","v":""},"",{"$f":"IF(ISBLANK(B166),\"\",VLOOKUP(B166,NSLPandADEtableFY14,11,FALSE))","v":""},null,null,null,null,null,null,null,"Brichta Elementary School - 100201149"]
["",null,{"$f":"IF(ISBLANK(B167),\"\",VLOOKUP(B167,NSLPandADEtableFY14,14,FALSE))","v":""},{"$f":"IF(ISBLANK(B167),\"\",VLOOKUP(B167,NSLPandADEtableFY14,15,FALSE))","v":""},{"$f":"IF(ISBLANK(B167),\"\",VLOOKUP(B167,NSLPandADEtableFY14,2,FALSE))","v":""},"",{"$f":"IF(ISBLANK(B167),\"\",VLOOKUP(B167,NSLPandADEtableFY14,11,FALSE))","v":""},null,null,null,null,null,null,null,"Brinton Elementary - 070204156"]
["",null,{"$f":"IF(ISBLANK(B168),\"\",VLOOKUP(B168,NSLPandADEtableFY14,14,FALSE))","v":""},{"$f":"IF(ISBLANK(B168),\"\",VLOOKUP(B168,NSLPandADEtableFY14,15,FALSE))","v":""},{"$f":"IF(ISBLANK(B168),\"\",VLOOKUP(B168,NSLPandADEtableFY14,2,FALSE))","v":""},"",{"$f":"IF(ISBLANK(B168),\"\",VLOOKUP(B168,NSLPandADEtableFY14,11,FALSE))","v":""},null,null,null,null,null,null,null,"Broadmor Elementary School - 070403113"]
["",null,{"$f":"IF(ISBLANK(B169),\"\",VLOOKUP(B169,NSLPandADEtableFY14,14,FALSE))","v":""},{"$f":"IF(ISBLANK(B169),\"\",VLOOKUP(B169,NSLPandADEtableFY14,15,FALSE))","v":""},{"$f":"IF(ISBLANK(B169),\"\",VLOOKUP(B169,NSLPandADEtableFY14,2,FALSE))","v":""},"",{"$f":"IF(ISBLANK(B169),\"\",VLOOKUP(B169,NSLPandADEtableFY14,11,FALSE))","v":""},null,null,null,null,null,null,null,"Brunson-Lee Elementary School - 070431105"]
["",null,{"$f":"IF(ISBLANK(B170),\"\",VLOOKUP(B170,NSLPandADEtableFY14,14,FALSE))","v":""},{"$f":"IF(ISBLANK(B170),\"\",VLOOKUP(B170,NSLPandADEtableFY14,15,FALSE))","v":""},{"$f":"IF(ISBLANK(B170),\"\",VLOOKUP(B170,NSLPandADEtableFY14,2,FALSE))","v":""},"",{"$f":"IF(ISBLANK(B170),\"\",VLOOKUP(B170,NSLPandADEtableFY14,11,FALSE))","v":""},null,null,null,null,null,null,null,"Buckeye Elementary School - 070433109"]
["",null,{"$f":"IF(ISBLANK(B171),\"\",VLOOKUP(B171,NSLPandADEtableFY14,14,FALSE))","v":""},{"$f":"IF(ISBLANK(B171),\"\",VLOOKUP(B171,NSLPandADEtableFY14,15,FALSE))","v":""},{"$f":"IF(ISBLANK(B171),\"\",VLOOKUP(B171,NSLPandADEtableFY14,2,FALSE))","v":""},"",{"$f":"IF(ISBLANK(B171),\"\",VLOOKUP(B171,NSLPandADEtableFY14,11,FALSE))","v":""},null,null,null,null,null,null,null,"Buckeye Union High School - 070501201"]
["",null,{"$f":"IF(ISBLANK(B172),\"\",VLOOKUP(B172,NSLPandADEtableFY14,14,FALSE))","v":""},{"$f":"IF(ISBLANK(B172),\"\",VLOOKUP(B172,NSLPandADEtableFY14,15,FALSE))","v":""},{"$f":"IF(ISBLANK(B172),\"\",VLOOKUP(B172,NSLPandADEtableFY14,2,FALSE))","v":""},"",{"$f":"IF(ISBLANK(B172),\"\",VLOOKUP(B172,NSLPandADEtableFY14,11,FALSE))","v":""},null,null,null,null,null,null,null,"Buena High School - 020268260"]
["",null,{"$f":"IF(ISBLANK(B173),\"\",VLOOKUP(B173,NSLPandADEtableFY14,14,FALSE))","v":""},{"$f":"IF(ISBLANK(B173),\"\",VLOOKUP(B173,NSLPandADEtableFY14,15,FALSE))","v":""},{"$f":"IF(ISBLANK(B173),\"\",VLOOKUP(B173,NSLPandADEtableFY14,2,FALSE))","v":""},"",{"$f":"IF(ISBLANK(B173),\"\",VLOOKUP(B173,NSLPandADEtableFY14,11,FALSE))","v":""},null,null,null,null,null,null,null,"Bullhead City Jr High School - 080415130"]
["",null,{"$f":"IF(ISBLANK(B174),\"\",VLOOKUP(B174,NSLPandADEtableFY14,14,FALSE))","v":""},{"$f":"IF(ISBLANK(B174),\"\",VLOOKUP(B174,NSLPandADEtableFY14,15,FALSE))","v":""},{"$f":"IF(ISBLANK(B174),\"\",VLOOKUP(B174,NSLPandADEtableFY14,2,FALSE))","v":""},"",{"$f":"IF(ISBLANK(B174),\"\",VLOOKUP(B174,NSLPandADEtableFY14,11,FALSE))","v":""},null,null,null,null,null,null,null,"Burk Elementary School - 070241147"]
["",null,{"$f":"IF(ISBLANK(B175),\"\",VLOOKUP(B175,NSLPandADEtableFY14,14,FALSE))","v":""},{"$f":"IF(ISBLANK(B175),\"\",VLOOKUP(B175,NSLPandADEtableFY14,15,FALSE))","v":""},{"$f":"IF(ISBLANK(B175),\"\",VLOOKUP(B175,NSLPandADEtableFY14,2,FALSE))","v":""},"",{"$f":"IF(ISBLANK(B175),\"\",VLOOKUP(B175,NSLPandADEtableFY14,11,FALSE))","v":""},null,null,null,null,null,null,null,"Burke Basic School - 078989101"]
["",null,{"$f":"IF(ISBLANK(B176),\"\",VLOOKUP(B176,NSLPandADEtableFY14,14,FALSE))","v":""},{"$f":"IF(ISBLANK(B176),\"\",VLOOKUP(B176,NSLPandADEtableFY14,15,FALSE))","v":""},{"$f":"IF(ISBLANK(B176),\"\",VLOOKUP(B176,NSLPandADEtableFY14,2,FALSE))","v":""},"",{"$f":"IF(ISBLANK(B176),\"\",VLOOKUP(B176,NSLPandADEtableFY14,11,FALSE))","v":""},null,null,null,null,null,null,null,"Bush Elementary - 070204149"]
["",null,{"$f":"IF(ISBLANK(B177),\"\",VLOOKUP(B177,NSLPandADEtableFY14,14,FALSE))","v":""},{"$f":"IF(ISBLANK(B177),\"\",VLOOKUP(B177,NSLPandADEtableFY14,15,FALSE))","v":""},{"$f":"IF(ISBLANK(B177),\"\",VLOOKUP(B177,NSLPandADEtableFY14,2,FALSE))","v":""},"",{"$f":"IF(ISBLANK(B177),\"\",VLOOKUP(B177,NSLPandADEtableFY14,11,FALSE))","v":""},null,null,null,null,null,null,null,"Butterfield Elementary School - 100206114"]
["",null,{"$f":"IF(ISBLANK(B178),\"\",VLOOKUP(B178,NSLPandADEtableFY14,14,FALSE))","v":""},{"$f":"IF(ISBLANK(B178),\"\",VLOOKUP(B178,NSLPandADEtableFY14,15,FALSE))","v":""},{"$f":"IF(ISBLANK(B178),\"\",VLOOKUP(B178,NSLPandADEtableFY14,2,FALSE))","v":""},"",{"$f":"IF(ISBLANK(B178),\"\",VLOOKUP(B178,NSLPandADEtableFY14,11,FALSE))","v":""},null,null,null,null,null,null,null,"Butterfield Elementary School - 110220108"]
["",null,{"$f":"IF(ISBLANK(B179),\"\",VLOOKUP(B179,NSLPandADEtableFY14,14,FALSE))","v":""},{"$f":"IF(ISBLANK(B179),\"\",VLOOKUP(B179,NSLPandADEtableFY14,15,FALSE))","v":""},{"$f":"IF(ISBLANK(B179),\"\",VLOOKUP(B179,NSLPandADEtableFY14,2,FALSE))","v":""},"",{"$f":"IF(ISBLANK(B179),\"\",VLOOKUP(B179,NSLPandADEtableFY14,11,FALSE))","v":""},null,null,null,null,null,null,null,"C E Rose Elementary School - 100201371"]
["",null,{"$f":"IF(ISBLANK(B180),\"\",VLOOKUP(B180,NSLPandADEtableFY14,14,FALSE))","v":""},{"$f":"IF(ISBLANK(B180),\"\",VLOOKUP(B180,NSLPandADEtableFY14,15,FALSE))","v":""},{"$f":"IF(ISBLANK(B180),\"\",VLOOKUP(B180,NSLPandADEtableFY14,2,FALSE))","v":""},"",{"$f":"IF(ISBLANK(B180),\"\",VLOOKUP(B180,NSLPandADEtableFY14,11,FALSE))","v":""},null,null,null,null,null,null,null,"C I Waggoner School - 070428142"]
["",null,{"$f":"IF(ISBLANK(B181),\"\",VLOOKUP(B181,NSLPandADEtableFY14,14,FALSE))","v":""},{"$f":"IF(ISBLANK(B181),\"\",VLOOKUP(B181,NSLPandADEtableFY14,15,FALSE))","v":""},{"$f":"IF(ISBLANK(B181),\"\",VLOOKUP(B181,NSLPandADEtableFY14,2,FALSE))","v":""},"",{"$f":"IF(ISBLANK(B181),\"\",VLOOKUP(B181,NSLPandADEtableFY14,11,FALSE))","v":""},null,null,null,null,null,null,null,"C J Jorgensen School - 070466007"]
["",null,{"$f":"IF(ISBLANK(B182),\"\",VLOOKUP(B182,NSLPandADEtableFY14,14,FALSE))","v":""},{"$f":"IF(ISBLANK(B182),\"\",VLOOKUP(B182,NSLPandADEtableFY14,15,FALSE))","v":""},{"$f":"IF(ISBLANK(B182),\"\",VLOOKUP(B182,NSLPandADEtableFY14,2,FALSE))","v":""},"",{"$f":"IF(ISBLANK(B182),\"\",VLOOKUP(B182,NSLPandADEtableFY14,11,FALSE))","v":""},null,null,null,null,null,null,null,"C O Greenfield School - 070466016"]
["",null,{"$f":"IF(ISBLANK(B183),\"\",VLOOKUP(B183,NSLPandADEtableFY14,14,FALSE))","v":""},{"$f":"IF(ISBLANK(B183),\"\",VLOOKUP(B183,NSLPandADEtableFY14,15,FALSE))","v":""},{"$f":"IF(ISBLANK(B183),\"\",VLOOKUP(B183,NSLPandADEtableFY14,2,FALSE))","v":""},"",{"$f":"IF(ISBLANK(B183),\"\",VLOOKUP(B183,NSLPandADEtableFY14,11,FALSE))","v":""},null,null,null,null,null,null,null,"C W Mcgraw Elementary School - 140401103"]
["",null,{"$f":"IF(ISBLANK(B184),\"\",VLOOKUP(B184,NSLPandADEtableFY14,14,FALSE))","v":""},{"$f":"IF(ISBLANK(B184),\"\",VLOOKUP(B184,NSLPandADEtableFY14,15,FALSE))","v":""},{"$f":"IF(ISBLANK(B184),\"\",VLOOKUP(B184,NSLPandADEtableFY14,2,FALSE))","v":""},"",{"$f":"IF(ISBLANK(B184),\"\",VLOOKUP(B184,NSLPandADEtableFY14,11,FALSE))","v":""},null,null,null,null,null,null,null,"C. Doby Middle School - 078603007"]
["",null,{"$f":"IF(ISBLANK(B185),\"\",VLOOKUP(B185,NSLPandADEtableFY14,14,FALSE))","v":""},{"$f":"IF(ISBLANK(B185),\"\",VLOOKUP(B185,NSLPandADEtableFY14,15,FALSE))","v":""},{"$f":"IF(ISBLANK(B185),\"\",VLOOKUP(B185,NSLPandADEtableFY14,2,FALSE))","v":""},"",{"$f":"IF(ISBLANK(B185),\"\",VLOOKUP(B185,NSLPandADEtableFY14,11,FALSE))","v":""},null,null,null,null,null,null,null,"Cactus Canyon Junior High - 110243151"]
["",null,{"$f":"IF(ISBLANK(B186),\"\",VLOOKUP(B186,NSLPandADEtableFY14,14,FALSE))","v":""},{"$f":"IF(ISBLANK(B186),\"\",VLOOKUP(B186,NSLPandADEtableFY14,15,FALSE))","v":""},{"$f":"IF(ISBLANK(B186),\"\",VLOOKUP(B186,NSLPandADEtableFY14,2,FALSE))","v":""},"",{"$f":"IF(ISBLANK(B186),\"\",VLOOKUP(B186,NSLPandADEtableFY14,11,FALSE))","v":""},null,null,null,null,null,null,null,"Cactus High School - 070211261"]
["",null,{"$f":"IF(ISBLANK(B187),\"\",VLOOKUP(B187,NSLPandADEtableFY14,14,FALSE))","v":""},{"$f":"IF(ISBLANK(B187),\"\",VLOOKUP(B187,NSLPandADEtableFY14,15,FALSE))","v":""},{"$f":"IF(ISBLANK(B187),\"\",VLOOKUP(B187,NSLPandADEtableFY14,2,FALSE))","v":""},"",{"$f":"IF(ISBLANK(B187),\"\",VLOOKUP(B187,NSLPandADEtableFY14,11,FALSE))","v":""},null,null,null,null,null,null,null,"Cactus Middle School - 110404110"]
["",null,{"$f":"IF(ISBLANK(B188),\"\",VLOOKUP(B188,NSLPandADEtableFY14,14,FALSE))","v":""},{"$f":"IF(ISBLANK(B188),\"\",VLOOKUP(B188,NSLPandADEtableFY14,15,FALSE))","v":""},{"$f":"IF(ISBLANK(B188),\"\",VLOOKUP(B188,NSLPandADEtableFY14,2,FALSE))","v":""},"",{"$f":"IF(ISBLANK(B188),\"\",VLOOKUP(B188,NSLPandADEtableFY14,11,FALSE))","v":""},null,null,null,null,null,null,null,"Cactus Shadows High School - 070293204"]
["",null,{"$f":"IF(ISBLANK(B189),\"\",VLOOKUP(B189,NSLPandADEtableFY14,14,FALSE))","v":""},{"$f":"IF(ISBLANK(B189),\"\",VLOOKUP(B189,NSLPandADEtableFY14,15,FALSE))","v":""},{"$f":"IF(ISBLANK(B189),\"\",VLOOKUP(B189,NSLPandADEtableFY14,2,FALSE))","v":""},"",{"$f":"IF(ISBLANK(B189),\"\",VLOOKUP(B189,NSLPandADEtableFY14,11,FALSE))","v":""},null,null,null,null,null,null,null,"Cactus View Elementary School - 070269127"]
["",null,{"$f":"IF(ISBLANK(B190),\"\",VLOOKUP(B190,NSLPandADEtableFY14,14,FALSE))","v":""},{"$f":"IF(ISBLANK(B190),\"\",VLOOKUP(B190,NSLPandADEtableFY14,15,FALSE))","v":""},{"$f":"IF(ISBLANK(B190),\"\",VLOOKUP(B190,NSLPandADEtableFY14,2,FALSE))","v":""},"",{"$f":"IF(ISBLANK(B190),\"\",VLOOKUP(B190,NSLPandADEtableFY14,11,FALSE))","v":""},null,null,null,null,null,null,null,"Cactus Wren Elementary School - 070406120"]
["",null,{"$f":"IF(ISBLANK(B191),\"\",VLOOKUP(B191,NSLPandADEtableFY14,14,FALSE))","v":""},{"$f":"IF(ISBLANK(B191),\"\",VLOOKUP(B191,NSLPandADEtableFY14,15,FALSE))","v":""},{"$f":"IF(ISBLANK(B191),\"\",VLOOKUP(B191,NSLPandADEtableFY14,2,FALSE))","v":""},"",{"$f":"IF(ISBLANK(B191),\"\",VLOOKUP(B191,NSLPandADEtableFY14,11,FALSE))","v":""},null,null,null,null,null,null,null,"Calabasas Middle School - 120235130"]
["",null,{"$f":"IF(ISBLANK(B192),\"\",VLOOKUP(B192,NSLPandADEtableFY14,14,FALSE))","v":""},{"$f":"IF(ISBLANK(B192),\"\",VLOOKUP(B192,NSLPandADEtableFY14,15,FALSE))","v":""},{"$f":"IF(ISBLANK(B192),\"\",VLOOKUP(B192,NSLPandADEtableFY14,2,FALSE))","v":""},"",{"$f":"IF(ISBLANK(B192),\"\",VLOOKUP(B192,NSLPandADEtableFY14,11,FALSE))","v":""},null,null,null,null,null,null,null,"Calibre Academy of Glendale - 078909104"]
["",null,{"$f":"IF(ISBLANK(B193),\"\",VLOOKUP(B193,NSLPandADEtableFY14,14,FALSE))","v":""},{"$f":"IF(ISBLANK(B193),\"\",VLOOKUP(B193,NSLPandADEtableFY14,15,FALSE))","v":""},{"$f":"IF(ISBLANK(B193),\"\",VLOOKUP(B193,NSLPandADEtableFY14,2,FALSE))","v":""},"",{"$f":"IF(ISBLANK(B193),\"\",VLOOKUP(B193,NSLPandADEtableFY14,11,FALSE))","v":""},null,null,null,null,null,null,null,"Calibre Academy Surprise - 078909102"]
["",null,{"$f":"IF(ISBLANK(B194),\"\",VLOOKUP(B194,NSLPandADEtableFY14,14,FALSE))","v":""},{"$f":"IF(ISBLANK(B194),\"\",VLOOKUP(B194,NSLPandADEtableFY14,15,FALSE))","v":""},{"$f":"IF(ISBLANK(B194),\"\",VLOOKUP(B194,NSLPandADEtableFY14,2,FALSE))","v":""},"",{"$f":"IF(ISBLANK(B194),\"\",VLOOKUP(B194,NSLPandADEtableFY14,11,FALSE))","v":""},null,null,null,null,null,null,null,"Cambell House - 072711002"]
["",null,{"$f":"IF(ISBLANK(B195),\"\",VLOOKUP(B195,NSLPandADEtableFY14,14,FALSE))","v":""},{"$f":"IF(ISBLANK(B195),\"\",VLOOKUP(B195,NSLPandADEtableFY14,15,FALSE))","v":""},{"$f":"IF(ISBLANK(B195),\"\",VLOOKUP(B195,NSLPandADEtableFY14,2,FALSE))","v":""},"",{"$f":"IF(ISBLANK(B195),\"\",VLOOKUP(B195,NSLPandADEtableFY14,11,FALSE))","v":""},null,null,null,null,null,null,null,"Cambridge Academy East - 078768102"]
["",null,{"$f":"IF(ISBLANK(B196),\"\",VLOOKUP(B196,NSLPandADEtableFY14,14,FALSE))","v":""},{"$f":"IF(ISBLANK(B196),\"\",VLOOKUP(B196,NSLPandADEtableFY14,15,FALSE))","v":""},{"$f":"IF(ISBLANK(B196),\"\",VLOOKUP(B196,NSLPandADEtableFY14,2,FALSE))","v":""},"",{"$f":"IF(ISBLANK(B196),\"\",VLOOKUP(B196,NSLPandADEtableFY14,11,FALSE))","v":""},null,null,null,null,null,null,null,"Camelback Academy - 078959001"]
["",null,{"$f":"IF(ISBLANK(B197),\"\",VLOOKUP(B197,NSLPandADEtableFY14,14,FALSE))","v":""},{"$f":"IF(ISBLANK(B197),\"\",VLOOKUP(B197,NSLPandADEtableFY14,15,FALSE))","v":""},{"$f":"IF(ISBLANK(B197),\"\",VLOOKUP(B197,NSLPandADEtableFY14,2,FALSE))","v":""},"",{"$f":"IF(ISBLANK(B197),\"\",VLOOKUP(B197,NSLPandADEtableFY14,11,FALSE))","v":""},null,null,null,null,null,null,null,"Camelback High School - 070510225"]
["",null,{"$f":"IF(ISBLANK(B198),\"\",VLOOKUP(B198,NSLPandADEtableFY14,14,FALSE))","v":""},{"$f":"IF(ISBLANK(B198),\"\",VLOOKUP(B198,NSLPandADEtableFY14,15,FALSE))","v":""},{"$f":"IF(ISBLANK(B198),\"\",VLOOKUP(B198,NSLPandADEtableFY14,2,FALSE))","v":""},"",{"$f":"IF(ISBLANK(B198),\"\",VLOOKUP(B198,NSLPandADEtableFY14,11,FALSE))","v":""},null,null,null,null,null,null,null,"Camp Mohave Elementary - 080416105"]
["",null,{"$f":"IF(ISBLANK(B199),\"\",VLOOKUP(B199,NSLPandADEtableFY14,14,FALSE))","v":""},{"$f":"IF(ISBLANK(B199),\"\",VLOOKUP(B199,NSLPandADEtableFY14,15,FALSE))","v":""},{"$f":"IF(ISBLANK(B199),\"\",VLOOKUP(B199,NSLPandADEtableFY14,2,FALSE))","v":""},"",{"$f":"IF(ISBLANK(B199),\"\",VLOOKUP(B199,NSLPandADEtableFY14,11,FALSE))","v":""},null,null,null,null,null,null,null,"Camp Verde Elementary School - 130228101"]
["",null,{"$f":"IF(ISBLANK(B200),\"\",VLOOKUP(B200,NSLPandADEtableFY14,14,FALSE))","v":""},{"$f":"IF(ISBLANK(B200),\"\",VLOOKUP(B200,NSLPandADEtableFY14,15,FALSE))","v":""},{"$f":"IF(ISBLANK(B200),\"\",VLOOKUP(B200,NSLPandADEtableFY14,2,FALSE))","v":""},"",{"$f":"IF(ISBLANK(B200),\"\",VLOOKUP(B200,NSLPandADEtableFY14,11,FALSE))","v":""},null,null,null,null,null,null,null,"Camp Verde High School - 130228203"]
["",null,{"$f":"IF(ISBLANK(B201),\"\",VLOOKUP(B201,NSLPandADEtableFY14,14,FALSE))","v":""},{"$f":"IF(ISBLANK(B201),\"\",VLOOKUP(B201,NSLPandADEtableFY14,15,FALSE))","v":""},{"$f":"IF(ISBLANK(B201),\"\",VLOOKUP(B201,NSLPandADEtableFY14,2,FALSE))","v":""},"",{"$f":"IF(ISBLANK(B201),\"\",VLOOKUP(B201,NSLPandADEtableFY14,11,FALSE))","v":""},null,null,null,null,null,null,null,"Camp Verde Middle School - 130228102"]
["",null,{"$f":"IF(ISBLANK(B202),\"\",VLOOKUP(B202,NSLPandADEtableFY14,14,FALSE))","v":""},{"$f":"IF(ISBLANK(B202),\"\",VLOOKUP(B202,NSLPandADEtableFY14,15,FALSE))","v":""},{"$f":"IF(ISBLANK(B202),\"\",VLOOKUP(B202,NSLPandADEtableFY14,2,FALSE))","v":""},"",{"$f":"IF(ISBLANK(B202),\"\",VLOOKUP(B202,NSLPandADEtableFY14,11,FALSE))","v":""},null,null,null,null,null,null,null,"Campbell - 072781001"]
["",null,{"$f":"IF(ISBLANK(B203),\"\",VLOOKUP(B203,NSLPandADEtableFY14,14,FALSE))","v":""},{"$f":"IF(ISBLANK(B203),\"\",VLOOKUP(B203,NSLPandADEtableFY14,15,FALSE))","v":""},{"$f":"IF(ISBLANK(B203),\"\",VLOOKUP(B203,NSLPandADEtableFY14,2,FALSE))","v":""},"",{"$f":"IF(ISBLANK(B203),\"\",VLOOKUP(B203,NSLPandADEtableFY14,11,FALSE))","v":""},null,null,null,null,null,null,null,"Campo Bello Elementary School - 070269115"]
[{"$f":"IF(ISBLANK(B204),\"\",\"Q-Public School\")","v":""},null,{"$f":"IF(ISBLANK(B204),\"\",VLOOKUP(B204,NSLPandADEtableFY14,14,FALSE))","v":""},{"$f":"IF(ISBLANK(B204),\"\",VLOOKUP(B204,NSLPandADEtableFY14,15,FALSE))","v":""},{"$f":"IF(ISBLANK(B204),\"\",VLOOKUP(B204,NSLPandADEtableFY14,2,FALSE))","v":""},{"$f":"IF(ISBLANK(B204),\"\",\"Free & Reduced Lunch Data (NSLP) March 2013\")","v":""},{"$f":"IF(ISBLANK(B204),\"\",VLOOKUP(B204,NSLPandADEtableFY14,11,FALSE))","v":""},null,null,null,null,null,null,null,"Campo Verde High School - 070241214"]
["",null,{"$f":"IF(ISBLANK(B205),\"\",VLOOKUP(B205,NSLPandADEtableFY14,14,FALSE))","v":""},{"$f":"IF(ISBLANK(B205),\"\",VLOOKUP(B205,NSLPandADEtableFY14,15,FALSE))","v":""},{"$f":"IF(ISBLANK(B205),\"\",VLOOKUP(B205,NSLPandADEtableFY14,2,FALSE))","v":""},"",{"$f":"IF(ISBLANK(B205),\"\",VLOOKUP(B205,NSLPandADEtableFY14,11,FALSE))","v":""},null,null,null,null,null,null,null,"Canon School - 130350101"]
["",null,{"$f":"IF(ISBLANK(B206),\"\",VLOOKUP(B206,NSLPandADEtableFY14,14,FALSE))","v":""},{"$f":"IF(ISBLANK(B206),\"\",VLOOKUP(B206,NSLPandADEtableFY14,15,FALSE))","v":""},{"$f":"IF(ISBLANK(B206),\"\",VLOOKUP(B206,NSLPandADEtableFY14,2,FALSE))","v":""},"",{"$f":"IF(ISBLANK(B206),\"\",VLOOKUP(B206,NSLPandADEtableFY14,11,FALSE))","v":""},null,null,null,null,null,null,null,"Canyon Breeze Elementary - 070492019"]
["",null,{"$f":"IF(ISBLANK(B207),\"\",VLOOKUP(B207,NSLPandADEtableFY14,14,FALSE))","v":""},{"$f":"IF(ISBLANK(B207),\"\",VLOOKUP(B207,NSLPandADEtableFY14,15,FALSE))","v":""},{"$f":"IF(ISBLANK(B207),\"\",VLOOKUP(B207,NSLPandADEtableFY14,2,FALSE))","v":""},"",{"$f":"IF(ISBLANK(B207),\"\",VLOOKUP(B207,NSLPandADEtableFY14,11,FALSE))","v":""},null,null,null,null,null,null,null,"Canyon Day Junior High School - 090220103"]
["",null,{"$f":"IF(ISBLANK(B208),\"\",VLOOKUP(B208,NSLPandADEtableFY14,14,FALSE))","v":""},{"$f":"IF(ISBLANK(B208),\"\",VLOOKUP(B208,NSLPandADEtableFY14,15,FALSE))","v":""},{"$f":"IF(ISBLANK(B208),\"\",VLOOKUP(B208,NSLPandADEtableFY14,2,FALSE))","v":""},"",{"$f":"IF(ISBLANK(B208),\"\",VLOOKUP(B208,NSLPandADEtableFY14,11,FALSE))","v":""},null,null,null,null,null,null,null,"Canyon De Chelly Elementary School - 010224155"]
["",null,{"$f":"IF(ISBLANK(B209),\"\",VLOOKUP(B209,NSLPandADEtableFY14,14,FALSE))","v":""},{"$f":"IF(ISBLANK(B209),\"\",VLOOKUP(B209,NSLPandADEtableFY14,15,FALSE))","v":""},{"$f":"IF(ISBLANK(B209),\"\",VLOOKUP(B209,NSLPandADEtableFY14,2,FALSE))","v":""},"",{"$f":"IF(ISBLANK(B209),\"\",VLOOKUP(B209,NSLPandADEtableFY14,11,FALSE))","v":""},null,null,null,null,null,null,null,"Canyon Del Oro High School - 100210282"]
["",null,{"$f":"IF(ISBLANK(B210),\"\",VLOOKUP(B210,NSLPandADEtableFY14,14,FALSE))","v":""},{"$f":"IF(ISBLANK(B210),\"\",VLOOKUP(B210,NSLPandADEtableFY14,15,FALSE))","v":""},{"$f":"IF(ISBLANK(B210),\"\",VLOOKUP(B210,NSLPandADEtableFY14,2,FALSE))","v":""},"",{"$f":"IF(ISBLANK(B210),\"\",VLOOKUP(B210,NSLPandADEtableFY14,11,FALSE))","v":""},null,null,null,null,null,null,null,"Canyon Elementary School - 070211119"]
["",null,{"$f":"IF(ISBLANK(B211),\"\",VLOOKUP(B211,NSLPandADEtableFY14,14,FALSE))","v":""},{"$f":"IF(ISBLANK(B211),\"\",VLOOKUP(B211,NSLPandADEtableFY14,15,FALSE))","v":""},{"$f":"IF(ISBLANK(B211),\"\",VLOOKUP(B211,NSLPandADEtableFY14,2,FALSE))","v":""},"",{"$f":"IF(ISBLANK(B211),\"\",VLOOKUP(B211,NSLPandADEtableFY14,11,FALSE))","v":""},null,null,null,null,null,null,null,"Canyon Ridge - 070289124"]
["",null,{"$f":"IF(ISBLANK(B212),\"\",VLOOKUP(B212,NSLPandADEtableFY14,14,FALSE))","v":""},{"$f":"IF(ISBLANK(B212),\"\",VLOOKUP(B212,NSLPandADEtableFY14,15,FALSE))","v":""},{"$f":"IF(ISBLANK(B212),\"\",VLOOKUP(B212,NSLPandADEtableFY14,2,FALSE))","v":""},"",{"$f":"IF(ISBLANK(B212),\"\",VLOOKUP(B212,NSLPandADEtableFY14,11,FALSE))","v":""},null,null,null,null,null,null,null,"Canyon Rim Elem - 070241163"]
["",null,{"$f":"IF(ISBLANK(B213),\"\",VLOOKUP(B213,NSLPandADEtableFY14,14,FALSE))","v":""},{"$f":"IF(ISBLANK(B213),\"\",VLOOKUP(B213,NSLPandADEtableFY14,15,FALSE))","v":""},{"$f":"IF(ISBLANK(B213),\"\",VLOOKUP(B213,NSLPandADEtableFY14,2,FALSE))","v":""},"",{"$f":"IF(ISBLANK(B213),\"\",VLOOKUP(B213,NSLPandADEtableFY14,11,FALSE))","v":""},null,null,null,null,null,null,null,"Canyon Springs - 070297148"]
["",null,{"$f":"IF(ISBLANK(B214),\"\",VLOOKUP(B214,NSLPandADEtableFY14,14,FALSE))","v":""},{"$f":"IF(ISBLANK(B214),\"\",VLOOKUP(B214,NSLPandADEtableFY14,15,FALSE))","v":""},{"$f":"IF(ISBLANK(B214),\"\",VLOOKUP(B214,NSLPandADEtableFY14,2,FALSE))","v":""},"",{"$f":"IF(ISBLANK(B214),\"\",VLOOKUP(B214,NSLPandADEtableFY14,11,FALSE))","v":""},null,null,null,null,null,null,null,"Canyon State Academy - 072107001"]
["",null,{"$f":"IF(ISBLANK(B215),\"\",VLOOKUP(B215,NSLPandADEtableFY14,14,FALSE))","v":""},{"$f":"IF(ISBLANK(B215),\"\",VLOOKUP(B215,NSLPandADEtableFY14,15,FALSE))","v":""},{"$f":"IF(ISBLANK(B215),\"\",VLOOKUP(B215,NSLPandADEtableFY14,2,FALSE))","v":""},"",{"$f":"IF(ISBLANK(B215),\"\",VLOOKUP(B215,NSLPandADEtableFY14,11,FALSE))","v":""},null,null,null,null,null,null,null,"Canyon View Elementary School - 100216104"]
["",null,{"$f":"IF(ISBLANK(B216),\"\",VLOOKUP(B216,NSLPandADEtableFY14,14,FALSE))","v":""},{"$f":"IF(ISBLANK(B216),\"\",VLOOKUP(B216,NSLPandADEtableFY14,15,FALSE))","v":""},{"$f":"IF(ISBLANK(B216),\"\",VLOOKUP(B216,NSLPandADEtableFY14,2,FALSE))","v":""},"",{"$f":"IF(ISBLANK(B216),\"\",VLOOKUP(B216,NSLPandADEtableFY14,11,FALSE))","v":""},null,null,null,null,null,null,null,"Capitol Elementary School - 070401102"]
["",null,{"$f":"IF(ISBLANK(B217),\"\",VLOOKUP(B217,NSLPandADEtableFY14,14,FALSE))","v":""},{"$f":"IF(ISBLANK(B217),\"\",VLOOKUP(B217,NSLPandADEtableFY14,15,FALSE))","v":""},{"$f":"IF(ISBLANK(B217),\"\",VLOOKUP(B217,NSLPandADEtableFY14,2,FALSE))","v":""},"",{"$f":"IF(ISBLANK(B217),\"\",VLOOKUP(B217,NSLPandADEtableFY14,11,FALSE))","v":""},null,null,null,null,null,null,null,"Capps Elementary School - 090206102"]
["",null,{"$f":"IF(ISBLANK(B218),\"\",VLOOKUP(B218,NSLPandADEtableFY14,14,FALSE))","v":""},{"$f":"IF(ISBLANK(B218),\"\",VLOOKUP(B218,NSLPandADEtableFY14,15,FALSE))","v":""},{"$f":"IF(ISBLANK(B218),\"\",VLOOKUP(B218,NSLPandADEtableFY14,2,FALSE))","v":""},"",{"$f":"IF(ISBLANK(B218),\"\",VLOOKUP(B218,NSLPandADEtableFY14,11,FALSE))","v":""},null,null,null,null,null,null,null,"Career Success High School - Main Campus - 078524201"]
["",null,{"$f":"IF(ISBLANK(B219),\"\",VLOOKUP(B219,NSLPandADEtableFY14,14,FALSE))","v":""},{"$f":"IF(ISBLANK(B219),\"\",VLOOKUP(B219,NSLPandADEtableFY14,15,FALSE))","v":""},{"$f":"IF(ISBLANK(B219),\"\",VLOOKUP(B219,NSLPandADEtableFY14,2,FALSE))","v":""},"",{"$f":"IF(ISBLANK(B219),\"\",VLOOKUP(B219,NSLPandADEtableFY14,11,FALSE))","v":""},null,null,null,null,null,null,null,"Career Success High School - Robert L. Duffy - 078524205"]
["",null,{"$f":"IF(ISBLANK(B220),\"\",VLOOKUP(B220,NSLPandADEtableFY14,14,FALSE))","v":""},{"$f":"IF(ISBLANK(B220),\"\",VLOOKUP(B220,NSLPandADEtableFY14,15,FALSE))","v":""},{"$f":"IF(ISBLANK(B220),\"\",VLOOKUP(B220,NSLPandADEtableFY14,2,FALSE))","v":""},"",{"$f":"IF(ISBLANK(B220),\"\",VLOOKUP(B220,NSLPandADEtableFY14,11,FALSE))","v":""},null,null,null,null,null,null,null,"Career Success School -- Sage Campus - 078524001"]
["",null,{"$f":"IF(ISBLANK(B221),\"\",VLOOKUP(B221,NSLPandADEtableFY14,14,FALSE))","v":""},{"$f":"IF(ISBLANK(B221),\"\",VLOOKUP(B221,NSLPandADEtableFY14,15,FALSE))","v":""},{"$f":"IF(ISBLANK(B221),\"\",VLOOKUP(B221,NSLPandADEtableFY14,2,FALSE))","v":""},"",{"$f":"IF(ISBLANK(B221),\"\",VLOOKUP(B221,NSLPandADEtableFY14,11,FALSE))","v":""},null,null,null,null,null,null,null,"Carl Hayden High School - 070510245"]
["",null,{"$f":"IF(ISBLANK(B222),\"\",VLOOKUP(B222,NSLPandADEtableFY14,14,FALSE))","v":""},{"$f":"IF(ISBLANK(B222),\"\",VLOOKUP(B222,NSLPandADEtableFY14,15,FALSE))","v":""},{"$f":"IF(ISBLANK(B222),\"\",VLOOKUP(B222,NSLPandADEtableFY14,2,FALSE))","v":""},"",{"$f":"IF(ISBLANK(B222),\"\",VLOOKUP(B222,NSLPandADEtableFY14,11,FALSE))","v":""},null,null,null,null,null,null,null,"Carmichael Elementary School - 020268115"]
["",null,{"$f":"IF(ISBLANK(B223),\"\",VLOOKUP(B223,NSLPandADEtableFY14,14,FALSE))","v":""},{"$f":"IF(ISBLANK(B223),\"\",VLOOKUP(B223,NSLPandADEtableFY14,15,FALSE))","v":""},{"$f":"IF(ISBLANK(B223),\"\",VLOOKUP(B223,NSLPandADEtableFY14,2,FALSE))","v":""},"",{"$f":"IF(ISBLANK(B223),\"\",VLOOKUP(B223,NSLPandADEtableFY14,11,FALSE))","v":""},null,null,null,null,null,null,null,"Carminati School - 070403111"]
["",null,{"$f":"IF(ISBLANK(B224),\"\",VLOOKUP(B224,NSLPandADEtableFY14,14,FALSE))","v":""},{"$f":"IF(ISBLANK(B224),\"\",VLOOKUP(B224,NSLPandADEtableFY14,15,FALSE))","v":""},{"$f":"IF(ISBLANK(B224),\"\",VLOOKUP(B224,NSLPandADEtableFY14,2,FALSE))","v":""},"",{"$f":"IF(ISBLANK(B224),\"\",VLOOKUP(B224,NSLPandADEtableFY14,11,FALSE))","v":""},null,null,null,null,null,null,null,"Carol G. Peck Elementary School - 070468105"]
["",null,{"$f":"IF(ISBLANK(B225),\"\",VLOOKUP(B225,NSLPandADEtableFY14,14,FALSE))","v":""},{"$f":"IF(ISBLANK(B225),\"\",VLOOKUP(B225,NSLPandADEtableFY14,15,FALSE))","v":""},{"$f":"IF(ISBLANK(B225),\"\",VLOOKUP(B225,NSLPandADEtableFY14,2,FALSE))","v":""},"",{"$f":"IF(ISBLANK(B225),\"\",VLOOKUP(B225,NSLPandADEtableFY14,11,FALSE))","v":""},null,null,null,null,null,null,null,"Carol Rae Ranch Elementary - 070241159"]
["",null,{"$f":"IF(ISBLANK(B226),\"\",VLOOKUP(B226,NSLPandADEtableFY14,14,FALSE))","v":""},{"$f":"IF(ISBLANK(B226),\"\",VLOOKUP(B226,NSLPandADEtableFY14,15,FALSE))","v":""},{"$f":"IF(ISBLANK(B226),\"\",VLOOKUP(B226,NSLPandADEtableFY14,2,FALSE))","v":""},"",{"$f":"IF(ISBLANK(B226),\"\",VLOOKUP(B226,NSLPandADEtableFY14,11,FALSE))","v":""},null,null,null,null,null,null,null,"Carrillo Intermediate Magnet School - 100201161"]
["",null,{"$f":"IF(ISBLANK(B227),\"\",VLOOKUP(B227,NSLPandADEtableFY14,14,FALSE))","v":""},{"$f":"IF(ISBLANK(B227),\"\",VLOOKUP(B227,NSLPandADEtableFY14,15,FALSE))","v":""},{"$f":"IF(ISBLANK(B227),\"\",VLOOKUP(B227,NSLPandADEtableFY14,2,FALSE))","v":""},"",{"$f":"IF(ISBLANK(B227),\"\",VLOOKUP(B227,NSLPandADEtableFY14,11,FALSE))","v":""},null,null,null,null,null,null,null,"Carson Junior  High School - 070204252"]
["",null,{"$f":"IF(ISBLANK(B228),\"\",VLOOKUP(B228,NSLPandADEtableFY14,14,FALSE))","v":""},{"$f":"IF(ISBLANK(B228),\"\",VLOOKUP(B228,NSLPandADEtableFY14,15,FALSE))","v":""},{"$f":"IF(ISBLANK(B228),\"\",VLOOKUP(B228,NSLPandADEtableFY14,2,FALSE))","v":""},"",{"$f":"IF(ISBLANK(B228),\"\",VLOOKUP(B228,NSLPandADEtableFY14,11,FALSE))","v":""},null,null,null,null,null,null,null,"Carson Middle School - 100201503"]
["",null,{"$f":"IF(ISBLANK(B229),\"\",VLOOKUP(B229,NSLPandADEtableFY14,14,FALSE))","v":""},{"$f":"IF(ISBLANK(B229),\"\",VLOOKUP(B229,NSLPandADEtableFY14,15,FALSE))","v":""},{"$f":"IF(ISBLANK(B229),\"\",VLOOKUP(B229,NSLPandADEtableFY14,2,FALSE))","v":""},"",{"$f":"IF(ISBLANK(B229),\"\",VLOOKUP(B229,NSLPandADEtableFY14,11,FALSE))","v":""},null,null,null,null,null,null,null,"Cartwright School - 070483101"]
["",null,{"$f":"IF(ISBLANK(B230),\"\",VLOOKUP(B230,NSLPandADEtableFY14,14,FALSE))","v":""},{"$f":"IF(ISBLANK(B230),\"\",VLOOKUP(B230,NSLPandADEtableFY14,15,FALSE))","v":""},{"$f":"IF(ISBLANK(B230),\"\",VLOOKUP(B230,NSLPandADEtableFY14,2,FALSE))","v":""},"",{"$f":"IF(ISBLANK(B230),\"\",VLOOKUP(B230,NSLPandADEtableFY14,11,FALSE))","v":""},null,null,null,null,null,null,null,"Casa Blanca Elementary School - 114001001"]
["",null,{"$f":"IF(ISBLANK(B231),\"\",VLOOKUP(B231,NSLPandADEtableFY14,14,FALSE))","v":""},{"$f":"IF(ISBLANK(B231),\"\",VLOOKUP(B231,NSLPandADEtableFY14,15,FALSE))","v":""},{"$f":"IF(ISBLANK(B231),\"\",VLOOKUP(B231,NSLPandADEtableFY14,2,FALSE))","v":""},"",{"$f":"IF(ISBLANK(B231),\"\",VLOOKUP(B231,NSLPandADEtableFY14,11,FALSE))","v":""},null,null,null,null,null,null,null,"Casa de los Ninos - 102261002"]
["",null,{"$f":"IF(ISBLANK(B232),\"\",VLOOKUP(B232,NSLPandADEtableFY14,14,FALSE))","v":""},{"$f":"IF(ISBLANK(B232),\"\",VLOOKUP(B232,NSLPandADEtableFY14,15,FALSE))","v":""},{"$f":"IF(ISBLANK(B232),\"\",VLOOKUP(B232,NSLPandADEtableFY14,2,FALSE))","v":""},"",{"$f":"IF(ISBLANK(B232),\"\",VLOOKUP(B232,NSLPandADEtableFY14,11,FALSE))","v":""},null,null,null,null,null,null,null,"Casa Grande Middle School - 110404106"]
["",null,{"$f":"IF(ISBLANK(B233),\"\",VLOOKUP(B233,NSLPandADEtableFY14,14,FALSE))","v":""},{"$f":"IF(ISBLANK(B233),\"\",VLOOKUP(B233,NSLPandADEtableFY14,15,FALSE))","v":""},{"$f":"IF(ISBLANK(B233),\"\",VLOOKUP(B233,NSLPandADEtableFY14,2,FALSE))","v":""},"",{"$f":"IF(ISBLANK(B233),\"\",VLOOKUP(B233,NSLPandADEtableFY14,11,FALSE))","v":""},null,null,null,null,null,null,null,"Casa Grande Union High School - 110502001"]
["",null,{"$f":"IF(ISBLANK(B234),\"\",VLOOKUP(B234,NSLPandADEtableFY14,14,FALSE))","v":""},{"$f":"IF(ISBLANK(B234),\"\",VLOOKUP(B234,NSLPandADEtableFY14,15,FALSE))","v":""},{"$f":"IF(ISBLANK(B234),\"\",VLOOKUP(B234,NSLPandADEtableFY14,2,FALSE))","v":""},"",{"$f":"IF(ISBLANK(B234),\"\",VLOOKUP(B234,NSLPandADEtableFY14,11,FALSE))","v":""},null,null,null,null,null,null,null,"Casa Verde High School - 110502701"]
["",null,{"$f":"IF(ISBLANK(B235),\"\",VLOOKUP(B235,NSLPandADEtableFY14,14,FALSE))","v":""},{"$f":"IF(ISBLANK(B235),\"\",VLOOKUP(B235,NSLPandADEtableFY14,15,FALSE))","v":""},{"$f":"IF(ISBLANK(B235),\"\",VLOOKUP(B235,NSLPandADEtableFY14,2,FALSE))","v":""},"",{"$f":"IF(ISBLANK(B235),\"\",VLOOKUP(B235,NSLPandADEtableFY14,11,FALSE))","v":""},null,null,null,null,null,null,null,"Casa Vida - 070428170"]
["",null,{"$f":"IF(ISBLANK(B236),\"\",VLOOKUP(B236,NSLPandADEtableFY14,14,FALSE))","v":""},{"$f":"IF(ISBLANK(B236),\"\",VLOOKUP(B236,NSLPandADEtableFY14,15,FALSE))","v":""},{"$f":"IF(ISBLANK(B236),\"\",VLOOKUP(B236,NSLPandADEtableFY14,2,FALSE))","v":""},"",{"$f":"IF(ISBLANK(B236),\"\",VLOOKUP(B236,NSLPandADEtableFY14,11,FALSE))","v":""},null,null,null,null,null,null,null,"Castle Dome Middle School - 140401124"]
["",null,{"$f":"IF(ISBLANK(B237),\"\",VLOOKUP(B237,NSLPandADEtableFY14,14,FALSE))","v":""},{"$f":"IF(ISBLANK(B237),\"\",VLOOKUP(B237,NSLPandADEtableFY14,15,FALSE))","v":""},{"$f":"IF(ISBLANK(B237),\"\",VLOOKUP(B237,NSLPandADEtableFY14,2,FALSE))","v":""},"",{"$f":"IF(ISBLANK(B237),\"\",VLOOKUP(B237,NSLPandADEtableFY14,11,FALSE))","v":""},null,null,null,null,null,null,null,"Catalina Foothills High School - 100216206"]
["",null,{"$f":"IF(ISBLANK(B238),\"\",VLOOKUP(B238,NSLPandADEtableFY14,14,FALSE))","v":""},{"$f":"IF(ISBLANK(B238),\"\",VLOOKUP(B238,NSLPandADEtableFY14,15,FALSE))","v":""},{"$f":"IF(ISBLANK(B238),\"\",VLOOKUP(B238,NSLPandADEtableFY14,2,FALSE))","v":""},"",{"$f":"IF(ISBLANK(B238),\"\",VLOOKUP(B238,NSLPandADEtableFY14,11,FALSE))","v":""},null,null,null,null,null,null,null,"Catalina High Magnet School - 100201610"]
["",null,{"$f":"IF(ISBLANK(B239),\"\",VLOOKUP(B239,NSLPandADEtableFY14,14,FALSE))","v":""},{"$f":"IF(ISBLANK(B239),\"\",VLOOKUP(B239,NSLPandADEtableFY14,15,FALSE))","v":""},{"$f":"IF(ISBLANK(B239),\"\",VLOOKUP(B239,NSLPandADEtableFY14,2,FALSE))","v":""},"",{"$f":"IF(ISBLANK(B239),\"\",VLOOKUP(B239,NSLPandADEtableFY14,11,FALSE))","v":""},null,null,null,null,null,null,null,"Catalina Ventura School - 070468106"]
["",null,{"$f":"IF(ISBLANK(B240),\"\",VLOOKUP(B240,NSLPandADEtableFY14,14,FALSE))","v":""},{"$f":"IF(ISBLANK(B240),\"\",VLOOKUP(B240,NSLPandADEtableFY14,15,FALSE))","v":""},{"$f":"IF(ISBLANK(B240),\"\",VLOOKUP(B240,NSLPandADEtableFY14,2,FALSE))","v":""},"",{"$f":"IF(ISBLANK(B240),\"\",VLOOKUP(B240,NSLPandADEtableFY14,11,FALSE))","v":""},null,null,null,null,null,null,null,"Catholic Community School - 102702001"]
["",null,{"$f":"IF(ISBLANK(B241),\"\",VLOOKUP(B241,NSLPandADEtableFY14,14,FALSE))","v":""},{"$f":"IF(ISBLANK(B241),\"\",VLOOKUP(B241,NSLPandADEtableFY14,15,FALSE))","v":""},{"$f":"IF(ISBLANK(B241),\"\",VLOOKUP(B241,NSLPandADEtableFY14,2,FALSE))","v":""},"",{"$f":"IF(ISBLANK(B241),\"\",VLOOKUP(B241,NSLPandADEtableFY14,11,FALSE))","v":""},null,null,null,null,null,null,null,"Cavett Elementary School - 100201167"]
["",null,{"$f":"IF(ISBLANK(B242),\"\",VLOOKUP(B242,NSLPandADEtableFY14,14,FALSE))","v":""},{"$f":"IF(ISBLANK(B242),\"\",VLOOKUP(B242,NSLPandADEtableFY14,15,FALSE))","v":""},{"$f":"IF(ISBLANK(B242),\"\",VLOOKUP(B242,NSLPandADEtableFY14,2,FALSE))","v":""},"",{"$f":"IF(ISBLANK(B242),\"\",VLOOKUP(B242,NSLPandADEtableFY14,11,FALSE))","v":""},null,null,null,null,null,null,null,"Cedar Hills School - 080303002"]
["",null,{"$f":"IF(ISBLANK(B243),\"\",VLOOKUP(B243,NSLPandADEtableFY14,14,FALSE))","v":""},{"$f":"IF(ISBLANK(B243),\"\",VLOOKUP(B243,NSLPandADEtableFY14,15,FALSE))","v":""},{"$f":"IF(ISBLANK(B243),\"\",VLOOKUP(B243,NSLPandADEtableFY14,2,FALSE))","v":""},"",{"$f":"IF(ISBLANK(B243),\"\",VLOOKUP(B243,NSLPandADEtableFY14,11,FALSE))","v":""},null,null,null,null,null,null,null,"Centennial Elementary School - 100208110"]
["",null,{"$f":"IF(ISBLANK(B244),\"\",VLOOKUP(B244,NSLPandADEtableFY14,14,FALSE))","v":""},{"$f":"IF(ISBLANK(B244),\"\",VLOOKUP(B244,NSLPandADEtableFY14,15,FALSE))","v":""},{"$f":"IF(ISBLANK(B244),\"\",VLOOKUP(B244,NSLPandADEtableFY14,2,FALSE))","v":""},"",{"$f":"IF(ISBLANK(B244),\"\",VLOOKUP(B244,NSLPandADEtableFY14,11,FALSE))","v":""},null,null,null,null,null,null,null,"Centennial Elementary School - 070260108"]
["",null,{"$f":"IF(ISBLANK(B245),\"\",VLOOKUP(B245,NSLPandADEtableFY14,14,FALSE))","v":""},{"$f":"IF(ISBLANK(B245),\"\",VLOOKUP(B245,NSLPandADEtableFY14,15,FALSE))","v":""},{"$f":"IF(ISBLANK(B245),\"\",VLOOKUP(B245,NSLPandADEtableFY14,2,FALSE))","v":""},"",{"$f":"IF(ISBLANK(B245),\"\",VLOOKUP(B245,NSLPandADEtableFY14,11,FALSE))","v":""},null,null,null,null,null,null,null,"Centennial High School - 070211263"]
["",null,{"$f":"IF(ISBLANK(B246),\"\",VLOOKUP(B246,NSLPandADEtableFY14,14,FALSE))","v":""},{"$f":"IF(ISBLANK(B246),\"\",VLOOKUP(B246,NSLPandADEtableFY14,15,FALSE))","v":""},{"$f":"IF(ISBLANK(B246),\"\",VLOOKUP(B246,NSLPandADEtableFY14,2,FALSE))","v":""},"",{"$f":"IF(ISBLANK(B246),\"\",VLOOKUP(B246,NSLPandADEtableFY14,11,FALSE))","v":""},null,null,null,null,null,null,null,"Centennial Middle School - 140413107"]
["",null,{"$f":"IF(ISBLANK(B247),\"\",VLOOKUP(B247,NSLPandADEtableFY14,14,FALSE))","v":""},{"$f":"IF(ISBLANK(B247),\"\",VLOOKUP(B247,NSLPandADEtableFY14,15,FALSE))","v":""},{"$f":"IF(ISBLANK(B247),\"\",VLOOKUP(B247,NSLPandADEtableFY14,2,FALSE))","v":""},"",{"$f":"IF(ISBLANK(B247),\"\",VLOOKUP(B247,NSLPandADEtableFY14,11,FALSE))","v":""},null,null,null,null,null,null,null,"Center for Academic Success #1 - 028750201"]
["",null,{"$f":"IF(ISBLANK(B248),\"\",VLOOKUP(B248,NSLPandADEtableFY14,14,FALSE))","v":""},{"$f":"IF(ISBLANK(B248),\"\",VLOOKUP(B248,NSLPandADEtableFY14,15,FALSE))","v":""},{"$f":"IF(ISBLANK(B248),\"\",VLOOKUP(B248,NSLPandADEtableFY14,2,FALSE))","v":""},"",{"$f":"IF(ISBLANK(B248),\"\",VLOOKUP(B248,NSLPandADEtableFY14,11,FALSE))","v":""},null,null,null,null,null,null,null,"Center for Academic Success #2 - 028750202"]
["",null,{"$f":"IF(ISBLANK(B249),\"\",VLOOKUP(B249,NSLPandADEtableFY14,14,FALSE))","v":""},{"$f":"IF(ISBLANK(B249),\"\",VLOOKUP(B249,NSLPandADEtableFY14,15,FALSE))","v":""},{"$f":"IF(ISBLANK(B249),\"\",VLOOKUP(B249,NSLPandADEtableFY14,2,FALSE))","v":""},"",{"$f":"IF(ISBLANK(B249),\"\",VLOOKUP(B249,NSLPandADEtableFY14,11,FALSE))","v":""},null,null,null,null,null,null,null,"Center for Academic Success #3 - 028750203"]
["",null,{"$f":"IF(ISBLANK(B250),\"\",VLOOKUP(B250,NSLPandADEtableFY14,14,FALSE))","v":""},{"$f":"IF(ISBLANK(B250),\"\",VLOOKUP(B250,NSLPandADEtableFY14,15,FALSE))","v":""},{"$f":"IF(ISBLANK(B250),\"\",VLOOKUP(B250,NSLPandADEtableFY14,2,FALSE))","v":""},"",{"$f":"IF(ISBLANK(B250),\"\",VLOOKUP(B250,NSLPandADEtableFY14,11,FALSE))","v":""},null,null,null,null,null,null,null,"Center for Academic Success #4 - 028750204"]
["",null,{"$f":"IF(ISBLANK(B251),\"\",VLOOKUP(B251,NSLPandADEtableFY14,14,FALSE))","v":""},{"$f":"IF(ISBLANK(B251),\"\",VLOOKUP(B251,NSLPandADEtableFY14,15,FALSE))","v":""},{"$f":"IF(ISBLANK(B251),\"\",VLOOKUP(B251,NSLPandADEtableFY14,2,FALSE))","v":""},"",{"$f":"IF(ISBLANK(B251),\"\",VLOOKUP(B251,NSLPandADEtableFY14,11,FALSE))","v":""},null,null,null,null,null,null,null,"Center for Academic Success #5 - 028750205"]
["",null,{"$f":"IF(ISBLANK(B252),\"\",VLOOKUP(B252,NSLPandADEtableFY14,14,FALSE))","v":""},{"$f":"IF(ISBLANK(B252),\"\",VLOOKUP(B252,NSLPandADEtableFY14,15,FALSE))","v":""},{"$f":"IF(ISBLANK(B252),\"\",VLOOKUP(B252,NSLPandADEtableFY14,2,FALSE))","v":""},"",{"$f":"IF(ISBLANK(B252),\"\",VLOOKUP(B252,NSLPandADEtableFY14,11,FALSE))","v":""},null,null,null,null,null,null,null,"Centerra Mirage - 070444111"]
["",null,{"$f":"IF(ISBLANK(B253),\"\",VLOOKUP(B253,NSLPandADEtableFY14,14,FALSE))","v":""},{"$f":"IF(ISBLANK(B253),\"\",VLOOKUP(B253,NSLPandADEtableFY14,15,FALSE))","v":""},{"$f":"IF(ISBLANK(B253),\"\",VLOOKUP(B253,NSLPandADEtableFY14,2,FALSE))","v":""},"",{"$f":"IF(ISBLANK(B253),\"\",VLOOKUP(B253,NSLPandADEtableFY14,11,FALSE))","v":""},null,null,null,null,null,null,null,"Central High School - 070510230"]
["",null,{"$f":"IF(ISBLANK(B254),\"\",VLOOKUP(B254,NSLPandADEtableFY14,14,FALSE))","v":""},{"$f":"IF(ISBLANK(B254),\"\",VLOOKUP(B254,NSLPandADEtableFY14,15,FALSE))","v":""},{"$f":"IF(ISBLANK(B254),\"\",VLOOKUP(B254,NSLPandADEtableFY14,2,FALSE))","v":""},"",{"$f":"IF(ISBLANK(B254),\"\",VLOOKUP(B254,NSLPandADEtableFY14,11,FALSE))","v":""},null,null,null,null,null,null,null,"Cerbat Elementary - 080220115"]
["",null,{"$f":"IF(ISBLANK(B255),\"\",VLOOKUP(B255,NSLPandADEtableFY14,14,FALSE))","v":""},{"$f":"IF(ISBLANK(B255),\"\",VLOOKUP(B255,NSLPandADEtableFY14,15,FALSE))","v":""},{"$f":"IF(ISBLANK(B255),\"\",VLOOKUP(B255,NSLPandADEtableFY14,2,FALSE))","v":""},"",{"$f":"IF(ISBLANK(B255),\"\",VLOOKUP(B255,NSLPandADEtableFY14,11,FALSE))","v":""},null,null,null,null,null,null,null,"Cesar Chavez Elementary - 140432106"]
["",null,{"$f":"IF(ISBLANK(B256),\"\",VLOOKUP(B256,NSLPandADEtableFY14,14,FALSE))","v":""},{"$f":"IF(ISBLANK(B256),\"\",VLOOKUP(B256,NSLPandADEtableFY14,15,FALSE))","v":""},{"$f":"IF(ISBLANK(B256),\"\",VLOOKUP(B256,NSLPandADEtableFY14,2,FALSE))","v":""},"",{"$f":"IF(ISBLANK(B256),\"\",VLOOKUP(B256,NSLPandADEtableFY14,11,FALSE))","v":""},null,null,null,null,null,null,null,"Cesar Chavez High School - 070510270"]
["",null,{"$f":"IF(ISBLANK(B257),\"\",VLOOKUP(B257,NSLPandADEtableFY14,14,FALSE))","v":""},{"$f":"IF(ISBLANK(B257),\"\",VLOOKUP(B257,NSLPandADEtableFY14,15,FALSE))","v":""},{"$f":"IF(ISBLANK(B257),\"\",VLOOKUP(B257,NSLPandADEtableFY14,2,FALSE))","v":""},"",{"$f":"IF(ISBLANK(B257),\"\",VLOOKUP(B257,NSLPandADEtableFY14,11,FALSE))","v":""},null,null,null,null,null,null,null,"Cesar E Chavez Community School - 070466002"]
["",null,{"$f":"IF(ISBLANK(B258),\"\",VLOOKUP(B258,NSLPandADEtableFY14,14,FALSE))","v":""},{"$f":"IF(ISBLANK(B258),\"\",VLOOKUP(B258,NSLPandADEtableFY14,15,FALSE))","v":""},{"$f":"IF(ISBLANK(B258),\"\",VLOOKUP(B258,NSLPandADEtableFY14,2,FALSE))","v":""},"",{"$f":"IF(ISBLANK(B258),\"\",VLOOKUP(B258,NSLPandADEtableFY14,11,FALSE))","v":""},null,null,null,null,null,null,null,"Challenge Charter School - 078772001"]
["",null,{"$f":"IF(ISBLANK(B259),\"\",VLOOKUP(B259,NSLPandADEtableFY14,14,FALSE))","v":""},{"$f":"IF(ISBLANK(B259),\"\",VLOOKUP(B259,NSLPandADEtableFY14,15,FALSE))","v":""},{"$f":"IF(ISBLANK(B259),\"\",VLOOKUP(B259,NSLPandADEtableFY14,2,FALSE))","v":""},"",{"$f":"IF(ISBLANK(B259),\"\",VLOOKUP(B259,NSLPandADEtableFY14,11,FALSE))","v":""},null,null,null,null,null,null,null,"Challenger Elementary School - 120201119"]
["",null,{"$f":"IF(ISBLANK(B260),\"\",VLOOKUP(B260,NSLPandADEtableFY14,14,FALSE))","v":""},{"$f":"IF(ISBLANK(B260),\"\",VLOOKUP(B260,NSLPandADEtableFY14,15,FALSE))","v":""},{"$f":"IF(ISBLANK(B260),\"\",VLOOKUP(B260,NSLPandADEtableFY14,2,FALSE))","v":""},"",{"$f":"IF(ISBLANK(B260),\"\",VLOOKUP(B260,NSLPandADEtableFY14,11,FALSE))","v":""},null,null,null,null,null,null,null,"Challenger Middle School - 070440111"]
["",null,{"$f":"IF(ISBLANK(B261),\"\",VLOOKUP(B261,NSLPandADEtableFY14,14,FALSE))","v":""},{"$f":"IF(ISBLANK(B261),\"\",VLOOKUP(B261,NSLPandADEtableFY14,15,FALSE))","v":""},{"$f":"IF(ISBLANK(B261),\"\",VLOOKUP(B261,NSLPandADEtableFY14,2,FALSE))","v":""},"",{"$f":"IF(ISBLANK(B261),\"\",VLOOKUP(B261,NSLPandADEtableFY14,11,FALSE))","v":""},null,null,null,null,null,null,null,"Challenger Middle School - 100212132"]
["",null,{"$f":"IF(ISBLANK(B262),\"\",VLOOKUP(B262,NSLPandADEtableFY14,14,FALSE))","v":""},{"$f":"IF(ISBLANK(B262),\"\",VLOOKUP(B262,NSLPandADEtableFY14,15,FALSE))","v":""},{"$f":"IF(ISBLANK(B262),\"\",VLOOKUP(B262,NSLPandADEtableFY14,2,FALSE))","v":""},"",{"$f":"IF(ISBLANK(B262),\"\",VLOOKUP(B262,NSLPandADEtableFY14,11,FALSE))","v":""},null,null,null,null,null,null,null,"Champion Schools - 078785101"]
["",null,{"$f":"IF(ISBLANK(B263),\"\",VLOOKUP(B263,NSLPandADEtableFY14,14,FALSE))","v":""},{"$f":"IF(ISBLANK(B263),\"\",VLOOKUP(B263,NSLPandADEtableFY14,15,FALSE))","v":""},{"$f":"IF(ISBLANK(B263),\"\",VLOOKUP(B263,NSLPandADEtableFY14,2,FALSE))","v":""},"",{"$f":"IF(ISBLANK(B263),\"\",VLOOKUP(B263,NSLPandADEtableFY14,11,FALSE))","v":""},null,null,null,null,null,null,null,"Chandler High School - 070280202"]
["",null,{"$f":"IF(ISBLANK(B264),\"\",VLOOKUP(B264,NSLPandADEtableFY14,14,FALSE))","v":""},{"$f":"IF(ISBLANK(B264),\"\",VLOOKUP(B264,NSLPandADEtableFY14,15,FALSE))","v":""},{"$f":"IF(ISBLANK(B264),\"\",VLOOKUP(B264,NSLPandADEtableFY14,2,FALSE))","v":""},"",{"$f":"IF(ISBLANK(B264),\"\",VLOOKUP(B264,NSLPandADEtableFY14,11,FALSE))","v":""},null,null,null,null,null,null,null,"Chandler Traditional Academy - Goodman - 070280114"]
["",null,{"$f":"IF(ISBLANK(B265),\"\",VLOOKUP(B265,NSLPandADEtableFY14,14,FALSE))","v":""},{"$f":"IF(ISBLANK(B265),\"\",VLOOKUP(B265,NSLPandADEtableFY14,15,FALSE))","v":""},{"$f":"IF(ISBLANK(B265),\"\",VLOOKUP(B265,NSLPandADEtableFY14,2,FALSE))","v":""},"",{"$f":"IF(ISBLANK(B265),\"\",VLOOKUP(B265,NSLPandADEtableFY14,11,FALSE))","v":""},null,null,null,null,null,null,null,"Chandler Traditional Academy - Independence - 070280136"]
["",null,{"$f":"IF(ISBLANK(B266),\"\",VLOOKUP(B266,NSLPandADEtableFY14,14,FALSE))","v":""},{"$f":"IF(ISBLANK(B266),\"\",VLOOKUP(B266,NSLPandADEtableFY14,15,FALSE))","v":""},{"$f":"IF(ISBLANK(B266),\"\",VLOOKUP(B266,NSLPandADEtableFY14,2,FALSE))","v":""},"",{"$f":"IF(ISBLANK(B266),\"\",VLOOKUP(B266,NSLPandADEtableFY14,11,FALSE))","v":""},null,null,null,null,null,null,null,"Chandler Traditional Academy - Liberty Campus - 070280133"]
["",null,{"$f":"IF(ISBLANK(B267),\"\",VLOOKUP(B267,NSLPandADEtableFY14,14,FALSE))","v":""},{"$f":"IF(ISBLANK(B267),\"\",VLOOKUP(B267,NSLPandADEtableFY14,15,FALSE))","v":""},{"$f":"IF(ISBLANK(B267),\"\",VLOOKUP(B267,NSLPandADEtableFY14,2,FALSE))","v":""},"",{"$f":"IF(ISBLANK(B267),\"\",VLOOKUP(B267,NSLPandADEtableFY14,11,FALSE))","v":""},null,null,null,null,null,null,null,"Chandler Traditional Academy-Freedom - 070280134"]
[{"$f":"IF(ISBLANK(B268),\"\",\"Q-Public School\")","v":""},null,{"$f":"IF(ISBLANK(B268),\"\",VLOOKUP(B268,NSLPandADEtableFY14,14,FALSE))","v":""},{"$f":"IF(ISBLANK(B268),\"\",VLOOKUP(B268,NSLPandADEtableFY14,15,FALSE))","v":""},{"$f":"IF(ISBLANK(B268),\"\",VLOOKUP(B268,NSLPandADEtableFY14,2,FALSE))","v":""},{"$f":"IF(ISBLANK(B268),\"\",\"Free & Reduced Lunch Data (NSLP) March 2013\")","v":""},{"$f":"IF(ISBLANK(B268),\"\",VLOOKUP(B268,NSLPandADEtableFY14,11,FALSE))","v":""},null,null,null,null,null,null,null,"Chandler Traditional Academy-Humphrey - 070280117"]
["",null,{"$f":"IF(ISBLANK(B269),\"\",VLOOKUP(B269,NSLPandADEtableFY14,14,FALSE))","v":""},{"$f":"IF(ISBLANK(B269),\"\",VLOOKUP(B269,NSLPandADEtableFY14,15,FALSE))","v":""},{"$f":"IF(ISBLANK(B269),\"\",VLOOKUP(B269,NSLPandADEtableFY14,2,FALSE))","v":""},"",{"$f":"IF(ISBLANK(B269),\"\",VLOOKUP(B269,NSLPandADEtableFY14,11,FALSE))","v":""},null,null,null,null,null,null,null,"Chaparral Elementary School - 070260107"]
["",null,{"$f":"IF(ISBLANK(B270),\"\",VLOOKUP(B270,NSLPandADEtableFY14,14,FALSE))","v":""},{"$f":"IF(ISBLANK(B270),\"\",VLOOKUP(B270,NSLPandADEtableFY14,15,FALSE))","v":""},{"$f":"IF(ISBLANK(B270),\"\",VLOOKUP(B270,NSLPandADEtableFY14,2,FALSE))","v":""},"",{"$f":"IF(ISBLANK(B270),\"\",VLOOKUP(B270,NSLPandADEtableFY14,11,FALSE))","v":""},null,null,null,null,null,null,null,"Chaparral Elementary School - 070406122"]
["",null,{"$f":"IF(ISBLANK(B271),\"\",VLOOKUP(B271,NSLPandADEtableFY14,14,FALSE))","v":""},{"$f":"IF(ISBLANK(B271),\"\",VLOOKUP(B271,NSLPandADEtableFY14,15,FALSE))","v":""},{"$f":"IF(ISBLANK(B271),\"\",VLOOKUP(B271,NSLPandADEtableFY14,2,FALSE))","v":""},"",{"$f":"IF(ISBLANK(B271),\"\",VLOOKUP(B271,NSLPandADEtableFY14,11,FALSE))","v":""},null,null,null,null,null,null,null,"Chaparral High School - 070248295"]
["",null,{"$f":"IF(ISBLANK(B272),\"\",VLOOKUP(B272,NSLPandADEtableFY14,14,FALSE))","v":""},{"$f":"IF(ISBLANK(B272),\"\",VLOOKUP(B272,NSLPandADEtableFY14,15,FALSE))","v":""},{"$f":"IF(ISBLANK(B272),\"\",VLOOKUP(B272,NSLPandADEtableFY14,2,FALSE))","v":""},"",{"$f":"IF(ISBLANK(B272),\"\",VLOOKUP(B272,NSLPandADEtableFY14,11,FALSE))","v":""},null,null,null,null,null,null,null,"Chaparral Middle School - 100212109"]
["",null,{"$f":"IF(ISBLANK(B273),\"\",VLOOKUP(B273,NSLPandADEtableFY14,14,FALSE))","v":""},{"$f":"IF(ISBLANK(B273),\"\",VLOOKUP(B273,NSLPandADEtableFY14,15,FALSE))","v":""},{"$f":"IF(ISBLANK(B273),\"\",VLOOKUP(B273,NSLPandADEtableFY14,2,FALSE))","v":""},"",{"$f":"IF(ISBLANK(B273),\"\",VLOOKUP(B273,NSLPandADEtableFY14,11,FALSE))","v":""},null,null,null,null,null,null,null,"Charles W Sechrist Elementary School - 030201117"]
["",null,{"$f":"IF(ISBLANK(B274),\"\",VLOOKUP(B274,NSLPandADEtableFY14,14,FALSE))","v":""},{"$f":"IF(ISBLANK(B274),\"\",VLOOKUP(B274,NSLPandADEtableFY14,15,FALSE))","v":""},{"$f":"IF(ISBLANK(B274),\"\",VLOOKUP(B274,NSLPandADEtableFY14,2,FALSE))","v":""},"",{"$f":"IF(ISBLANK(B274),\"\",VLOOKUP(B274,NSLPandADEtableFY14,11,FALSE))","v":""},null,null,null,null,null,null,null,"Charles W. Harris School - 070483108"]
["",null,{"$f":"IF(ISBLANK(B275),\"\",VLOOKUP(B275,NSLPandADEtableFY14,14,FALSE))","v":""},{"$f":"IF(ISBLANK(B275),\"\",VLOOKUP(B275,NSLPandADEtableFY14,15,FALSE))","v":""},{"$f":"IF(ISBLANK(B275),\"\",VLOOKUP(B275,NSLPandADEtableFY14,2,FALSE))","v":""},"",{"$f":"IF(ISBLANK(B275),\"\",VLOOKUP(B275,NSLPandADEtableFY14,11,FALSE))","v":""},null,null,null,null,null,null,null,"Charlotte Patterson Elementary - 070280140"]
["",null,{"$f":"IF(ISBLANK(B276),\"\",VLOOKUP(B276,NSLPandADEtableFY14,14,FALSE))","v":""},{"$f":"IF(ISBLANK(B276),\"\",VLOOKUP(B276,NSLPandADEtableFY14,15,FALSE))","v":""},{"$f":"IF(ISBLANK(B276),\"\",VLOOKUP(B276,NSLPandADEtableFY14,2,FALSE))","v":""},"",{"$f":"IF(ISBLANK(B276),\"\",VLOOKUP(B276,NSLPandADEtableFY14,11,FALSE))","v":""},null,null,null,null,null,null,null,"Cheatham Elementary School - 070459104"]
["",null,{"$f":"IF(ISBLANK(B277),\"\",VLOOKUP(B277,NSLPandADEtableFY14,14,FALSE))","v":""},{"$f":"IF(ISBLANK(B277),\"\",VLOOKUP(B277,NSLPandADEtableFY14,15,FALSE))","v":""},{"$f":"IF(ISBLANK(B277),\"\",VLOOKUP(B277,NSLPandADEtableFY14,2,FALSE))","v":""},"",{"$f":"IF(ISBLANK(B277),\"\",VLOOKUP(B277,NSLPandADEtableFY14,11,FALSE))","v":""},null,null,null,null,null,null,null,"Cherokee Elementary School - 070248121"]
["",null,{"$f":"IF(ISBLANK(B278),\"\",VLOOKUP(B278,NSLPandADEtableFY14,14,FALSE))","v":""},{"$f":"IF(ISBLANK(B278),\"\",VLOOKUP(B278,NSLPandADEtableFY14,15,FALSE))","v":""},{"$f":"IF(ISBLANK(B278),\"\",VLOOKUP(B278,NSLPandADEtableFY14,2,FALSE))","v":""},"",{"$f":"IF(ISBLANK(B278),\"\",VLOOKUP(B278,NSLPandADEtableFY14,11,FALSE))","v":""},null,null,null,null,null,null,null,"Cheyenne Elementary School - 070211124"]
["",null,{"$f":"IF(ISBLANK(B279),\"\",VLOOKUP(B279,NSLPandADEtableFY14,14,FALSE))","v":""},{"$f":"IF(ISBLANK(B279),\"\",VLOOKUP(B279,NSLPandADEtableFY14,15,FALSE))","v":""},{"$f":"IF(ISBLANK(B279),\"\",VLOOKUP(B279,NSLPandADEtableFY14,2,FALSE))","v":""},"",{"$f":"IF(ISBLANK(B279),\"\",VLOOKUP(B279,NSLPandADEtableFY14,11,FALSE))","v":""},null,null,null,null,null,null,null,"Cheyenne Traditional Elementary School - 070248127"]
["",null,{"$f":"IF(ISBLANK(B280),\"\",VLOOKUP(B280,NSLPandADEtableFY14,14,FALSE))","v":""},{"$f":"IF(ISBLANK(B280),\"\",VLOOKUP(B280,NSLPandADEtableFY14,15,FALSE))","v":""},{"$f":"IF(ISBLANK(B280),\"\",VLOOKUP(B280,NSLPandADEtableFY14,2,FALSE))","v":""},"",{"$f":"IF(ISBLANK(B280),\"\",VLOOKUP(B280,NSLPandADEtableFY14,11,FALSE))","v":""},null,null,null,null,null,null,null,"Chilchinbeto Community School - 033904009"]
["",null,{"$f":"IF(ISBLANK(B281),\"\",VLOOKUP(B281,NSLPandADEtableFY14,14,FALSE))","v":""},{"$f":"IF(ISBLANK(B281),\"\",VLOOKUP(B281,NSLPandADEtableFY14,15,FALSE))","v":""},{"$f":"IF(ISBLANK(B281),\"\",VLOOKUP(B281,NSLPandADEtableFY14,2,FALSE))","v":""},"",{"$f":"IF(ISBLANK(B281),\"\",VLOOKUP(B281,NSLPandADEtableFY14,11,FALSE))","v":""},null,null,null,null,null,null,null,"Children First Academy - Phoenix - 138705003"]
["",null,{"$f":"IF(ISBLANK(B282),\"\",VLOOKUP(B282,NSLPandADEtableFY14,14,FALSE))","v":""},{"$f":"IF(ISBLANK(B282),\"\",VLOOKUP(B282,NSLPandADEtableFY14,15,FALSE))","v":""},{"$f":"IF(ISBLANK(B282),\"\",VLOOKUP(B282,NSLPandADEtableFY14,2,FALSE))","v":""},"",{"$f":"IF(ISBLANK(B282),\"\",VLOOKUP(B282,NSLPandADEtableFY14,11,FALSE))","v":""},null,null,null,null,null,null,null,"Children First Academy - Tempe - 138705004"]
["",null,{"$f":"IF(ISBLANK(B283),\"\",VLOOKUP(B283,NSLPandADEtableFY14,14,FALSE))","v":""},{"$f":"IF(ISBLANK(B283),\"\",VLOOKUP(B283,NSLPandADEtableFY14,15,FALSE))","v":""},{"$f":"IF(ISBLANK(B283),\"\",VLOOKUP(B283,NSLPandADEtableFY14,2,FALSE))","v":""},"",{"$f":"IF(ISBLANK(B283),\"\",VLOOKUP(B283,NSLPandADEtableFY14,11,FALSE))","v":""},null,null,null,null,null,null,null,"Children Reaching for the Sky Preparatory - 108789101"]
["",null,{"$f":"IF(ISBLANK(B284),\"\",VLOOKUP(B284,NSLPandADEtableFY14,14,FALSE))","v":""},{"$f":"IF(ISBLANK(B284),\"\",VLOOKUP(B284,NSLPandADEtableFY14,15,FALSE))","v":""},{"$f":"IF(ISBLANK(B284),\"\",VLOOKUP(B284,NSLPandADEtableFY14,2,FALSE))","v":""},"",{"$f":"IF(ISBLANK(B284),\"\",VLOOKUP(B284,NSLPandADEtableFY14,11,FALSE))","v":""},null,null,null,null,null,null,null,"Childrens Village I - 102701001"]
["",null,{"$f":"IF(ISBLANK(B285),\"\",VLOOKUP(B285,NSLPandADEtableFY14,14,FALSE))","v":""},{"$f":"IF(ISBLANK(B285),\"\",VLOOKUP(B285,NSLPandADEtableFY14,15,FALSE))","v":""},{"$f":"IF(ISBLANK(B285),\"\",VLOOKUP(B285,NSLPandADEtableFY14,2,FALSE))","v":""},"",{"$f":"IF(ISBLANK(B285),\"\",VLOOKUP(B285,NSLPandADEtableFY14,11,FALSE))","v":""},null,null,null,null,null,null,null,"Childrens Village II - 102701002"]
["",null,{"$f":"IF(ISBLANK(B286),\"\",VLOOKUP(B286,NSLPandADEtableFY14,14,FALSE))","v":""},{"$f":"IF(ISBLANK(B286),\"\",VLOOKUP(B286,NSLPandADEtableFY14,15,FALSE))","v":""},{"$f":"IF(ISBLANK(B286),\"\",VLOOKUP(B286,NSLPandADEtableFY14,2,FALSE))","v":""},"",{"$f":"IF(ISBLANK(B286),\"\",VLOOKUP(B286,NSLPandADEtableFY14,11,FALSE))","v":""},null,null,null,null,null,null,null,"Childrens Village III - 102701003"]
["",null,{"$f":"IF(ISBLANK(B287),\"\",VLOOKUP(B287,NSLPandADEtableFY14,14,FALSE))","v":""},{"$f":"IF(ISBLANK(B287),\"\",VLOOKUP(B287,NSLPandADEtableFY14,15,FALSE))","v":""},{"$f":"IF(ISBLANK(B287),\"\",VLOOKUP(B287,NSLPandADEtableFY14,2,FALSE))","v":""},"",{"$f":"IF(ISBLANK(B287),\"\",VLOOKUP(B287,NSLPandADEtableFY14,11,FALSE))","v":""},null,null,null,null,null,null,null,"Childrens Village IV - 102701004"]
["",null,{"$f":"IF(ISBLANK(B288),\"\",VLOOKUP(B288,NSLPandADEtableFY14,14,FALSE))","v":""},{"$f":"IF(ISBLANK(B288),\"\",VLOOKUP(B288,NSLPandADEtableFY14,15,FALSE))","v":""},{"$f":"IF(ISBLANK(B288),\"\",VLOOKUP(B288,NSLPandADEtableFY14,2,FALSE))","v":""},"",{"$f":"IF(ISBLANK(B288),\"\",VLOOKUP(B288,NSLPandADEtableFY14,11,FALSE))","v":""},null,null,null,null,null,null,null,"Childrens Village V - 102701005"]
["",null,{"$f":"IF(ISBLANK(B289),\"\",VLOOKUP(B289,NSLPandADEtableFY14,14,FALSE))","v":""},{"$f":"IF(ISBLANK(B289),\"\",VLOOKUP(B289,NSLPandADEtableFY14,15,FALSE))","v":""},{"$f":"IF(ISBLANK(B289),\"\",VLOOKUP(B289,NSLPandADEtableFY14,2,FALSE))","v":""},"",{"$f":"IF(ISBLANK(B289),\"\",VLOOKUP(B289,NSLPandADEtableFY14,11,FALSE))","v":""},null,null,null,null,null,null,null,"Childrens Village VI - 102701006"]
["",null,{"$f":"IF(ISBLANK(B290),\"\",VLOOKUP(B290,NSLPandADEtableFY14,14,FALSE))","v":""},{"$f":"IF(ISBLANK(B290),\"\",VLOOKUP(B290,NSLPandADEtableFY14,15,FALSE))","v":""},{"$f":"IF(ISBLANK(B290),\"\",VLOOKUP(B290,NSLPandADEtableFY14,2,FALSE))","v":""},"",{"$f":"IF(ISBLANK(B290),\"\",VLOOKUP(B290,NSLPandADEtableFY14,11,FALSE))","v":""},null,null,null,null,null,null,null,"Childrens Village VIII - 102255044"]
["",null,{"$f":"IF(ISBLANK(B291),\"\",VLOOKUP(B291,NSLPandADEtableFY14,14,FALSE))","v":""},{"$f":"IF(ISBLANK(B291),\"\",VLOOKUP(B291,NSLPandADEtableFY14,15,FALSE))","v":""},{"$f":"IF(ISBLANK(B291),\"\",VLOOKUP(B291,NSLPandADEtableFY14,2,FALSE))","v":""},"",{"$f":"IF(ISBLANK(B291),\"\",VLOOKUP(B291,NSLPandADEtableFY14,11,FALSE))","v":""},null,null,null,null,null,null,null,"Childrens Village VII-Shelter - 102255043"]
["",null,{"$f":"IF(ISBLANK(B292),\"\",VLOOKUP(B292,NSLPandADEtableFY14,14,FALSE))","v":""},{"$f":"IF(ISBLANK(B292),\"\",VLOOKUP(B292,NSLPandADEtableFY14,15,FALSE))","v":""},{"$f":"IF(ISBLANK(B292),\"\",VLOOKUP(B292,NSLPandADEtableFY14,2,FALSE))","v":""},"",{"$f":"IF(ISBLANK(B292),\"\",VLOOKUP(B292,NSLPandADEtableFY14,11,FALSE))","v":""},null,null,null,null,null,null,null,"Chinle Elementary School - 010224150"]
["",null,{"$f":"IF(ISBLANK(B293),\"\",VLOOKUP(B293,NSLPandADEtableFY14,14,FALSE))","v":""},{"$f":"IF(ISBLANK(B293),\"\",VLOOKUP(B293,NSLPandADEtableFY14,15,FALSE))","v":""},{"$f":"IF(ISBLANK(B293),\"\",VLOOKUP(B293,NSLPandADEtableFY14,2,FALSE))","v":""},"",{"$f":"IF(ISBLANK(B293),\"\",VLOOKUP(B293,NSLPandADEtableFY14,11,FALSE))","v":""},null,null,null,null,null,null,null,"Chinle High School - 010224240"]
["",null,{"$f":"IF(ISBLANK(B294),\"\",VLOOKUP(B294,NSLPandADEtableFY14,14,FALSE))","v":""},{"$f":"IF(ISBLANK(B294),\"\",VLOOKUP(B294,NSLPandADEtableFY14,15,FALSE))","v":""},{"$f":"IF(ISBLANK(B294),\"\",VLOOKUP(B294,NSLPandADEtableFY14,2,FALSE))","v":""},"",{"$f":"IF(ISBLANK(B294),\"\",VLOOKUP(B294,NSLPandADEtableFY14,11,FALSE))","v":""},null,null,null,null,null,null,null,"Chinle Junior High School - 010224145"]
["",null,{"$f":"IF(ISBLANK(B295),\"\",VLOOKUP(B295,NSLPandADEtableFY14,14,FALSE))","v":""},{"$f":"IF(ISBLANK(B295),\"\",VLOOKUP(B295,NSLPandADEtableFY14,15,FALSE))","v":""},{"$f":"IF(ISBLANK(B295),\"\",VLOOKUP(B295,NSLPandADEtableFY14,2,FALSE))","v":""},"",{"$f":"IF(ISBLANK(B295),\"\",VLOOKUP(B295,NSLPandADEtableFY14,11,FALSE))","v":""},null,null,null,null,null,null,null,"Chino Valley High School - 130251203"]
["",null,{"$f":"IF(ISBLANK(B296),\"\",VLOOKUP(B296,NSLPandADEtableFY14,14,FALSE))","v":""},{"$f":"IF(ISBLANK(B296),\"\",VLOOKUP(B296,NSLPandADEtableFY14,15,FALSE))","v":""},{"$f":"IF(ISBLANK(B296),\"\",VLOOKUP(B296,NSLPandADEtableFY14,2,FALSE))","v":""},"",{"$f":"IF(ISBLANK(B296),\"\",VLOOKUP(B296,NSLPandADEtableFY14,11,FALSE))","v":""},null,null,null,null,null,null,null,"Cholla Elementary School - 110404107"]
["",null,{"$f":"IF(ISBLANK(B297),\"\",VLOOKUP(B297,NSLPandADEtableFY14,14,FALSE))","v":""},{"$f":"IF(ISBLANK(B297),\"\",VLOOKUP(B297,NSLPandADEtableFY14,15,FALSE))","v":""},{"$f":"IF(ISBLANK(B297),\"\",VLOOKUP(B297,NSLPandADEtableFY14,2,FALSE))","v":""},"",{"$f":"IF(ISBLANK(B297),\"\",VLOOKUP(B297,NSLPandADEtableFY14,11,FALSE))","v":""},null,null,null,null,null,null,null,"Cholla High Magnet School - 100201615"]
["",null,{"$f":"IF(ISBLANK(B298),\"\",VLOOKUP(B298,NSLPandADEtableFY14,14,FALSE))","v":""},{"$f":"IF(ISBLANK(B298),\"\",VLOOKUP(B298,NSLPandADEtableFY14,15,FALSE))","v":""},{"$f":"IF(ISBLANK(B298),\"\",VLOOKUP(B298,NSLPandADEtableFY14,2,FALSE))","v":""},"",{"$f":"IF(ISBLANK(B298),\"\",VLOOKUP(B298,NSLPandADEtableFY14,11,FALSE))","v":""},null,null,null,null,null,null,null,"Cholla Middle School - 070406124"]
["",null,{"$f":"IF(ISBLANK(B299),\"\",VLOOKUP(B299,NSLPandADEtableFY14,14,FALSE))","v":""},{"$f":"IF(ISBLANK(B299),\"\",VLOOKUP(B299,NSLPandADEtableFY14,15,FALSE))","v":""},{"$f":"IF(ISBLANK(B299),\"\",VLOOKUP(B299,NSLPandADEtableFY14,2,FALSE))","v":""},"",{"$f":"IF(ISBLANK(B299),\"\",VLOOKUP(B299,NSLPandADEtableFY14,11,FALSE))","v":""},null,null,null,null,null,null,null,"Cibecue - 104001005"]
["",null,{"$f":"IF(ISBLANK(B300),\"\",VLOOKUP(B300,NSLPandADEtableFY14,14,FALSE))","v":""},{"$f":"IF(ISBLANK(B300),\"\",VLOOKUP(B300,NSLPandADEtableFY14,15,FALSE))","v":""},{"$f":"IF(ISBLANK(B300),\"\",VLOOKUP(B300,NSLPandADEtableFY14,2,FALSE))","v":""},"",{"$f":"IF(ISBLANK(B300),\"\",VLOOKUP(B300,NSLPandADEtableFY14,11,FALSE))","v":""},null,null,null,null,null,null,null,"Cibola High School - 140570203"]
["",null,{"$f":"IF(ISBLANK(B301),\"\",VLOOKUP(B301,NSLPandADEtableFY14,14,FALSE))","v":""},{"$f":"IF(ISBLANK(B301),\"\",VLOOKUP(B301,NSLPandADEtableFY14,15,FALSE))","v":""},{"$f":"IF(ISBLANK(B301),\"\",VLOOKUP(B301,NSLPandADEtableFY14,2,FALSE))","v":""},"",{"$f":"IF(ISBLANK(B301),\"\",VLOOKUP(B301,NSLPandADEtableFY14,11,FALSE))","v":""},null,null,null,null,null,null,null,"Cienega High School - 100220201"]
["",null,{"$f":"IF(ISBLANK(B302),\"\",VLOOKUP(B302,NSLPandADEtableFY14,14,FALSE))","v":""},{"$f":"IF(ISBLANK(B302),\"\",VLOOKUP(B302,NSLPandADEtableFY14,15,FALSE))","v":""},{"$f":"IF(ISBLANK(B302),\"\",VLOOKUP(B302,NSLPandADEtableFY14,2,FALSE))","v":""},"",{"$f":"IF(ISBLANK(B302),\"\",VLOOKUP(B302,NSLPandADEtableFY14,11,FALSE))","v":""},null,null,null,null,null,null,null,"Cimarron Springs Elementary - 070289112"]
["",null,{"$f":"IF(ISBLANK(B303),\"\",VLOOKUP(B303,NSLPandADEtableFY14,14,FALSE))","v":""},{"$f":"IF(ISBLANK(B303),\"\",VLOOKUP(B303,NSLPandADEtableFY14,15,FALSE))","v":""},{"$f":"IF(ISBLANK(B303),\"\",VLOOKUP(B303,NSLPandADEtableFY14,2,FALSE))","v":""},"",{"$f":"IF(ISBLANK(B303),\"\",VLOOKUP(B303,NSLPandADEtableFY14,11,FALSE))","v":""},null,null,null,null,null,null,null,"Circle Cross Ranch K8 School - 110201106"]
["",null,{"$f":"IF(ISBLANK(B304),\"\",VLOOKUP(B304,NSLPandADEtableFY14,14,FALSE))","v":""},{"$f":"IF(ISBLANK(B304),\"\",VLOOKUP(B304,NSLPandADEtableFY14,15,FALSE))","v":""},{"$f":"IF(ISBLANK(B304),\"\",VLOOKUP(B304,NSLPandADEtableFY14,2,FALSE))","v":""},"",{"$f":"IF(ISBLANK(B304),\"\",VLOOKUP(B304,NSLPandADEtableFY14,11,FALSE))","v":""},null,null,null,null,null,null,null,"City High School - 108720201"]
["",null,{"$f":"IF(ISBLANK(B305),\"\",VLOOKUP(B305,NSLPandADEtableFY14,14,FALSE))","v":""},{"$f":"IF(ISBLANK(B305),\"\",VLOOKUP(B305,NSLPandADEtableFY14,15,FALSE))","v":""},{"$f":"IF(ISBLANK(B305),\"\",VLOOKUP(B305,NSLPandADEtableFY14,2,FALSE))","v":""},"",{"$f":"IF(ISBLANK(B305),\"\",VLOOKUP(B305,NSLPandADEtableFY14,11,FALSE))","v":""},null,null,null,null,null,null,null,"Clarendon School - 070408102"]
["",null,{"$f":"IF(ISBLANK(B306),\"\",VLOOKUP(B306,NSLPandADEtableFY14,14,FALSE))","v":""},{"$f":"IF(ISBLANK(B306),\"\",VLOOKUP(B306,NSLPandADEtableFY14,15,FALSE))","v":""},{"$f":"IF(ISBLANK(B306),\"\",VLOOKUP(B306,NSLPandADEtableFY14,2,FALSE))","v":""},"",{"$f":"IF(ISBLANK(B306),\"\",VLOOKUP(B306,NSLPandADEtableFY14,11,FALSE))","v":""},null,null,null,null,null,null,null,"Clarkdale-Jerome Elementary School - 130403101"]
["",null,{"$f":"IF(ISBLANK(B307),\"\",VLOOKUP(B307,NSLPandADEtableFY14,14,FALSE))","v":""},{"$f":"IF(ISBLANK(B307),\"\",VLOOKUP(B307,NSLPandADEtableFY14,15,FALSE))","v":""},{"$f":"IF(ISBLANK(B307),\"\",VLOOKUP(B307,NSLPandADEtableFY14,2,FALSE))","v":""},"",{"$f":"IF(ISBLANK(B307),\"\",VLOOKUP(B307,NSLPandADEtableFY14,11,FALSE))","v":""},null,null,null,null,null,null,null,"Clawson School - 020227102"]
["",null,{"$f":"IF(ISBLANK(B308),\"\",VLOOKUP(B308,NSLPandADEtableFY14,14,FALSE))","v":""},{"$f":"IF(ISBLANK(B308),\"\",VLOOKUP(B308,NSLPandADEtableFY14,15,FALSE))","v":""},{"$f":"IF(ISBLANK(B308),\"\",VLOOKUP(B308,NSLPandADEtableFY14,2,FALSE))","v":""},"",{"$f":"IF(ISBLANK(B308),\"\",VLOOKUP(B308,NSLPandADEtableFY14,11,FALSE))","v":""},null,null,null,null,null,null,null,"Clay Street Shelter - 102703002"]
["",null,{"$f":"IF(ISBLANK(B309),\"\",VLOOKUP(B309,NSLPandADEtableFY14,14,FALSE))","v":""},{"$f":"IF(ISBLANK(B309),\"\",VLOOKUP(B309,NSLPandADEtableFY14,15,FALSE))","v":""},{"$f":"IF(ISBLANK(B309),\"\",VLOOKUP(B309,NSLPandADEtableFY14,2,FALSE))","v":""},"",{"$f":"IF(ISBLANK(B309),\"\",VLOOKUP(B309,NSLPandADEtableFY14,11,FALSE))","v":""},null,null,null,null,null,null,null,"Clifton High School - 060203202"]
["",null,{"$f":"IF(ISBLANK(B310),\"\",VLOOKUP(B310,NSLPandADEtableFY14,14,FALSE))","v":""},{"$f":"IF(ISBLANK(B310),\"\",VLOOKUP(B310,NSLPandADEtableFY14,15,FALSE))","v":""},{"$f":"IF(ISBLANK(B310),\"\",VLOOKUP(B310,NSLPandADEtableFY14,2,FALSE))","v":""},"",{"$f":"IF(ISBLANK(B310),\"\",VLOOKUP(B310,NSLPandADEtableFY14,11,FALSE))","v":""},null,null,null,null,null,null,null,"Cloves C Campbell Sr Elementary School - 070466022"]
["",null,{"$f":"IF(ISBLANK(B311),\"\",VLOOKUP(B311,NSLPandADEtableFY14,14,FALSE))","v":""},{"$f":"IF(ISBLANK(B311),\"\",VLOOKUP(B311,NSLPandADEtableFY14,15,FALSE))","v":""},{"$f":"IF(ISBLANK(B311),\"\",VLOOKUP(B311,NSLPandADEtableFY14,2,FALSE))","v":""},"",{"$f":"IF(ISBLANK(B311),\"\",VLOOKUP(B311,NSLPandADEtableFY14,11,FALSE))","v":""},null,null,null,null,null,null,null,"Coatimundi Middle School - 120235140"]
["",null,{"$f":"IF(ISBLANK(B312),\"\",VLOOKUP(B312,NSLPandADEtableFY14,14,FALSE))","v":""},{"$f":"IF(ISBLANK(B312),\"\",VLOOKUP(B312,NSLPandADEtableFY14,15,FALSE))","v":""},{"$f":"IF(ISBLANK(B312),\"\",VLOOKUP(B312,NSLPandADEtableFY14,2,FALSE))","v":""},"",{"$f":"IF(ISBLANK(B312),\"\",VLOOKUP(B312,NSLPandADEtableFY14,11,FALSE))","v":""},null,null,null,null,null,null,null,"Cochise County Children Center - 102703003"]
["",null,{"$f":"IF(ISBLANK(B313),\"\",VLOOKUP(B313,NSLPandADEtableFY14,14,FALSE))","v":""},{"$f":"IF(ISBLANK(B313),\"\",VLOOKUP(B313,NSLPandADEtableFY14,15,FALSE))","v":""},{"$f":"IF(ISBLANK(B313),\"\",VLOOKUP(B313,NSLPandADEtableFY14,2,FALSE))","v":""},"",{"$f":"IF(ISBLANK(B313),\"\",VLOOKUP(B313,NSLPandADEtableFY14,11,FALSE))","v":""},null,null,null,null,null,null,null,"Cochise Elementary School - 020326101"]
["",null,{"$f":"IF(ISBLANK(B314),\"\",VLOOKUP(B314,NSLPandADEtableFY14,14,FALSE))","v":""},{"$f":"IF(ISBLANK(B314),\"\",VLOOKUP(B314,NSLPandADEtableFY14,15,FALSE))","v":""},{"$f":"IF(ISBLANK(B314),\"\",VLOOKUP(B314,NSLPandADEtableFY14,2,FALSE))","v":""},"",{"$f":"IF(ISBLANK(B314),\"\",VLOOKUP(B314,NSLPandADEtableFY14,11,FALSE))","v":""},null,null,null,null,null,null,null,"Cochise Elementary School - 070248102"]
["",null,{"$f":"IF(ISBLANK(B315),\"\",VLOOKUP(B315,NSLPandADEtableFY14,14,FALSE))","v":""},{"$f":"IF(ISBLANK(B315),\"\",VLOOKUP(B315,NSLPandADEtableFY14,15,FALSE))","v":""},{"$f":"IF(ISBLANK(B315),\"\",VLOOKUP(B315,NSLPandADEtableFY14,2,FALSE))","v":""},"",{"$f":"IF(ISBLANK(B315),\"\",VLOOKUP(B315,NSLPandADEtableFY14,11,FALSE))","v":""},null,null,null,null,null,null,null,"Coconino High School - 030201282"]
["",null,{"$f":"IF(ISBLANK(B316),\"\",VLOOKUP(B316,NSLPandADEtableFY14,14,FALSE))","v":""},{"$f":"IF(ISBLANK(B316),\"\",VLOOKUP(B316,NSLPandADEtableFY14,15,FALSE))","v":""},{"$f":"IF(ISBLANK(B316),\"\",VLOOKUP(B316,NSLPandADEtableFY14,2,FALSE))","v":""},"",{"$f":"IF(ISBLANK(B316),\"\",VLOOKUP(B316,NSLPandADEtableFY14,11,FALSE))","v":""},null,null,null,null,null,null,null,"Cocopah Middle School - 070248169"]
["",null,{"$f":"IF(ISBLANK(B317),\"\",VLOOKUP(B317,NSLPandADEtableFY14,14,FALSE))","v":""},{"$f":"IF(ISBLANK(B317),\"\",VLOOKUP(B317,NSLPandADEtableFY14,15,FALSE))","v":""},{"$f":"IF(ISBLANK(B317),\"\",VLOOKUP(B317,NSLPandADEtableFY14,2,FALSE))","v":""},"",{"$f":"IF(ISBLANK(B317),\"\",VLOOKUP(B317,NSLPandADEtableFY14,11,FALSE))","v":""},null,null,null,null,null,null,null,"Collier Elementary School - 070465104"]
["",null,{"$f":"IF(ISBLANK(B318),\"\",VLOOKUP(B318,NSLPandADEtableFY14,14,FALSE))","v":""},{"$f":"IF(ISBLANK(B318),\"\",VLOOKUP(B318,NSLPandADEtableFY14,15,FALSE))","v":""},{"$f":"IF(ISBLANK(B318),\"\",VLOOKUP(B318,NSLPandADEtableFY14,2,FALSE))","v":""},"",{"$f":"IF(ISBLANK(B318),\"\",VLOOKUP(B318,NSLPandADEtableFY14,11,FALSE))","v":""},null,null,null,null,null,null,null,"Collier Elementary School - 100201170"]
["",null,{"$f":"IF(ISBLANK(B319),\"\",VLOOKUP(B319,NSLPandADEtableFY14,14,FALSE))","v":""},{"$f":"IF(ISBLANK(B319),\"\",VLOOKUP(B319,NSLPandADEtableFY14,15,FALSE))","v":""},{"$f":"IF(ISBLANK(B319),\"\",VLOOKUP(B319,NSLPandADEtableFY14,2,FALSE))","v":""},"",{"$f":"IF(ISBLANK(B319),\"\",VLOOKUP(B319,NSLPandADEtableFY14,11,FALSE))","v":""},null,null,null,null,null,null,null,"Colonel Johnston Elementary School - 020100102"]
["",null,{"$f":"IF(ISBLANK(B320),\"\",VLOOKUP(B320,NSLPandADEtableFY14,14,FALSE))","v":""},{"$f":"IF(ISBLANK(B320),\"\",VLOOKUP(B320,NSLPandADEtableFY14,15,FALSE))","v":""},{"$f":"IF(ISBLANK(B320),\"\",VLOOKUP(B320,NSLPandADEtableFY14,2,FALSE))","v":""},"",{"$f":"IF(ISBLANK(B320),\"\",VLOOKUP(B320,NSLPandADEtableFY14,11,FALSE))","v":""},null,null,null,null,null,null,null,"Colonel Smith Middle School - 020100103"]
["",null,{"$f":"IF(ISBLANK(B321),\"\",VLOOKUP(B321,NSLPandADEtableFY14,14,FALSE))","v":""},{"$f":"IF(ISBLANK(B321),\"\",VLOOKUP(B321,NSLPandADEtableFY14,15,FALSE))","v":""},{"$f":"IF(ISBLANK(B321),\"\",VLOOKUP(B321,NSLPandADEtableFY14,2,FALSE))","v":""},"",{"$f":"IF(ISBLANK(B321),\"\",VLOOKUP(B321,NSLPandADEtableFY14,11,FALSE))","v":""},null,null,null,null,null,null,null,"Combs High School - 110244201"]
["",null,{"$f":"IF(ISBLANK(B322),\"\",VLOOKUP(B322,NSLPandADEtableFY14,14,FALSE))","v":""},{"$f":"IF(ISBLANK(B322),\"\",VLOOKUP(B322,NSLPandADEtableFY14,15,FALSE))","v":""},{"$f":"IF(ISBLANK(B322),\"\",VLOOKUP(B322,NSLPandADEtableFY14,2,FALSE))","v":""},"",{"$f":"IF(ISBLANK(B322),\"\",VLOOKUP(B322,NSLPandADEtableFY14,11,FALSE))","v":""},null,null,null,null,null,null,null,"Compadre High School - 070513097"]
["",null,{"$f":"IF(ISBLANK(B323),\"\",VLOOKUP(B323,NSLPandADEtableFY14,14,FALSE))","v":""},{"$f":"IF(ISBLANK(B323),\"\",VLOOKUP(B323,NSLPandADEtableFY14,15,FALSE))","v":""},{"$f":"IF(ISBLANK(B323),\"\",VLOOKUP(B323,NSLPandADEtableFY14,2,FALSE))","v":""},"",{"$f":"IF(ISBLANK(B323),\"\",VLOOKUP(B323,NSLPandADEtableFY14,11,FALSE))","v":""},null,null,null,null,null,null,null,"Concho Elementary School - 010306101"]
["",null,{"$f":"IF(ISBLANK(B324),\"\",VLOOKUP(B324,NSLPandADEtableFY14,14,FALSE))","v":""},{"$f":"IF(ISBLANK(B324),\"\",VLOOKUP(B324,NSLPandADEtableFY14,15,FALSE))","v":""},{"$f":"IF(ISBLANK(B324),\"\",VLOOKUP(B324,NSLPandADEtableFY14,2,FALSE))","v":""},"",{"$f":"IF(ISBLANK(B324),\"\",VLOOKUP(B324,NSLPandADEtableFY14,11,FALSE))","v":""},null,null,null,null,null,null,null,"Concordia Charter School - 078530101"]
["",null,{"$f":"IF(ISBLANK(B325),\"\",VLOOKUP(B325,NSLPandADEtableFY14,14,FALSE))","v":""},{"$f":"IF(ISBLANK(B325),\"\",VLOOKUP(B325,NSLPandADEtableFY14,15,FALSE))","v":""},{"$f":"IF(ISBLANK(B325),\"\",VLOOKUP(B325,NSLPandADEtableFY14,2,FALSE))","v":""},"",{"$f":"IF(ISBLANK(B325),\"\",VLOOKUP(B325,NSLPandADEtableFY14,11,FALSE))","v":""},null,null,null,null,null,null,null,"Congress Elementary School - 130317001"]
["",null,{"$f":"IF(ISBLANK(B326),\"\",VLOOKUP(B326,NSLPandADEtableFY14,14,FALSE))","v":""},{"$f":"IF(ISBLANK(B326),\"\",VLOOKUP(B326,NSLPandADEtableFY14,15,FALSE))","v":""},{"$f":"IF(ISBLANK(B326),\"\",VLOOKUP(B326,NSLPandADEtableFY14,2,FALSE))","v":""},"",{"$f":"IF(ISBLANK(B326),\"\",VLOOKUP(B326,NSLPandADEtableFY14,11,FALSE))","v":""},null,null,null,null,null,null,null,"Connolly Middle School - 070403144"]
["",null,{"$f":"IF(ISBLANK(B327),\"\",VLOOKUP(B327,NSLPandADEtableFY14,14,FALSE))","v":""},{"$f":"IF(ISBLANK(B327),\"\",VLOOKUP(B327,NSLPandADEtableFY14,15,FALSE))","v":""},{"$f":"IF(ISBLANK(B327),\"\",VLOOKUP(B327,NSLPandADEtableFY14,2,FALSE))","v":""},"",{"$f":"IF(ISBLANK(B327),\"\",VLOOKUP(B327,NSLPandADEtableFY14,11,FALSE))","v":""},null,null,null,null,null,null,null,"Constitution Elementary School - 070297115"]
["",null,{"$f":"IF(ISBLANK(B328),\"\",VLOOKUP(B328,NSLPandADEtableFY14,14,FALSE))","v":""},{"$f":"IF(ISBLANK(B328),\"\",VLOOKUP(B328,NSLPandADEtableFY14,15,FALSE))","v":""},{"$f":"IF(ISBLANK(B328),\"\",VLOOKUP(B328,NSLPandADEtableFY14,2,FALSE))","v":""},"",{"$f":"IF(ISBLANK(B328),\"\",VLOOKUP(B328,NSLPandADEtableFY14,11,FALSE))","v":""},null,null,null,null,null,null,null,"Continental Elementary School - 100339001"]
["",null,{"$f":"IF(ISBLANK(B329),\"\",VLOOKUP(B329,NSLPandADEtableFY14,14,FALSE))","v":""},{"$f":"IF(ISBLANK(B329),\"\",VLOOKUP(B329,NSLPandADEtableFY14,15,FALSE))","v":""},{"$f":"IF(ISBLANK(B329),\"\",VLOOKUP(B329,NSLPandADEtableFY14,2,FALSE))","v":""},"",{"$f":"IF(ISBLANK(B329),\"\",VLOOKUP(B329,NSLPandADEtableFY14,11,FALSE))","v":""},null,null,null,null,null,null,null,"Continental Project - 030201285"]
["",null,{"$f":"IF(ISBLANK(B330),\"\",VLOOKUP(B330,NSLPandADEtableFY14,14,FALSE))","v":""},{"$f":"IF(ISBLANK(B330),\"\",VLOOKUP(B330,NSLPandADEtableFY14,15,FALSE))","v":""},{"$f":"IF(ISBLANK(B330),\"\",VLOOKUP(B330,NSLPandADEtableFY14,2,FALSE))","v":""},"",{"$f":"IF(ISBLANK(B330),\"\",VLOOKUP(B330,NSLPandADEtableFY14,11,FALSE))","v":""},null,null,null,null,null,null,null,"Coolidge High School - 110221007"]
["",null,{"$f":"IF(ISBLANK(B331),\"\",VLOOKUP(B331,NSLPandADEtableFY14,14,FALSE))","v":""},{"$f":"IF(ISBLANK(B331),\"\",VLOOKUP(B331,NSLPandADEtableFY14,15,FALSE))","v":""},{"$f":"IF(ISBLANK(B331),\"\",VLOOKUP(B331,NSLPandADEtableFY14,2,FALSE))","v":""},"",{"$f":"IF(ISBLANK(B331),\"\",VLOOKUP(B331,NSLPandADEtableFY14,11,FALSE))","v":""},null,null,null,null,null,null,null,"Copper Basin - 110201103"]
[{"$f":"IF(ISBLANK(B332),\"\",\"Q-Public School\")","v":""},null,{"$f":"IF(ISBLANK(B332),\"\",VLOOKUP(B332,NSLPandADEtableFY14,14,FALSE))","v":""},{"$f":"IF(ISBLANK(B332),\"\",VLOOKUP(B332,NSLPandADEtableFY14,15,FALSE))","v":""},{"$f":"IF(ISBLANK(B332),\"\",VLOOKUP(B332,NSLPandADEtableFY14,2,FALSE))","v":""},{"$f":"IF(ISBLANK(B332),\"\",\"Free & Reduced Lunch Data (NSLP) March 2013\")","v":""},{"$f":"IF(ISBLANK(B332),\"\",VLOOKUP(B332,NSLPandADEtableFY14,11,FALSE))","v":""},null,null,null,null,null,null,null,"Copper Canyon Academy - 078664001"]
["",null,{"$f":"IF(ISBLANK(B333),\"\",VLOOKUP(B333,NSLPandADEtableFY14,14,FALSE))","v":""},{"$f":"IF(ISBLANK(B333),\"\",VLOOKUP(B333,NSLPandADEtableFY14,15,FALSE))","v":""},{"$f":"IF(ISBLANK(B333),\"\",VLOOKUP(B333,NSLPandADEtableFY14,2,FALSE))","v":""},"",{"$f":"IF(ISBLANK(B333),\"\",VLOOKUP(B333,NSLPandADEtableFY14,11,FALSE))","v":""},null,null,null,null,null,null,null,"Copper Canyon Elementary School - 070269128"]
["",null,{"$f":"IF(ISBLANK(B334),\"\",VLOOKUP(B334,NSLPandADEtableFY14,14,FALSE))","v":""},{"$f":"IF(ISBLANK(B334),\"\",VLOOKUP(B334,NSLPandADEtableFY14,15,FALSE))","v":""},{"$f":"IF(ISBLANK(B334),\"\",VLOOKUP(B334,NSLPandADEtableFY14,2,FALSE))","v":""},"",{"$f":"IF(ISBLANK(B334),\"\",VLOOKUP(B334,NSLPandADEtableFY14,11,FALSE))","v":""},null,null,null,null,null,null,null,"Copper Canyon High School - 070514204"]
["",null,{"$f":"IF(ISBLANK(B335),\"\",VLOOKUP(B335,NSLPandADEtableFY14,14,FALSE))","v":""},{"$f":"IF(ISBLANK(B335),\"\",VLOOKUP(B335,NSLPandADEtableFY14,15,FALSE))","v":""},{"$f":"IF(ISBLANK(B335),\"\",VLOOKUP(B335,NSLPandADEtableFY14,2,FALSE))","v":""},"",{"$f":"IF(ISBLANK(B335),\"\",VLOOKUP(B335,NSLPandADEtableFY14,11,FALSE))","v":""},null,null,null,null,null,null,null,"Copper Creek Elementary - 070297134"]
["",null,{"$f":"IF(ISBLANK(B336),\"\",VLOOKUP(B336,NSLPandADEtableFY14,14,FALSE))","v":""},{"$f":"IF(ISBLANK(B336),\"\",VLOOKUP(B336,NSLPandADEtableFY14,15,FALSE))","v":""},{"$f":"IF(ISBLANK(B336),\"\",VLOOKUP(B336,NSLPandADEtableFY14,2,FALSE))","v":""},"",{"$f":"IF(ISBLANK(B336),\"\",VLOOKUP(B336,NSLPandADEtableFY14,11,FALSE))","v":""},null,null,null,null,null,null,null,"Copper Creek Elementary School - 100210118"]
["",null,{"$f":"IF(ISBLANK(B337),\"\",VLOOKUP(B337,NSLPandADEtableFY14,14,FALSE))","v":""},{"$f":"IF(ISBLANK(B337),\"\",VLOOKUP(B337,NSLPandADEtableFY14,15,FALSE))","v":""},{"$f":"IF(ISBLANK(B337),\"\",VLOOKUP(B337,NSLPandADEtableFY14,2,FALSE))","v":""},"",{"$f":"IF(ISBLANK(B337),\"\",VLOOKUP(B337,NSLPandADEtableFY14,11,FALSE))","v":""},null,null,null,null,null,null,null,"Copper King Elementary - 070492018"]
["",null,{"$f":"IF(ISBLANK(B338),\"\",VLOOKUP(B338,NSLPandADEtableFY14,14,FALSE))","v":""},{"$f":"IF(ISBLANK(B338),\"\",VLOOKUP(B338,NSLPandADEtableFY14,15,FALSE))","v":""},{"$f":"IF(ISBLANK(B338),\"\",VLOOKUP(B338,NSLPandADEtableFY14,2,FALSE))","v":""},"",{"$f":"IF(ISBLANK(B338),\"\",VLOOKUP(B338,NSLPandADEtableFY14,11,FALSE))","v":""},null,null,null,null,null,null,null,"Copper Ridge Elementary School - 070248130"]
["",null,{"$f":"IF(ISBLANK(B339),\"\",VLOOKUP(B339,NSLPandADEtableFY14,14,FALSE))","v":""},{"$f":"IF(ISBLANK(B339),\"\",VLOOKUP(B339,NSLPandADEtableFY14,15,FALSE))","v":""},{"$f":"IF(ISBLANK(B339),\"\",VLOOKUP(B339,NSLPandADEtableFY14,2,FALSE))","v":""},"",{"$f":"IF(ISBLANK(B339),\"\",VLOOKUP(B339,NSLPandADEtableFY14,11,FALSE))","v":""},null,null,null,null,null,null,null,"Copper Rim Elementary School - 040201003"]
["",null,{"$f":"IF(ISBLANK(B340),\"\",VLOOKUP(B340,NSLPandADEtableFY14,14,FALSE))","v":""},{"$f":"IF(ISBLANK(B340),\"\",VLOOKUP(B340,NSLPandADEtableFY14,15,FALSE))","v":""},{"$f":"IF(ISBLANK(B340),\"\",VLOOKUP(B340,NSLPandADEtableFY14,2,FALSE))","v":""},"",{"$f":"IF(ISBLANK(B340),\"\",VLOOKUP(B340,NSLPandADEtableFY14,11,FALSE))","v":""},null,null,null,null,null,null,null,"Copper Trails - 070444110"]
["",null,{"$f":"IF(ISBLANK(B341),\"\",VLOOKUP(B341,NSLPandADEtableFY14,14,FALSE))","v":""},{"$f":"IF(ISBLANK(B341),\"\",VLOOKUP(B341,NSLPandADEtableFY14,15,FALSE))","v":""},{"$f":"IF(ISBLANK(B341),\"\",VLOOKUP(B341,NSLPandADEtableFY14,2,FALSE))","v":""},"",{"$f":"IF(ISBLANK(B341),\"\",VLOOKUP(B341,NSLPandADEtableFY14,11,FALSE))","v":""},null,null,null,null,null,null,null,"Copper View Elementary School - 100230104"]
["",null,{"$f":"IF(ISBLANK(B342),\"\",VLOOKUP(B342,NSLPandADEtableFY14,14,FALSE))","v":""},{"$f":"IF(ISBLANK(B342),\"\",VLOOKUP(B342,NSLPandADEtableFY14,15,FALSE))","v":""},{"$f":"IF(ISBLANK(B342),\"\",VLOOKUP(B342,NSLPandADEtableFY14,2,FALSE))","v":""},"",{"$f":"IF(ISBLANK(B342),\"\",VLOOKUP(B342,NSLPandADEtableFY14,11,FALSE))","v":""},null,null,null,null,null,null,null,"Copperwood School - 070211109"]
["",null,{"$f":"IF(ISBLANK(B343),\"\",VLOOKUP(B343,NSLPandADEtableFY14,14,FALSE))","v":""},{"$f":"IF(ISBLANK(B343),\"\",VLOOKUP(B343,NSLPandADEtableFY14,15,FALSE))","v":""},{"$f":"IF(ISBLANK(B343),\"\",VLOOKUP(B343,NSLPandADEtableFY14,2,FALSE))","v":""},"",{"$f":"IF(ISBLANK(B343),\"\",VLOOKUP(B343,NSLPandADEtableFY14,11,FALSE))","v":""},null,null,null,null,null,null,null,"Corbett Elementary School - 100201173"]
["",null,{"$f":"IF(ISBLANK(B344),\"\",VLOOKUP(B344,NSLPandADEtableFY14,14,FALSE))","v":""},{"$f":"IF(ISBLANK(B344),\"\",VLOOKUP(B344,NSLPandADEtableFY14,15,FALSE))","v":""},{"$f":"IF(ISBLANK(B344),\"\",VLOOKUP(B344,NSLPandADEtableFY14,2,FALSE))","v":""},"",{"$f":"IF(ISBLANK(B344),\"\",VLOOKUP(B344,NSLPandADEtableFY14,11,FALSE))","v":""},null,null,null,null,null,null,null,"Cordova Middle School - 070468107"]
["",null,{"$f":"IF(ISBLANK(B345),\"\",VLOOKUP(B345,NSLPandADEtableFY14,14,FALSE))","v":""},{"$f":"IF(ISBLANK(B345),\"\",VLOOKUP(B345,NSLPandADEtableFY14,15,FALSE))","v":""},{"$f":"IF(ISBLANK(B345),\"\",VLOOKUP(B345,NSLPandADEtableFY14,2,FALSE))","v":""},"",{"$f":"IF(ISBLANK(B345),\"\",VLOOKUP(B345,NSLPandADEtableFY14,11,FALSE))","v":""},null,null,null,null,null,null,null,"Cordova Primary School - 070468108"]
["",null,{"$f":"IF(ISBLANK(B346),\"\",VLOOKUP(B346,NSLPandADEtableFY14,14,FALSE))","v":""},{"$f":"IF(ISBLANK(B346),\"\",VLOOKUP(B346,NSLPandADEtableFY14,15,FALSE))","v":""},{"$f":"IF(ISBLANK(B346),\"\",VLOOKUP(B346,NSLPandADEtableFY14,2,FALSE))","v":""},"",{"$f":"IF(ISBLANK(B346),\"\",VLOOKUP(B346,NSLPandADEtableFY14,11,FALSE))","v":""},null,null,null,null,null,null,null,"Cornerstone Charter School - 078994001"]
["",null,{"$f":"IF(ISBLANK(B347),\"\",VLOOKUP(B347,NSLPandADEtableFY14,14,FALSE))","v":""},{"$f":"IF(ISBLANK(B347),\"\",VLOOKUP(B347,NSLPandADEtableFY14,15,FALSE))","v":""},{"$f":"IF(ISBLANK(B347),\"\",VLOOKUP(B347,NSLPandADEtableFY14,2,FALSE))","v":""},"",{"$f":"IF(ISBLANK(B347),\"\",VLOOKUP(B347,NSLPandADEtableFY14,11,FALSE))","v":""},null,null,null,null,null,null,null,"Corona Del Sol High School - 070513094"]
["",null,{"$f":"IF(ISBLANK(B348),\"\",VLOOKUP(B348,NSLPandADEtableFY14,14,FALSE))","v":""},{"$f":"IF(ISBLANK(B348),\"\",VLOOKUP(B348,NSLPandADEtableFY14,15,FALSE))","v":""},{"$f":"IF(ISBLANK(B348),\"\",VLOOKUP(B348,NSLPandADEtableFY14,2,FALSE))","v":""},"",{"$f":"IF(ISBLANK(B348),\"\",VLOOKUP(B348,NSLPandADEtableFY14,11,FALSE))","v":""},null,null,null,null,null,null,null,"Corona Foothills Middle School - 100220110"]
["",null,{"$f":"IF(ISBLANK(B349),\"\",VLOOKUP(B349,NSLPandADEtableFY14,14,FALSE))","v":""},{"$f":"IF(ISBLANK(B349),\"\",VLOOKUP(B349,NSLPandADEtableFY14,15,FALSE))","v":""},{"$f":"IF(ISBLANK(B349),\"\",VLOOKUP(B349,NSLPandADEtableFY14,2,FALSE))","v":""},"",{"$f":"IF(ISBLANK(B349),\"\",VLOOKUP(B349,NSLPandADEtableFY14,11,FALSE))","v":""},null,null,null,null,null,null,null,"Coronado Elementary School - 070260102"]
["",null,{"$f":"IF(ISBLANK(B350),\"\",VLOOKUP(B350,NSLPandADEtableFY14,14,FALSE))","v":""},{"$f":"IF(ISBLANK(B350),\"\",VLOOKUP(B350,NSLPandADEtableFY14,15,FALSE))","v":""},{"$f":"IF(ISBLANK(B350),\"\",VLOOKUP(B350,NSLPandADEtableFY14,2,FALSE))","v":""},"",{"$f":"IF(ISBLANK(B350),\"\",VLOOKUP(B350,NSLPandADEtableFY14,11,FALSE))","v":""},null,null,null,null,null,null,null,"Coronado Elementary School - 020349102"]
["",null,{"$f":"IF(ISBLANK(B351),\"\",VLOOKUP(B351,NSLPandADEtableFY14,14,FALSE))","v":""},{"$f":"IF(ISBLANK(B351),\"\",VLOOKUP(B351,NSLPandADEtableFY14,15,FALSE))","v":""},{"$f":"IF(ISBLANK(B351),\"\",VLOOKUP(B351,NSLPandADEtableFY14,2,FALSE))","v":""},"",{"$f":"IF(ISBLANK(B351),\"\",VLOOKUP(B351,NSLPandADEtableFY14,11,FALSE))","v":""},null,null,null,null,null,null,null,"Coronado Elementary School - 010201102"]
["",null,{"$f":"IF(ISBLANK(B352),\"\",VLOOKUP(B352,NSLPandADEtableFY14,14,FALSE))","v":""},{"$f":"IF(ISBLANK(B352),\"\",VLOOKUP(B352,NSLPandADEtableFY14,15,FALSE))","v":""},{"$f":"IF(ISBLANK(B352),\"\",VLOOKUP(B352,NSLPandADEtableFY14,2,FALSE))","v":""},"",{"$f":"IF(ISBLANK(B352),\"\",VLOOKUP(B352,NSLPandADEtableFY14,11,FALSE))","v":""},null,null,null,null,null,null,null,"Coronado High School - 070248293"]
["",null,{"$f":"IF(ISBLANK(B353),\"\",VLOOKUP(B353,NSLPandADEtableFY14,14,FALSE))","v":""},{"$f":"IF(ISBLANK(B353),\"\",VLOOKUP(B353,NSLPandADEtableFY14,15,FALSE))","v":""},{"$f":"IF(ISBLANK(B353),\"\",VLOOKUP(B353,NSLPandADEtableFY14,2,FALSE))","v":""},"",{"$f":"IF(ISBLANK(B353),\"\",VLOOKUP(B353,NSLPandADEtableFY14,11,FALSE))","v":""},null,null,null,null,null,null,null,"Coronado K-8 School - 100210115"]
["",null,{"$f":"IF(ISBLANK(B354),\"\",VLOOKUP(B354,NSLPandADEtableFY14,14,FALSE))","v":""},{"$f":"IF(ISBLANK(B354),\"\",VLOOKUP(B354,NSLPandADEtableFY14,15,FALSE))","v":""},{"$f":"IF(ISBLANK(B354),\"\",VLOOKUP(B354,NSLPandADEtableFY14,2,FALSE))","v":""},"",{"$f":"IF(ISBLANK(B354),\"\",VLOOKUP(B354,NSLPandADEtableFY14,11,FALSE))","v":""},null,null,null,null,null,null,null,"Corte Sierra Elementary School - 070479108"]
["",null,{"$f":"IF(ISBLANK(B355),\"\",VLOOKUP(B355,NSLPandADEtableFY14,14,FALSE))","v":""},{"$f":"IF(ISBLANK(B355),\"\",VLOOKUP(B355,NSLPandADEtableFY14,15,FALSE))","v":""},{"$f":"IF(ISBLANK(B355),\"\",VLOOKUP(B355,NSLPandADEtableFY14,2,FALSE))","v":""},"",{"$f":"IF(ISBLANK(B355),\"\",VLOOKUP(B355,NSLPandADEtableFY14,11,FALSE))","v":""},null,null,null,null,null,null,null,"Cortez High School - 070505204"]
["",null,{"$f":"IF(ISBLANK(B356),\"\",VLOOKUP(B356,NSLPandADEtableFY14,14,FALSE))","v":""},{"$f":"IF(ISBLANK(B356),\"\",VLOOKUP(B356,NSLPandADEtableFY14,15,FALSE))","v":""},{"$f":"IF(ISBLANK(B356),\"\",VLOOKUP(B356,NSLPandADEtableFY14,2,FALSE))","v":""},"",{"$f":"IF(ISBLANK(B356),\"\",VLOOKUP(B356,NSLPandADEtableFY14,11,FALSE))","v":""},null,null,null,null,null,null,null,"Cortina Elementary - 070260106"]
["",null,{"$f":"IF(ISBLANK(B357),\"\",VLOOKUP(B357,NSLPandADEtableFY14,14,FALSE))","v":""},{"$f":"IF(ISBLANK(B357),\"\",VLOOKUP(B357,NSLPandADEtableFY14,15,FALSE))","v":""},{"$f":"IF(ISBLANK(B357),\"\",VLOOKUP(B357,NSLPandADEtableFY14,2,FALSE))","v":""},"",{"$f":"IF(ISBLANK(B357),\"\",VLOOKUP(B357,NSLPandADEtableFY14,11,FALSE))","v":""},null,null,null,null,null,null,null,"Cotton Boll School - 070211111"]
["",null,{"$f":"IF(ISBLANK(B358),\"\",VLOOKUP(B358,NSLPandADEtableFY14,14,FALSE))","v":""},{"$f":"IF(ISBLANK(B358),\"\",VLOOKUP(B358,NSLPandADEtableFY14,15,FALSE))","v":""},{"$f":"IF(ISBLANK(B358),\"\",VLOOKUP(B358,NSLPandADEtableFY14,2,FALSE))","v":""},"",{"$f":"IF(ISBLANK(B358),\"\",VLOOKUP(B358,NSLPandADEtableFY14,11,FALSE))","v":""},null,null,null,null,null,null,null,"Cottonwood Day School - 014305001"]
["",null,{"$f":"IF(ISBLANK(B359),\"\",VLOOKUP(B359,NSLPandADEtableFY14,14,FALSE))","v":""},{"$f":"IF(ISBLANK(B359),\"\",VLOOKUP(B359,NSLPandADEtableFY14,15,FALSE))","v":""},{"$f":"IF(ISBLANK(B359),\"\",VLOOKUP(B359,NSLPandADEtableFY14,2,FALSE))","v":""},"",{"$f":"IF(ISBLANK(B359),\"\",VLOOKUP(B359,NSLPandADEtableFY14,11,FALSE))","v":""},null,null,null,null,null,null,null,"Cottonwood Elementary School - 110404101"]
["",null,{"$f":"IF(ISBLANK(B360),\"\",VLOOKUP(B360,NSLPandADEtableFY14,14,FALSE))","v":""},{"$f":"IF(ISBLANK(B360),\"\",VLOOKUP(B360,NSLPandADEtableFY14,15,FALSE))","v":""},{"$f":"IF(ISBLANK(B360),\"\",VLOOKUP(B360,NSLPandADEtableFY14,2,FALSE))","v":""},"",{"$f":"IF(ISBLANK(B360),\"\",VLOOKUP(B360,NSLPandADEtableFY14,11,FALSE))","v":""},null,null,null,null,null,null,null,"Cottonwood Elementary School - 130406101"]
["",null,{"$f":"IF(ISBLANK(B361),\"\",VLOOKUP(B361,NSLPandADEtableFY14,14,FALSE))","v":""},{"$f":"IF(ISBLANK(B361),\"\",VLOOKUP(B361,NSLPandADEtableFY14,15,FALSE))","v":""},{"$f":"IF(ISBLANK(B361),\"\",VLOOKUP(B361,NSLPandADEtableFY14,2,FALSE))","v":""},"",{"$f":"IF(ISBLANK(B361),\"\",VLOOKUP(B361,NSLPandADEtableFY14,11,FALSE))","v":""},null,null,null,null,null,null,null,"Cottonwood Elementary School - 100220107"]
["",null,{"$f":"IF(ISBLANK(B362),\"\",VLOOKUP(B362,NSLPandADEtableFY14,14,FALSE))","v":""},{"$f":"IF(ISBLANK(B362),\"\",VLOOKUP(B362,NSLPandADEtableFY14,15,FALSE))","v":""},{"$f":"IF(ISBLANK(B362),\"\",VLOOKUP(B362,NSLPandADEtableFY14,2,FALSE))","v":""},"",{"$f":"IF(ISBLANK(B362),\"\",VLOOKUP(B362,NSLPandADEtableFY14,11,FALSE))","v":""},null,null,null,null,null,null,null,"Cottonwood Middle School - 130406102"]
["",null,{"$f":"IF(ISBLANK(B363),\"\",VLOOKUP(B363,NSLPandADEtableFY14,14,FALSE))","v":""},{"$f":"IF(ISBLANK(B363),\"\",VLOOKUP(B363,NSLPandADEtableFY14,15,FALSE))","v":""},{"$f":"IF(ISBLANK(B363),\"\",VLOOKUP(B363,NSLPandADEtableFY14,2,FALSE))","v":""},"",{"$f":"IF(ISBLANK(B363),\"\",VLOOKUP(B363,NSLPandADEtableFY14,11,FALSE))","v":""},null,null,null,null,null,null,null,"Country Meadows Elementary School - 070211126"]
["",null,{"$f":"IF(ISBLANK(B364),\"\",VLOOKUP(B364,NSLPandADEtableFY14,14,FALSE))","v":""},{"$f":"IF(ISBLANK(B364),\"\",VLOOKUP(B364,NSLPandADEtableFY14,15,FALSE))","v":""},{"$f":"IF(ISBLANK(B364),\"\",VLOOKUP(B364,NSLPandADEtableFY14,2,FALSE))","v":""},"",{"$f":"IF(ISBLANK(B364),\"\",VLOOKUP(B364,NSLPandADEtableFY14,11,FALSE))","v":""},null,null,null,null,null,null,null,"Country Place Elementary - 070465106"]
["",null,{"$f":"IF(ISBLANK(B365),\"\",VLOOKUP(B365,NSLPandADEtableFY14,14,FALSE))","v":""},{"$f":"IF(ISBLANK(B365),\"\",VLOOKUP(B365,NSLPandADEtableFY14,15,FALSE))","v":""},{"$f":"IF(ISBLANK(B365),\"\",VLOOKUP(B365,NSLPandADEtableFY14,2,FALSE))","v":""},"",{"$f":"IF(ISBLANK(B365),\"\",VLOOKUP(B365,NSLPandADEtableFY14,11,FALSE))","v":""},null,null,null,null,null,null,null,"Countryside Elementary - 070289109"]
["",null,{"$f":"IF(ISBLANK(B366),\"\",VLOOKUP(B366,NSLPandADEtableFY14,14,FALSE))","v":""},{"$f":"IF(ISBLANK(B366),\"\",VLOOKUP(B366,NSLPandADEtableFY14,15,FALSE))","v":""},{"$f":"IF(ISBLANK(B366),\"\",VLOOKUP(B366,NSLPandADEtableFY14,2,FALSE))","v":""},"",{"$f":"IF(ISBLANK(B366),\"\",VLOOKUP(B366,NSLPandADEtableFY14,11,FALSE))","v":""},null,null,null,null,null,null,null,"Coyote Canyon School - 080415103"]
["",null,{"$f":"IF(ISBLANK(B367),\"\",VLOOKUP(B367,NSLPandADEtableFY14,14,FALSE))","v":""},{"$f":"IF(ISBLANK(B367),\"\",VLOOKUP(B367,NSLPandADEtableFY14,15,FALSE))","v":""},{"$f":"IF(ISBLANK(B367),\"\",VLOOKUP(B367,NSLPandADEtableFY14,2,FALSE))","v":""},"",{"$f":"IF(ISBLANK(B367),\"\",VLOOKUP(B367,NSLPandADEtableFY14,11,FALSE))","v":""},null,null,null,null,null,null,null,"Coyote Hills Elementary School - 070211127"]
["",null,{"$f":"IF(ISBLANK(B368),\"\",VLOOKUP(B368,NSLPandADEtableFY14,14,FALSE))","v":""},{"$f":"IF(ISBLANK(B368),\"\",VLOOKUP(B368,NSLPandADEtableFY14,15,FALSE))","v":""},{"$f":"IF(ISBLANK(B368),\"\",VLOOKUP(B368,NSLPandADEtableFY14,2,FALSE))","v":""},"",{"$f":"IF(ISBLANK(B368),\"\",VLOOKUP(B368,NSLPandADEtableFY14,11,FALSE))","v":""},null,null,null,null,null,null,null,"Coyote Ridge - 070440115"]
["",null,{"$f":"IF(ISBLANK(B369),\"\",VLOOKUP(B369,NSLPandADEtableFY14,14,FALSE))","v":""},{"$f":"IF(ISBLANK(B369),\"\",VLOOKUP(B369,NSLPandADEtableFY14,15,FALSE))","v":""},{"$f":"IF(ISBLANK(B369),\"\",VLOOKUP(B369,NSLPandADEtableFY14,2,FALSE))","v":""},"",{"$f":"IF(ISBLANK(B369),\"\",VLOOKUP(B369,NSLPandADEtableFY14,11,FALSE))","v":""},null,null,null,null,null,null,null,"Coyote Springs Elementary School - 130222133"]
["",null,{"$f":"IF(ISBLANK(B370),\"\",VLOOKUP(B370,NSLPandADEtableFY14,14,FALSE))","v":""},{"$f":"IF(ISBLANK(B370),\"\",VLOOKUP(B370,NSLPandADEtableFY14,15,FALSE))","v":""},{"$f":"IF(ISBLANK(B370),\"\",VLOOKUP(B370,NSLPandADEtableFY14,2,FALSE))","v":""},"",{"$f":"IF(ISBLANK(B370),\"\",VLOOKUP(B370,NSLPandADEtableFY14,11,FALSE))","v":""},null,null,null,null,null,null,null,"Coyote Trail Elementary School - 100206119"]
["",null,{"$f":"IF(ISBLANK(B371),\"\",VLOOKUP(B371,NSLPandADEtableFY14,14,FALSE))","v":""},{"$f":"IF(ISBLANK(B371),\"\",VLOOKUP(B371,NSLPandADEtableFY14,15,FALSE))","v":""},{"$f":"IF(ISBLANK(B371),\"\",VLOOKUP(B371,NSLPandADEtableFY14,2,FALSE))","v":""},"",{"$f":"IF(ISBLANK(B371),\"\",VLOOKUP(B371,NSLPandADEtableFY14,11,FALSE))","v":""},null,null,null,null,null,null,null,"Cradleboard School - 090220106"]
["",null,{"$f":"IF(ISBLANK(B372),\"\",VLOOKUP(B372,NSLPandADEtableFY14,14,FALSE))","v":""},{"$f":"IF(ISBLANK(B372),\"\",VLOOKUP(B372,NSLPandADEtableFY14,15,FALSE))","v":""},{"$f":"IF(ISBLANK(B372),\"\",VLOOKUP(B372,NSLPandADEtableFY14,2,FALSE))","v":""},"",{"$f":"IF(ISBLANK(B372),\"\",VLOOKUP(B372,NSLPandADEtableFY14,11,FALSE))","v":""},null,null,null,null,null,null,null,"Cragin Elementary School - 100201179"]
["",null,{"$f":"IF(ISBLANK(B373),\"\",VLOOKUP(B373,NSLPandADEtableFY14,14,FALSE))","v":""},{"$f":"IF(ISBLANK(B373),\"\",VLOOKUP(B373,NSLPandADEtableFY14,15,FALSE))","v":""},{"$f":"IF(ISBLANK(B373),\"\",VLOOKUP(B373,NSLPandADEtableFY14,2,FALSE))","v":""},"",{"$f":"IF(ISBLANK(B373),\"\",VLOOKUP(B373,NSLPandADEtableFY14,11,FALSE))","v":""},null,null,null,null,null,null,null,"Crane Middle School - 140413103"]
["",null,{"$f":"IF(ISBLANK(B374),\"\",VLOOKUP(B374,NSLPandADEtableFY14,14,FALSE))","v":""},{"$f":"IF(ISBLANK(B374),\"\",VLOOKUP(B374,NSLPandADEtableFY14,15,FALSE))","v":""},{"$f":"IF(ISBLANK(B374),\"\",VLOOKUP(B374,NSLPandADEtableFY14,2,FALSE))","v":""},"",{"$f":"IF(ISBLANK(B374),\"\",VLOOKUP(B374,NSLPandADEtableFY14,11,FALSE))","v":""},null,null,null,null,null,null,null,"Craycroft Elementary School - 100212108"]
["",null,{"$f":"IF(ISBLANK(B375),\"\",VLOOKUP(B375,NSLPandADEtableFY14,14,FALSE))","v":""},{"$f":"IF(ISBLANK(B375),\"\",VLOOKUP(B375,NSLPandADEtableFY14,15,FALSE))","v":""},{"$f":"IF(ISBLANK(B375),\"\",VLOOKUP(B375,NSLPandADEtableFY14,2,FALSE))","v":""},"",{"$f":"IF(ISBLANK(B375),\"\",VLOOKUP(B375,NSLPandADEtableFY14,11,FALSE))","v":""},null,null,null,null,null,null,null,"Creighton Elementary School - 070414110"]
["",null,{"$f":"IF(ISBLANK(B376),\"\",VLOOKUP(B376,NSLPandADEtableFY14,14,FALSE))","v":""},{"$f":"IF(ISBLANK(B376),\"\",VLOOKUP(B376,NSLPandADEtableFY14,15,FALSE))","v":""},{"$f":"IF(ISBLANK(B376),\"\",VLOOKUP(B376,NSLPandADEtableFY14,2,FALSE))","v":""},"",{"$f":"IF(ISBLANK(B376),\"\",VLOOKUP(B376,NSLPandADEtableFY14,11,FALSE))","v":""},null,null,null,null,null,null,null,"Crestview College Preparatory High School - 078950001"]
["",null,{"$f":"IF(ISBLANK(B377),\"\",VLOOKUP(B377,NSLPandADEtableFY14,14,FALSE))","v":""},{"$f":"IF(ISBLANK(B377),\"\",VLOOKUP(B377,NSLPandADEtableFY14,15,FALSE))","v":""},{"$f":"IF(ISBLANK(B377),\"\",VLOOKUP(B377,NSLPandADEtableFY14,2,FALSE))","v":""},"",{"$f":"IF(ISBLANK(B377),\"\",VLOOKUP(B377,NSLPandADEtableFY14,11,FALSE))","v":""},null,null,null,null,null,null,null,"Crisis Nursery Inc. - 072702001"]
["",null,{"$f":"IF(ISBLANK(B378),\"\",VLOOKUP(B378,NSLPandADEtableFY14,14,FALSE))","v":""},{"$f":"IF(ISBLANK(B378),\"\",VLOOKUP(B378,NSLPandADEtableFY14,15,FALSE))","v":""},{"$f":"IF(ISBLANK(B378),\"\",VLOOKUP(B378,NSLPandADEtableFY14,2,FALSE))","v":""},"",{"$f":"IF(ISBLANK(B378),\"\",VLOOKUP(B378,NSLPandADEtableFY14,11,FALSE))","v":""},null,null,null,null,null,null,null,"Crismon Elementary School - 070204133"]
["",null,{"$f":"IF(ISBLANK(B379),\"\",VLOOKUP(B379,NSLPandADEtableFY14,14,FALSE))","v":""},{"$f":"IF(ISBLANK(B379),\"\",VLOOKUP(B379,NSLPandADEtableFY14,15,FALSE))","v":""},{"$f":"IF(ISBLANK(B379),\"\",VLOOKUP(B379,NSLPandADEtableFY14,2,FALSE))","v":""},"",{"$f":"IF(ISBLANK(B379),\"\",VLOOKUP(B379,NSLPandADEtableFY14,11,FALSE))","v":""},null,null,null,null,null,null,null,"Crossroads - 070204282"]
["",null,{"$f":"IF(ISBLANK(B380),\"\",VLOOKUP(B380,NSLPandADEtableFY14,14,FALSE))","v":""},{"$f":"IF(ISBLANK(B380),\"\",VLOOKUP(B380,NSLPandADEtableFY14,15,FALSE))","v":""},{"$f":"IF(ISBLANK(B380),\"\",VLOOKUP(B380,NSLPandADEtableFY14,2,FALSE))","v":""},"",{"$f":"IF(ISBLANK(B380),\"\",VLOOKUP(B380,NSLPandADEtableFY14,11,FALSE))","v":""},null,null,null,null,null,null,null,"Curiel School - 110411103"]
["",null,{"$f":"IF(ISBLANK(B381),\"\",VLOOKUP(B381,NSLPandADEtableFY14,14,FALSE))","v":""},{"$f":"IF(ISBLANK(B381),\"\",VLOOKUP(B381,NSLPandADEtableFY14,15,FALSE))","v":""},{"$f":"IF(ISBLANK(B381),\"\",VLOOKUP(B381,NSLPandADEtableFY14,2,FALSE))","v":""},"",{"$f":"IF(ISBLANK(B381),\"\",VLOOKUP(B381,NSLPandADEtableFY14,11,FALSE))","v":""},null,null,null,null,null,null,null,"Curry Elementary School - 070403122"]
["",null,{"$f":"IF(ISBLANK(B382),\"\",VLOOKUP(B382,NSLPandADEtableFY14,14,FALSE))","v":""},{"$f":"IF(ISBLANK(B382),\"\",VLOOKUP(B382,NSLPandADEtableFY14,15,FALSE))","v":""},{"$f":"IF(ISBLANK(B382),\"\",VLOOKUP(B382,NSLPandADEtableFY14,2,FALSE))","v":""},"",{"$f":"IF(ISBLANK(B382),\"\",VLOOKUP(B382,NSLPandADEtableFY14,11,FALSE))","v":""},null,null,null,null,null,null,null,"D Mitchell RES - 072122002"]
["",null,{"$f":"IF(ISBLANK(B383),\"\",VLOOKUP(B383,NSLPandADEtableFY14,14,FALSE))","v":""},{"$f":"IF(ISBLANK(B383),\"\",VLOOKUP(B383,NSLPandADEtableFY14,15,FALSE))","v":""},{"$f":"IF(ISBLANK(B383),\"\",VLOOKUP(B383,NSLPandADEtableFY14,2,FALSE))","v":""},"",{"$f":"IF(ISBLANK(B383),\"\",VLOOKUP(B383,NSLPandADEtableFY14,11,FALSE))","v":""},null,null,null,null,null,null,null,"Dan Hinton Accommodation School - 050199001"]
["",null,{"$f":"IF(ISBLANK(B384),\"\",VLOOKUP(B384,NSLPandADEtableFY14,14,FALSE))","v":""},{"$f":"IF(ISBLANK(B384),\"\",VLOOKUP(B384,NSLPandADEtableFY14,15,FALSE))","v":""},{"$f":"IF(ISBLANK(B384),\"\",VLOOKUP(B384,NSLPandADEtableFY14,2,FALSE))","v":""},"",{"$f":"IF(ISBLANK(B384),\"\",VLOOKUP(B384,NSLPandADEtableFY14,11,FALSE))","v":""},null,null,null,null,null,null,null,"Dateland Elementary School - 140416101"]
["",null,{"$f":"IF(ISBLANK(B385),\"\",VLOOKUP(B385,NSLPandADEtableFY14,14,FALSE))","v":""},{"$f":"IF(ISBLANK(B385),\"\",VLOOKUP(B385,NSLPandADEtableFY14,15,FALSE))","v":""},{"$f":"IF(ISBLANK(B385),\"\",VLOOKUP(B385,NSLPandADEtableFY14,2,FALSE))","v":""},"",{"$f":"IF(ISBLANK(B385),\"\",VLOOKUP(B385,NSLPandADEtableFY14,11,FALSE))","v":""},null,null,null,null,null,null,null,"David Crockett School - 070431102"]
["",null,{"$f":"IF(ISBLANK(B386),\"\",VLOOKUP(B386,NSLPandADEtableFY14,14,FALSE))","v":""},{"$f":"IF(ISBLANK(B386),\"\",VLOOKUP(B386,NSLPandADEtableFY14,15,FALSE))","v":""},{"$f":"IF(ISBLANK(B386),\"\",VLOOKUP(B386,NSLPandADEtableFY14,2,FALSE))","v":""},"",{"$f":"IF(ISBLANK(B386),\"\",VLOOKUP(B386,NSLPandADEtableFY14,11,FALSE))","v":""},null,null,null,null,null,null,null,"Davidson Elementary School - 100201185"]
["",null,{"$f":"IF(ISBLANK(B387),\"\",VLOOKUP(B387,NSLPandADEtableFY14,14,FALSE))","v":""},{"$f":"IF(ISBLANK(B387),\"\",VLOOKUP(B387,NSLPandADEtableFY14,15,FALSE))","v":""},{"$f":"IF(ISBLANK(B387),\"\",VLOOKUP(B387,NSLPandADEtableFY14,2,FALSE))","v":""},"",{"$f":"IF(ISBLANK(B387),\"\",VLOOKUP(B387,NSLPandADEtableFY14,11,FALSE))","v":""},null,null,null,null,null,null,null,"Davis Bilingual Magnet School - 100201191"]
["",null,{"$f":"IF(ISBLANK(B388),\"\",VLOOKUP(B388,NSLPandADEtableFY14,14,FALSE))","v":""},{"$f":"IF(ISBLANK(B388),\"\",VLOOKUP(B388,NSLPandADEtableFY14,15,FALSE))","v":""},{"$f":"IF(ISBLANK(B388),\"\",VLOOKUP(B388,NSLPandADEtableFY14,2,FALSE))","v":""},"",{"$f":"IF(ISBLANK(B388),\"\",VLOOKUP(B388,NSLPandADEtableFY14,11,FALSE))","v":""},null,null,null,null,null,null,null,"Deer Valley High School - 070297219"]
["",null,{"$f":"IF(ISBLANK(B389),\"\",VLOOKUP(B389,NSLPandADEtableFY14,14,FALSE))","v":""},{"$f":"IF(ISBLANK(B389),\"\",VLOOKUP(B389,NSLPandADEtableFY14,15,FALSE))","v":""},{"$f":"IF(ISBLANK(B389),\"\",VLOOKUP(B389,NSLPandADEtableFY14,2,FALSE))","v":""},"",{"$f":"IF(ISBLANK(B389),\"\",VLOOKUP(B389,NSLPandADEtableFY14,11,FALSE))","v":""},null,null,null,null,null,null,null,"Deer Valley Middle School - 070297111"]
["",null,{"$f":"IF(ISBLANK(B390),\"\",VLOOKUP(B390,NSLPandADEtableFY14,14,FALSE))","v":""},{"$f":"IF(ISBLANK(B390),\"\",VLOOKUP(B390,NSLPandADEtableFY14,15,FALSE))","v":""},{"$f":"IF(ISBLANK(B390),\"\",VLOOKUP(B390,NSLPandADEtableFY14,2,FALSE))","v":""},"",{"$f":"IF(ISBLANK(B390),\"\",VLOOKUP(B390,NSLPandADEtableFY14,11,FALSE))","v":""},null,null,null,null,null,null,null,"Degrazia Elementary School - 100206111"]
["",null,{"$f":"IF(ISBLANK(B391),\"\",VLOOKUP(B391,NSLPandADEtableFY14,14,FALSE))","v":""},{"$f":"IF(ISBLANK(B391),\"\",VLOOKUP(B391,NSLPandADEtableFY14,15,FALSE))","v":""},{"$f":"IF(ISBLANK(B391),\"\",VLOOKUP(B391,NSLPandADEtableFY14,2,FALSE))","v":""},"",{"$f":"IF(ISBLANK(B391),\"\",VLOOKUP(B391,NSLPandADEtableFY14,11,FALSE))","v":""},null,null,null,null,null,null,null,"Del Rio Elementary School - 130251101"]
["",null,{"$f":"IF(ISBLANK(B392),\"\",VLOOKUP(B392,NSLPandADEtableFY14,14,FALSE))","v":""},{"$f":"IF(ISBLANK(B392),\"\",VLOOKUP(B392,NSLPandADEtableFY14,15,FALSE))","v":""},{"$f":"IF(ISBLANK(B392),\"\",VLOOKUP(B392,NSLPandADEtableFY14,2,FALSE))","v":""},"",{"$f":"IF(ISBLANK(B392),\"\",VLOOKUP(B392,NSLPandADEtableFY14,11,FALSE))","v":""},null,null,null,null,null,null,null,"Dennehotso Boarding School - 033904011"]
["",null,{"$f":"IF(ISBLANK(B393),\"\",VLOOKUP(B393,NSLPandADEtableFY14,14,FALSE))","v":""},{"$f":"IF(ISBLANK(B393),\"\",VLOOKUP(B393,NSLPandADEtableFY14,15,FALSE))","v":""},{"$f":"IF(ISBLANK(B393),\"\",VLOOKUP(B393,NSLPandADEtableFY14,2,FALSE))","v":""},"",{"$f":"IF(ISBLANK(B393),\"\",VLOOKUP(B393,NSLPandADEtableFY14,11,FALSE))","v":""},null,null,null,null,null,null,null,"Desert Canyon Elementary - 070248129"]
["",null,{"$f":"IF(ISBLANK(B394),\"\",VLOOKUP(B394,NSLPandADEtableFY14,14,FALSE))","v":""},{"$f":"IF(ISBLANK(B394),\"\",VLOOKUP(B394,NSLPandADEtableFY14,15,FALSE))","v":""},{"$f":"IF(ISBLANK(B394),\"\",VLOOKUP(B394,NSLPandADEtableFY14,2,FALSE))","v":""},"",{"$f":"IF(ISBLANK(B394),\"\",VLOOKUP(B394,NSLPandADEtableFY14,11,FALSE))","v":""},null,null,null,null,null,null,null,"Desert Canyon Middle School - 070248164"]
["",null,{"$f":"IF(ISBLANK(B395),\"\",VLOOKUP(B395,NSLPandADEtableFY14,14,FALSE))","v":""},{"$f":"IF(ISBLANK(B395),\"\",VLOOKUP(B395,NSLPandADEtableFY14,15,FALSE))","v":""},{"$f":"IF(ISBLANK(B395),\"\",VLOOKUP(B395,NSLPandADEtableFY14,2,FALSE))","v":""},"",{"$f":"IF(ISBLANK(B395),\"\",VLOOKUP(B395,NSLPandADEtableFY14,11,FALSE))","v":""},null,null,null,null,null,null,null,"Desert Cove Elementary School - 070269125"]
[{"$f":"IF(ISBLANK(B396),\"\",\"Q-Public School\")","v":""},null,{"$f":"IF(ISBLANK(B396),\"\",VLOOKUP(B396,NSLPandADEtableFY14,14,FALSE))","v":""},{"$f":"IF(ISBLANK(B396),\"\",VLOOKUP(B396,NSLPandADEtableFY14,15,FALSE))","v":""},{"$f":"IF(ISBLANK(B396),\"\",VLOOKUP(B396,NSLPandADEtableFY14,2,FALSE))","v":""},{"$f":"IF(ISBLANK(B396),\"\",\"Free & Reduced Lunch Data (NSLP) March 2013\")","v":""},{"$f":"IF(ISBLANK(B396),\"\",VLOOKUP(B396,NSLPandADEtableFY14,11,FALSE))","v":""},null,null,null,null,null,null,null,"Desert Edge High School - 070516203"]
["",null,{"$f":"IF(ISBLANK(B397),\"\",VLOOKUP(B397,NSLPandADEtableFY14,14,FALSE))","v":""},{"$f":"IF(ISBLANK(B397),\"\",VLOOKUP(B397,NSLPandADEtableFY14,15,FALSE))","v":""},{"$f":"IF(ISBLANK(B397),\"\",VLOOKUP(B397,NSLPandADEtableFY14,2,FALSE))","v":""},"",{"$f":"IF(ISBLANK(B397),\"\",VLOOKUP(B397,NSLPandADEtableFY14,11,FALSE))","v":""},null,null,null,null,null,null,null,"Desert Foothills Middle School - 070406126"]
["",null,{"$f":"IF(ISBLANK(B398),\"\",VLOOKUP(B398,NSLPandADEtableFY14,14,FALSE))","v":""},{"$f":"IF(ISBLANK(B398),\"\",VLOOKUP(B398,NSLPandADEtableFY14,15,FALSE))","v":""},{"$f":"IF(ISBLANK(B398),\"\",VLOOKUP(B398,NSLPandADEtableFY14,2,FALSE))","v":""},"",{"$f":"IF(ISBLANK(B398),\"\",VLOOKUP(B398,NSLPandADEtableFY14,11,FALSE))","v":""},null,null,null,null,null,null,null,"Desert Garden Elementary School - 070440114"]
["",null,{"$f":"IF(ISBLANK(B399),\"\",VLOOKUP(B399,NSLPandADEtableFY14,14,FALSE))","v":""},{"$f":"IF(ISBLANK(B399),\"\",VLOOKUP(B399,NSLPandADEtableFY14,15,FALSE))","v":""},{"$f":"IF(ISBLANK(B399),\"\",VLOOKUP(B399,NSLPandADEtableFY14,2,FALSE))","v":""},"",{"$f":"IF(ISBLANK(B399),\"\",VLOOKUP(B399,NSLPandADEtableFY14,11,FALSE))","v":""},null,null,null,null,null,null,null,"Desert Harbor Elementary School - 070211123"]
["",null,{"$f":"IF(ISBLANK(B400),\"\",VLOOKUP(B400,NSLPandADEtableFY14,14,FALSE))","v":""},{"$f":"IF(ISBLANK(B400),\"\",VLOOKUP(B400,NSLPandADEtableFY14,15,FALSE))","v":""},{"$f":"IF(ISBLANK(B400),\"\",VLOOKUP(B400,NSLPandADEtableFY14,2,FALSE))","v":""},"",{"$f":"IF(ISBLANK(B400),\"\",VLOOKUP(B400,NSLPandADEtableFY14,11,FALSE))","v":""},null,null,null,null,null,null,null,"Desert Heights Charter School - 078621101"]
["",null,{"$f":"IF(ISBLANK(B401),\"\",VLOOKUP(B401,NSLPandADEtableFY14,14,FALSE))","v":""},{"$f":"IF(ISBLANK(B401),\"\",VLOOKUP(B401,NSLPandADEtableFY14,15,FALSE))","v":""},{"$f":"IF(ISBLANK(B401),\"\",VLOOKUP(B401,NSLPandADEtableFY14,2,FALSE))","v":""},"",{"$f":"IF(ISBLANK(B401),\"\",VLOOKUP(B401,NSLPandADEtableFY14,11,FALSE))","v":""},null,null,null,null,null,null,null,"Desert Hills High School - 078947001"]
["",null,{"$f":"IF(ISBLANK(B402),\"\",VLOOKUP(B402,NSLPandADEtableFY14,14,FALSE))","v":""},{"$f":"IF(ISBLANK(B402),\"\",VLOOKUP(B402,NSLPandADEtableFY14,15,FALSE))","v":""},{"$f":"IF(ISBLANK(B402),\"\",VLOOKUP(B402,NSLPandADEtableFY14,2,FALSE))","v":""},"",{"$f":"IF(ISBLANK(B402),\"\",VLOOKUP(B402,NSLPandADEtableFY14,11,FALSE))","v":""},null,null,null,null,null,null,null,"Desert Horizon Elementary School - 070492013"]
["",null,{"$f":"IF(ISBLANK(B403),\"\",VLOOKUP(B403,NSLPandADEtableFY14,14,FALSE))","v":""},{"$f":"IF(ISBLANK(B403),\"\",VLOOKUP(B403,NSLPandADEtableFY14,15,FALSE))","v":""},{"$f":"IF(ISBLANK(B403),\"\",VLOOKUP(B403,NSLPandADEtableFY14,2,FALSE))","v":""},"",{"$f":"IF(ISBLANK(B403),\"\",VLOOKUP(B403,NSLPandADEtableFY14,11,FALSE))","v":""},null,null,null,null,null,null,null,"Desert Meadows Elementary School - 070459106"]
["",null,{"$f":"IF(ISBLANK(B404),\"\",VLOOKUP(B404,NSLPandADEtableFY14,14,FALSE))","v":""},{"$f":"IF(ISBLANK(B404),\"\",VLOOKUP(B404,NSLPandADEtableFY14,15,FALSE))","v":""},{"$f":"IF(ISBLANK(B404),\"\",VLOOKUP(B404,NSLPandADEtableFY14,2,FALSE))","v":""},"",{"$f":"IF(ISBLANK(B404),\"\",VLOOKUP(B404,NSLPandADEtableFY14,11,FALSE))","v":""},null,null,null,null,null,null,null,"Desert Mesa Elementary School - 140401113"]
["",null,{"$f":"IF(ISBLANK(B405),\"\",VLOOKUP(B405,NSLPandADEtableFY14,14,FALSE))","v":""},{"$f":"IF(ISBLANK(B405),\"\",VLOOKUP(B405,NSLPandADEtableFY14,15,FALSE))","v":""},{"$f":"IF(ISBLANK(B405),\"\",VLOOKUP(B405,NSLPandADEtableFY14,2,FALSE))","v":""},"",{"$f":"IF(ISBLANK(B405),\"\",VLOOKUP(B405,NSLPandADEtableFY14,11,FALSE))","v":""},null,null,null,null,null,null,null,"Desert Mirage Elementary School - 070492017"]
["",null,{"$f":"IF(ISBLANK(B406),\"\",VLOOKUP(B406,NSLPandADEtableFY14,14,FALSE))","v":""},{"$f":"IF(ISBLANK(B406),\"\",VLOOKUP(B406,NSLPandADEtableFY14,15,FALSE))","v":""},{"$f":"IF(ISBLANK(B406),\"\",VLOOKUP(B406,NSLPandADEtableFY14,2,FALSE))","v":""},"",{"$f":"IF(ISBLANK(B406),\"\",VLOOKUP(B406,NSLPandADEtableFY14,11,FALSE))","v":""},null,null,null,null,null,null,null,"Desert Moon School - 070289126"]
["",null,{"$f":"IF(ISBLANK(B407),\"\",VLOOKUP(B407,NSLPandADEtableFY14,14,FALSE))","v":""},{"$f":"IF(ISBLANK(B407),\"\",VLOOKUP(B407,NSLPandADEtableFY14,15,FALSE))","v":""},{"$f":"IF(ISBLANK(B407),\"\",VLOOKUP(B407,NSLPandADEtableFY14,2,FALSE))","v":""},"",{"$f":"IF(ISBLANK(B407),\"\",VLOOKUP(B407,NSLPandADEtableFY14,11,FALSE))","v":""},null,null,null,null,null,null,null,"Desert Mosaic School - 108774001"]
["",null,{"$f":"IF(ISBLANK(B408),\"\",VLOOKUP(B408,NSLPandADEtableFY14,14,FALSE))","v":""},{"$f":"IF(ISBLANK(B408),\"\",VLOOKUP(B408,NSLPandADEtableFY14,15,FALSE))","v":""},{"$f":"IF(ISBLANK(B408),\"\",VLOOKUP(B408,NSLPandADEtableFY14,2,FALSE))","v":""},"",{"$f":"IF(ISBLANK(B408),\"\",VLOOKUP(B408,NSLPandADEtableFY14,11,FALSE))","v":""},null,null,null,null,null,null,null,"Desert Mountain Elementary - 070295102"]
["",null,{"$f":"IF(ISBLANK(B409),\"\",VLOOKUP(B409,NSLPandADEtableFY14,14,FALSE))","v":""},{"$f":"IF(ISBLANK(B409),\"\",VLOOKUP(B409,NSLPandADEtableFY14,15,FALSE))","v":""},{"$f":"IF(ISBLANK(B409),\"\",VLOOKUP(B409,NSLPandADEtableFY14,2,FALSE))","v":""},"",{"$f":"IF(ISBLANK(B409),\"\",VLOOKUP(B409,NSLPandADEtableFY14,11,FALSE))","v":""},null,null,null,null,null,null,null,"Desert Mountain High School - 070248296"]
["",null,{"$f":"IF(ISBLANK(B410),\"\",VLOOKUP(B410,NSLPandADEtableFY14,14,FALSE))","v":""},{"$f":"IF(ISBLANK(B410),\"\",VLOOKUP(B410,NSLPandADEtableFY14,15,FALSE))","v":""},{"$f":"IF(ISBLANK(B410),\"\",VLOOKUP(B410,NSLPandADEtableFY14,2,FALSE))","v":""},"",{"$f":"IF(ISBLANK(B410),\"\",VLOOKUP(B410,NSLPandADEtableFY14,11,FALSE))","v":""},null,null,null,null,null,null,null,"Desert Mountain School - 070297132"]
["",null,{"$f":"IF(ISBLANK(B411),\"\",VLOOKUP(B411,NSLPandADEtableFY14,14,FALSE))","v":""},{"$f":"IF(ISBLANK(B411),\"\",VLOOKUP(B411,NSLPandADEtableFY14,15,FALSE))","v":""},{"$f":"IF(ISBLANK(B411),\"\",VLOOKUP(B411,NSLPandADEtableFY14,2,FALSE))","v":""},"",{"$f":"IF(ISBLANK(B411),\"\",VLOOKUP(B411,NSLPandADEtableFY14,11,FALSE))","v":""},null,null,null,null,null,null,null,"Desert Oasis Elementary School - 070381102"]
["",null,{"$f":"IF(ISBLANK(B412),\"\",VLOOKUP(B412,NSLPandADEtableFY14,14,FALSE))","v":""},{"$f":"IF(ISBLANK(B412),\"\",VLOOKUP(B412,NSLPandADEtableFY14,15,FALSE))","v":""},{"$f":"IF(ISBLANK(B412),\"\",VLOOKUP(B412,NSLPandADEtableFY14,2,FALSE))","v":""},"",{"$f":"IF(ISBLANK(B412),\"\",VLOOKUP(B412,NSLPandADEtableFY14,11,FALSE))","v":""},null,null,null,null,null,null,null,"Desert Oasis Elementary School - 070417104"]
["",null,{"$f":"IF(ISBLANK(B413),\"\",VLOOKUP(B413,NSLPandADEtableFY14,14,FALSE))","v":""},{"$f":"IF(ISBLANK(B413),\"\",VLOOKUP(B413,NSLPandADEtableFY14,15,FALSE))","v":""},{"$f":"IF(ISBLANK(B413),\"\",VLOOKUP(B413,NSLPandADEtableFY14,2,FALSE))","v":""},"",{"$f":"IF(ISBLANK(B413),\"\",VLOOKUP(B413,NSLPandADEtableFY14,11,FALSE))","v":""},null,null,null,null,null,null,null,"Desert Palms Elementary School - 070211107"]
["",null,{"$f":"IF(ISBLANK(B414),\"\",VLOOKUP(B414,NSLPandADEtableFY14,14,FALSE))","v":""},{"$f":"IF(ISBLANK(B414),\"\",VLOOKUP(B414,NSLPandADEtableFY14,15,FALSE))","v":""},{"$f":"IF(ISBLANK(B414),\"\",VLOOKUP(B414,NSLPandADEtableFY14,2,FALSE))","v":""},"",{"$f":"IF(ISBLANK(B414),\"\",VLOOKUP(B414,NSLPandADEtableFY14,11,FALSE))","v":""},null,null,null,null,null,null,null,"Desert Ridge High - 070241213"]
["",null,{"$f":"IF(ISBLANK(B415),\"\",VLOOKUP(B415,NSLPandADEtableFY14,14,FALSE))","v":""},{"$f":"IF(ISBLANK(B415),\"\",VLOOKUP(B415,NSLPandADEtableFY14,15,FALSE))","v":""},{"$f":"IF(ISBLANK(B415),\"\",VLOOKUP(B415,NSLPandADEtableFY14,2,FALSE))","v":""},"",{"$f":"IF(ISBLANK(B415),\"\",VLOOKUP(B415,NSLPandADEtableFY14,11,FALSE))","v":""},null,null,null,null,null,null,null,"Desert Ridge Jr. High - 070241124"]
["",null,{"$f":"IF(ISBLANK(B416),\"\",VLOOKUP(B416,NSLPandADEtableFY14,14,FALSE))","v":""},{"$f":"IF(ISBLANK(B416),\"\",VLOOKUP(B416,NSLPandADEtableFY14,15,FALSE))","v":""},{"$f":"IF(ISBLANK(B416),\"\",VLOOKUP(B416,NSLPandADEtableFY14,2,FALSE))","v":""},"",{"$f":"IF(ISBLANK(B416),\"\",VLOOKUP(B416,NSLPandADEtableFY14,11,FALSE))","v":""},null,null,null,null,null,null,null,"Desert Sage Elementary School - 070297129"]
["",null,{"$f":"IF(ISBLANK(B417),\"\",VLOOKUP(B417,NSLPandADEtableFY14,14,FALSE))","v":""},{"$f":"IF(ISBLANK(B417),\"\",VLOOKUP(B417,NSLPandADEtableFY14,15,FALSE))","v":""},{"$f":"IF(ISBLANK(B417),\"\",VLOOKUP(B417,NSLPandADEtableFY14,2,FALSE))","v":""},"",{"$f":"IF(ISBLANK(B417),\"\",VLOOKUP(B417,NSLPandADEtableFY14,11,FALSE))","v":""},null,null,null,null,null,null,null,"Desert Sands Middle School - 070483109"]
["",null,{"$f":"IF(ISBLANK(B418),\"\",VLOOKUP(B418,NSLPandADEtableFY14,14,FALSE))","v":""},{"$f":"IF(ISBLANK(B418),\"\",VLOOKUP(B418,NSLPandADEtableFY14,15,FALSE))","v":""},{"$f":"IF(ISBLANK(B418),\"\",VLOOKUP(B418,NSLPandADEtableFY14,2,FALSE))","v":""},"",{"$f":"IF(ISBLANK(B418),\"\",VLOOKUP(B418,NSLPandADEtableFY14,11,FALSE))","v":""},null,null,null,null,null,null,null,"Desert Shadows Elementary School - 070269130"]
["",null,{"$f":"IF(ISBLANK(B419),\"\",VLOOKUP(B419,NSLPandADEtableFY14,14,FALSE))","v":""},{"$f":"IF(ISBLANK(B419),\"\",VLOOKUP(B419,NSLPandADEtableFY14,15,FALSE))","v":""},{"$f":"IF(ISBLANK(B419),\"\",VLOOKUP(B419,NSLPandADEtableFY14,2,FALSE))","v":""},"",{"$f":"IF(ISBLANK(B419),\"\",VLOOKUP(B419,NSLPandADEtableFY14,11,FALSE))","v":""},null,null,null,null,null,null,null,"Desert Shadows Middle School - 120201104"]
["",null,{"$f":"IF(ISBLANK(B420),\"\",VLOOKUP(B420,NSLPandADEtableFY14,14,FALSE))","v":""},{"$f":"IF(ISBLANK(B420),\"\",VLOOKUP(B420,NSLPandADEtableFY14,15,FALSE))","v":""},{"$f":"IF(ISBLANK(B420),\"\",VLOOKUP(B420,NSLPandADEtableFY14,2,FALSE))","v":""},"",{"$f":"IF(ISBLANK(B420),\"\",VLOOKUP(B420,NSLPandADEtableFY14,11,FALSE))","v":""},null,null,null,null,null,null,null,"Desert Shadows Middle School - 070269170"]
["",null,{"$f":"IF(ISBLANK(B421),\"\",VLOOKUP(B421,NSLPandADEtableFY14,14,FALSE))","v":""},{"$f":"IF(ISBLANK(B421),\"\",VLOOKUP(B421,NSLPandADEtableFY14,15,FALSE))","v":""},{"$f":"IF(ISBLANK(B421),\"\",VLOOKUP(B421,NSLPandADEtableFY14,2,FALSE))","v":""},"",{"$f":"IF(ISBLANK(B421),\"\",VLOOKUP(B421,NSLPandADEtableFY14,11,FALSE))","v":""},null,null,null,null,null,null,null,"Desert Sky Middle School - 070297121"]
["",null,{"$f":"IF(ISBLANK(B422),\"\",VLOOKUP(B422,NSLPandADEtableFY14,14,FALSE))","v":""},{"$f":"IF(ISBLANK(B422),\"\",VLOOKUP(B422,NSLPandADEtableFY14,15,FALSE))","v":""},{"$f":"IF(ISBLANK(B422),\"\",VLOOKUP(B422,NSLPandADEtableFY14,2,FALSE))","v":""},"",{"$f":"IF(ISBLANK(B422),\"\",VLOOKUP(B422,NSLPandADEtableFY14,11,FALSE))","v":""},null,null,null,null,null,null,null,"Desert Sky Middle School - 100220108"]
["",null,{"$f":"IF(ISBLANK(B423),\"\",VLOOKUP(B423,NSLPandADEtableFY14,14,FALSE))","v":""},{"$f":"IF(ISBLANK(B423),\"\",VLOOKUP(B423,NSLPandADEtableFY14,15,FALSE))","v":""},{"$f":"IF(ISBLANK(B423),\"\",VLOOKUP(B423,NSLPandADEtableFY14,2,FALSE))","v":""},"",{"$f":"IF(ISBLANK(B423),\"\",VLOOKUP(B423,NSLPandADEtableFY14,11,FALSE))","v":""},null,null,null,null,null,null,null,"Desert Sonora Elementary School - 140411103"]
["",null,{"$f":"IF(ISBLANK(B424),\"\",VLOOKUP(B424,NSLPandADEtableFY14,14,FALSE))","v":""},{"$f":"IF(ISBLANK(B424),\"\",VLOOKUP(B424,NSLPandADEtableFY14,15,FALSE))","v":""},{"$f":"IF(ISBLANK(B424),\"\",VLOOKUP(B424,NSLPandADEtableFY14,2,FALSE))","v":""},"",{"$f":"IF(ISBLANK(B424),\"\",VLOOKUP(B424,NSLPandADEtableFY14,11,FALSE))","v":""},null,null,null,null,null,null,null,"Desert Spirit - 070440116"]
["",null,{"$f":"IF(ISBLANK(B425),\"\",VLOOKUP(B425,NSLPandADEtableFY14,14,FALSE))","v":""},{"$f":"IF(ISBLANK(B425),\"\",VLOOKUP(B425,NSLPandADEtableFY14,15,FALSE))","v":""},{"$f":"IF(ISBLANK(B425),\"\",VLOOKUP(B425,NSLPandADEtableFY14,2,FALSE))","v":""},"",{"$f":"IF(ISBLANK(B425),\"\",VLOOKUP(B425,NSLPandADEtableFY14,11,FALSE))","v":""},null,null,null,null,null,null,null,"Desert Springs Preparatory Elementary School - 070269159"]
["",null,{"$f":"IF(ISBLANK(B426),\"\",VLOOKUP(B426,NSLPandADEtableFY14,14,FALSE))","v":""},{"$f":"IF(ISBLANK(B426),\"\",VLOOKUP(B426,NSLPandADEtableFY14,15,FALSE))","v":""},{"$f":"IF(ISBLANK(B426),\"\",VLOOKUP(B426,NSLPandADEtableFY14,2,FALSE))","v":""},"",{"$f":"IF(ISBLANK(B426),\"\",VLOOKUP(B426,NSLPandADEtableFY14,11,FALSE))","v":""},null,null,null,null,null,null,null,"Desert Star - 070444107"]
["",null,{"$f":"IF(ISBLANK(B427),\"\",VLOOKUP(B427,NSLPandADEtableFY14,14,FALSE))","v":""},{"$f":"IF(ISBLANK(B427),\"\",VLOOKUP(B427,NSLPandADEtableFY14,15,FALSE))","v":""},{"$f":"IF(ISBLANK(B427),\"\",VLOOKUP(B427,NSLPandADEtableFY14,2,FALSE))","v":""},"",{"$f":"IF(ISBLANK(B427),\"\",VLOOKUP(B427,NSLPandADEtableFY14,11,FALSE))","v":""},null,null,null,null,null,null,null,"Desert Sun Academy - 070293706"]
["",null,{"$f":"IF(ISBLANK(B428),\"\",VLOOKUP(B428,NSLPandADEtableFY14,14,FALSE))","v":""},{"$f":"IF(ISBLANK(B428),\"\",VLOOKUP(B428,NSLPandADEtableFY14,15,FALSE))","v":""},{"$f":"IF(ISBLANK(B428),\"\",VLOOKUP(B428,NSLPandADEtableFY14,2,FALSE))","v":""},"",{"$f":"IF(ISBLANK(B428),\"\",VLOOKUP(B428,NSLPandADEtableFY14,11,FALSE))","v":""},null,null,null,null,null,null,null,"Desert Thunder - 070444108"]
["",null,{"$f":"IF(ISBLANK(B429),\"\",VLOOKUP(B429,NSLPandADEtableFY14,14,FALSE))","v":""},{"$f":"IF(ISBLANK(B429),\"\",VLOOKUP(B429,NSLPandADEtableFY14,15,FALSE))","v":""},{"$f":"IF(ISBLANK(B429),\"\",VLOOKUP(B429,NSLPandADEtableFY14,2,FALSE))","v":""},"",{"$f":"IF(ISBLANK(B429),\"\",VLOOKUP(B429,NSLPandADEtableFY14,11,FALSE))","v":""},null,null,null,null,null,null,null,"Desert Trails Elementary School - 070269138"]
["",null,{"$f":"IF(ISBLANK(B430),\"\",VLOOKUP(B430,NSLPandADEtableFY14,14,FALSE))","v":""},{"$f":"IF(ISBLANK(B430),\"\",VLOOKUP(B430,NSLPandADEtableFY14,15,FALSE))","v":""},{"$f":"IF(ISBLANK(B430),\"\",VLOOKUP(B430,NSLPandADEtableFY14,2,FALSE))","v":""},"",{"$f":"IF(ISBLANK(B430),\"\",VLOOKUP(B430,NSLPandADEtableFY14,11,FALSE))","v":""},null,null,null,null,null,null,null,"Desert Valley Elementary School - 070211113"]
["",null,{"$f":"IF(ISBLANK(B431),\"\",VLOOKUP(B431,NSLPandADEtableFY14,14,FALSE))","v":""},{"$f":"IF(ISBLANK(B431),\"\",VLOOKUP(B431,NSLPandADEtableFY14,15,FALSE))","v":""},{"$f":"IF(ISBLANK(B431),\"\",VLOOKUP(B431,NSLPandADEtableFY14,2,FALSE))","v":""},"",{"$f":"IF(ISBLANK(B431),\"\",VLOOKUP(B431,NSLPandADEtableFY14,11,FALSE))","v":""},null,null,null,null,null,null,null,"Desert Valley School - 080415105"]
["",null,{"$f":"IF(ISBLANK(B432),\"\",VLOOKUP(B432,NSLPandADEtableFY14,14,FALSE))","v":""},{"$f":"IF(ISBLANK(B432),\"\",VLOOKUP(B432,NSLPandADEtableFY14,15,FALSE))","v":""},{"$f":"IF(ISBLANK(B432),\"\",VLOOKUP(B432,NSLPandADEtableFY14,2,FALSE))","v":""},"",{"$f":"IF(ISBLANK(B432),\"\",VLOOKUP(B432,NSLPandADEtableFY14,11,FALSE))","v":""},null,null,null,null,null,null,null,"Desert View Academy - 148759101"]
["",null,{"$f":"IF(ISBLANK(B433),\"\",VLOOKUP(B433,NSLPandADEtableFY14,14,FALSE))","v":""},{"$f":"IF(ISBLANK(B433),\"\",VLOOKUP(B433,NSLPandADEtableFY14,15,FALSE))","v":""},{"$f":"IF(ISBLANK(B433),\"\",VLOOKUP(B433,NSLPandADEtableFY14,2,FALSE))","v":""},"",{"$f":"IF(ISBLANK(B433),\"\",VLOOKUP(B433,NSLPandADEtableFY14,11,FALSE))","v":""},null,null,null,null,null,null,null,"Desert View Elementary - 140432108"]
["",null,{"$f":"IF(ISBLANK(B434),\"\",VLOOKUP(B434,NSLPandADEtableFY14,14,FALSE))","v":""},{"$f":"IF(ISBLANK(B434),\"\",VLOOKUP(B434,NSLPandADEtableFY14,15,FALSE))","v":""},{"$f":"IF(ISBLANK(B434),\"\",VLOOKUP(B434,NSLPandADEtableFY14,2,FALSE))","v":""},"",{"$f":"IF(ISBLANK(B434),\"\",VLOOKUP(B434,NSLPandADEtableFY14,11,FALSE))","v":""},null,null,null,null,null,null,null,"Desert View Elementary Intermediate - 030208101"]
["",null,{"$f":"IF(ISBLANK(B435),\"\",VLOOKUP(B435,NSLPandADEtableFY14,14,FALSE))","v":""},{"$f":"IF(ISBLANK(B435),\"\",VLOOKUP(B435,NSLPandADEtableFY14,15,FALSE))","v":""},{"$f":"IF(ISBLANK(B435),\"\",VLOOKUP(B435,NSLPandADEtableFY14,2,FALSE))","v":""},"",{"$f":"IF(ISBLANK(B435),\"\",VLOOKUP(B435,NSLPandADEtableFY14,11,FALSE))","v":""},null,null,null,null,null,null,null,"Desert View Elementary School - 070406128"]
["",null,{"$f":"IF(ISBLANK(B436),\"\",VLOOKUP(B436,NSLPandADEtableFY14,14,FALSE))","v":""},{"$f":"IF(ISBLANK(B436),\"\",VLOOKUP(B436,NSLPandADEtableFY14,15,FALSE))","v":""},{"$f":"IF(ISBLANK(B436),\"\",VLOOKUP(B436,NSLPandADEtableFY14,2,FALSE))","v":""},"",{"$f":"IF(ISBLANK(B436),\"\",VLOOKUP(B436,NSLPandADEtableFY14,11,FALSE))","v":""},null,null,null,null,null,null,null,"Desert View High School - 100212211"]
["",null,{"$f":"IF(ISBLANK(B437),\"\",VLOOKUP(B437,NSLPandADEtableFY14,14,FALSE))","v":""},{"$f":"IF(ISBLANK(B437),\"\",VLOOKUP(B437,NSLPandADEtableFY14,15,FALSE))","v":""},{"$f":"IF(ISBLANK(B437),\"\",VLOOKUP(B437,NSLPandADEtableFY14,2,FALSE))","v":""},"",{"$f":"IF(ISBLANK(B437),\"\",VLOOKUP(B437,NSLPandADEtableFY14,11,FALSE))","v":""},null,null,null,null,null,null,null,"Desert Vista Elementary School - 110243104"]
["",null,{"$f":"IF(ISBLANK(B438),\"\",VLOOKUP(B438,NSLPandADEtableFY14,14,FALSE))","v":""},{"$f":"IF(ISBLANK(B438),\"\",VLOOKUP(B438,NSLPandADEtableFY14,15,FALSE))","v":""},{"$f":"IF(ISBLANK(B438),\"\",VLOOKUP(B438,NSLPandADEtableFY14,2,FALSE))","v":""},"",{"$f":"IF(ISBLANK(B438),\"\",VLOOKUP(B438,NSLPandADEtableFY14,11,FALSE))","v":""},null,null,null,null,null,null,null,"Desert Vista High School - 070513096"]
["",null,{"$f":"IF(ISBLANK(B439),\"\",VLOOKUP(B439,NSLPandADEtableFY14,14,FALSE))","v":""},{"$f":"IF(ISBLANK(B439),\"\",VLOOKUP(B439,NSLPandADEtableFY14,15,FALSE))","v":""},{"$f":"IF(ISBLANK(B439),\"\",VLOOKUP(B439,NSLPandADEtableFY14,2,FALSE))","v":""},"",{"$f":"IF(ISBLANK(B439),\"\",VLOOKUP(B439,NSLPandADEtableFY14,11,FALSE))","v":""},null,null,null,null,null,null,null,"Desert Willow Elementary School - 110404130"]
["",null,{"$f":"IF(ISBLANK(B440),\"\",VLOOKUP(B440,NSLPandADEtableFY14,14,FALSE))","v":""},{"$f":"IF(ISBLANK(B440),\"\",VLOOKUP(B440,NSLPandADEtableFY14,15,FALSE))","v":""},{"$f":"IF(ISBLANK(B440),\"\",VLOOKUP(B440,NSLPandADEtableFY14,2,FALSE))","v":""},"",{"$f":"IF(ISBLANK(B440),\"\",VLOOKUP(B440,NSLPandADEtableFY14,11,FALSE))","v":""},null,null,null,null,null,null,null,"Desert Willow Elementary School - 070293705"]
["",null,{"$f":"IF(ISBLANK(B441),\"\",VLOOKUP(B441,NSLPandADEtableFY14,14,FALSE))","v":""},{"$f":"IF(ISBLANK(B441),\"\",VLOOKUP(B441,NSLPandADEtableFY14,15,FALSE))","v":""},{"$f":"IF(ISBLANK(B441),\"\",VLOOKUP(B441,NSLPandADEtableFY14,2,FALSE))","v":""},"",{"$f":"IF(ISBLANK(B441),\"\",VLOOKUP(B441,NSLPandADEtableFY14,11,FALSE))","v":""},null,null,null,null,null,null,null,"Desert Willow Elementary School - 080220119"]
["",null,{"$f":"IF(ISBLANK(B442),\"\",VLOOKUP(B442,NSLPandADEtableFY14,14,FALSE))","v":""},{"$f":"IF(ISBLANK(B442),\"\",VLOOKUP(B442,NSLPandADEtableFY14,15,FALSE))","v":""},{"$f":"IF(ISBLANK(B442),\"\",VLOOKUP(B442,NSLPandADEtableFY14,2,FALSE))","v":""},"",{"$f":"IF(ISBLANK(B442),\"\",VLOOKUP(B442,NSLPandADEtableFY14,11,FALSE))","v":""},null,null,null,null,null,null,null,"Desert Willow Elementary School - 100220105"]
["",null,{"$f":"IF(ISBLANK(B443),\"\",VLOOKUP(B443,NSLPandADEtableFY14,14,FALSE))","v":""},{"$f":"IF(ISBLANK(B443),\"\",VLOOKUP(B443,NSLPandADEtableFY14,15,FALSE))","v":""},{"$f":"IF(ISBLANK(B443),\"\",VLOOKUP(B443,NSLPandADEtableFY14,2,FALSE))","v":""},"",{"$f":"IF(ISBLANK(B443),\"\",VLOOKUP(B443,NSLPandADEtableFY14,11,FALSE))","v":""},null,null,null,null,null,null,null,"Desert Wind Middle School - 110220134"]
["",null,{"$f":"IF(ISBLANK(B444),\"\",VLOOKUP(B444,NSLPandADEtableFY14,14,FALSE))","v":""},{"$f":"IF(ISBLANK(B444),\"\",VLOOKUP(B444,NSLPandADEtableFY14,15,FALSE))","v":""},{"$f":"IF(ISBLANK(B444),\"\",VLOOKUP(B444,NSLPandADEtableFY14,2,FALSE))","v":""},"",{"$f":"IF(ISBLANK(B444),\"\",VLOOKUP(B444,NSLPandADEtableFY14,11,FALSE))","v":""},null,null,null,null,null,null,null,"Desert Winds Elementary School - 070297118"]
["",null,{"$f":"IF(ISBLANK(B445),\"\",VLOOKUP(B445,NSLPandADEtableFY14,14,FALSE))","v":""},{"$f":"IF(ISBLANK(B445),\"\",VLOOKUP(B445,NSLPandADEtableFY14,15,FALSE))","v":""},{"$f":"IF(ISBLANK(B445),\"\",VLOOKUP(B445,NSLPandADEtableFY14,2,FALSE))","v":""},"",{"$f":"IF(ISBLANK(B445),\"\",VLOOKUP(B445,NSLPandADEtableFY14,11,FALSE))","v":""},null,null,null,null,null,null,null,"Desert Winds Elementary School - 100206116"]
["",null,{"$f":"IF(ISBLANK(B446),\"\",VLOOKUP(B446,NSLPandADEtableFY14,14,FALSE))","v":""},{"$f":"IF(ISBLANK(B446),\"\",VLOOKUP(B446,NSLPandADEtableFY14,15,FALSE))","v":""},{"$f":"IF(ISBLANK(B446),\"\",VLOOKUP(B446,NSLPandADEtableFY14,2,FALSE))","v":""},"",{"$f":"IF(ISBLANK(B446),\"\",VLOOKUP(B446,NSLPandADEtableFY14,11,FALSE))","v":""},null,null,null,null,null,null,null,"Desert Winds High School - 110502003"]
["",null,{"$f":"IF(ISBLANK(B447),\"\",VLOOKUP(B447,NSLPandADEtableFY14,14,FALSE))","v":""},{"$f":"IF(ISBLANK(B447),\"\",VLOOKUP(B447,NSLPandADEtableFY14,15,FALSE))","v":""},{"$f":"IF(ISBLANK(B447),\"\",VLOOKUP(B447,NSLPandADEtableFY14,2,FALSE))","v":""},"",{"$f":"IF(ISBLANK(B447),\"\",VLOOKUP(B447,NSLPandADEtableFY14,11,FALSE))","v":""},null,null,null,null,null,null,null,"Destiny Community School - 078704101"]
["",null,{"$f":"IF(ISBLANK(B448),\"\",VLOOKUP(B448,NSLPandADEtableFY14,14,FALSE))","v":""},{"$f":"IF(ISBLANK(B448),\"\",VLOOKUP(B448,NSLPandADEtableFY14,15,FALSE))","v":""},{"$f":"IF(ISBLANK(B448),\"\",VLOOKUP(B448,NSLPandADEtableFY14,2,FALSE))","v":""},"",{"$f":"IF(ISBLANK(B448),\"\",VLOOKUP(B448,NSLPandADEtableFY14,11,FALSE))","v":""},null,null,null,null,null,null,null,"Destiny School - 048701001"]
["",null,{"$f":"IF(ISBLANK(B449),\"\",VLOOKUP(B449,NSLPandADEtableFY14,14,FALSE))","v":""},{"$f":"IF(ISBLANK(B449),\"\",VLOOKUP(B449,NSLPandADEtableFY14,15,FALSE))","v":""},{"$f":"IF(ISBLANK(B449),\"\",VLOOKUP(B449,NSLPandADEtableFY14,2,FALSE))","v":""},"",{"$f":"IF(ISBLANK(B449),\"\",VLOOKUP(B449,NSLPandADEtableFY14,11,FALSE))","v":""},null,null,null,null,null,null,null,"Devereux - 072102001"]
["",null,{"$f":"IF(ISBLANK(B450),\"\",VLOOKUP(B450,NSLPandADEtableFY14,14,FALSE))","v":""},{"$f":"IF(ISBLANK(B450),\"\",VLOOKUP(B450,NSLPandADEtableFY14,15,FALSE))","v":""},{"$f":"IF(ISBLANK(B450),\"\",VLOOKUP(B450,NSLPandADEtableFY14,2,FALSE))","v":""},"",{"$f":"IF(ISBLANK(B450),\"\",VLOOKUP(B450,NSLPandADEtableFY14,11,FALSE))","v":""},null,null,null,null,null,null,null,"Diamond Canyon Elementary - 070297146"]
["",null,{"$f":"IF(ISBLANK(B451),\"\",VLOOKUP(B451,NSLPandADEtableFY14,14,FALSE))","v":""},{"$f":"IF(ISBLANK(B451),\"\",VLOOKUP(B451,NSLPandADEtableFY14,15,FALSE))","v":""},{"$f":"IF(ISBLANK(B451),\"\",VLOOKUP(B451,NSLPandADEtableFY14,2,FALSE))","v":""},"",{"$f":"IF(ISBLANK(B451),\"\",VLOOKUP(B451,NSLPandADEtableFY14,11,FALSE))","v":""},null,null,null,null,null,null,null,"Diamondback - 102133011"]
["",null,{"$f":"IF(ISBLANK(B452),\"\",VLOOKUP(B452,NSLPandADEtableFY14,14,FALSE))","v":""},{"$f":"IF(ISBLANK(B452),\"\",VLOOKUP(B452,NSLPandADEtableFY14,15,FALSE))","v":""},{"$f":"IF(ISBLANK(B452),\"\",VLOOKUP(B452,NSLPandADEtableFY14,2,FALSE))","v":""},"",{"$f":"IF(ISBLANK(B452),\"\",VLOOKUP(B452,NSLPandADEtableFY14,11,FALSE))","v":""},null,null,null,null,null,null,null,"Diamondback Elementary School - 080415107"]
["",null,{"$f":"IF(ISBLANK(B453),\"\",VLOOKUP(B453,NSLPandADEtableFY14,14,FALSE))","v":""},{"$f":"IF(ISBLANK(B453),\"\",VLOOKUP(B453,NSLPandADEtableFY14,15,FALSE))","v":""},{"$f":"IF(ISBLANK(B453),\"\",VLOOKUP(B453,NSLPandADEtableFY14,2,FALSE))","v":""},"",{"$f":"IF(ISBLANK(B453),\"\",VLOOKUP(B453,NSLPandADEtableFY14,11,FALSE))","v":""},null,null,null,null,null,null,null,"Dietz Elementary School - 100201197"]
["",null,{"$f":"IF(ISBLANK(B454),\"\",VLOOKUP(B454,NSLPandADEtableFY14,14,FALSE))","v":""},{"$f":"IF(ISBLANK(B454),\"\",VLOOKUP(B454,NSLPandADEtableFY14,15,FALSE))","v":""},{"$f":"IF(ISBLANK(B454),\"\",VLOOKUP(B454,NSLPandADEtableFY14,2,FALSE))","v":""},"",{"$f":"IF(ISBLANK(B454),\"\",VLOOKUP(B454,NSLPandADEtableFY14,11,FALSE))","v":""},null,null,null,null,null,null,null,"Dilcon Community School Inc. - 014012006"]
["",null,{"$f":"IF(ISBLANK(B455),\"\",VLOOKUP(B455,NSLPandADEtableFY14,14,FALSE))","v":""},{"$f":"IF(ISBLANK(B455),\"\",VLOOKUP(B455,NSLPandADEtableFY14,15,FALSE))","v":""},{"$f":"IF(ISBLANK(B455),\"\",VLOOKUP(B455,NSLPandADEtableFY14,2,FALSE))","v":""},"",{"$f":"IF(ISBLANK(B455),\"\",VLOOKUP(B455,NSLPandADEtableFY14,11,FALSE))","v":""},null,null,null,null,null,null,null,"Dine Bi'Olta (Immersion School) - 010208116"]
["",null,{"$f":"IF(ISBLANK(B456),\"\",VLOOKUP(B456,NSLPandADEtableFY14,14,FALSE))","v":""},{"$f":"IF(ISBLANK(B456),\"\",VLOOKUP(B456,NSLPandADEtableFY14,15,FALSE))","v":""},{"$f":"IF(ISBLANK(B456),\"\",VLOOKUP(B456,NSLPandADEtableFY14,2,FALSE))","v":""},"",{"$f":"IF(ISBLANK(B456),\"\",VLOOKUP(B456,NSLPandADEtableFY14,11,FALSE))","v":""},null,null,null,null,null,null,null,"Discovery Plus Academy - 058703001"]
["",null,{"$f":"IF(ISBLANK(B457),\"\",VLOOKUP(B457,NSLPandADEtableFY14,14,FALSE))","v":""},{"$f":"IF(ISBLANK(B457),\"\",VLOOKUP(B457,NSLPandADEtableFY14,15,FALSE))","v":""},{"$f":"IF(ISBLANK(B457),\"\",VLOOKUP(B457,NSLPandADEtableFY14,2,FALSE))","v":""},"",{"$f":"IF(ISBLANK(B457),\"\",VLOOKUP(B457,NSLPandADEtableFY14,11,FALSE))","v":""},null,null,null,null,null,null,null,"Discovery School - 070440113"]
["",null,{"$f":"IF(ISBLANK(B458),\"\",VLOOKUP(B458,NSLPandADEtableFY14,14,FALSE))","v":""},{"$f":"IF(ISBLANK(B458),\"\",VLOOKUP(B458,NSLPandADEtableFY14,15,FALSE))","v":""},{"$f":"IF(ISBLANK(B458),\"\",VLOOKUP(B458,NSLPandADEtableFY14,2,FALSE))","v":""},"",{"$f":"IF(ISBLANK(B458),\"\",VLOOKUP(B458,NSLPandADEtableFY14,11,FALSE))","v":""},null,null,null,null,null,null,null,"Dobson Academy - A Ball Charter School - 078988102"]
["",null,{"$f":"IF(ISBLANK(B459),\"\",VLOOKUP(B459,NSLPandADEtableFY14,14,FALSE))","v":""},{"$f":"IF(ISBLANK(B459),\"\",VLOOKUP(B459,NSLPandADEtableFY14,15,FALSE))","v":""},{"$f":"IF(ISBLANK(B459),\"\",VLOOKUP(B459,NSLPandADEtableFY14,2,FALSE))","v":""},"",{"$f":"IF(ISBLANK(B459),\"\",VLOOKUP(B459,NSLPandADEtableFY14,11,FALSE))","v":""},null,null,null,null,null,null,null,"Dobson High School - 070204274"]
[{"$f":"IF(ISBLANK(B460),\"\",\"Q-Public School\")","v":""},null,{"$f":"IF(ISBLANK(B460),\"\",VLOOKUP(B460,NSLPandADEtableFY14,14,FALSE))","v":""},{"$f":"IF(ISBLANK(B460),\"\",VLOOKUP(B460,NSLPandADEtableFY14,15,FALSE))","v":""},{"$f":"IF(ISBLANK(B460),\"\",VLOOKUP(B460,NSLPandADEtableFY14,2,FALSE))","v":""},{"$f":"IF(ISBLANK(B460),\"\",\"Free & Reduced Lunch Data (NSLP) March 2013\")","v":""},{"$f":"IF(ISBLANK(B460),\"\",VLOOKUP(B460,NSLPandADEtableFY14,11,FALSE))","v":""},null,null,null,null,null,null,null,"Don Mensendick School - 070440106"]
["",null,{"$f":"IF(ISBLANK(B461),\"\",VLOOKUP(B461,NSLPandADEtableFY14,14,FALSE))","v":""},{"$f":"IF(ISBLANK(B461),\"\",VLOOKUP(B461,NSLPandADEtableFY14,15,FALSE))","v":""},{"$f":"IF(ISBLANK(B461),\"\",VLOOKUP(B461,NSLPandADEtableFY14,2,FALSE))","v":""},"",{"$f":"IF(ISBLANK(B461),\"\",VLOOKUP(B461,NSLPandADEtableFY14,11,FALSE))","v":""},null,null,null,null,null,null,null,"Doolen Middle School - 100201505"]
["",null,{"$f":"IF(ISBLANK(B462),\"\",VLOOKUP(B462,NSLPandADEtableFY14,14,FALSE))","v":""},{"$f":"IF(ISBLANK(B462),\"\",VLOOKUP(B462,NSLPandADEtableFY14,15,FALSE))","v":""},{"$f":"IF(ISBLANK(B462),\"\",VLOOKUP(B462,NSLPandADEtableFY14,2,FALSE))","v":""},"",{"$f":"IF(ISBLANK(B462),\"\",VLOOKUP(B462,NSLPandADEtableFY14,11,FALSE))","v":""},null,null,null,null,null,null,null,"Dorothy Stinson School - 050201100"]
["",null,{"$f":"IF(ISBLANK(B463),\"\",VLOOKUP(B463,NSLPandADEtableFY14,14,FALSE))","v":""},{"$f":"IF(ISBLANK(B463),\"\",VLOOKUP(B463,NSLPandADEtableFY14,15,FALSE))","v":""},{"$f":"IF(ISBLANK(B463),\"\",VLOOKUP(B463,NSLPandADEtableFY14,2,FALSE))","v":""},"",{"$f":"IF(ISBLANK(B463),\"\",VLOOKUP(B463,NSLPandADEtableFY14,11,FALSE))","v":""},null,null,null,null,null,null,null,"Dos Rios Elementary - 070462103"]
["",null,{"$f":"IF(ISBLANK(B464),\"\",VLOOKUP(B464,NSLPandADEtableFY14,14,FALSE))","v":""},{"$f":"IF(ISBLANK(B464),\"\",VLOOKUP(B464,NSLPandADEtableFY14,15,FALSE))","v":""},{"$f":"IF(ISBLANK(B464),\"\",VLOOKUP(B464,NSLPandADEtableFY14,2,FALSE))","v":""},"",{"$f":"IF(ISBLANK(B464),\"\",VLOOKUP(B464,NSLPandADEtableFY14,11,FALSE))","v":""},null,null,null,null,null,null,null,"Douglas High School - 020227210"]
["",null,{"$f":"IF(ISBLANK(B465),\"\",VLOOKUP(B465,NSLPandADEtableFY14,14,FALSE))","v":""},{"$f":"IF(ISBLANK(B465),\"\",VLOOKUP(B465,NSLPandADEtableFY14,15,FALSE))","v":""},{"$f":"IF(ISBLANK(B465),\"\",VLOOKUP(B465,NSLPandADEtableFY14,2,FALSE))","v":""},"",{"$f":"IF(ISBLANK(B465),\"\",VLOOKUP(B465,NSLPandADEtableFY14,11,FALSE))","v":""},null,null,null,null,null,null,null,"Dr Daniel Bright Elementary School - 130406104"]
["",null,{"$f":"IF(ISBLANK(B466),\"\",VLOOKUP(B466,NSLPandADEtableFY14,14,FALSE))","v":""},{"$f":"IF(ISBLANK(B466),\"\",VLOOKUP(B466,NSLPandADEtableFY14,15,FALSE))","v":""},{"$f":"IF(ISBLANK(B466),\"\",VLOOKUP(B466,NSLPandADEtableFY14,2,FALSE))","v":""},"",{"$f":"IF(ISBLANK(B466),\"\",VLOOKUP(B466,NSLPandADEtableFY14,11,FALSE))","v":""},null,null,null,null,null,null,null,"Dr Howard K Conley Elementary School - 070280122"]
["",null,{"$f":"IF(ISBLANK(B467),\"\",VLOOKUP(B467,NSLPandADEtableFY14,14,FALSE))","v":""},{"$f":"IF(ISBLANK(B467),\"\",VLOOKUP(B467,NSLPandADEtableFY14,15,FALSE))","v":""},{"$f":"IF(ISBLANK(B467),\"\",VLOOKUP(B467,NSLPandADEtableFY14,2,FALSE))","v":""},"",{"$f":"IF(ISBLANK(B467),\"\",VLOOKUP(B467,NSLPandADEtableFY14,11,FALSE))","v":""},null,null,null,null,null,null,null,"Dr. Charles A. Bejarano Elementary School - 040240108"]
["",null,{"$f":"IF(ISBLANK(B468),\"\",VLOOKUP(B468,NSLPandADEtableFY14,14,FALSE))","v":""},{"$f":"IF(ISBLANK(B468),\"\",VLOOKUP(B468,NSLPandADEtableFY14,15,FALSE))","v":""},{"$f":"IF(ISBLANK(B468),\"\",VLOOKUP(B468,NSLPandADEtableFY14,2,FALSE))","v":""},"",{"$f":"IF(ISBLANK(B468),\"\",VLOOKUP(B468,NSLPandADEtableFY14,11,FALSE))","v":""},null,null,null,null,null,null,null,"Drachman Primary Magnet School - 100201203"]
["",null,{"$f":"IF(ISBLANK(B469),\"\",VLOOKUP(B469,NSLPandADEtableFY14,14,FALSE))","v":""},{"$f":"IF(ISBLANK(B469),\"\",VLOOKUP(B469,NSLPandADEtableFY14,15,FALSE))","v":""},{"$f":"IF(ISBLANK(B469),\"\",VLOOKUP(B469,NSLPandADEtableFY14,2,FALSE))","v":""},"",{"$f":"IF(ISBLANK(B469),\"\",VLOOKUP(B469,NSLPandADEtableFY14,11,FALSE))","v":""},null,null,null,null,null,null,null,"Dreaming Summit Elementary - 070479109"]
["",null,{"$f":"IF(ISBLANK(B470),\"\",VLOOKUP(B470,NSLPandADEtableFY14,14,FALSE))","v":""},{"$f":"IF(ISBLANK(B470),\"\",VLOOKUP(B470,NSLPandADEtableFY14,15,FALSE))","v":""},{"$f":"IF(ISBLANK(B470),\"\",VLOOKUP(B470,NSLPandADEtableFY14,2,FALSE))","v":""},"",{"$f":"IF(ISBLANK(B470),\"\",VLOOKUP(B470,NSLPandADEtableFY14,11,FALSE))","v":""},null,null,null,null,null,null,null,"Drexel Elementary School - 100212112"]
["",null,{"$f":"IF(ISBLANK(B471),\"\",VLOOKUP(B471,NSLPandADEtableFY14,14,FALSE))","v":""},{"$f":"IF(ISBLANK(B471),\"\",VLOOKUP(B471,NSLPandADEtableFY14,15,FALSE))","v":""},{"$f":"IF(ISBLANK(B471),\"\",VLOOKUP(B471,NSLPandADEtableFY14,2,FALSE))","v":""},"",{"$f":"IF(ISBLANK(B471),\"\",VLOOKUP(B471,NSLPandADEtableFY14,11,FALSE))","v":""},null,null,null,null,null,null,null,"Duncan Elementary - 060202102"]
["",null,{"$f":"IF(ISBLANK(B472),\"\",VLOOKUP(B472,NSLPandADEtableFY14,14,FALSE))","v":""},{"$f":"IF(ISBLANK(B472),\"\",VLOOKUP(B472,NSLPandADEtableFY14,15,FALSE))","v":""},{"$f":"IF(ISBLANK(B472),\"\",VLOOKUP(B472,NSLPandADEtableFY14,2,FALSE))","v":""},"",{"$f":"IF(ISBLANK(B472),\"\",VLOOKUP(B472,NSLPandADEtableFY14,11,FALSE))","v":""},null,null,null,null,null,null,null,"Duncan High School - 060202203"]
["",null,{"$f":"IF(ISBLANK(B473),\"\",VLOOKUP(B473,NSLPandADEtableFY14,14,FALSE))","v":""},{"$f":"IF(ISBLANK(B473),\"\",VLOOKUP(B473,NSLPandADEtableFY14,15,FALSE))","v":""},{"$f":"IF(ISBLANK(B473),\"\",VLOOKUP(B473,NSLPandADEtableFY14,2,FALSE))","v":""},"",{"$f":"IF(ISBLANK(B473),\"\",VLOOKUP(B473,NSLPandADEtableFY14,11,FALSE))","v":""},null,null,null,null,null,null,null,"Dunham Elementary School - 100201211"]
["",null,{"$f":"IF(ISBLANK(B474),\"\",VLOOKUP(B474,NSLPandADEtableFY14,14,FALSE))","v":""},{"$f":"IF(ISBLANK(B474),\"\",VLOOKUP(B474,NSLPandADEtableFY14,15,FALSE))","v":""},{"$f":"IF(ISBLANK(B474),\"\",VLOOKUP(B474,NSLPandADEtableFY14,2,FALSE))","v":""},"",{"$f":"IF(ISBLANK(B474),\"\",VLOOKUP(B474,NSLPandADEtableFY14,11,FALSE))","v":""},null,null,null,null,null,null,null,"Durango Juvenile Detention Facility - 071001002"]
["",null,{"$f":"IF(ISBLANK(B475),\"\",VLOOKUP(B475,NSLPandADEtableFY14,14,FALSE))","v":""},{"$f":"IF(ISBLANK(B475),\"\",VLOOKUP(B475,NSLPandADEtableFY14,15,FALSE))","v":""},{"$f":"IF(ISBLANK(B475),\"\",VLOOKUP(B475,NSLPandADEtableFY14,2,FALSE))","v":""},"",{"$f":"IF(ISBLANK(B475),\"\",VLOOKUP(B475,NSLPandADEtableFY14,11,FALSE))","v":""},null,null,null,null,null,null,null,"Dysart Elementary School - 070289101"]
["",null,{"$f":"IF(ISBLANK(B476),\"\",VLOOKUP(B476,NSLPandADEtableFY14,14,FALSE))","v":""},{"$f":"IF(ISBLANK(B476),\"\",VLOOKUP(B476,NSLPandADEtableFY14,15,FALSE))","v":""},{"$f":"IF(ISBLANK(B476),\"\",VLOOKUP(B476,NSLPandADEtableFY14,2,FALSE))","v":""},"",{"$f":"IF(ISBLANK(B476),\"\",VLOOKUP(B476,NSLPandADEtableFY14,11,FALSE))","v":""},null,null,null,null,null,null,null,"Dysart High School - 070289205"]
["",null,{"$f":"IF(ISBLANK(B477),\"\",VLOOKUP(B477,NSLPandADEtableFY14,14,FALSE))","v":""},{"$f":"IF(ISBLANK(B477),\"\",VLOOKUP(B477,NSLPandADEtableFY14,15,FALSE))","v":""},{"$f":"IF(ISBLANK(B477),\"\",VLOOKUP(B477,NSLPandADEtableFY14,2,FALSE))","v":""},"",{"$f":"IF(ISBLANK(B477),\"\",VLOOKUP(B477,NSLPandADEtableFY14,11,FALSE))","v":""},null,null,null,null,null,null,null,"Dzil Libei Elementary School - 030215111"]
["",null,{"$f":"IF(ISBLANK(B478),\"\",VLOOKUP(B478,NSLPandADEtableFY14,14,FALSE))","v":""},{"$f":"IF(ISBLANK(B478),\"\",VLOOKUP(B478,NSLPandADEtableFY14,15,FALSE))","v":""},{"$f":"IF(ISBLANK(B478),\"\",VLOOKUP(B478,NSLPandADEtableFY14,2,FALSE))","v":""},"",{"$f":"IF(ISBLANK(B478),\"\",VLOOKUP(B478,NSLPandADEtableFY14,11,FALSE))","v":""},null,null,null,null,null,null,null,"E C Nash School - 100210110"]
["",null,{"$f":"IF(ISBLANK(B479),\"\",VLOOKUP(B479,NSLPandADEtableFY14,14,FALSE))","v":""},{"$f":"IF(ISBLANK(B479),\"\",VLOOKUP(B479,NSLPandADEtableFY14,15,FALSE))","v":""},{"$f":"IF(ISBLANK(B479),\"\",VLOOKUP(B479,NSLPandADEtableFY14,2,FALSE))","v":""},"",{"$f":"IF(ISBLANK(B479),\"\",VLOOKUP(B479,NSLPandADEtableFY14,11,FALSE))","v":""},null,null,null,null,null,null,null,"EAGLE College Prep - 078541101"]
["",null,{"$f":"IF(ISBLANK(B480),\"\",VLOOKUP(B480,NSLPandADEtableFY14,14,FALSE))","v":""},{"$f":"IF(ISBLANK(B480),\"\",VLOOKUP(B480,NSLPandADEtableFY14,15,FALSE))","v":""},{"$f":"IF(ISBLANK(B480),\"\",VLOOKUP(B480,NSLPandADEtableFY14,2,FALSE))","v":""},"",{"$f":"IF(ISBLANK(B480),\"\",VLOOKUP(B480,NSLPandADEtableFY14,11,FALSE))","v":""},null,null,null,null,null,null,null,"EAGLE College Prep Harmony - 078202001"]
["",null,{"$f":"IF(ISBLANK(B481),\"\",VLOOKUP(B481,NSLPandADEtableFY14,14,FALSE))","v":""},{"$f":"IF(ISBLANK(B481),\"\",VLOOKUP(B481,NSLPandADEtableFY14,15,FALSE))","v":""},{"$f":"IF(ISBLANK(B481),\"\",VLOOKUP(B481,NSLPandADEtableFY14,2,FALSE))","v":""},"",{"$f":"IF(ISBLANK(B481),\"\",VLOOKUP(B481,NSLPandADEtableFY14,11,FALSE))","v":""},null,null,null,null,null,null,null,"Eagle Ridge Elementary School - 070269123"]
["",null,{"$f":"IF(ISBLANK(B482),\"\",VLOOKUP(B482,NSLPandADEtableFY14,14,FALSE))","v":""},{"$f":"IF(ISBLANK(B482),\"\",VLOOKUP(B482,NSLPandADEtableFY14,15,FALSE))","v":""},{"$f":"IF(ISBLANK(B482),\"\",VLOOKUP(B482,NSLPandADEtableFY14,2,FALSE))","v":""},"",{"$f":"IF(ISBLANK(B482),\"\",VLOOKUP(B482,NSLPandADEtableFY14,11,FALSE))","v":""},null,null,null,null,null,null,null,"Eagleridge Enrichment Program - 070204195"]
["",null,{"$f":"IF(ISBLANK(B483),\"\",VLOOKUP(B483,NSLPandADEtableFY14,14,FALSE))","v":""},{"$f":"IF(ISBLANK(B483),\"\",VLOOKUP(B483,NSLPandADEtableFY14,15,FALSE))","v":""},{"$f":"IF(ISBLANK(B483),\"\",VLOOKUP(B483,NSLPandADEtableFY14,2,FALSE))","v":""},"",{"$f":"IF(ISBLANK(B483),\"\",VLOOKUP(B483,NSLPandADEtableFY14,11,FALSE))","v":""},null,null,null,null,null,null,null,"Eagles Nest Intermediate School - 030215120"]
["",null,{"$f":"IF(ISBLANK(B484),\"\",VLOOKUP(B484,NSLPandADEtableFY14,14,FALSE))","v":""},{"$f":"IF(ISBLANK(B484),\"\",VLOOKUP(B484,NSLPandADEtableFY14,15,FALSE))","v":""},{"$f":"IF(ISBLANK(B484),\"\",VLOOKUP(B484,NSLPandADEtableFY14,2,FALSE))","v":""},"",{"$f":"IF(ISBLANK(B484),\"\",VLOOKUP(B484,NSLPandADEtableFY14,11,FALSE))","v":""},null,null,null,null,null,null,null,"Early Childhood Campus - Oak - 070248141"]
["",null,{"$f":"IF(ISBLANK(B485),\"\",VLOOKUP(B485,NSLPandADEtableFY14,14,FALSE))","v":""},{"$f":"IF(ISBLANK(B485),\"\",VLOOKUP(B485,NSLPandADEtableFY14,15,FALSE))","v":""},{"$f":"IF(ISBLANK(B485),\"\",VLOOKUP(B485,NSLPandADEtableFY14,2,FALSE))","v":""},"",{"$f":"IF(ISBLANK(B485),\"\",VLOOKUP(B485,NSLPandADEtableFY14,11,FALSE))","v":""},null,null,null,null,null,null,null,"Early Childhood Education Center - 079101001"]
["",null,{"$f":"IF(ISBLANK(B486),\"\",VLOOKUP(B486,NSLPandADEtableFY14,14,FALSE))","v":""},{"$f":"IF(ISBLANK(B486),\"\",VLOOKUP(B486,NSLPandADEtableFY14,15,FALSE))","v":""},{"$f":"IF(ISBLANK(B486),\"\",VLOOKUP(B486,NSLPandADEtableFY14,2,FALSE))","v":""},"",{"$f":"IF(ISBLANK(B486),\"\",VLOOKUP(B486,NSLPandADEtableFY14,11,FALSE))","v":""},null,null,null,null,null,null,null,"Early Education Center - 070204191"]
["",null,{"$f":"IF(ISBLANK(B487),\"\",VLOOKUP(B487,NSLPandADEtableFY14,14,FALSE))","v":""},{"$f":"IF(ISBLANK(B487),\"\",VLOOKUP(B487,NSLPandADEtableFY14,15,FALSE))","v":""},{"$f":"IF(ISBLANK(B487),\"\",VLOOKUP(B487,NSLPandADEtableFY14,2,FALSE))","v":""},"",{"$f":"IF(ISBLANK(B487),\"\",VLOOKUP(B487,NSLPandADEtableFY14,11,FALSE))","v":""},null,null,null,null,null,null,null,"East Fork Lutheran School - 092003001"]
["",null,{"$f":"IF(ISBLANK(B488),\"\",VLOOKUP(B488,NSLPandADEtableFY14,14,FALSE))","v":""},{"$f":"IF(ISBLANK(B488),\"\",VLOOKUP(B488,NSLPandADEtableFY14,15,FALSE))","v":""},{"$f":"IF(ISBLANK(B488),\"\",VLOOKUP(B488,NSLPandADEtableFY14,2,FALSE))","v":""},"",{"$f":"IF(ISBLANK(B488),\"\",VLOOKUP(B488,NSLPandADEtableFY14,11,FALSE))","v":""},null,null,null,null,null,null,null,"East Valley Academy - 070204278"]
["",null,{"$f":"IF(ISBLANK(B489),\"\",VLOOKUP(B489,NSLPandADEtableFY14,14,FALSE))","v":""},{"$f":"IF(ISBLANK(B489),\"\",VLOOKUP(B489,NSLPandADEtableFY14,15,FALSE))","v":""},{"$f":"IF(ISBLANK(B489),\"\",VLOOKUP(B489,NSLPandADEtableFY14,2,FALSE))","v":""},"",{"$f":"IF(ISBLANK(B489),\"\",VLOOKUP(B489,NSLPandADEtableFY14,11,FALSE))","v":""},null,null,null,null,null,null,null,"East Valley High School - 078507201"]
["",null,{"$f":"IF(ISBLANK(B490),\"\",VLOOKUP(B490,NSLPandADEtableFY14,14,FALSE))","v":""},{"$f":"IF(ISBLANK(B490),\"\",VLOOKUP(B490,NSLPandADEtableFY14,15,FALSE))","v":""},{"$f":"IF(ISBLANK(B490),\"\",VLOOKUP(B490,NSLPandADEtableFY14,2,FALSE))","v":""},"",{"$f":"IF(ISBLANK(B490),\"\",VLOOKUP(B490,NSLPandADEtableFY14,11,FALSE))","v":""},null,null,null,null,null,null,null,"Echo Mountain Intermediate School - 070269136"]
["",null,{"$f":"IF(ISBLANK(B491),\"\",VLOOKUP(B491,NSLPandADEtableFY14,14,FALSE))","v":""},{"$f":"IF(ISBLANK(B491),\"\",VLOOKUP(B491,NSLPandADEtableFY14,15,FALSE))","v":""},{"$f":"IF(ISBLANK(B491),\"\",VLOOKUP(B491,NSLPandADEtableFY14,2,FALSE))","v":""},"",{"$f":"IF(ISBLANK(B491),\"\",VLOOKUP(B491,NSLPandADEtableFY14,11,FALSE))","v":""},null,null,null,null,null,null,null,"Echo Mountain Primary School - 070269146"]
["",null,{"$f":"IF(ISBLANK(B492),\"\",VLOOKUP(B492,NSLPandADEtableFY14,14,FALSE))","v":""},{"$f":"IF(ISBLANK(B492),\"\",VLOOKUP(B492,NSLPandADEtableFY14,15,FALSE))","v":""},{"$f":"IF(ISBLANK(B492),\"\",VLOOKUP(B492,NSLPandADEtableFY14,2,FALSE))","v":""},"",{"$f":"IF(ISBLANK(B492),\"\",VLOOKUP(B492,NSLPandADEtableFY14,11,FALSE))","v":""},null,null,null,null,null,null,null,"Ed & Verma Pastor Elementary School - 070466021"]
["",null,{"$f":"IF(ISBLANK(B493),\"\",VLOOKUP(B493,NSLPandADEtableFY14,14,FALSE))","v":""},{"$f":"IF(ISBLANK(B493),\"\",VLOOKUP(B493,NSLPandADEtableFY14,15,FALSE))","v":""},{"$f":"IF(ISBLANK(B493),\"\",VLOOKUP(B493,NSLPandADEtableFY14,2,FALSE))","v":""},"",{"$f":"IF(ISBLANK(B493),\"\",VLOOKUP(B493,NSLPandADEtableFY14,11,FALSE))","v":""},null,null,null,null,null,null,null,"Ed Pastor Elementary 4 - 140432109"]
["",null,{"$f":"IF(ISBLANK(B494),\"\",VLOOKUP(B494,NSLPandADEtableFY14,14,FALSE))","v":""},{"$f":"IF(ISBLANK(B494),\"\",VLOOKUP(B494,NSLPandADEtableFY14,15,FALSE))","v":""},{"$f":"IF(ISBLANK(B494),\"\",VLOOKUP(B494,NSLPandADEtableFY14,2,FALSE))","v":""},"",{"$f":"IF(ISBLANK(B494),\"\",VLOOKUP(B494,NSLPandADEtableFY14,11,FALSE))","v":""},null,null,null,null,null,null,null,"Edison Elementary School - 070204103"]
["",null,{"$f":"IF(ISBLANK(B495),\"\",VLOOKUP(B495,NSLPandADEtableFY14,14,FALSE))","v":""},{"$f":"IF(ISBLANK(B495),\"\",VLOOKUP(B495,NSLPandADEtableFY14,15,FALSE))","v":""},{"$f":"IF(ISBLANK(B495),\"\",VLOOKUP(B495,NSLPandADEtableFY14,2,FALSE))","v":""},"",{"$f":"IF(ISBLANK(B495),\"\",VLOOKUP(B495,NSLPandADEtableFY14,11,FALSE))","v":""},null,null,null,null,null,null,null,"Educational Opportunity Center - 148758201"]
["",null,{"$f":"IF(ISBLANK(B496),\"\",VLOOKUP(B496,NSLPandADEtableFY14,14,FALSE))","v":""},{"$f":"IF(ISBLANK(B496),\"\",VLOOKUP(B496,NSLPandADEtableFY14,15,FALSE))","v":""},{"$f":"IF(ISBLANK(B496),\"\",VLOOKUP(B496,NSLPandADEtableFY14,2,FALSE))","v":""},"",{"$f":"IF(ISBLANK(B496),\"\",VLOOKUP(B496,NSLPandADEtableFY14,11,FALSE))","v":""},null,null,null,null,null,null,null,"EduPreneurship Student Center (ESC) Phoenix - 078717102"]
["",null,{"$f":"IF(ISBLANK(B497),\"\",VLOOKUP(B497,NSLPandADEtableFY14,14,FALSE))","v":""},{"$f":"IF(ISBLANK(B497),\"\",VLOOKUP(B497,NSLPandADEtableFY14,15,FALSE))","v":""},{"$f":"IF(ISBLANK(B497),\"\",VLOOKUP(B497,NSLPandADEtableFY14,2,FALSE))","v":""},"",{"$f":"IF(ISBLANK(B497),\"\",VLOOKUP(B497,NSLPandADEtableFY14,11,FALSE))","v":""},null,null,null,null,null,null,null,"Ehrenberg Elementary School - 150404101"]
["",null,{"$f":"IF(ISBLANK(B498),\"\",VLOOKUP(B498,NSLPandADEtableFY14,14,FALSE))","v":""},{"$f":"IF(ISBLANK(B498),\"\",VLOOKUP(B498,NSLPandADEtableFY14,15,FALSE))","v":""},{"$f":"IF(ISBLANK(B498),\"\",VLOOKUP(B498,NSLPandADEtableFY14,2,FALSE))","v":""},"",{"$f":"IF(ISBLANK(B498),\"\",VLOOKUP(B498,NSLPandADEtableFY14,11,FALSE))","v":""},null,null,null,null,null,null,null,"Eisenhower Elementary School - 070204120"]
["",null,{"$f":"IF(ISBLANK(B499),\"\",VLOOKUP(B499,NSLPandADEtableFY14,14,FALSE))","v":""},{"$f":"IF(ISBLANK(B499),\"\",VLOOKUP(B499,NSLPandADEtableFY14,15,FALSE))","v":""},{"$f":"IF(ISBLANK(B499),\"\",VLOOKUP(B499,NSLPandADEtableFY14,2,FALSE))","v":""},"",{"$f":"IF(ISBLANK(B499),\"\",VLOOKUP(B499,NSLPandADEtableFY14,11,FALSE))","v":""},null,null,null,null,null,null,null,"El Capitan Public School - 080214101"]
["",null,{"$f":"IF(ISBLANK(B500),\"\",VLOOKUP(B500,NSLPandADEtableFY14,14,FALSE))","v":""},{"$f":"IF(ISBLANK(B500),\"\",VLOOKUP(B500,NSLPandADEtableFY14,15,FALSE))","v":""},{"$f":"IF(ISBLANK(B500),\"\",VLOOKUP(B500,NSLPandADEtableFY14,2,FALSE))","v":""},"",{"$f":"IF(ISBLANK(B500),\"\",VLOOKUP(B500,NSLPandADEtableFY14,11,FALSE))","v":""},null,null,null,null,null,null,null,"El Mirage School - 070289102"]
["",null,{"$f":"IF(ISBLANK(B501),\"\",VLOOKUP(B501,NSLPandADEtableFY14,14,FALSE))","v":""},{"$f":"IF(ISBLANK(B501),\"\",VLOOKUP(B501,NSLPandADEtableFY14,15,FALSE))","v":""},{"$f":"IF(ISBLANK(B501),\"\",VLOOKUP(B501,NSLPandADEtableFY14,2,FALSE))","v":""},"",{"$f":"IF(ISBLANK(B501),\"\",VLOOKUP(B501,NSLPandADEtableFY14,11,FALSE))","v":""},null,null,null,null,null,null,null,"Elfrida Elementary School - 020412101"]
["",null,{"$f":"IF(ISBLANK(B502),\"\",VLOOKUP(B502,NSLPandADEtableFY14,14,FALSE))","v":""},{"$f":"IF(ISBLANK(B502),\"\",VLOOKUP(B502,NSLPandADEtableFY14,15,FALSE))","v":""},{"$f":"IF(ISBLANK(B502),\"\",VLOOKUP(B502,NSLPandADEtableFY14,2,FALSE))","v":""},"",{"$f":"IF(ISBLANK(B502),\"\",VLOOKUP(B502,NSLPandADEtableFY14,11,FALSE))","v":""},null,null,null,null,null,null,null,"Elgin Elementary School - 120425101"]
["",null,{"$f":"IF(ISBLANK(B503),\"\",VLOOKUP(B503,NSLPandADEtableFY14,14,FALSE))","v":""},{"$f":"IF(ISBLANK(B503),\"\",VLOOKUP(B503,NSLPandADEtableFY14,15,FALSE))","v":""},{"$f":"IF(ISBLANK(B503),\"\",VLOOKUP(B503,NSLPandADEtableFY14,2,FALSE))","v":""},"",{"$f":"IF(ISBLANK(B503),\"\",VLOOKUP(B503,NSLPandADEtableFY14,11,FALSE))","v":""},null,null,null,null,null,null,null,"Eliseo C. Felix School - 070444103"]
["",null,{"$f":"IF(ISBLANK(B504),\"\",VLOOKUP(B504,NSLPandADEtableFY14,14,FALSE))","v":""},{"$f":"IF(ISBLANK(B504),\"\",VLOOKUP(B504,NSLPandADEtableFY14,15,FALSE))","v":""},{"$f":"IF(ISBLANK(B504),\"\",VLOOKUP(B504,NSLPandADEtableFY14,2,FALSE))","v":""},"",{"$f":"IF(ISBLANK(B504),\"\",VLOOKUP(B504,NSLPandADEtableFY14,11,FALSE))","v":""},null,null,null,null,null,null,null,"Ellsworth Elementary School - 110244105"]
["",null,{"$f":"IF(ISBLANK(B505),\"\",VLOOKUP(B505,NSLPandADEtableFY14,14,FALSE))","v":""},{"$f":"IF(ISBLANK(B505),\"\",VLOOKUP(B505,NSLPandADEtableFY14,15,FALSE))","v":""},{"$f":"IF(ISBLANK(B505),\"\",VLOOKUP(B505,NSLPandADEtableFY14,2,FALSE))","v":""},"",{"$f":"IF(ISBLANK(B505),\"\",VLOOKUP(B505,NSLPandADEtableFY14,11,FALSE))","v":""},null,null,null,null,null,null,null,"Eloy Intermediate School - 110411104"]
["",null,{"$f":"IF(ISBLANK(B506),\"\",VLOOKUP(B506,NSLPandADEtableFY14,14,FALSE))","v":""},{"$f":"IF(ISBLANK(B506),\"\",VLOOKUP(B506,NSLPandADEtableFY14,15,FALSE))","v":""},{"$f":"IF(ISBLANK(B506),\"\",VLOOKUP(B506,NSLPandADEtableFY14,2,FALSE))","v":""},"",{"$f":"IF(ISBLANK(B506),\"\",VLOOKUP(B506,NSLPandADEtableFY14,11,FALSE))","v":""},null,null,null,null,null,null,null,"Eloy Junior High School - 110411105"]
["",null,{"$f":"IF(ISBLANK(B507),\"\",VLOOKUP(B507,NSLPandADEtableFY14,14,FALSE))","v":""},{"$f":"IF(ISBLANK(B507),\"\",VLOOKUP(B507,NSLPandADEtableFY14,15,FALSE))","v":""},{"$f":"IF(ISBLANK(B507),\"\",VLOOKUP(B507,NSLPandADEtableFY14,2,FALSE))","v":""},"",{"$f":"IF(ISBLANK(B507),\"\",VLOOKUP(B507,NSLPandADEtableFY14,11,FALSE))","v":""},null,null,null,null,null,null,null,"Elvira Elementary School - 100212114"]
["",null,{"$f":"IF(ISBLANK(B508),\"\",VLOOKUP(B508,NSLPandADEtableFY14,14,FALSE))","v":""},{"$f":"IF(ISBLANK(B508),\"\",VLOOKUP(B508,NSLPandADEtableFY14,15,FALSE))","v":""},{"$f":"IF(ISBLANK(B508),\"\",VLOOKUP(B508,NSLPandADEtableFY14,2,FALSE))","v":""},"",{"$f":"IF(ISBLANK(B508),\"\",VLOOKUP(B508,NSLPandADEtableFY14,11,FALSE))","v":""},null,null,null,null,null,null,null,"Emerson Elementary School - 070204104"]
["",null,{"$f":"IF(ISBLANK(B509),\"\",VLOOKUP(B509,NSLPandADEtableFY14,14,FALSE))","v":""},{"$f":"IF(ISBLANK(B509),\"\",VLOOKUP(B509,NSLPandADEtableFY14,15,FALSE))","v":""},{"$f":"IF(ISBLANK(B509),\"\",VLOOKUP(B509,NSLPandADEtableFY14,2,FALSE))","v":""},"",{"$f":"IF(ISBLANK(B509),\"\",VLOOKUP(B509,NSLPandADEtableFY14,11,FALSE))","v":""},null,null,null,null,null,null,null,"Emily Gray Junior High School - 100213002"]
["",null,{"$f":"IF(ISBLANK(B510),\"\",VLOOKUP(B510,NSLPandADEtableFY14,14,FALSE))","v":""},{"$f":"IF(ISBLANK(B510),\"\",VLOOKUP(B510,NSLPandADEtableFY14,15,FALSE))","v":""},{"$f":"IF(ISBLANK(B510),\"\",VLOOKUP(B510,NSLPandADEtableFY14,2,FALSE))","v":""},"",{"$f":"IF(ISBLANK(B510),\"\",VLOOKUP(B510,NSLPandADEtableFY14,11,FALSE))","v":""},null,null,null,null,null,null,null,"Empire High School - 100220203"]
["",null,{"$f":"IF(ISBLANK(B511),\"\",VLOOKUP(B511,NSLPandADEtableFY14,14,FALSE))","v":""},{"$f":"IF(ISBLANK(B511),\"\",VLOOKUP(B511,NSLPandADEtableFY14,15,FALSE))","v":""},{"$f":"IF(ISBLANK(B511),\"\",VLOOKUP(B511,NSLPandADEtableFY14,2,FALSE))","v":""},"",{"$f":"IF(ISBLANK(B511),\"\",VLOOKUP(B511,NSLPandADEtableFY14,11,FALSE))","v":""},null,null,null,null,null,null,null,"Empower College Prep - 078401001"]
["",null,{"$f":"IF(ISBLANK(B512),\"\",VLOOKUP(B512,NSLPandADEtableFY14,14,FALSE))","v":""},{"$f":"IF(ISBLANK(B512),\"\",VLOOKUP(B512,NSLPandADEtableFY14,15,FALSE))","v":""},{"$f":"IF(ISBLANK(B512),\"\",VLOOKUP(B512,NSLPandADEtableFY14,2,FALSE))","v":""},"",{"$f":"IF(ISBLANK(B512),\"\",VLOOKUP(B512,NSLPandADEtableFY14,11,FALSE))","v":""},null,null,null,null,null,null,null,"EnSueno Group Home - 072102002"]
["",null,{"$f":"IF(ISBLANK(B513),\"\",VLOOKUP(B513,NSLPandADEtableFY14,14,FALSE))","v":""},{"$f":"IF(ISBLANK(B513),\"\",VLOOKUP(B513,NSLPandADEtableFY14,15,FALSE))","v":""},{"$f":"IF(ISBLANK(B513),\"\",VLOOKUP(B513,NSLPandADEtableFY14,2,FALSE))","v":""},"",{"$f":"IF(ISBLANK(B513),\"\",VLOOKUP(B513,NSLPandADEtableFY14,11,FALSE))","v":""},null,null,null,null,null,null,null,"Entz Elementary School - 070204147"]
["",null,{"$f":"IF(ISBLANK(B514),\"\",VLOOKUP(B514,NSLPandADEtableFY14,14,FALSE))","v":""},{"$f":"IF(ISBLANK(B514),\"\",VLOOKUP(B514,NSLPandADEtableFY14,15,FALSE))","v":""},{"$f":"IF(ISBLANK(B514),\"\",VLOOKUP(B514,NSLPandADEtableFY14,2,FALSE))","v":""},"",{"$f":"IF(ISBLANK(B514),\"\",VLOOKUP(B514,NSLPandADEtableFY14,11,FALSE))","v":""},null,null,null,null,null,null,null,"Esperanza Community Collegial Academy - 078505201"]
["",null,{"$f":"IF(ISBLANK(B515),\"\",VLOOKUP(B515,NSLPandADEtableFY14,14,FALSE))","v":""},{"$f":"IF(ISBLANK(B515),\"\",VLOOKUP(B515,NSLPandADEtableFY14,15,FALSE))","v":""},{"$f":"IF(ISBLANK(B515),\"\",VLOOKUP(B515,NSLPandADEtableFY14,2,FALSE))","v":""},"",{"$f":"IF(ISBLANK(B515),\"\",VLOOKUP(B515,NSLPandADEtableFY14,11,FALSE))","v":""},null,null,null,null,null,null,null,"Esperanza Elementary School - 070297130"]
["",null,{"$f":"IF(ISBLANK(B516),\"\",VLOOKUP(B516,NSLPandADEtableFY14,14,FALSE))","v":""},{"$f":"IF(ISBLANK(B516),\"\",VLOOKUP(B516,NSLPandADEtableFY14,15,FALSE))","v":""},{"$f":"IF(ISBLANK(B516),\"\",VLOOKUP(B516,NSLPandADEtableFY14,2,FALSE))","v":""},"",{"$f":"IF(ISBLANK(B516),\"\",VLOOKUP(B516,NSLPandADEtableFY14,11,FALSE))","v":""},null,null,null,null,null,null,null,"Esperanza Elementary School - 070405108"]
["",null,{"$f":"IF(ISBLANK(B517),\"\",VLOOKUP(B517,NSLPandADEtableFY14,14,FALSE))","v":""},{"$f":"IF(ISBLANK(B517),\"\",VLOOKUP(B517,NSLPandADEtableFY14,15,FALSE))","v":""},{"$f":"IF(ISBLANK(B517),\"\",VLOOKUP(B517,NSLPandADEtableFY14,2,FALSE))","v":""},"",{"$f":"IF(ISBLANK(B517),\"\",VLOOKUP(B517,NSLPandADEtableFY14,11,FALSE))","v":""},null,null,null,null,null,null,null,"Esperanza Elementary School - 100212115"]
["",null,{"$f":"IF(ISBLANK(B518),\"\",VLOOKUP(B518,NSLPandADEtableFY14,14,FALSE))","v":""},{"$f":"IF(ISBLANK(B518),\"\",VLOOKUP(B518,NSLPandADEtableFY14,15,FALSE))","v":""},{"$f":"IF(ISBLANK(B518),\"\",VLOOKUP(B518,NSLPandADEtableFY14,2,FALSE))","v":""},"",{"$f":"IF(ISBLANK(B518),\"\",VLOOKUP(B518,NSLPandADEtableFY14,11,FALSE))","v":""},null,null,null,null,null,null,null,"Esperanza Montessori Academy - 078711005"]
["",null,{"$f":"IF(ISBLANK(B519),\"\",VLOOKUP(B519,NSLPandADEtableFY14,14,FALSE))","v":""},{"$f":"IF(ISBLANK(B519),\"\",VLOOKUP(B519,NSLPandADEtableFY14,15,FALSE))","v":""},{"$f":"IF(ISBLANK(B519),\"\",VLOOKUP(B519,NSLPandADEtableFY14,2,FALSE))","v":""},"",{"$f":"IF(ISBLANK(B519),\"\",VLOOKUP(B519,NSLPandADEtableFY14,11,FALSE))","v":""},null,null,null,null,null,null,null,"Esperero Canyon Middle School - 100216107"]
["",null,{"$f":"IF(ISBLANK(B520),\"\",VLOOKUP(B520,NSLPandADEtableFY14,14,FALSE))","v":""},{"$f":"IF(ISBLANK(B520),\"\",VLOOKUP(B520,NSLPandADEtableFY14,15,FALSE))","v":""},{"$f":"IF(ISBLANK(B520),\"\",VLOOKUP(B520,NSLPandADEtableFY14,2,FALSE))","v":""},"",{"$f":"IF(ISBLANK(B520),\"\",VLOOKUP(B520,NSLPandADEtableFY14,11,FALSE))","v":""},null,null,null,null,null,null,null,"Estrella Foothills High School - 070501202"]
["",null,{"$f":"IF(ISBLANK(B521),\"\",VLOOKUP(B521,NSLPandADEtableFY14,14,FALSE))","v":""},{"$f":"IF(ISBLANK(B521),\"\",VLOOKUP(B521,NSLPandADEtableFY14,15,FALSE))","v":""},{"$f":"IF(ISBLANK(B521),\"\",VLOOKUP(B521,NSLPandADEtableFY14,2,FALSE))","v":""},"",{"$f":"IF(ISBLANK(B521),\"\",VLOOKUP(B521,NSLPandADEtableFY14,11,FALSE))","v":""},null,null,null,null,null,null,null,"Estrella High School - 078948001"]
["",null,{"$f":"IF(ISBLANK(B522),\"\",VLOOKUP(B522,NSLPandADEtableFY14,14,FALSE))","v":""},{"$f":"IF(ISBLANK(B522),\"\",VLOOKUP(B522,NSLPandADEtableFY14,15,FALSE))","v":""},{"$f":"IF(ISBLANK(B522),\"\",VLOOKUP(B522,NSLPandADEtableFY14,2,FALSE))","v":""},"",{"$f":"IF(ISBLANK(B522),\"\",VLOOKUP(B522,NSLPandADEtableFY14,11,FALSE))","v":""},null,null,null,null,null,null,null,"Estrella Middle School - 070483114"]
["",null,{"$f":"IF(ISBLANK(B523),\"\",VLOOKUP(B523,NSLPandADEtableFY14,14,FALSE))","v":""},{"$f":"IF(ISBLANK(B523),\"\",VLOOKUP(B523,NSLPandADEtableFY14,15,FALSE))","v":""},{"$f":"IF(ISBLANK(B523),\"\",VLOOKUP(B523,NSLPandADEtableFY14,2,FALSE))","v":""},"",{"$f":"IF(ISBLANK(B523),\"\",VLOOKUP(B523,NSLPandADEtableFY14,11,FALSE))","v":""},null,null,null,null,null,null,null,"Estrella Mountain Elementary School - 070425102"]
[{"$f":"IF(ISBLANK(B524),\"\",\"Q-Public School\")","v":""},null,{"$f":"IF(ISBLANK(B524),\"\",VLOOKUP(B524,NSLPandADEtableFY14,14,FALSE))","v":""},{"$f":"IF(ISBLANK(B524),\"\",VLOOKUP(B524,NSLPandADEtableFY14,15,FALSE))","v":""},{"$f":"IF(ISBLANK(B524),\"\",VLOOKUP(B524,NSLPandADEtableFY14,2,FALSE))","v":""},{"$f":"IF(ISBLANK(B524),\"\",\"Free & Reduced Lunch Data (NSLP) March 2013\")","v":""},{"$f":"IF(ISBLANK(B524),\"\",VLOOKUP(B524,NSLPandADEtableFY14,11,FALSE))","v":""},null,null,null,null,null,null,null,"Estrella Vista Elementary School - 070465107"]
["",null,{"$f":"IF(ISBLANK(B525),\"\",VLOOKUP(B525,NSLPandADEtableFY14,14,FALSE))","v":""},{"$f":"IF(ISBLANK(B525),\"\",VLOOKUP(B525,NSLPandADEtableFY14,15,FALSE))","v":""},{"$f":"IF(ISBLANK(B525),\"\",VLOOKUP(B525,NSLPandADEtableFY14,2,FALSE))","v":""},"",{"$f":"IF(ISBLANK(B525),\"\",VLOOKUP(B525,NSLPandADEtableFY14,11,FALSE))","v":""},null,null,null,null,null,null,null,"Eva Marshall Elementary School - 030201113"]
["",null,{"$f":"IF(ISBLANK(B526),\"\",VLOOKUP(B526,NSLPandADEtableFY14,14,FALSE))","v":""},{"$f":"IF(ISBLANK(B526),\"\",VLOOKUP(B526,NSLPandADEtableFY14,15,FALSE))","v":""},{"$f":"IF(ISBLANK(B526),\"\",VLOOKUP(B526,NSLPandADEtableFY14,2,FALSE))","v":""},"",{"$f":"IF(ISBLANK(B526),\"\",VLOOKUP(B526,NSLPandADEtableFY14,11,FALSE))","v":""},null,null,null,null,null,null,null,"Evergreen Elementary School - 110404102"]
["",null,{"$f":"IF(ISBLANK(B527),\"\",VLOOKUP(B527,NSLPandADEtableFY14,14,FALSE))","v":""},{"$f":"IF(ISBLANK(B527),\"\",VLOOKUP(B527,NSLPandADEtableFY14,15,FALSE))","v":""},{"$f":"IF(ISBLANK(B527),\"\",VLOOKUP(B527,NSLPandADEtableFY14,2,FALSE))","v":""},"",{"$f":"IF(ISBLANK(B527),\"\",VLOOKUP(B527,NSLPandADEtableFY14,11,FALSE))","v":""},null,null,null,null,null,null,null,"Excalibur Charter School - 078901001"]
["",null,{"$f":"IF(ISBLANK(B528),\"\",VLOOKUP(B528,NSLPandADEtableFY14,14,FALSE))","v":""},{"$f":"IF(ISBLANK(B528),\"\",VLOOKUP(B528,NSLPandADEtableFY14,15,FALSE))","v":""},{"$f":"IF(ISBLANK(B528),\"\",VLOOKUP(B528,NSLPandADEtableFY14,2,FALSE))","v":""},"",{"$f":"IF(ISBLANK(B528),\"\",VLOOKUP(B528,NSLPandADEtableFY14,11,FALSE))","v":""},null,null,null,null,null,null,null,"Excelencia School - 070414190"]
["",null,{"$f":"IF(ISBLANK(B529),\"\",VLOOKUP(B529,NSLPandADEtableFY14,14,FALSE))","v":""},{"$f":"IF(ISBLANK(B529),\"\",VLOOKUP(B529,NSLPandADEtableFY14,15,FALSE))","v":""},{"$f":"IF(ISBLANK(B529),\"\",VLOOKUP(B529,NSLPandADEtableFY14,2,FALSE))","v":""},"",{"$f":"IF(ISBLANK(B529),\"\",VLOOKUP(B529,NSLPandADEtableFY14,11,FALSE))","v":""},null,null,null,null,null,null,null,"Explorer Middle School - 070269177"]
["",null,{"$f":"IF(ISBLANK(B530),\"\",VLOOKUP(B530,NSLPandADEtableFY14,14,FALSE))","v":""},{"$f":"IF(ISBLANK(B530),\"\",VLOOKUP(B530,NSLPandADEtableFY14,15,FALSE))","v":""},{"$f":"IF(ISBLANK(B530),\"\",VLOOKUP(B530,NSLPandADEtableFY14,2,FALSE))","v":""},"",{"$f":"IF(ISBLANK(B530),\"\",VLOOKUP(B530,NSLPandADEtableFY14,11,FALSE))","v":""},null,null,null,null,null,null,null,"Fairbanks Elementary School - 060218101"]
["",null,{"$f":"IF(ISBLANK(B531),\"\",VLOOKUP(B531,NSLPandADEtableFY14,14,FALSE))","v":""},{"$f":"IF(ISBLANK(B531),\"\",VLOOKUP(B531,NSLPandADEtableFY14,15,FALSE))","v":""},{"$f":"IF(ISBLANK(B531),\"\",VLOOKUP(B531,NSLPandADEtableFY14,2,FALSE))","v":""},"",{"$f":"IF(ISBLANK(B531),\"\",VLOOKUP(B531,NSLPandADEtableFY14,11,FALSE))","v":""},null,null,null,null,null,null,null,"Fairview - 102133012"]
["",null,{"$f":"IF(ISBLANK(B532),\"\",VLOOKUP(B532,NSLPandADEtableFY14,14,FALSE))","v":""},{"$f":"IF(ISBLANK(B532),\"\",VLOOKUP(B532,NSLPandADEtableFY14,15,FALSE))","v":""},{"$f":"IF(ISBLANK(B532),\"\",VLOOKUP(B532,NSLPandADEtableFY14,2,FALSE))","v":""},"",{"$f":"IF(ISBLANK(B532),\"\",VLOOKUP(B532,NSLPandADEtableFY14,11,FALSE))","v":""},null,null,null,null,null,null,null,"Faith North Elementary School - 070401130"]
["",null,{"$f":"IF(ISBLANK(B533),\"\",VLOOKUP(B533,NSLPandADEtableFY14,14,FALSE))","v":""},{"$f":"IF(ISBLANK(B533),\"\",VLOOKUP(B533,NSLPandADEtableFY14,15,FALSE))","v":""},{"$f":"IF(ISBLANK(B533),\"\",VLOOKUP(B533,NSLPandADEtableFY14,2,FALSE))","v":""},"",{"$f":"IF(ISBLANK(B533),\"\",VLOOKUP(B533,NSLPandADEtableFY14,11,FALSE))","v":""},null,null,null,null,null,null,null,"Falcon Hill Elementary School - 070204144"]
["",null,{"$f":"IF(ISBLANK(B534),\"\",VLOOKUP(B534,NSLPandADEtableFY14,14,FALSE))","v":""},{"$f":"IF(ISBLANK(B534),\"\",VLOOKUP(B534,NSLPandADEtableFY14,15,FALSE))","v":""},{"$f":"IF(ISBLANK(B534),\"\",VLOOKUP(B534,NSLPandADEtableFY14,2,FALSE))","v":""},"",{"$f":"IF(ISBLANK(B534),\"\",VLOOKUP(B534,NSLPandADEtableFY14,11,FALSE))","v":""},null,null,null,null,null,null,null,"Faras Elementary School - 020227105"]
["",null,{"$f":"IF(ISBLANK(B535),\"\",VLOOKUP(B535,NSLPandADEtableFY14,14,FALSE))","v":""},{"$f":"IF(ISBLANK(B535),\"\",VLOOKUP(B535,NSLPandADEtableFY14,15,FALSE))","v":""},{"$f":"IF(ISBLANK(B535),\"\",VLOOKUP(B535,NSLPandADEtableFY14,2,FALSE))","v":""},"",{"$f":"IF(ISBLANK(B535),\"\",VLOOKUP(B535,NSLPandADEtableFY14,11,FALSE))","v":""},null,null,null,null,null,null,null,"Fees College Preparatory Middle School - 070403145"]
["",null,{"$f":"IF(ISBLANK(B536),\"\",VLOOKUP(B536,NSLPandADEtableFY14,14,FALSE))","v":""},{"$f":"IF(ISBLANK(B536),\"\",VLOOKUP(B536,NSLPandADEtableFY14,15,FALSE))","v":""},{"$f":"IF(ISBLANK(B536),\"\",VLOOKUP(B536,NSLPandADEtableFY14,2,FALSE))","v":""},"",{"$f":"IF(ISBLANK(B536),\"\",VLOOKUP(B536,NSLPandADEtableFY14,11,FALSE))","v":""},null,null,null,null,null,null,null,"Festival Foothills Elementary School - 070209104"]
["",null,{"$f":"IF(ISBLANK(B537),\"\",VLOOKUP(B537,NSLPandADEtableFY14,14,FALSE))","v":""},{"$f":"IF(ISBLANK(B537),\"\",VLOOKUP(B537,NSLPandADEtableFY14,15,FALSE))","v":""},{"$f":"IF(ISBLANK(B537),\"\",VLOOKUP(B537,NSLPandADEtableFY14,2,FALSE))","v":""},"",{"$f":"IF(ISBLANK(B537),\"\",VLOOKUP(B537,NSLPandADEtableFY14,11,FALSE))","v":""},null,null,null,null,null,null,null,"Field Elementary School - 070204125"]
["",null,{"$f":"IF(ISBLANK(B538),\"\",VLOOKUP(B538,NSLPandADEtableFY14,14,FALSE))","v":""},{"$f":"IF(ISBLANK(B538),\"\",VLOOKUP(B538,NSLPandADEtableFY14,15,FALSE))","v":""},{"$f":"IF(ISBLANK(B538),\"\",VLOOKUP(B538,NSLPandADEtableFY14,2,FALSE))","v":""},"",{"$f":"IF(ISBLANK(B538),\"\",VLOOKUP(B538,NSLPandADEtableFY14,11,FALSE))","v":""},null,null,null,null,null,null,null,"Finley Farms Elementary - 070241156"]
["",null,{"$f":"IF(ISBLANK(B539),\"\",VLOOKUP(B539,NSLPandADEtableFY14,14,FALSE))","v":""},{"$f":"IF(ISBLANK(B539),\"\",VLOOKUP(B539,NSLPandADEtableFY14,15,FALSE))","v":""},{"$f":"IF(ISBLANK(B539),\"\",VLOOKUP(B539,NSLPandADEtableFY14,2,FALSE))","v":""},"",{"$f":"IF(ISBLANK(B539),\"\",VLOOKUP(B539,NSLPandADEtableFY14,11,FALSE))","v":""},null,null,null,null,null,null,null,"Fireside Elementary School - 070269113"]
["",null,{"$f":"IF(ISBLANK(B540),\"\",VLOOKUP(B540,NSLPandADEtableFY14,14,FALSE))","v":""},{"$f":"IF(ISBLANK(B540),\"\",VLOOKUP(B540,NSLPandADEtableFY14,15,FALSE))","v":""},{"$f":"IF(ISBLANK(B540),\"\",VLOOKUP(B540,NSLPandADEtableFY14,2,FALSE))","v":""},"",{"$f":"IF(ISBLANK(B540),\"\",VLOOKUP(B540,NSLPandADEtableFY14,11,FALSE))","v":""},null,null,null,null,null,null,null,"First Avenue Elementary School - 110208107"]
["",null,{"$f":"IF(ISBLANK(B541),\"\",VLOOKUP(B541,NSLPandADEtableFY14,14,FALSE))","v":""},{"$f":"IF(ISBLANK(B541),\"\",VLOOKUP(B541,NSLPandADEtableFY14,15,FALSE))","v":""},{"$f":"IF(ISBLANK(B541),\"\",VLOOKUP(B541,NSLPandADEtableFY14,2,FALSE))","v":""},"",{"$f":"IF(ISBLANK(B541),\"\",VLOOKUP(B541,NSLPandADEtableFY14,11,FALSE))","v":""},null,null,null,null,null,null,null,"First Mesa Elementary - 093906004"]
["",null,{"$f":"IF(ISBLANK(B542),\"\",VLOOKUP(B542,NSLPandADEtableFY14,14,FALSE))","v":""},{"$f":"IF(ISBLANK(B542),\"\",VLOOKUP(B542,NSLPandADEtableFY14,15,FALSE))","v":""},{"$f":"IF(ISBLANK(B542),\"\",VLOOKUP(B542,NSLPandADEtableFY14,2,FALSE))","v":""},"",{"$f":"IF(ISBLANK(B542),\"\",VLOOKUP(B542,NSLPandADEtableFY14,11,FALSE))","v":""},null,null,null,null,null,null,null,"Flagstaff High School - 030201281"]
["",null,{"$f":"IF(ISBLANK(B543),\"\",VLOOKUP(B543,NSLPandADEtableFY14,14,FALSE))","v":""},{"$f":"IF(ISBLANK(B543),\"\",VLOOKUP(B543,NSLPandADEtableFY14,15,FALSE))","v":""},{"$f":"IF(ISBLANK(B543),\"\",VLOOKUP(B543,NSLPandADEtableFY14,2,FALSE))","v":""},"",{"$f":"IF(ISBLANK(B543),\"\",VLOOKUP(B543,NSLPandADEtableFY14,11,FALSE))","v":""},null,null,null,null,null,null,null,"Flora Thew Elementary School - 070403114"]
["",null,{"$f":"IF(ISBLANK(B544),\"\",VLOOKUP(B544,NSLPandADEtableFY14,14,FALSE))","v":""},{"$f":"IF(ISBLANK(B544),\"\",VLOOKUP(B544,NSLPandADEtableFY14,15,FALSE))","v":""},{"$f":"IF(ISBLANK(B544),\"\",VLOOKUP(B544,NSLPandADEtableFY14,2,FALSE))","v":""},"",{"$f":"IF(ISBLANK(B544),\"\",VLOOKUP(B544,NSLPandADEtableFY14,11,FALSE))","v":""},null,null,null,null,null,null,null,"Florence Crittenton Therapeutic Group Home - 072795001"]
["",null,{"$f":"IF(ISBLANK(B545),\"\",VLOOKUP(B545,NSLPandADEtableFY14,14,FALSE))","v":""},{"$f":"IF(ISBLANK(B545),\"\",VLOOKUP(B545,NSLPandADEtableFY14,15,FALSE))","v":""},{"$f":"IF(ISBLANK(B545),\"\",VLOOKUP(B545,NSLPandADEtableFY14,2,FALSE))","v":""},"",{"$f":"IF(ISBLANK(B545),\"\",VLOOKUP(B545,NSLPandADEtableFY14,11,FALSE))","v":""},null,null,null,null,null,null,null,"Florence High School - 110201201"]
["",null,{"$f":"IF(ISBLANK(B546),\"\",VLOOKUP(B546,NSLPandADEtableFY14,14,FALSE))","v":""},{"$f":"IF(ISBLANK(B546),\"\",VLOOKUP(B546,NSLPandADEtableFY14,15,FALSE))","v":""},{"$f":"IF(ISBLANK(B546),\"\",VLOOKUP(B546,NSLPandADEtableFY14,2,FALSE))","v":""},"",{"$f":"IF(ISBLANK(B546),\"\",VLOOKUP(B546,NSLPandADEtableFY14,11,FALSE))","v":""},null,null,null,null,null,null,null,"Florence K-8 - 110201101"]
["",null,{"$f":"IF(ISBLANK(B547),\"\",VLOOKUP(B547,NSLPandADEtableFY14,14,FALSE))","v":""},{"$f":"IF(ISBLANK(B547),\"\",VLOOKUP(B547,NSLPandADEtableFY14,15,FALSE))","v":""},{"$f":"IF(ISBLANK(B547),\"\",VLOOKUP(B547,NSLPandADEtableFY14,2,FALSE))","v":""},"",{"$f":"IF(ISBLANK(B547),\"\",VLOOKUP(B547,NSLPandADEtableFY14,11,FALSE))","v":""},null,null,null,null,null,null,null,"Flowing Wells High School - 100208210"]
["",null,{"$f":"IF(ISBLANK(B548),\"\",VLOOKUP(B548,NSLPandADEtableFY14,14,FALSE))","v":""},{"$f":"IF(ISBLANK(B548),\"\",VLOOKUP(B548,NSLPandADEtableFY14,15,FALSE))","v":""},{"$f":"IF(ISBLANK(B548),\"\",VLOOKUP(B548,NSLPandADEtableFY14,2,FALSE))","v":""},"",{"$f":"IF(ISBLANK(B548),\"\",VLOOKUP(B548,NSLPandADEtableFY14,11,FALSE))","v":""},null,null,null,null,null,null,null,"Flowing Wells Junior High School - 100208170"]
["",null,{"$f":"IF(ISBLANK(B549),\"\",VLOOKUP(B549,NSLPandADEtableFY14,14,FALSE))","v":""},{"$f":"IF(ISBLANK(B549),\"\",VLOOKUP(B549,NSLPandADEtableFY14,15,FALSE))","v":""},{"$f":"IF(ISBLANK(B549),\"\",VLOOKUP(B549,NSLPandADEtableFY14,2,FALSE))","v":""},"",{"$f":"IF(ISBLANK(B549),\"\",VLOOKUP(B549,NSLPandADEtableFY14,11,FALSE))","v":""},null,null,null,null,null,null,null,"Foothills Elementary School - 070269121"]
["",null,{"$f":"IF(ISBLANK(B550),\"\",VLOOKUP(B550,NSLPandADEtableFY14,14,FALSE))","v":""},{"$f":"IF(ISBLANK(B550),\"\",VLOOKUP(B550,NSLPandADEtableFY14,15,FALSE))","v":""},{"$f":"IF(ISBLANK(B550),\"\",VLOOKUP(B550,NSLPandADEtableFY14,2,FALSE))","v":""},"",{"$f":"IF(ISBLANK(B550),\"\",VLOOKUP(B550,NSLPandADEtableFY14,11,FALSE))","v":""},null,null,null,null,null,null,null,"Foothills Elementary School - 070211108"]
["",null,{"$f":"IF(ISBLANK(B551),\"\",VLOOKUP(B551,NSLPandADEtableFY14,14,FALSE))","v":""},{"$f":"IF(ISBLANK(B551),\"\",VLOOKUP(B551,NSLPandADEtableFY14,15,FALSE))","v":""},{"$f":"IF(ISBLANK(B551),\"\",VLOOKUP(B551,NSLPandADEtableFY14,2,FALSE))","v":""},"",{"$f":"IF(ISBLANK(B551),\"\",VLOOKUP(B551,NSLPandADEtableFY14,11,FALSE))","v":""},null,null,null,null,null,null,null,"Ford Elementary - 100201218"]
["",null,{"$f":"IF(ISBLANK(B552),\"\",VLOOKUP(B552,NSLPandADEtableFY14,14,FALSE))","v":""},{"$f":"IF(ISBLANK(B552),\"\",VLOOKUP(B552,NSLPandADEtableFY14,15,FALSE))","v":""},{"$f":"IF(ISBLANK(B552),\"\",VLOOKUP(B552,NSLPandADEtableFY14,2,FALSE))","v":""},"",{"$f":"IF(ISBLANK(B552),\"\",VLOOKUP(B552,NSLPandADEtableFY14,11,FALSE))","v":""},null,null,null,null,null,null,null,"Fort Mohave Elementary School - 080416104"]
["",null,{"$f":"IF(ISBLANK(B553),\"\",VLOOKUP(B553,NSLPandADEtableFY14,14,FALSE))","v":""},{"$f":"IF(ISBLANK(B553),\"\",VLOOKUP(B553,NSLPandADEtableFY14,15,FALSE))","v":""},{"$f":"IF(ISBLANK(B553),\"\",VLOOKUP(B553,NSLPandADEtableFY14,2,FALSE))","v":""},"",{"$f":"IF(ISBLANK(B553),\"\",VLOOKUP(B553,NSLPandADEtableFY14,11,FALSE))","v":""},null,null,null,null,null,null,null,"Fort Thomas Elementary School - 050207101"]
["",null,{"$f":"IF(ISBLANK(B554),\"\",VLOOKUP(B554,NSLPandADEtableFY14,14,FALSE))","v":""},{"$f":"IF(ISBLANK(B554),\"\",VLOOKUP(B554,NSLPandADEtableFY14,15,FALSE))","v":""},{"$f":"IF(ISBLANK(B554),\"\",VLOOKUP(B554,NSLPandADEtableFY14,2,FALSE))","v":""},"",{"$f":"IF(ISBLANK(B554),\"\",VLOOKUP(B554,NSLPandADEtableFY14,11,FALSE))","v":""},null,null,null,null,null,null,null,"Fort Thomas High School - 050207202"]
["",null,{"$f":"IF(ISBLANK(B555),\"\",VLOOKUP(B555,NSLPandADEtableFY14,14,FALSE))","v":""},{"$f":"IF(ISBLANK(B555),\"\",VLOOKUP(B555,NSLPandADEtableFY14,15,FALSE))","v":""},{"$f":"IF(ISBLANK(B555),\"\",VLOOKUP(B555,NSLPandADEtableFY14,2,FALSE))","v":""},"",{"$f":"IF(ISBLANK(B555),\"\",VLOOKUP(B555,NSLPandADEtableFY14,11,FALSE))","v":""},null,null,null,null,null,null,null,"Fountain Hills High School - 070298205"]
["",null,{"$f":"IF(ISBLANK(B556),\"\",VLOOKUP(B556,NSLPandADEtableFY14,14,FALSE))","v":""},{"$f":"IF(ISBLANK(B556),\"\",VLOOKUP(B556,NSLPandADEtableFY14,15,FALSE))","v":""},{"$f":"IF(ISBLANK(B556),\"\",VLOOKUP(B556,NSLPandADEtableFY14,2,FALSE))","v":""},"",{"$f":"IF(ISBLANK(B556),\"\",VLOOKUP(B556,NSLPandADEtableFY14,11,FALSE))","v":""},null,null,null,null,null,null,null,"Fountain Hills Middle School - 070298104"]
["",null,{"$f":"IF(ISBLANK(B557),\"\",VLOOKUP(B557,NSLPandADEtableFY14,14,FALSE))","v":""},{"$f":"IF(ISBLANK(B557),\"\",VLOOKUP(B557,NSLPandADEtableFY14,15,FALSE))","v":""},{"$f":"IF(ISBLANK(B557),\"\",VLOOKUP(B557,NSLPandADEtableFY14,2,FALSE))","v":""},"",{"$f":"IF(ISBLANK(B557),\"\",VLOOKUP(B557,NSLPandADEtableFY14,11,FALSE))","v":""},null,null,null,null,null,null,null,"Four Peaks Elementary School - 110243102"]
["",null,{"$f":"IF(ISBLANK(B558),\"\",VLOOKUP(B558,NSLPandADEtableFY14,14,FALSE))","v":""},{"$f":"IF(ISBLANK(B558),\"\",VLOOKUP(B558,NSLPandADEtableFY14,15,FALSE))","v":""},{"$f":"IF(ISBLANK(B558),\"\",VLOOKUP(B558,NSLPandADEtableFY14,2,FALSE))","v":""},"",{"$f":"IF(ISBLANK(B558),\"\",VLOOKUP(B558,NSLPandADEtableFY14,11,FALSE))","v":""},null,null,null,null,null,null,null,"Fourth Avenue Junior High School - 140401121"]
["",null,{"$f":"IF(ISBLANK(B559),\"\",VLOOKUP(B559,NSLPandADEtableFY14,14,FALSE))","v":""},{"$f":"IF(ISBLANK(B559),\"\",VLOOKUP(B559,NSLPandADEtableFY14,15,FALSE))","v":""},{"$f":"IF(ISBLANK(B559),\"\",VLOOKUP(B559,NSLPandADEtableFY14,2,FALSE))","v":""},"",{"$f":"IF(ISBLANK(B559),\"\",VLOOKUP(B559,NSLPandADEtableFY14,11,FALSE))","v":""},null,null,null,null,null,null,null,"Fowler Elementary School - 070445101"]
["",null,{"$f":"IF(ISBLANK(B560),\"\",VLOOKUP(B560,NSLPandADEtableFY14,14,FALSE))","v":""},{"$f":"IF(ISBLANK(B560),\"\",VLOOKUP(B560,NSLPandADEtableFY14,15,FALSE))","v":""},{"$f":"IF(ISBLANK(B560),\"\",VLOOKUP(B560,NSLPandADEtableFY14,2,FALSE))","v":""},"",{"$f":"IF(ISBLANK(B560),\"\",VLOOKUP(B560,NSLPandADEtableFY14,11,FALSE))","v":""},null,null,null,null,null,null,null,"Fox Creek Jr High School - 080415110"]
["",null,{"$f":"IF(ISBLANK(B561),\"\",VLOOKUP(B561,NSLPandADEtableFY14,14,FALSE))","v":""},{"$f":"IF(ISBLANK(B561),\"\",VLOOKUP(B561,NSLPandADEtableFY14,15,FALSE))","v":""},{"$f":"IF(ISBLANK(B561),\"\",VLOOKUP(B561,NSLPandADEtableFY14,2,FALSE))","v":""},"",{"$f":"IF(ISBLANK(B561),\"\",VLOOKUP(B561,NSLPandADEtableFY14,11,FALSE))","v":""},null,null,null,null,null,null,null,"Frances Brandon-Pickett Elementary - 070295104"]
["",null,{"$f":"IF(ISBLANK(B562),\"\",VLOOKUP(B562,NSLPandADEtableFY14,14,FALSE))","v":""},{"$f":"IF(ISBLANK(B562),\"\",VLOOKUP(B562,NSLPandADEtableFY14,15,FALSE))","v":""},{"$f":"IF(ISBLANK(B562),\"\",VLOOKUP(B562,NSLPandADEtableFY14,2,FALSE))","v":""},"",{"$f":"IF(ISBLANK(B562),\"\",VLOOKUP(B562,NSLPandADEtableFY14,11,FALSE))","v":""},null,null,null,null,null,null,null,"Frances J Warren Elementary School - 100201440"]
["",null,{"$f":"IF(ISBLANK(B563),\"\",VLOOKUP(B563,NSLPandADEtableFY14,14,FALSE))","v":""},{"$f":"IF(ISBLANK(B563),\"\",VLOOKUP(B563,NSLPandADEtableFY14,15,FALSE))","v":""},{"$f":"IF(ISBLANK(B563),\"\",VLOOKUP(B563,NSLPandADEtableFY14,2,FALSE))","v":""},"",{"$f":"IF(ISBLANK(B563),\"\",VLOOKUP(B563,NSLPandADEtableFY14,11,FALSE))","v":""},null,null,null,null,null,null,null,"Frances Owen Holaway Elementary School - 100210108"]
["",null,{"$f":"IF(ISBLANK(B564),\"\",VLOOKUP(B564,NSLPandADEtableFY14,14,FALSE))","v":""},{"$f":"IF(ISBLANK(B564),\"\",VLOOKUP(B564,NSLPandADEtableFY14,15,FALSE))","v":""},{"$f":"IF(ISBLANK(B564),\"\",VLOOKUP(B564,NSLPandADEtableFY14,2,FALSE))","v":""},"",{"$f":"IF(ISBLANK(B564),\"\",VLOOKUP(B564,NSLPandADEtableFY14,11,FALSE))","v":""},null,null,null,null,null,null,null,"Frank Borman School - 070483110"]
["",null,{"$f":"IF(ISBLANK(B565),\"\",VLOOKUP(B565,NSLPandADEtableFY14,14,FALSE))","v":""},{"$f":"IF(ISBLANK(B565),\"\",VLOOKUP(B565,NSLPandADEtableFY14,15,FALSE))","v":""},{"$f":"IF(ISBLANK(B565),\"\",VLOOKUP(B565,NSLPandADEtableFY14,2,FALSE))","v":""},"",{"$f":"IF(ISBLANK(B565),\"\",VLOOKUP(B565,NSLPandADEtableFY14,11,FALSE))","v":""},null,null,null,null,null,null,null,"Frank Elementary School - 070403110"]
["",null,{"$f":"IF(ISBLANK(B566),\"\",VLOOKUP(B566,NSLPandADEtableFY14,14,FALSE))","v":""},{"$f":"IF(ISBLANK(B566),\"\",VLOOKUP(B566,NSLPandADEtableFY14,15,FALSE))","v":""},{"$f":"IF(ISBLANK(B566),\"\",VLOOKUP(B566,NSLPandADEtableFY14,2,FALSE))","v":""},"",{"$f":"IF(ISBLANK(B566),\"\",VLOOKUP(B566,NSLPandADEtableFY14,11,FALSE))","v":""},null,null,null,null,null,null,null,"Franklin at Alma Elementary - 070204158"]
["",null,{"$f":"IF(ISBLANK(B567),\"\",VLOOKUP(B567,NSLPandADEtableFY14,14,FALSE))","v":""},{"$f":"IF(ISBLANK(B567),\"\",VLOOKUP(B567,NSLPandADEtableFY14,15,FALSE))","v":""},{"$f":"IF(ISBLANK(B567),\"\",VLOOKUP(B567,NSLPandADEtableFY14,2,FALSE))","v":""},"",{"$f":"IF(ISBLANK(B567),\"\",VLOOKUP(B567,NSLPandADEtableFY14,11,FALSE))","v":""},null,null,null,null,null,null,null,"Franklin at Brimhall Elementary - 070204159"]
["",null,{"$f":"IF(ISBLANK(B568),\"\",VLOOKUP(B568,NSLPandADEtableFY14,14,FALSE))","v":""},{"$f":"IF(ISBLANK(B568),\"\",VLOOKUP(B568,NSLPandADEtableFY14,15,FALSE))","v":""},{"$f":"IF(ISBLANK(B568),\"\",VLOOKUP(B568,NSLPandADEtableFY14,2,FALSE))","v":""},"",{"$f":"IF(ISBLANK(B568),\"\",VLOOKUP(B568,NSLPandADEtableFY14,11,FALSE))","v":""},null,null,null,null,null,null,null,"Franklin Elementary School - 070204105"]
["",null,{"$f":"IF(ISBLANK(B569),\"\",VLOOKUP(B569,NSLPandADEtableFY14,14,FALSE))","v":""},{"$f":"IF(ISBLANK(B569),\"\",VLOOKUP(B569,NSLPandADEtableFY14,15,FALSE))","v":""},{"$f":"IF(ISBLANK(B569),\"\",VLOOKUP(B569,NSLPandADEtableFY14,2,FALSE))","v":""},"",{"$f":"IF(ISBLANK(B569),\"\",VLOOKUP(B569,NSLPandADEtableFY14,11,FALSE))","v":""},null,null,null,null,null,null,null,"Franklin Junior High School - 070204264"]
["",null,{"$f":"IF(ISBLANK(B570),\"\",VLOOKUP(B570,NSLPandADEtableFY14,14,FALSE))","v":""},{"$f":"IF(ISBLANK(B570),\"\",VLOOKUP(B570,NSLPandADEtableFY14,15,FALSE))","v":""},{"$f":"IF(ISBLANK(B570),\"\",VLOOKUP(B570,NSLPandADEtableFY14,2,FALSE))","v":""},"",{"$f":"IF(ISBLANK(B570),\"\",VLOOKUP(B570,NSLPandADEtableFY14,11,FALSE))","v":""},null,null,null,null,null,null,null,"Franklin Police and Fire High School - 070510281"]
["",null,{"$f":"IF(ISBLANK(B571),\"\",VLOOKUP(B571,NSLPandADEtableFY14,14,FALSE))","v":""},{"$f":"IF(ISBLANK(B571),\"\",VLOOKUP(B571,NSLPandADEtableFY14,15,FALSE))","v":""},{"$f":"IF(ISBLANK(B571),\"\",VLOOKUP(B571,NSLPandADEtableFY14,2,FALSE))","v":""},"",{"$f":"IF(ISBLANK(B571),\"\",VLOOKUP(B571,NSLPandADEtableFY14,11,FALSE))","v":""},null,null,null,null,null,null,null,"Franklin West Elementary - 070204114"]
["",null,{"$f":"IF(ISBLANK(B572),\"\",VLOOKUP(B572,NSLPandADEtableFY14,14,FALSE))","v":""},{"$f":"IF(ISBLANK(B572),\"\",VLOOKUP(B572,NSLPandADEtableFY14,15,FALSE))","v":""},{"$f":"IF(ISBLANK(B572),\"\",VLOOKUP(B572,NSLPandADEtableFY14,2,FALSE))","v":""},"",{"$f":"IF(ISBLANK(B572),\"\",VLOOKUP(B572,NSLPandADEtableFY14,11,FALSE))","v":""},null,null,null,null,null,null,null,"Fredonia Elementary School - 030206101"]
["",null,{"$f":"IF(ISBLANK(B573),\"\",VLOOKUP(B573,NSLPandADEtableFY14,14,FALSE))","v":""},{"$f":"IF(ISBLANK(B573),\"\",VLOOKUP(B573,NSLPandADEtableFY14,15,FALSE))","v":""},{"$f":"IF(ISBLANK(B573),\"\",VLOOKUP(B573,NSLPandADEtableFY14,2,FALSE))","v":""},"",{"$f":"IF(ISBLANK(B573),\"\",VLOOKUP(B573,NSLPandADEtableFY14,11,FALSE))","v":""},null,null,null,null,null,null,null,"Freedom Elementary School - 070425105"]
["",null,{"$f":"IF(ISBLANK(B574),\"\",VLOOKUP(B574,NSLPandADEtableFY14,14,FALSE))","v":""},{"$f":"IF(ISBLANK(B574),\"\",VLOOKUP(B574,NSLPandADEtableFY14,15,FALSE))","v":""},{"$f":"IF(ISBLANK(B574),\"\",VLOOKUP(B574,NSLPandADEtableFY14,2,FALSE))","v":""},"",{"$f":"IF(ISBLANK(B574),\"\",VLOOKUP(B574,NSLPandADEtableFY14,11,FALSE))","v":""},null,null,null,null,null,null,null,"Fremont Junior High School - 070204254"]
["",null,{"$f":"IF(ISBLANK(B575),\"\",VLOOKUP(B575,NSLPandADEtableFY14,14,FALSE))","v":""},{"$f":"IF(ISBLANK(B575),\"\",VLOOKUP(B575,NSLPandADEtableFY14,15,FALSE))","v":""},{"$f":"IF(ISBLANK(B575),\"\",VLOOKUP(B575,NSLPandADEtableFY14,2,FALSE))","v":""},"",{"$f":"IF(ISBLANK(B575),\"\",VLOOKUP(B575,NSLPandADEtableFY14,11,FALSE))","v":""},null,null,null,null,null,null,null,"Friendly House Academia Del Pueblo Elem - 078611001"]
["",null,{"$f":"IF(ISBLANK(B576),\"\",VLOOKUP(B576,NSLPandADEtableFY14,14,FALSE))","v":""},{"$f":"IF(ISBLANK(B576),\"\",VLOOKUP(B576,NSLPandADEtableFY14,15,FALSE))","v":""},{"$f":"IF(ISBLANK(B576),\"\",VLOOKUP(B576,NSLPandADEtableFY14,2,FALSE))","v":""},"",{"$f":"IF(ISBLANK(B576),\"\",VLOOKUP(B576,NSLPandADEtableFY14,11,FALSE))","v":""},null,null,null,null,null,null,null,"Frontier Elementary School - 070211125"]
["",null,{"$f":"IF(ISBLANK(B577),\"\",VLOOKUP(B577,NSLPandADEtableFY14,14,FALSE))","v":""},{"$f":"IF(ISBLANK(B577),\"\",VLOOKUP(B577,NSLPandADEtableFY14,15,FALSE))","v":""},{"$f":"IF(ISBLANK(B577),\"\",VLOOKUP(B577,NSLPandADEtableFY14,2,FALSE))","v":""},"",{"$f":"IF(ISBLANK(B577),\"\",VLOOKUP(B577,NSLPandADEtableFY14,11,FALSE))","v":""},null,null,null,null,null,null,null,"Fruchthendler Elementary School - 100201225"]
["",null,{"$f":"IF(ISBLANK(B578),\"\",VLOOKUP(B578,NSLPandADEtableFY14,14,FALSE))","v":""},{"$f":"IF(ISBLANK(B578),\"\",VLOOKUP(B578,NSLPandADEtableFY14,15,FALSE))","v":""},{"$f":"IF(ISBLANK(B578),\"\",VLOOKUP(B578,NSLPandADEtableFY14,2,FALSE))","v":""},"",{"$f":"IF(ISBLANK(B578),\"\",VLOOKUP(B578,NSLPandADEtableFY14,11,FALSE))","v":""},null,null,null,null,null,null,null,"Frye Elementary School - 070280111"]
["",null,{"$f":"IF(ISBLANK(B579),\"\",VLOOKUP(B579,NSLPandADEtableFY14,14,FALSE))","v":""},{"$f":"IF(ISBLANK(B579),\"\",VLOOKUP(B579,NSLPandADEtableFY14,15,FALSE))","v":""},{"$f":"IF(ISBLANK(B579),\"\",VLOOKUP(B579,NSLPandADEtableFY14,2,FALSE))","v":""},"",{"$f":"IF(ISBLANK(B579),\"\",VLOOKUP(B579,NSLPandADEtableFY14,11,FALSE))","v":""},null,null,null,null,null,null,null,"Fuller Elementary School - 070403130"]
["",null,{"$f":"IF(ISBLANK(B580),\"\",VLOOKUP(B580,NSLPandADEtableFY14,14,FALSE))","v":""},{"$f":"IF(ISBLANK(B580),\"\",VLOOKUP(B580,NSLPandADEtableFY14,15,FALSE))","v":""},{"$f":"IF(ISBLANK(B580),\"\",VLOOKUP(B580,NSLPandADEtableFY14,2,FALSE))","v":""},"",{"$f":"IF(ISBLANK(B580),\"\",VLOOKUP(B580,NSLPandADEtableFY14,11,FALSE))","v":""},null,null,null,null,null,null,null,"Future Investment Middle School - 108789102"]
["",null,{"$f":"IF(ISBLANK(B581),\"\",VLOOKUP(B581,NSLPandADEtableFY14,14,FALSE))","v":""},{"$f":"IF(ISBLANK(B581),\"\",VLOOKUP(B581,NSLPandADEtableFY14,15,FALSE))","v":""},{"$f":"IF(ISBLANK(B581),\"\",VLOOKUP(B581,NSLPandADEtableFY14,2,FALSE))","v":""},"",{"$f":"IF(ISBLANK(B581),\"\",VLOOKUP(B581,NSLPandADEtableFY14,11,FALSE))","v":""},null,null,null,null,null,null,null,"G. Frank Davidson - 070483120"]
["",null,{"$f":"IF(ISBLANK(B582),\"\",VLOOKUP(B582,NSLPandADEtableFY14,14,FALSE))","v":""},{"$f":"IF(ISBLANK(B582),\"\",VLOOKUP(B582,NSLPandADEtableFY14,15,FALSE))","v":""},{"$f":"IF(ISBLANK(B582),\"\",VLOOKUP(B582,NSLPandADEtableFY14,2,FALSE))","v":""},"",{"$f":"IF(ISBLANK(B582),\"\",VLOOKUP(B582,NSLPandADEtableFY14,11,FALSE))","v":""},null,null,null,null,null,null,null,"Gadsden Elementary School - 140432101"]
["",null,{"$f":"IF(ISBLANK(B583),\"\",VLOOKUP(B583,NSLPandADEtableFY14,14,FALSE))","v":""},{"$f":"IF(ISBLANK(B583),\"\",VLOOKUP(B583,NSLPandADEtableFY14,15,FALSE))","v":""},{"$f":"IF(ISBLANK(B583),\"\",VLOOKUP(B583,NSLPandADEtableFY14,2,FALSE))","v":""},"",{"$f":"IF(ISBLANK(B583),\"\",VLOOKUP(B583,NSLPandADEtableFY14,11,FALSE))","v":""},null,null,null,null,null,null,null,"Gale Elementary School - 100201228"]
["",null,{"$f":"IF(ISBLANK(B584),\"\",VLOOKUP(B584,NSLPandADEtableFY14,14,FALSE))","v":""},{"$f":"IF(ISBLANK(B584),\"\",VLOOKUP(B584,NSLPandADEtableFY14,15,FALSE))","v":""},{"$f":"IF(ISBLANK(B584),\"\",VLOOKUP(B584,NSLPandADEtableFY14,2,FALSE))","v":""},"",{"$f":"IF(ISBLANK(B584),\"\",VLOOKUP(B584,NSLPandADEtableFY14,11,FALSE))","v":""},null,null,null,null,null,null,null,"Gallego Basic Elementary School - 100212117"]
["",null,{"$f":"IF(ISBLANK(B585),\"\",VLOOKUP(B585,NSLPandADEtableFY14,14,FALSE))","v":""},{"$f":"IF(ISBLANK(B585),\"\",VLOOKUP(B585,NSLPandADEtableFY14,15,FALSE))","v":""},{"$f":"IF(ISBLANK(B585),\"\",VLOOKUP(B585,NSLPandADEtableFY14,2,FALSE))","v":""},"",{"$f":"IF(ISBLANK(B585),\"\",VLOOKUP(B585,NSLPandADEtableFY14,11,FALSE))","v":""},null,null,null,null,null,null,null,"Galveston Elementary School - 070280107"]
["",null,{"$f":"IF(ISBLANK(B586),\"\",VLOOKUP(B586,NSLPandADEtableFY14,14,FALSE))","v":""},{"$f":"IF(ISBLANK(B586),\"\",VLOOKUP(B586,NSLPandADEtableFY14,15,FALSE))","v":""},{"$f":"IF(ISBLANK(B586),\"\",VLOOKUP(B586,NSLPandADEtableFY14,2,FALSE))","v":""},"",{"$f":"IF(ISBLANK(B586),\"\",VLOOKUP(B586,NSLPandADEtableFY14,11,FALSE))","v":""},null,null,null,null,null,null,null,"Ganado High School - 010220204"]
["",null,{"$f":"IF(ISBLANK(B587),\"\",VLOOKUP(B587,NSLPandADEtableFY14,14,FALSE))","v":""},{"$f":"IF(ISBLANK(B587),\"\",VLOOKUP(B587,NSLPandADEtableFY14,15,FALSE))","v":""},{"$f":"IF(ISBLANK(B587),\"\",VLOOKUP(B587,NSLPandADEtableFY14,2,FALSE))","v":""},"",{"$f":"IF(ISBLANK(B587),\"\",VLOOKUP(B587,NSLPandADEtableFY14,11,FALSE))","v":""},null,null,null,null,null,null,null,"Ganado Intermediate School - 010220102"]
[{"$f":"IF(ISBLANK(B588),\"\",\"Q-Public School\")","v":""},null,{"$f":"IF(ISBLANK(B588),\"\",VLOOKUP(B588,NSLPandADEtableFY14,14,FALSE))","v":""},{"$f":"IF(ISBLANK(B588),\"\",VLOOKUP(B588,NSLPandADEtableFY14,15,FALSE))","v":""},{"$f":"IF(ISBLANK(B588),\"\",VLOOKUP(B588,NSLPandADEtableFY14,2,FALSE))","v":""},{"$f":"IF(ISBLANK(B588),\"\",\"Free & Reduced Lunch Data (NSLP) March 2013\")","v":""},{"$f":"IF(ISBLANK(B588),\"\",VLOOKUP(B588,NSLPandADEtableFY14,11,FALSE))","v":""},null,null,null,null,null,null,null,"Ganado Middle School - 010220103"]
["",null,{"$f":"IF(ISBLANK(B589),\"\",VLOOKUP(B589,NSLPandADEtableFY14,14,FALSE))","v":""},{"$f":"IF(ISBLANK(B589),\"\",VLOOKUP(B589,NSLPandADEtableFY14,15,FALSE))","v":""},{"$f":"IF(ISBLANK(B589),\"\",VLOOKUP(B589,NSLPandADEtableFY14,2,FALSE))","v":""},"",{"$f":"IF(ISBLANK(B589),\"\",VLOOKUP(B589,NSLPandADEtableFY14,11,FALSE))","v":""},null,null,null,null,null,null,null,"Ganado Primary School - 010220101"]
["",null,{"$f":"IF(ISBLANK(B590),\"\",VLOOKUP(B590,NSLPandADEtableFY14,14,FALSE))","v":""},{"$f":"IF(ISBLANK(B590),\"\",VLOOKUP(B590,NSLPandADEtableFY14,15,FALSE))","v":""},{"$f":"IF(ISBLANK(B590),\"\",VLOOKUP(B590,NSLPandADEtableFY14,2,FALSE))","v":""},"",{"$f":"IF(ISBLANK(B590),\"\",VLOOKUP(B590,NSLPandADEtableFY14,11,FALSE))","v":""},null,null,null,null,null,null,null,"Gap Primary School - 030215112"]
["",null,{"$f":"IF(ISBLANK(B591),\"\",VLOOKUP(B591,NSLPandADEtableFY14,14,FALSE))","v":""},{"$f":"IF(ISBLANK(B591),\"\",VLOOKUP(B591,NSLPandADEtableFY14,15,FALSE))","v":""},{"$f":"IF(ISBLANK(B591),\"\",VLOOKUP(B591,NSLPandADEtableFY14,2,FALSE))","v":""},"",{"$f":"IF(ISBLANK(B591),\"\",VLOOKUP(B591,NSLPandADEtableFY14,11,FALSE))","v":""},null,null,null,null,null,null,null,"Garden Lakes Elementary School - 070492016"]
["",null,{"$f":"IF(ISBLANK(B592),\"\",VLOOKUP(B592,NSLPandADEtableFY14,14,FALSE))","v":""},{"$f":"IF(ISBLANK(B592),\"\",VLOOKUP(B592,NSLPandADEtableFY14,15,FALSE))","v":""},{"$f":"IF(ISBLANK(B592),\"\",VLOOKUP(B592,NSLPandADEtableFY14,2,FALSE))","v":""},"",{"$f":"IF(ISBLANK(B592),\"\",VLOOKUP(B592,NSLPandADEtableFY14,11,FALSE))","v":""},null,null,null,null,null,null,null,"Garfield School - 070401108"]
["",null,{"$f":"IF(ISBLANK(B593),\"\",VLOOKUP(B593,NSLPandADEtableFY14,14,FALSE))","v":""},{"$f":"IF(ISBLANK(B593),\"\",VLOOKUP(B593,NSLPandADEtableFY14,15,FALSE))","v":""},{"$f":"IF(ISBLANK(B593),\"\",VLOOKUP(B593,NSLPandADEtableFY14,2,FALSE))","v":""},"",{"$f":"IF(ISBLANK(B593),\"\",VLOOKUP(B593,NSLPandADEtableFY14,11,FALSE))","v":""},null,null,null,null,null,null,null,"Gary A. Knox Elementary School - 140413108"]
["",null,{"$f":"IF(ISBLANK(B594),\"\",VLOOKUP(B594,NSLPandADEtableFY14,14,FALSE))","v":""},{"$f":"IF(ISBLANK(B594),\"\",VLOOKUP(B594,NSLPandADEtableFY14,15,FALSE))","v":""},{"$f":"IF(ISBLANK(B594),\"\",VLOOKUP(B594,NSLPandADEtableFY14,2,FALSE))","v":""},"",{"$f":"IF(ISBLANK(B594),\"\",VLOOKUP(B594,NSLPandADEtableFY14,11,FALSE))","v":""},null,null,null,null,null,null,null,"Gateway Early College High School - 078647201"]
["",null,{"$f":"IF(ISBLANK(B595),\"\",VLOOKUP(B595,NSLPandADEtableFY14,14,FALSE))","v":""},{"$f":"IF(ISBLANK(B595),\"\",VLOOKUP(B595,NSLPandADEtableFY14,15,FALSE))","v":""},{"$f":"IF(ISBLANK(B595),\"\",VLOOKUP(B595,NSLPandADEtableFY14,2,FALSE))","v":""},"",{"$f":"IF(ISBLANK(B595),\"\",VLOOKUP(B595,NSLPandADEtableFY14,11,FALSE))","v":""},null,null,null,null,null,null,null,"Gateway Pointe Elementary - 070260105"]
["",null,{"$f":"IF(ISBLANK(B596),\"\",VLOOKUP(B596,NSLPandADEtableFY14,14,FALSE))","v":""},{"$f":"IF(ISBLANK(B596),\"\",VLOOKUP(B596,NSLPandADEtableFY14,15,FALSE))","v":""},{"$f":"IF(ISBLANK(B596),\"\",VLOOKUP(B596,NSLPandADEtableFY14,2,FALSE))","v":""},"",{"$f":"IF(ISBLANK(B596),\"\",VLOOKUP(B596,NSLPandADEtableFY14,11,FALSE))","v":""},null,null,null,null,null,null,null,"Gateway School - 070414120"]
["",null,{"$f":"IF(ISBLANK(B597),\"\",VLOOKUP(B597,NSLPandADEtableFY14,14,FALSE))","v":""},{"$f":"IF(ISBLANK(B597),\"\",VLOOKUP(B597,NSLPandADEtableFY14,15,FALSE))","v":""},{"$f":"IF(ISBLANK(B597),\"\",VLOOKUP(B597,NSLPandADEtableFY14,2,FALSE))","v":""},"",{"$f":"IF(ISBLANK(B597),\"\",VLOOKUP(B597,NSLPandADEtableFY14,11,FALSE))","v":""},null,null,null,null,null,null,null,"Gavilan Peak Elementary - 070297142"]
["",null,{"$f":"IF(ISBLANK(B598),\"\",VLOOKUP(B598,NSLPandADEtableFY14,14,FALSE))","v":""},{"$f":"IF(ISBLANK(B598),\"\",VLOOKUP(B598,NSLPandADEtableFY14,15,FALSE))","v":""},{"$f":"IF(ISBLANK(B598),\"\",VLOOKUP(B598,NSLPandADEtableFY14,2,FALSE))","v":""},"",{"$f":"IF(ISBLANK(B598),\"\",VLOOKUP(B598,NSLPandADEtableFY14,11,FALSE))","v":""},null,null,null,null,null,null,null,"General Myer Elementary School - 020100101"]
["",null,{"$f":"IF(ISBLANK(B599),\"\",VLOOKUP(B599,NSLPandADEtableFY14,14,FALSE))","v":""},{"$f":"IF(ISBLANK(B599),\"\",VLOOKUP(B599,NSLPandADEtableFY14,15,FALSE))","v":""},{"$f":"IF(ISBLANK(B599),\"\",VLOOKUP(B599,NSLPandADEtableFY14,2,FALSE))","v":""},"",{"$f":"IF(ISBLANK(B599),\"\",VLOOKUP(B599,NSLPandADEtableFY14,11,FALSE))","v":""},null,null,null,null,null,null,null,"George Gervin Prep Academy - 078585001"]
["",null,{"$f":"IF(ISBLANK(B600),\"\",VLOOKUP(B600,NSLPandADEtableFY14,14,FALSE))","v":""},{"$f":"IF(ISBLANK(B600),\"\",VLOOKUP(B600,NSLPandADEtableFY14,15,FALSE))","v":""},{"$f":"IF(ISBLANK(B600),\"\",VLOOKUP(B600,NSLPandADEtableFY14,2,FALSE))","v":""},"",{"$f":"IF(ISBLANK(B600),\"\",VLOOKUP(B600,NSLPandADEtableFY14,11,FALSE))","v":""},null,null,null,null,null,null,null,"George Washington Carver Elementary School - 140401102"]
["",null,{"$f":"IF(ISBLANK(B601),\"\",VLOOKUP(B601,NSLPandADEtableFY14,14,FALSE))","v":""},{"$f":"IF(ISBLANK(B601),\"\",VLOOKUP(B601,NSLPandADEtableFY14,15,FALSE))","v":""},{"$f":"IF(ISBLANK(B601),\"\",VLOOKUP(B601,NSLPandADEtableFY14,2,FALSE))","v":""},"",{"$f":"IF(ISBLANK(B601),\"\",VLOOKUP(B601,NSLPandADEtableFY14,11,FALSE))","v":""},null,null,null,null,null,null,null,"Gila Bend Elementary - 070224001"]
["",null,{"$f":"IF(ISBLANK(B602),\"\",VLOOKUP(B602,NSLPandADEtableFY14,14,FALSE))","v":""},{"$f":"IF(ISBLANK(B602),\"\",VLOOKUP(B602,NSLPandADEtableFY14,15,FALSE))","v":""},{"$f":"IF(ISBLANK(B602),\"\",VLOOKUP(B602,NSLPandADEtableFY14,2,FALSE))","v":""},"",{"$f":"IF(ISBLANK(B602),\"\",VLOOKUP(B602,NSLPandADEtableFY14,11,FALSE))","v":""},null,null,null,null,null,null,null,"Gila Crossing Community School - 073901001"]
["",null,{"$f":"IF(ISBLANK(B603),\"\",VLOOKUP(B603,NSLPandADEtableFY14,14,FALSE))","v":""},{"$f":"IF(ISBLANK(B603),\"\",VLOOKUP(B603,NSLPandADEtableFY14,15,FALSE))","v":""},{"$f":"IF(ISBLANK(B603),\"\",VLOOKUP(B603,NSLPandADEtableFY14,2,FALSE))","v":""},"",{"$f":"IF(ISBLANK(B603),\"\",VLOOKUP(B603,NSLPandADEtableFY14,11,FALSE))","v":""},null,null,null,null,null,null,null,"Gila Ridge High School - 140570207"]
["",null,{"$f":"IF(ISBLANK(B604),\"\",VLOOKUP(B604,NSLPandADEtableFY14,14,FALSE))","v":""},{"$f":"IF(ISBLANK(B604),\"\",VLOOKUP(B604,NSLPandADEtableFY14,15,FALSE))","v":""},{"$f":"IF(ISBLANK(B604),\"\",VLOOKUP(B604,NSLPandADEtableFY14,2,FALSE))","v":""},"",{"$f":"IF(ISBLANK(B604),\"\",VLOOKUP(B604,NSLPandADEtableFY14,11,FALSE))","v":""},null,null,null,null,null,null,null,"Gila Vista Jr High School - 140401122"]
["",null,{"$f":"IF(ISBLANK(B605),\"\",VLOOKUP(B605,NSLPandADEtableFY14,14,FALSE))","v":""},{"$f":"IF(ISBLANK(B605),\"\",VLOOKUP(B605,NSLPandADEtableFY14,15,FALSE))","v":""},{"$f":"IF(ISBLANK(B605),\"\",VLOOKUP(B605,NSLPandADEtableFY14,2,FALSE))","v":""},"",{"$f":"IF(ISBLANK(B605),\"\",VLOOKUP(B605,NSLPandADEtableFY14,11,FALSE))","v":""},null,null,null,null,null,null,null,"Gilbert Classical Academy - 070241233"]
["",null,{"$f":"IF(ISBLANK(B606),\"\",VLOOKUP(B606,NSLPandADEtableFY14,14,FALSE))","v":""},{"$f":"IF(ISBLANK(B606),\"\",VLOOKUP(B606,NSLPandADEtableFY14,15,FALSE))","v":""},{"$f":"IF(ISBLANK(B606),\"\",VLOOKUP(B606,NSLPandADEtableFY14,2,FALSE))","v":""},"",{"$f":"IF(ISBLANK(B606),\"\",VLOOKUP(B606,NSLPandADEtableFY14,11,FALSE))","v":""},null,null,null,null,null,null,null,"Gilbert Early College, a Leading Edge High School - 078968201"]
["",null,{"$f":"IF(ISBLANK(B607),\"\",VLOOKUP(B607,NSLPandADEtableFY14,14,FALSE))","v":""},{"$f":"IF(ISBLANK(B607),\"\",VLOOKUP(B607,NSLPandADEtableFY14,15,FALSE))","v":""},{"$f":"IF(ISBLANK(B607),\"\",VLOOKUP(B607,NSLPandADEtableFY14,2,FALSE))","v":""},"",{"$f":"IF(ISBLANK(B607),\"\",VLOOKUP(B607,NSLPandADEtableFY14,11,FALSE))","v":""},null,null,null,null,null,null,null,"Gilbert Elementary School - 070241140"]
["",null,{"$f":"IF(ISBLANK(B608),\"\",VLOOKUP(B608,NSLPandADEtableFY14,14,FALSE))","v":""},{"$f":"IF(ISBLANK(B608),\"\",VLOOKUP(B608,NSLPandADEtableFY14,15,FALSE))","v":""},{"$f":"IF(ISBLANK(B608),\"\",VLOOKUP(B608,NSLPandADEtableFY14,2,FALSE))","v":""},"",{"$f":"IF(ISBLANK(B608),\"\",VLOOKUP(B608,NSLPandADEtableFY14,11,FALSE))","v":""},null,null,null,null,null,null,null,"Gilbert High School - 070241210"]
["",null,{"$f":"IF(ISBLANK(B609),\"\",VLOOKUP(B609,NSLPandADEtableFY14,14,FALSE))","v":""},{"$f":"IF(ISBLANK(B609),\"\",VLOOKUP(B609,NSLPandADEtableFY14,15,FALSE))","v":""},{"$f":"IF(ISBLANK(B609),\"\",VLOOKUP(B609,NSLPandADEtableFY14,2,FALSE))","v":""},"",{"$f":"IF(ISBLANK(B609),\"\",VLOOKUP(B609,NSLPandADEtableFY14,11,FALSE))","v":""},null,null,null,null,null,null,null,"Gilbert Junior High School - 070241120"]
["",null,{"$f":"IF(ISBLANK(B610),\"\",VLOOKUP(B610,NSLPandADEtableFY14,14,FALSE))","v":""},{"$f":"IF(ISBLANK(B610),\"\",VLOOKUP(B610,NSLPandADEtableFY14,15,FALSE))","v":""},{"$f":"IF(ISBLANK(B610),\"\",VLOOKUP(B610,NSLPandADEtableFY14,2,FALSE))","v":""},"",{"$f":"IF(ISBLANK(B610),\"\",VLOOKUP(B610,NSLPandADEtableFY14,11,FALSE))","v":""},null,null,null,null,null,null,null,"Gililland Middle School - 070403143"]
["",null,{"$f":"IF(ISBLANK(B611),\"\",VLOOKUP(B611,NSLPandADEtableFY14,14,FALSE))","v":""},{"$f":"IF(ISBLANK(B611),\"\",VLOOKUP(B611,NSLPandADEtableFY14,15,FALSE))","v":""},{"$f":"IF(ISBLANK(B611),\"\",VLOOKUP(B611,NSLPandADEtableFY14,2,FALSE))","v":""},"",{"$f":"IF(ISBLANK(B611),\"\",VLOOKUP(B611,NSLPandADEtableFY14,11,FALSE))","v":""},null,null,null,null,null,null,null,"Girls Leadership Academy of Arizona - 078608001"]
["",null,{"$f":"IF(ISBLANK(B612),\"\",VLOOKUP(B612,NSLPandADEtableFY14,14,FALSE))","v":""},{"$f":"IF(ISBLANK(B612),\"\",VLOOKUP(B612,NSLPandADEtableFY14,15,FALSE))","v":""},{"$f":"IF(ISBLANK(B612),\"\",VLOOKUP(B612,NSLPandADEtableFY14,2,FALSE))","v":""},"",{"$f":"IF(ISBLANK(B612),\"\",VLOOKUP(B612,NSLPandADEtableFY14,11,FALSE))","v":""},null,null,null,null,null,null,null,"Glassford Hill Middle School - 130222125"]
["",null,{"$f":"IF(ISBLANK(B613),\"\",VLOOKUP(B613,NSLPandADEtableFY14,14,FALSE))","v":""},{"$f":"IF(ISBLANK(B613),\"\",VLOOKUP(B613,NSLPandADEtableFY14,15,FALSE))","v":""},{"$f":"IF(ISBLANK(B613),\"\",VLOOKUP(B613,NSLPandADEtableFY14,2,FALSE))","v":""},"",{"$f":"IF(ISBLANK(B613),\"\",VLOOKUP(B613,NSLPandADEtableFY14,11,FALSE))","v":""},null,null,null,null,null,null,null,"Glendale American School - 070440108"]
["",null,{"$f":"IF(ISBLANK(B614),\"\",VLOOKUP(B614,NSLPandADEtableFY14,14,FALSE))","v":""},{"$f":"IF(ISBLANK(B614),\"\",VLOOKUP(B614,NSLPandADEtableFY14,15,FALSE))","v":""},{"$f":"IF(ISBLANK(B614),\"\",VLOOKUP(B614,NSLPandADEtableFY14,2,FALSE))","v":""},"",{"$f":"IF(ISBLANK(B614),\"\",VLOOKUP(B614,NSLPandADEtableFY14,11,FALSE))","v":""},null,null,null,null,null,null,null,"Glendale High School - 070505201"]
["",null,{"$f":"IF(ISBLANK(B615),\"\",VLOOKUP(B615,NSLPandADEtableFY14,14,FALSE))","v":""},{"$f":"IF(ISBLANK(B615),\"\",VLOOKUP(B615,NSLPandADEtableFY14,15,FALSE))","v":""},{"$f":"IF(ISBLANK(B615),\"\",VLOOKUP(B615,NSLPandADEtableFY14,2,FALSE))","v":""},"",{"$f":"IF(ISBLANK(B615),\"\",VLOOKUP(B615,NSLPandADEtableFY14,11,FALSE))","v":""},null,null,null,null,null,null,null,"Glendale Landmark Middle School - 070440101"]
["",null,{"$f":"IF(ISBLANK(B616),\"\",VLOOKUP(B616,NSLPandADEtableFY14,14,FALSE))","v":""},{"$f":"IF(ISBLANK(B616),\"\",VLOOKUP(B616,NSLPandADEtableFY14,15,FALSE))","v":""},{"$f":"IF(ISBLANK(B616),\"\",VLOOKUP(B616,NSLPandADEtableFY14,2,FALSE))","v":""},"",{"$f":"IF(ISBLANK(B616),\"\",VLOOKUP(B616,NSLPandADEtableFY14,11,FALSE))","v":""},null,null,null,null,null,null,null,"Glenn F Burton School - 070440107"]
["",null,{"$f":"IF(ISBLANK(B617),\"\",VLOOKUP(B617,NSLPandADEtableFY14,14,FALSE))","v":""},{"$f":"IF(ISBLANK(B617),\"\",VLOOKUP(B617,NSLPandADEtableFY14,15,FALSE))","v":""},{"$f":"IF(ISBLANK(B617),\"\",VLOOKUP(B617,NSLPandADEtableFY14,2,FALSE))","v":""},"",{"$f":"IF(ISBLANK(B617),\"\",VLOOKUP(B617,NSLPandADEtableFY14,11,FALSE))","v":""},null,null,null,null,null,null,null,"Glenn L. Downs School - 070483102"]
["",null,{"$f":"IF(ISBLANK(B618),\"\",VLOOKUP(B618,NSLPandADEtableFY14,14,FALSE))","v":""},{"$f":"IF(ISBLANK(B618),\"\",VLOOKUP(B618,NSLPandADEtableFY14,15,FALSE))","v":""},{"$f":"IF(ISBLANK(B618),\"\",VLOOKUP(B618,NSLPandADEtableFY14,2,FALSE))","v":""},"",{"$f":"IF(ISBLANK(B618),\"\",VLOOKUP(B618,NSLPandADEtableFY14,11,FALSE))","v":""},null,null,null,null,null,null,null,"Globe High School - 040201004"]
["",null,{"$f":"IF(ISBLANK(B619),\"\",VLOOKUP(B619,NSLPandADEtableFY14,14,FALSE))","v":""},{"$f":"IF(ISBLANK(B619),\"\",VLOOKUP(B619,NSLPandADEtableFY14,15,FALSE))","v":""},{"$f":"IF(ISBLANK(B619),\"\",VLOOKUP(B619,NSLPandADEtableFY14,2,FALSE))","v":""},"",{"$f":"IF(ISBLANK(B619),\"\",VLOOKUP(B619,NSLPandADEtableFY14,11,FALSE))","v":""},null,null,null,null,null,null,null,"GOMPERS CENTER FOR THE HANDICA - 072120001"]
["",null,{"$f":"IF(ISBLANK(B620),\"\",VLOOKUP(B620,NSLPandADEtableFY14,14,FALSE))","v":""},{"$f":"IF(ISBLANK(B620),\"\",VLOOKUP(B620,NSLPandADEtableFY14,15,FALSE))","v":""},{"$f":"IF(ISBLANK(B620),\"\",VLOOKUP(B620,NSLPandADEtableFY14,2,FALSE))","v":""},"",{"$f":"IF(ISBLANK(B620),\"\",VLOOKUP(B620,NSLPandADEtableFY14,11,FALSE))","v":""},null,null,null,null,null,null,null,"Grace of Serenity Living Inc. - 072770001"]
["",null,{"$f":"IF(ISBLANK(B621),\"\",VLOOKUP(B621,NSLPandADEtableFY14,14,FALSE))","v":""},{"$f":"IF(ISBLANK(B621),\"\",VLOOKUP(B621,NSLPandADEtableFY14,15,FALSE))","v":""},{"$f":"IF(ISBLANK(B621),\"\",VLOOKUP(B621,NSLPandADEtableFY14,2,FALSE))","v":""},"",{"$f":"IF(ISBLANK(B621),\"\",VLOOKUP(B621,NSLPandADEtableFY14,11,FALSE))","v":""},null,null,null,null,null,null,null,"Granada East School - 070468109"]
["",null,{"$f":"IF(ISBLANK(B622),\"\",VLOOKUP(B622,NSLPandADEtableFY14,14,FALSE))","v":""},{"$f":"IF(ISBLANK(B622),\"\",VLOOKUP(B622,NSLPandADEtableFY14,15,FALSE))","v":""},{"$f":"IF(ISBLANK(B622),\"\",VLOOKUP(B622,NSLPandADEtableFY14,2,FALSE))","v":""},"",{"$f":"IF(ISBLANK(B622),\"\",VLOOKUP(B622,NSLPandADEtableFY14,11,FALSE))","v":""},null,null,null,null,null,null,null,"Granada Primary School - 070468110"]
["",null,{"$f":"IF(ISBLANK(B623),\"\",VLOOKUP(B623,NSLPandADEtableFY14,14,FALSE))","v":""},{"$f":"IF(ISBLANK(B623),\"\",VLOOKUP(B623,NSLPandADEtableFY14,15,FALSE))","v":""},{"$f":"IF(ISBLANK(B623),\"\",VLOOKUP(B623,NSLPandADEtableFY14,2,FALSE))","v":""},"",{"$f":"IF(ISBLANK(B623),\"\",VLOOKUP(B623,NSLPandADEtableFY14,11,FALSE))","v":""},null,null,null,null,null,null,null,"Grand Canyon Elementary - 030204001"]
["",null,{"$f":"IF(ISBLANK(B624),\"\",VLOOKUP(B624,NSLPandADEtableFY14,14,FALSE))","v":""},{"$f":"IF(ISBLANK(B624),\"\",VLOOKUP(B624,NSLPandADEtableFY14,15,FALSE))","v":""},{"$f":"IF(ISBLANK(B624),\"\",VLOOKUP(B624,NSLPandADEtableFY14,2,FALSE))","v":""},"",{"$f":"IF(ISBLANK(B624),\"\",VLOOKUP(B624,NSLPandADEtableFY14,11,FALSE))","v":""},null,null,null,null,null,null,null,"Granite Mountain Middle School - 130201060"]
["",null,{"$f":"IF(ISBLANK(B625),\"\",VLOOKUP(B625,NSLPandADEtableFY14,14,FALSE))","v":""},{"$f":"IF(ISBLANK(B625),\"\",VLOOKUP(B625,NSLPandADEtableFY14,15,FALSE))","v":""},{"$f":"IF(ISBLANK(B625),\"\",VLOOKUP(B625,NSLPandADEtableFY14,2,FALSE))","v":""},"",{"$f":"IF(ISBLANK(B625),\"\",VLOOKUP(B625,NSLPandADEtableFY14,11,FALSE))","v":""},null,null,null,null,null,null,null,"Granville Elementary School - 130222135"]
["",null,{"$f":"IF(ISBLANK(B626),\"\",VLOOKUP(B626,NSLPandADEtableFY14,14,FALSE))","v":""},{"$f":"IF(ISBLANK(B626),\"\",VLOOKUP(B626,NSLPandADEtableFY14,15,FALSE))","v":""},{"$f":"IF(ISBLANK(B626),\"\",VLOOKUP(B626,NSLPandADEtableFY14,2,FALSE))","v":""},"",{"$f":"IF(ISBLANK(B626),\"\",VLOOKUP(B626,NSLPandADEtableFY14,11,FALSE))","v":""},null,null,null,null,null,null,null,"Grayhawk Elementary School - 070269141"]
["",null,{"$f":"IF(ISBLANK(B627),\"\",VLOOKUP(B627,NSLPandADEtableFY14,14,FALSE))","v":""},{"$f":"IF(ISBLANK(B627),\"\",VLOOKUP(B627,NSLPandADEtableFY14,15,FALSE))","v":""},{"$f":"IF(ISBLANK(B627),\"\",VLOOKUP(B627,NSLPandADEtableFY14,2,FALSE))","v":""},"",{"$f":"IF(ISBLANK(B627),\"\",VLOOKUP(B627,NSLPandADEtableFY14,11,FALSE))","v":""},null,null,null,null,null,null,null,"Greasewood Springs Community School - 014012004"]
["",null,{"$f":"IF(ISBLANK(B628),\"\",VLOOKUP(B628,NSLPandADEtableFY14,14,FALSE))","v":""},{"$f":"IF(ISBLANK(B628),\"\",VLOOKUP(B628,NSLPandADEtableFY14,15,FALSE))","v":""},{"$f":"IF(ISBLANK(B628),\"\",VLOOKUP(B628,NSLPandADEtableFY14,2,FALSE))","v":""},"",{"$f":"IF(ISBLANK(B628),\"\",VLOOKUP(B628,NSLPandADEtableFY14,11,FALSE))","v":""},null,null,null,null,null,null,null,"Great Hearts Academies - Teleos Prep - 078551001"]
["",null,{"$f":"IF(ISBLANK(B629),\"\",VLOOKUP(B629,NSLPandADEtableFY14,14,FALSE))","v":""},{"$f":"IF(ISBLANK(B629),\"\",VLOOKUP(B629,NSLPandADEtableFY14,15,FALSE))","v":""},{"$f":"IF(ISBLANK(B629),\"\",VLOOKUP(B629,NSLPandADEtableFY14,2,FALSE))","v":""},"",{"$f":"IF(ISBLANK(B629),\"\",VLOOKUP(B629,NSLPandADEtableFY14,11,FALSE))","v":""},null,null,null,null,null,null,null,"Great Hearts Academies- Maryvale Prep - 078592001"]
["",null,{"$f":"IF(ISBLANK(B630),\"\",VLOOKUP(B630,NSLPandADEtableFY14,14,FALSE))","v":""},{"$f":"IF(ISBLANK(B630),\"\",VLOOKUP(B630,NSLPandADEtableFY14,15,FALSE))","v":""},{"$f":"IF(ISBLANK(B630),\"\",VLOOKUP(B630,NSLPandADEtableFY14,2,FALSE))","v":""},"",{"$f":"IF(ISBLANK(B630),\"\",VLOOKUP(B630,NSLPandADEtableFY14,11,FALSE))","v":""},null,null,null,null,null,null,null,"Greenbrier Elementary School - 070297123"]
["",null,{"$f":"IF(ISBLANK(B631),\"\",VLOOKUP(B631,NSLPandADEtableFY14,14,FALSE))","v":""},{"$f":"IF(ISBLANK(B631),\"\",VLOOKUP(B631,NSLPandADEtableFY14,15,FALSE))","v":""},{"$f":"IF(ISBLANK(B631),\"\",VLOOKUP(B631,NSLPandADEtableFY14,2,FALSE))","v":""},"",{"$f":"IF(ISBLANK(B631),\"\",VLOOKUP(B631,NSLPandADEtableFY14,11,FALSE))","v":""},null,null,null,null,null,null,null,"Greenfield Elementary School - 070241141"]
["",null,{"$f":"IF(ISBLANK(B632),\"\",VLOOKUP(B632,NSLPandADEtableFY14,14,FALSE))","v":""},{"$f":"IF(ISBLANK(B632),\"\",VLOOKUP(B632,NSLPandADEtableFY14,15,FALSE))","v":""},{"$f":"IF(ISBLANK(B632),\"\",VLOOKUP(B632,NSLPandADEtableFY14,2,FALSE))","v":""},"",{"$f":"IF(ISBLANK(B632),\"\",VLOOKUP(B632,NSLPandADEtableFY14,11,FALSE))","v":""},null,null,null,null,null,null,null,"Greenfield Junior High School - 070241122"]
["",null,{"$f":"IF(ISBLANK(B633),\"\",VLOOKUP(B633,NSLPandADEtableFY14,14,FALSE))","v":""},{"$f":"IF(ISBLANK(B633),\"\",VLOOKUP(B633,NSLPandADEtableFY14,15,FALSE))","v":""},{"$f":"IF(ISBLANK(B633),\"\",VLOOKUP(B633,NSLPandADEtableFY14,2,FALSE))","v":""},"",{"$f":"IF(ISBLANK(B633),\"\",VLOOKUP(B633,NSLPandADEtableFY14,11,FALSE))","v":""},null,null,null,null,null,null,null,"Greenway High School - 070505208"]
["",null,{"$f":"IF(ISBLANK(B634),\"\",VLOOKUP(B634,NSLPandADEtableFY14,14,FALSE))","v":""},{"$f":"IF(ISBLANK(B634),\"\",VLOOKUP(B634,NSLPandADEtableFY14,15,FALSE))","v":""},{"$f":"IF(ISBLANK(B634),\"\",VLOOKUP(B634,NSLPandADEtableFY14,2,FALSE))","v":""},"",{"$f":"IF(ISBLANK(B634),\"\",VLOOKUP(B634,NSLPandADEtableFY14,11,FALSE))","v":""},null,null,null,null,null,null,null,"Greenway Middle School - 070269175"]
["",null,{"$f":"IF(ISBLANK(B635),\"\",VLOOKUP(B635,NSLPandADEtableFY14,14,FALSE))","v":""},{"$f":"IF(ISBLANK(B635),\"\",VLOOKUP(B635,NSLPandADEtableFY14,15,FALSE))","v":""},{"$f":"IF(ISBLANK(B635),\"\",VLOOKUP(B635,NSLPandADEtableFY14,2,FALSE))","v":""},"",{"$f":"IF(ISBLANK(B635),\"\",VLOOKUP(B635,NSLPandADEtableFY14,11,FALSE))","v":""},null,null,null,null,null,null,null,"Greenway Primary School - 020202103"]
["",null,{"$f":"IF(ISBLANK(B636),\"\",VLOOKUP(B636,NSLPandADEtableFY14,14,FALSE))","v":""},{"$f":"IF(ISBLANK(B636),\"\",VLOOKUP(B636,NSLPandADEtableFY14,15,FALSE))","v":""},{"$f":"IF(ISBLANK(B636),\"\",VLOOKUP(B636,NSLPandADEtableFY14,2,FALSE))","v":""},"",{"$f":"IF(ISBLANK(B636),\"\",VLOOKUP(B636,NSLPandADEtableFY14,11,FALSE))","v":""},null,null,null,null,null,null,null,"Greyhills Academy High School - 033904003"]
["",null,{"$f":"IF(ISBLANK(B637),\"\",VLOOKUP(B637,NSLPandADEtableFY14,14,FALSE))","v":""},{"$f":"IF(ISBLANK(B637),\"\",VLOOKUP(B637,NSLPandADEtableFY14,15,FALSE))","v":""},{"$f":"IF(ISBLANK(B637),\"\",VLOOKUP(B637,NSLPandADEtableFY14,2,FALSE))","v":""},"",{"$f":"IF(ISBLANK(B637),\"\",VLOOKUP(B637,NSLPandADEtableFY14,11,FALSE))","v":""},null,null,null,null,null,null,null,"Gridley Middle School - 100201511"]
["",null,{"$f":"IF(ISBLANK(B638),\"\",VLOOKUP(B638,NSLPandADEtableFY14,14,FALSE))","v":""},{"$f":"IF(ISBLANK(B638),\"\",VLOOKUP(B638,NSLPandADEtableFY14,15,FALSE))","v":""},{"$f":"IF(ISBLANK(B638),\"\",VLOOKUP(B638,NSLPandADEtableFY14,2,FALSE))","v":""},"",{"$f":"IF(ISBLANK(B638),\"\",VLOOKUP(B638,NSLPandADEtableFY14,11,FALSE))","v":""},null,null,null,null,null,null,null,"Griffith Elementary School - 070431103"]
["",null,{"$f":"IF(ISBLANK(B639),\"\",VLOOKUP(B639,NSLPandADEtableFY14,14,FALSE))","v":""},{"$f":"IF(ISBLANK(B639),\"\",VLOOKUP(B639,NSLPandADEtableFY14,15,FALSE))","v":""},{"$f":"IF(ISBLANK(B639),\"\",VLOOKUP(B639,NSLPandADEtableFY14,2,FALSE))","v":""},"",{"$f":"IF(ISBLANK(B639),\"\",VLOOKUP(B639,NSLPandADEtableFY14,11,FALSE))","v":""},null,null,null,null,null,null,null,"Guerrero Elementary School - 070204155"]
["",null,{"$f":"IF(ISBLANK(B640),\"\",VLOOKUP(B640,NSLPandADEtableFY14,14,FALSE))","v":""},{"$f":"IF(ISBLANK(B640),\"\",VLOOKUP(B640,NSLPandADEtableFY14,15,FALSE))","v":""},{"$f":"IF(ISBLANK(B640),\"\",VLOOKUP(B640,NSLPandADEtableFY14,2,FALSE))","v":""},"",{"$f":"IF(ISBLANK(B640),\"\",VLOOKUP(B640,NSLPandADEtableFY14,11,FALSE))","v":""},null,null,null,null,null,null,null,"H L Suverkrup Elementary School - 140413105"]
["",null,{"$f":"IF(ISBLANK(B641),\"\",VLOOKUP(B641,NSLPandADEtableFY14,14,FALSE))","v":""},{"$f":"IF(ISBLANK(B641),\"\",VLOOKUP(B641,NSLPandADEtableFY14,15,FALSE))","v":""},{"$f":"IF(ISBLANK(B641),\"\",VLOOKUP(B641,NSLPandADEtableFY14,2,FALSE))","v":""},"",{"$f":"IF(ISBLANK(B641),\"\",VLOOKUP(B641,NSLPandADEtableFY14,11,FALSE))","v":""},null,null,null,null,null,null,null,"Ha:san Preparatory & Leadership School - 108726001"]
["",null,{"$f":"IF(ISBLANK(B642),\"\",VLOOKUP(B642,NSLPandADEtableFY14,14,FALSE))","v":""},{"$f":"IF(ISBLANK(B642),\"\",VLOOKUP(B642,NSLPandADEtableFY14,15,FALSE))","v":""},{"$f":"IF(ISBLANK(B642),\"\",VLOOKUP(B642,NSLPandADEtableFY14,2,FALSE))","v":""},"",{"$f":"IF(ISBLANK(B642),\"\",VLOOKUP(B642,NSLPandADEtableFY14,11,FALSE))","v":""},null,null,null,null,null,null,null,"Hacienda De Los Angeles - 072701003"]
["",null,{"$f":"IF(ISBLANK(B643),\"\",VLOOKUP(B643,NSLPandADEtableFY14,14,FALSE))","v":""},{"$f":"IF(ISBLANK(B643),\"\",VLOOKUP(B643,NSLPandADEtableFY14,15,FALSE))","v":""},{"$f":"IF(ISBLANK(B643),\"\",VLOOKUP(B643,NSLPandADEtableFY14,2,FALSE))","v":""},"",{"$f":"IF(ISBLANK(B643),\"\",VLOOKUP(B643,NSLPandADEtableFY14,11,FALSE))","v":""},null,null,null,null,null,null,null,"Hale Elementary School - 070204119"]
["",null,{"$f":"IF(ISBLANK(B644),\"\",VLOOKUP(B644,NSLPandADEtableFY14,14,FALSE))","v":""},{"$f":"IF(ISBLANK(B644),\"\",VLOOKUP(B644,NSLPandADEtableFY14,15,FALSE))","v":""},{"$f":"IF(ISBLANK(B644),\"\",VLOOKUP(B644,NSLPandADEtableFY14,2,FALSE))","v":""},"",{"$f":"IF(ISBLANK(B644),\"\",VLOOKUP(B644,NSLPandADEtableFY14,11,FALSE))","v":""},null,null,null,null,null,null,null,"Haley Elementary - 070280141"]
["",null,{"$f":"IF(ISBLANK(B645),\"\",VLOOKUP(B645,NSLPandADEtableFY14,14,FALSE))","v":""},{"$f":"IF(ISBLANK(B645),\"\",VLOOKUP(B645,NSLPandADEtableFY14,15,FALSE))","v":""},{"$f":"IF(ISBLANK(B645),\"\",VLOOKUP(B645,NSLPandADEtableFY14,2,FALSE))","v":""},"",{"$f":"IF(ISBLANK(B645),\"\",VLOOKUP(B645,NSLPandADEtableFY14,11,FALSE))","v":""},null,null,null,null,null,null,null,"Hamilton High School - 070280223"]
["",null,{"$f":"IF(ISBLANK(B646),\"\",VLOOKUP(B646,NSLPandADEtableFY14,14,FALSE))","v":""},{"$f":"IF(ISBLANK(B646),\"\",VLOOKUP(B646,NSLPandADEtableFY14,15,FALSE))","v":""},{"$f":"IF(ISBLANK(B646),\"\",VLOOKUP(B646,NSLPandADEtableFY14,2,FALSE))","v":""},"",{"$f":"IF(ISBLANK(B646),\"\",VLOOKUP(B646,NSLPandADEtableFY14,11,FALSE))","v":""},null,null,null,null,null,null,null,"Happy Valley School - 078998001"]
["",null,{"$f":"IF(ISBLANK(B647),\"\",VLOOKUP(B647,NSLPandADEtableFY14,14,FALSE))","v":""},{"$f":"IF(ISBLANK(B647),\"\",VLOOKUP(B647,NSLPandADEtableFY14,15,FALSE))","v":""},{"$f":"IF(ISBLANK(B647),\"\",VLOOKUP(B647,NSLPandADEtableFY14,2,FALSE))","v":""},"",{"$f":"IF(ISBLANK(B647),\"\",VLOOKUP(B647,NSLPandADEtableFY14,11,FALSE))","v":""},null,null,null,null,null,null,null,"Harold Steele Elementary School - 100201413"]
["",null,{"$f":"IF(ISBLANK(B648),\"\",VLOOKUP(B648,NSLPandADEtableFY14,14,FALSE))","v":""},{"$f":"IF(ISBLANK(B648),\"\",VLOOKUP(B648,NSLPandADEtableFY14,15,FALSE))","v":""},{"$f":"IF(ISBLANK(B648),\"\",VLOOKUP(B648,NSLPandADEtableFY14,2,FALSE))","v":""},"",{"$f":"IF(ISBLANK(B648),\"\",VLOOKUP(B648,NSLPandADEtableFY14,11,FALSE))","v":""},null,null,null,null,null,null,null,"Harold W Smith School - 070440103"]
["",null,{"$f":"IF(ISBLANK(B649),\"\",VLOOKUP(B649,NSLPandADEtableFY14,14,FALSE))","v":""},{"$f":"IF(ISBLANK(B649),\"\",VLOOKUP(B649,NSLPandADEtableFY14,15,FALSE))","v":""},{"$f":"IF(ISBLANK(B649),\"\",VLOOKUP(B649,NSLPandADEtableFY14,2,FALSE))","v":""},"",{"$f":"IF(ISBLANK(B649),\"\",VLOOKUP(B649,NSLPandADEtableFY14,11,FALSE))","v":""},null,null,null,null,null,null,null,"Harriet Johnson Primary School - 100201266"]
["",null,{"$f":"IF(ISBLANK(B650),\"\",VLOOKUP(B650,NSLPandADEtableFY14,14,FALSE))","v":""},{"$f":"IF(ISBLANK(B650),\"\",VLOOKUP(B650,NSLPandADEtableFY14,15,FALSE))","v":""},{"$f":"IF(ISBLANK(B650),\"\",VLOOKUP(B650,NSLPandADEtableFY14,2,FALSE))","v":""},"",{"$f":"IF(ISBLANK(B650),\"\",VLOOKUP(B650,NSLPandADEtableFY14,11,FALSE))","v":""},null,null,null,null,null,null,null,"Harris Elementary School - 070241150"]
["",null,{"$f":"IF(ISBLANK(B651),\"\",VLOOKUP(B651,NSLPandADEtableFY14,14,FALSE))","v":""},{"$f":"IF(ISBLANK(B651),\"\",VLOOKUP(B651,NSLPandADEtableFY14,15,FALSE))","v":""},{"$f":"IF(ISBLANK(B651),\"\",VLOOKUP(B651,NSLPandADEtableFY14,2,FALSE))","v":""},"",{"$f":"IF(ISBLANK(B651),\"\",VLOOKUP(B651,NSLPandADEtableFY14,11,FALSE))","v":""},null,null,null,null,null,null,null,"Hartford Sylvia Encinas Elementary - 070280108"]
[{"$f":"IF(ISBLANK(B652),\"\",\"Q-Public School\")","v":""},null,{"$f":"IF(ISBLANK(B652),\"\",VLOOKUP(B652,NSLPandADEtableFY14,14,FALSE))","v":""},{"$f":"IF(ISBLANK(B652),\"\",VLOOKUP(B652,NSLPandADEtableFY14,15,FALSE))","v":""},{"$f":"IF(ISBLANK(B652),\"\",VLOOKUP(B652,NSLPandADEtableFY14,2,FALSE))","v":""},{"$f":"IF(ISBLANK(B652),\"\",\"Free & Reduced Lunch Data (NSLP) March 2013\")","v":""},{"$f":"IF(ISBLANK(B652),\"\",VLOOKUP(B652,NSLPandADEtableFY14,11,FALSE))","v":""},null,null,null,null,null,null,null,"Harvest Preparatory Academy - 148760101"]
["",null,{"$f":"IF(ISBLANK(B653),\"\",VLOOKUP(B653,NSLPandADEtableFY14,14,FALSE))","v":""},{"$f":"IF(ISBLANK(B653),\"\",VLOOKUP(B653,NSLPandADEtableFY14,15,FALSE))","v":""},{"$f":"IF(ISBLANK(B653),\"\",VLOOKUP(B653,NSLPandADEtableFY14,2,FALSE))","v":""},"",{"$f":"IF(ISBLANK(B653),\"\",VLOOKUP(B653,NSLPandADEtableFY14,11,FALSE))","v":""},null,null,null,null,null,null,null,"Harvest Preparatory Academy, San Luis AZ - 148760102"]
["",null,{"$f":"IF(ISBLANK(B654),\"\",VLOOKUP(B654,NSLPandADEtableFY14,14,FALSE))","v":""},{"$f":"IF(ISBLANK(B654),\"\",VLOOKUP(B654,NSLPandADEtableFY14,15,FALSE))","v":""},{"$f":"IF(ISBLANK(B654),\"\",VLOOKUP(B654,NSLPandADEtableFY14,2,FALSE))","v":""},"",{"$f":"IF(ISBLANK(B654),\"\",VLOOKUP(B654,NSLPandADEtableFY14,11,FALSE))","v":""},null,null,null,null,null,null,null,"Hassayampa Elementary School - 070209102"]
["",null,{"$f":"IF(ISBLANK(B655),\"\",VLOOKUP(B655,NSLPandADEtableFY14,14,FALSE))","v":""},{"$f":"IF(ISBLANK(B655),\"\",VLOOKUP(B655,NSLPandADEtableFY14,15,FALSE))","v":""},{"$f":"IF(ISBLANK(B655),\"\",VLOOKUP(B655,NSLPandADEtableFY14,2,FALSE))","v":""},"",{"$f":"IF(ISBLANK(B655),\"\",VLOOKUP(B655,NSLPandADEtableFY14,11,FALSE))","v":""},null,null,null,null,null,null,null,"Havasu Preparatory Academy - 078580001"]
["",null,{"$f":"IF(ISBLANK(B656),\"\",VLOOKUP(B656,NSLPandADEtableFY14,14,FALSE))","v":""},{"$f":"IF(ISBLANK(B656),\"\",VLOOKUP(B656,NSLPandADEtableFY14,15,FALSE))","v":""},{"$f":"IF(ISBLANK(B656),\"\",VLOOKUP(B656,NSLPandADEtableFY14,2,FALSE))","v":""},"",{"$f":"IF(ISBLANK(B656),\"\",VLOOKUP(B656,NSLPandADEtableFY14,11,FALSE))","v":""},null,null,null,null,null,null,null,"Havasupai Elementary School - 080201103"]
["",null,{"$f":"IF(ISBLANK(B657),\"\",VLOOKUP(B657,NSLPandADEtableFY14,14,FALSE))","v":""},{"$f":"IF(ISBLANK(B657),\"\",VLOOKUP(B657,NSLPandADEtableFY14,15,FALSE))","v":""},{"$f":"IF(ISBLANK(B657),\"\",VLOOKUP(B657,NSLPandADEtableFY14,2,FALSE))","v":""},"",{"$f":"IF(ISBLANK(B657),\"\",VLOOKUP(B657,NSLPandADEtableFY14,11,FALSE))","v":""},null,null,null,null,null,null,null,"Hawthorne Elementary School - 070204106"]
["",null,{"$f":"IF(ISBLANK(B658),\"\",VLOOKUP(B658,NSLPandADEtableFY14,14,FALSE))","v":""},{"$f":"IF(ISBLANK(B658),\"\",VLOOKUP(B658,NSLPandADEtableFY14,15,FALSE))","v":""},{"$f":"IF(ISBLANK(B658),\"\",VLOOKUP(B658,NSLPandADEtableFY14,2,FALSE))","v":""},"",{"$f":"IF(ISBLANK(B658),\"\",VLOOKUP(B658,NSLPandADEtableFY14,11,FALSE))","v":""},null,null,null,null,null,null,null,"Hayden High School - 040241004"]
["",null,{"$f":"IF(ISBLANK(B659),\"\",VLOOKUP(B659,NSLPandADEtableFY14,14,FALSE))","v":""},{"$f":"IF(ISBLANK(B659),\"\",VLOOKUP(B659,NSLPandADEtableFY14,15,FALSE))","v":""},{"$f":"IF(ISBLANK(B659),\"\",VLOOKUP(B659,NSLPandADEtableFY14,2,FALSE))","v":""},"",{"$f":"IF(ISBLANK(B659),\"\",VLOOKUP(B659,NSLPandADEtableFY14,11,FALSE))","v":""},null,null,null,null,null,null,null,"Hearn Academy - A Ball Charter School - 078987103"]
["",null,{"$f":"IF(ISBLANK(B660),\"\",VLOOKUP(B660,NSLPandADEtableFY14,14,FALSE))","v":""},{"$f":"IF(ISBLANK(B660),\"\",VLOOKUP(B660,NSLPandADEtableFY14,15,FALSE))","v":""},{"$f":"IF(ISBLANK(B660),\"\",VLOOKUP(B660,NSLPandADEtableFY14,2,FALSE))","v":""},"",{"$f":"IF(ISBLANK(B660),\"\",VLOOKUP(B660,NSLPandADEtableFY14,11,FALSE))","v":""},null,null,null,null,null,null,null,"Heartland Ranch Elementary School - 110221010"]
["",null,{"$f":"IF(ISBLANK(B661),\"\",VLOOKUP(B661,NSLPandADEtableFY14,14,FALSE))","v":""},{"$f":"IF(ISBLANK(B661),\"\",VLOOKUP(B661,NSLPandADEtableFY14,15,FALSE))","v":""},{"$f":"IF(ISBLANK(B661),\"\",VLOOKUP(B661,NSLPandADEtableFY14,2,FALSE))","v":""},"",{"$f":"IF(ISBLANK(B661),\"\",VLOOKUP(B661,NSLPandADEtableFY14,11,FALSE))","v":""},null,null,null,null,null,null,null,"Heatherbrae School - 070483112"]
["",null,{"$f":"IF(ISBLANK(B662),\"\",VLOOKUP(B662,NSLPandADEtableFY14,14,FALSE))","v":""},{"$f":"IF(ISBLANK(B662),\"\",VLOOKUP(B662,NSLPandADEtableFY14,15,FALSE))","v":""},{"$f":"IF(ISBLANK(B662),\"\",VLOOKUP(B662,NSLPandADEtableFY14,2,FALSE))","v":""},"",{"$f":"IF(ISBLANK(B662),\"\",VLOOKUP(B662,NSLPandADEtableFY14,11,FALSE))","v":""},null,null,null,null,null,null,null,"Helen Keeling Elementary School - 100210109"]
["",null,{"$f":"IF(ISBLANK(B663),\"\",VLOOKUP(B663,NSLPandADEtableFY14,14,FALSE))","v":""},{"$f":"IF(ISBLANK(B663),\"\",VLOOKUP(B663,NSLPandADEtableFY14,15,FALSE))","v":""},{"$f":"IF(ISBLANK(B663),\"\",VLOOKUP(B663,NSLPandADEtableFY14,2,FALSE))","v":""},"",{"$f":"IF(ISBLANK(B663),\"\",VLOOKUP(B663,NSLPandADEtableFY14,11,FALSE))","v":""},null,null,null,null,null,null,null,"Henry Hank Oyama - 100201327"]
["",null,{"$f":"IF(ISBLANK(B664),\"\",VLOOKUP(B664,NSLPandADEtableFY14,14,FALSE))","v":""},{"$f":"IF(ISBLANK(B664),\"\",VLOOKUP(B664,NSLPandADEtableFY14,15,FALSE))","v":""},{"$f":"IF(ISBLANK(B664),\"\",VLOOKUP(B664,NSLPandADEtableFY14,2,FALSE))","v":""},"",{"$f":"IF(ISBLANK(B664),\"\",VLOOKUP(B664,NSLPandADEtableFY14,11,FALSE))","v":""},null,null,null,null,null,null,null,"Heritage Elementary - Williams - 078985103"]
["",null,{"$f":"IF(ISBLANK(B665),\"\",VLOOKUP(B665,NSLPandADEtableFY14,14,FALSE))","v":""},{"$f":"IF(ISBLANK(B665),\"\",VLOOKUP(B665,NSLPandADEtableFY14,15,FALSE))","v":""},{"$f":"IF(ISBLANK(B665),\"\",VLOOKUP(B665,NSLPandADEtableFY14,2,FALSE))","v":""},"",{"$f":"IF(ISBLANK(B665),\"\",VLOOKUP(B665,NSLPandADEtableFY14,11,FALSE))","v":""},null,null,null,null,null,null,null,"Heritage Elementary School - 078985101"]
["",null,{"$f":"IF(ISBLANK(B666),\"\",VLOOKUP(B666,NSLPandADEtableFY14,14,FALSE))","v":""},{"$f":"IF(ISBLANK(B666),\"\",VLOOKUP(B666,NSLPandADEtableFY14,15,FALSE))","v":""},{"$f":"IF(ISBLANK(B666),\"\",VLOOKUP(B666,NSLPandADEtableFY14,2,FALSE))","v":""},"",{"$f":"IF(ISBLANK(B666),\"\",VLOOKUP(B666,NSLPandADEtableFY14,11,FALSE))","v":""},null,null,null,null,null,null,null,"Heritage Middle School - 130251102"]
["",null,{"$f":"IF(ISBLANK(B667),\"\",VLOOKUP(B667,NSLPandADEtableFY14,14,FALSE))","v":""},{"$f":"IF(ISBLANK(B667),\"\",VLOOKUP(B667,NSLPandADEtableFY14,15,FALSE))","v":""},{"$f":"IF(ISBLANK(B667),\"\",VLOOKUP(B667,NSLPandADEtableFY14,2,FALSE))","v":""},"",{"$f":"IF(ISBLANK(B667),\"\",VLOOKUP(B667,NSLPandADEtableFY14,11,FALSE))","v":""},null,null,null,null,null,null,null,"Heritage School - 070211104"]
["",null,{"$f":"IF(ISBLANK(B668),\"\",VLOOKUP(B668,NSLPandADEtableFY14,14,FALSE))","v":""},{"$f":"IF(ISBLANK(B668),\"\",VLOOKUP(B668,NSLPandADEtableFY14,15,FALSE))","v":""},{"$f":"IF(ISBLANK(B668),\"\",VLOOKUP(B668,NSLPandADEtableFY14,2,FALSE))","v":""},"",{"$f":"IF(ISBLANK(B668),\"\",VLOOKUP(B668,NSLPandADEtableFY14,11,FALSE))","v":""},null,null,null,null,null,null,null,"Hermosa Vista Elementary School - 070204143"]
["",null,{"$f":"IF(ISBLANK(B669),\"\",VLOOKUP(B669,NSLPandADEtableFY14,14,FALSE))","v":""},{"$f":"IF(ISBLANK(B669),\"\",VLOOKUP(B669,NSLPandADEtableFY14,15,FALSE))","v":""},{"$f":"IF(ISBLANK(B669),\"\",VLOOKUP(B669,NSLPandADEtableFY14,2,FALSE))","v":""},"",{"$f":"IF(ISBLANK(B669),\"\",VLOOKUP(B669,NSLPandADEtableFY14,11,FALSE))","v":""},null,null,null,null,null,null,null,"Hiaki High School - 108505001"]
["",null,{"$f":"IF(ISBLANK(B670),\"\",VLOOKUP(B670,NSLPandADEtableFY14,14,FALSE))","v":""},{"$f":"IF(ISBLANK(B670),\"\",VLOOKUP(B670,NSLPandADEtableFY14,15,FALSE))","v":""},{"$f":"IF(ISBLANK(B670),\"\",VLOOKUP(B670,NSLPandADEtableFY14,2,FALSE))","v":""},"",{"$f":"IF(ISBLANK(B670),\"\",VLOOKUP(B670,NSLPandADEtableFY14,11,FALSE))","v":""},null,null,null,null,null,null,null,"Hidden Hills Elementary School - 070269124"]
["",null,{"$f":"IF(ISBLANK(B671),\"\",VLOOKUP(B671,NSLPandADEtableFY14,14,FALSE))","v":""},{"$f":"IF(ISBLANK(B671),\"\",VLOOKUP(B671,NSLPandADEtableFY14,15,FALSE))","v":""},{"$f":"IF(ISBLANK(B671),\"\",VLOOKUP(B671,NSLPandADEtableFY14,2,FALSE))","v":""},"",{"$f":"IF(ISBLANK(B671),\"\",VLOOKUP(B671,NSLPandADEtableFY14,11,FALSE))","v":""},null,null,null,null,null,null,null,"High Desert Middle School - 040201105"]
["",null,{"$f":"IF(ISBLANK(B672),\"\",VLOOKUP(B672,NSLPandADEtableFY14,14,FALSE))","v":""},{"$f":"IF(ISBLANK(B672),\"\",VLOOKUP(B672,NSLPandADEtableFY14,15,FALSE))","v":""},{"$f":"IF(ISBLANK(B672),\"\",VLOOKUP(B672,NSLPandADEtableFY14,2,FALSE))","v":""},"",{"$f":"IF(ISBLANK(B672),\"\",VLOOKUP(B672,NSLPandADEtableFY14,11,FALSE))","v":""},null,null,null,null,null,null,null,"Highland Elementary School - 070204132"]
["",null,{"$f":"IF(ISBLANK(B673),\"\",VLOOKUP(B673,NSLPandADEtableFY14,14,FALSE))","v":""},{"$f":"IF(ISBLANK(B673),\"\",VLOOKUP(B673,NSLPandADEtableFY14,15,FALSE))","v":""},{"$f":"IF(ISBLANK(B673),\"\",VLOOKUP(B673,NSLPandADEtableFY14,2,FALSE))","v":""},"",{"$f":"IF(ISBLANK(B673),\"\",VLOOKUP(B673,NSLPandADEtableFY14,11,FALSE))","v":""},null,null,null,null,null,null,null,"Highland High School - 070241211"]
["",null,{"$f":"IF(ISBLANK(B674),\"\",VLOOKUP(B674,NSLPandADEtableFY14,14,FALSE))","v":""},{"$f":"IF(ISBLANK(B674),\"\",VLOOKUP(B674,NSLPandADEtableFY14,15,FALSE))","v":""},{"$f":"IF(ISBLANK(B674),\"\",VLOOKUP(B674,NSLPandADEtableFY14,2,FALSE))","v":""},"",{"$f":"IF(ISBLANK(B674),\"\",VLOOKUP(B674,NSLPandADEtableFY14,11,FALSE))","v":""},null,null,null,null,null,null,null,"Highland Jr High School - 070241123"]
["",null,{"$f":"IF(ISBLANK(B675),\"\",VLOOKUP(B675,NSLPandADEtableFY14,14,FALSE))","v":""},{"$f":"IF(ISBLANK(B675),\"\",VLOOKUP(B675,NSLPandADEtableFY14,15,FALSE))","v":""},{"$f":"IF(ISBLANK(B675),\"\",VLOOKUP(B675,NSLPandADEtableFY14,2,FALSE))","v":""},"",{"$f":"IF(ISBLANK(B675),\"\",VLOOKUP(B675,NSLPandADEtableFY14,11,FALSE))","v":""},null,null,null,null,null,null,null,"Highland Lakes School - 070297136"]
["",null,{"$f":"IF(ISBLANK(B676),\"\",VLOOKUP(B676,NSLPandADEtableFY14,14,FALSE))","v":""},{"$f":"IF(ISBLANK(B676),\"\",VLOOKUP(B676,NSLPandADEtableFY14,15,FALSE))","v":""},{"$f":"IF(ISBLANK(B676),\"\",VLOOKUP(B676,NSLPandADEtableFY14,2,FALSE))","v":""},"",{"$f":"IF(ISBLANK(B676),\"\",VLOOKUP(B676,NSLPandADEtableFY14,11,FALSE))","v":""},null,null,null,null,null,null,null,"Highland Park Elementary - 070241166"]
["",null,{"$f":"IF(ISBLANK(B677),\"\",VLOOKUP(B677,NSLPandADEtableFY14,14,FALSE))","v":""},{"$f":"IF(ISBLANK(B677),\"\",VLOOKUP(B677,NSLPandADEtableFY14,15,FALSE))","v":""},{"$f":"IF(ISBLANK(B677),\"\",VLOOKUP(B677,NSLPandADEtableFY14,2,FALSE))","v":""},"",{"$f":"IF(ISBLANK(B677),\"\",VLOOKUP(B677,NSLPandADEtableFY14,11,FALSE))","v":""},null,null,null,null,null,null,null,"Highland Primary School - 090205006"]
["",null,{"$f":"IF(ISBLANK(B678),\"\",VLOOKUP(B678,NSLPandADEtableFY14,14,FALSE))","v":""},{"$f":"IF(ISBLANK(B678),\"\",VLOOKUP(B678,NSLPandADEtableFY14,15,FALSE))","v":""},{"$f":"IF(ISBLANK(B678),\"\",VLOOKUP(B678,NSLPandADEtableFY14,2,FALSE))","v":""},"",{"$f":"IF(ISBLANK(B678),\"\",VLOOKUP(B678,NSLPandADEtableFY14,11,FALSE))","v":""},null,null,null,null,null,null,null,"Higley High School - 070260201"]
["",null,{"$f":"IF(ISBLANK(B679),\"\",VLOOKUP(B679,NSLPandADEtableFY14,14,FALSE))","v":""},{"$f":"IF(ISBLANK(B679),\"\",VLOOKUP(B679,NSLPandADEtableFY14,15,FALSE))","v":""},{"$f":"IF(ISBLANK(B679),\"\",VLOOKUP(B679,NSLPandADEtableFY14,2,FALSE))","v":""},"",{"$f":"IF(ISBLANK(B679),\"\",VLOOKUP(B679,NSLPandADEtableFY14,11,FALSE))","v":""},null,null,null,null,null,null,null,"Higley Traditional Academy - 070260101"]
["",null,{"$f":"IF(ISBLANK(B680),\"\",VLOOKUP(B680,NSLPandADEtableFY14,14,FALSE))","v":""},{"$f":"IF(ISBLANK(B680),\"\",VLOOKUP(B680,NSLPandADEtableFY14,15,FALSE))","v":""},{"$f":"IF(ISBLANK(B680),\"\",VLOOKUP(B680,NSLPandADEtableFY14,2,FALSE))","v":""},"",{"$f":"IF(ISBLANK(B680),\"\",VLOOKUP(B680,NSLPandADEtableFY14,11,FALSE))","v":""},null,null,null,null,null,null,null,"Hillcrest Middle School - 070297128"]
["",null,{"$f":"IF(ISBLANK(B681),\"\",VLOOKUP(B681,NSLPandADEtableFY14,14,FALSE))","v":""},{"$f":"IF(ISBLANK(B681),\"\",VLOOKUP(B681,NSLPandADEtableFY14,15,FALSE))","v":""},{"$f":"IF(ISBLANK(B681),\"\",VLOOKUP(B681,NSLPandADEtableFY14,2,FALSE))","v":""},"",{"$f":"IF(ISBLANK(B681),\"\",VLOOKUP(B681,NSLPandADEtableFY14,11,FALSE))","v":""},null,null,null,null,null,null,null,"HoHoKam Middle School - 110221005"]
["",null,{"$f":"IF(ISBLANK(B682),\"\",VLOOKUP(B682,NSLPandADEtableFY14,14,FALSE))","v":""},{"$f":"IF(ISBLANK(B682),\"\",VLOOKUP(B682,NSLPandADEtableFY14,15,FALSE))","v":""},{"$f":"IF(ISBLANK(B682),\"\",VLOOKUP(B682,NSLPandADEtableFY14,2,FALSE))","v":""},"",{"$f":"IF(ISBLANK(B682),\"\",VLOOKUP(B682,NSLPandADEtableFY14,11,FALSE))","v":""},null,null,null,null,null,null,null,"Hohokam Middle School - 100201513"]
["",null,{"$f":"IF(ISBLANK(B683),\"\",VLOOKUP(B683,NSLPandADEtableFY14,14,FALSE))","v":""},{"$f":"IF(ISBLANK(B683),\"\",VLOOKUP(B683,NSLPandADEtableFY14,15,FALSE))","v":""},{"$f":"IF(ISBLANK(B683),\"\",VLOOKUP(B683,NSLPandADEtableFY14,2,FALSE))","v":""},"",{"$f":"IF(ISBLANK(B683),\"\",VLOOKUP(B683,NSLPandADEtableFY14,11,FALSE))","v":""},null,null,null,null,null,null,null,"Hohokam Traditional School - 070248114"]
["",null,{"$f":"IF(ISBLANK(B684),\"\",VLOOKUP(B684,NSLPandADEtableFY14,14,FALSE))","v":""},{"$f":"IF(ISBLANK(B684),\"\",VLOOKUP(B684,NSLPandADEtableFY14,15,FALSE))","v":""},{"$f":"IF(ISBLANK(B684),\"\",VLOOKUP(B684,NSLPandADEtableFY14,2,FALSE))","v":""},"",{"$f":"IF(ISBLANK(B684),\"\",VLOOKUP(B684,NSLPandADEtableFY14,11,FALSE))","v":""},null,null,null,null,null,null,null,"Holbrook High School - 090203207"]
["",null,{"$f":"IF(ISBLANK(B685),\"\",VLOOKUP(B685,NSLPandADEtableFY14,14,FALSE))","v":""},{"$f":"IF(ISBLANK(B685),\"\",VLOOKUP(B685,NSLPandADEtableFY14,15,FALSE))","v":""},{"$f":"IF(ISBLANK(B685),\"\",VLOOKUP(B685,NSLPandADEtableFY14,2,FALSE))","v":""},"",{"$f":"IF(ISBLANK(B685),\"\",VLOOKUP(B685,NSLPandADEtableFY14,11,FALSE))","v":""},null,null,null,null,null,null,null,"Holbrook Junior High School - 090203106"]
["",null,{"$f":"IF(ISBLANK(B686),\"\",VLOOKUP(B686,NSLPandADEtableFY14,14,FALSE))","v":""},{"$f":"IF(ISBLANK(B686),\"\",VLOOKUP(B686,NSLPandADEtableFY14,15,FALSE))","v":""},{"$f":"IF(ISBLANK(B686),\"\",VLOOKUP(B686,NSLPandADEtableFY14,2,FALSE))","v":""},"",{"$f":"IF(ISBLANK(B686),\"\",VLOOKUP(B686,NSLPandADEtableFY14,11,FALSE))","v":""},null,null,null,null,null,null,null,"Holdeman Elementary School - 070403115"]
["",null,{"$f":"IF(ISBLANK(B687),\"\",VLOOKUP(B687,NSLPandADEtableFY14,14,FALSE))","v":""},{"$f":"IF(ISBLANK(B687),\"\",VLOOKUP(B687,NSLPandADEtableFY14,15,FALSE))","v":""},{"$f":"IF(ISBLANK(B687),\"\",VLOOKUP(B687,NSLPandADEtableFY14,2,FALSE))","v":""},"",{"$f":"IF(ISBLANK(B687),\"\",VLOOKUP(B687,NSLPandADEtableFY14,11,FALSE))","v":""},null,null,null,null,null,null,null,"Holiday Park School - 070483105"]
["",null,{"$f":"IF(ISBLANK(B688),\"\",VLOOKUP(B688,NSLPandADEtableFY14,14,FALSE))","v":""},{"$f":"IF(ISBLANK(B688),\"\",VLOOKUP(B688,NSLPandADEtableFY14,15,FALSE))","v":""},{"$f":"IF(ISBLANK(B688),\"\",VLOOKUP(B688,NSLPandADEtableFY14,2,FALSE))","v":""},"",{"$f":"IF(ISBLANK(B688),\"\",VLOOKUP(B688,NSLPandADEtableFY14,11,FALSE))","v":""},null,null,null,null,null,null,null,"Holladay Intermediate Magnet School - 100201239"]
["",null,{"$f":"IF(ISBLANK(B689),\"\",VLOOKUP(B689,NSLPandADEtableFY14,14,FALSE))","v":""},{"$f":"IF(ISBLANK(B689),\"\",VLOOKUP(B689,NSLPandADEtableFY14,15,FALSE))","v":""},{"$f":"IF(ISBLANK(B689),\"\",VLOOKUP(B689,NSLPandADEtableFY14,2,FALSE))","v":""},"",{"$f":"IF(ISBLANK(B689),\"\",VLOOKUP(B689,NSLPandADEtableFY14,11,FALSE))","v":""},null,null,null,null,null,null,null,"Hollinger Elementary School - 100201233"]
["",null,{"$f":"IF(ISBLANK(B690),\"\",VLOOKUP(B690,NSLPandADEtableFY14,14,FALSE))","v":""},{"$f":"IF(ISBLANK(B690),\"\",VLOOKUP(B690,NSLPandADEtableFY14,15,FALSE))","v":""},{"$f":"IF(ISBLANK(B690),\"\",VLOOKUP(B690,NSLPandADEtableFY14,2,FALSE))","v":""},"",{"$f":"IF(ISBLANK(B690),\"\",VLOOKUP(B690,NSLPandADEtableFY14,11,FALSE))","v":""},null,null,null,null,null,null,null,"Holmes Elementary School - 070204107"]
["",null,{"$f":"IF(ISBLANK(B691),\"\",VLOOKUP(B691,NSLPandADEtableFY14,14,FALSE))","v":""},{"$f":"IF(ISBLANK(B691),\"\",VLOOKUP(B691,NSLPandADEtableFY14,15,FALSE))","v":""},{"$f":"IF(ISBLANK(B691),\"\",VLOOKUP(B691,NSLPandADEtableFY14,2,FALSE))","v":""},"",{"$f":"IF(ISBLANK(B691),\"\",VLOOKUP(B691,NSLPandADEtableFY14,11,FALSE))","v":""},null,null,null,null,null,null,null,"Homer Davis Elementary School - 100208120"]
["",null,{"$f":"IF(ISBLANK(B692),\"\",VLOOKUP(B692,NSLPandADEtableFY14,14,FALSE))","v":""},{"$f":"IF(ISBLANK(B692),\"\",VLOOKUP(B692,NSLPandADEtableFY14,15,FALSE))","v":""},{"$f":"IF(ISBLANK(B692),\"\",VLOOKUP(B692,NSLPandADEtableFY14,2,FALSE))","v":""},"",{"$f":"IF(ISBLANK(B692),\"\",VLOOKUP(B692,NSLPandADEtableFY14,11,FALSE))","v":""},null,null,null,null,null,null,null,"Hope School - 111099001"]
["",null,{"$f":"IF(ISBLANK(B693),\"\",VLOOKUP(B693,NSLPandADEtableFY14,14,FALSE))","v":""},{"$f":"IF(ISBLANK(B693),\"\",VLOOKUP(B693,NSLPandADEtableFY14,15,FALSE))","v":""},{"$f":"IF(ISBLANK(B693),\"\",VLOOKUP(B693,NSLPandADEtableFY14,2,FALSE))","v":""},"",{"$f":"IF(ISBLANK(B693),\"\",VLOOKUP(B693,NSLPandADEtableFY14,11,FALSE))","v":""},null,null,null,null,null,null,null,"Hopi Day School - 093906005"]
["",null,{"$f":"IF(ISBLANK(B694),\"\",VLOOKUP(B694,NSLPandADEtableFY14,14,FALSE))","v":""},{"$f":"IF(ISBLANK(B694),\"\",VLOOKUP(B694,NSLPandADEtableFY14,15,FALSE))","v":""},{"$f":"IF(ISBLANK(B694),\"\",VLOOKUP(B694,NSLPandADEtableFY14,2,FALSE))","v":""},"",{"$f":"IF(ISBLANK(B694),\"\",VLOOKUP(B694,NSLPandADEtableFY14,11,FALSE))","v":""},null,null,null,null,null,null,null,"Hopi Elementary School - 070248112"]
["",null,{"$f":"IF(ISBLANK(B695),\"\",VLOOKUP(B695,NSLPandADEtableFY14,14,FALSE))","v":""},{"$f":"IF(ISBLANK(B695),\"\",VLOOKUP(B695,NSLPandADEtableFY14,15,FALSE))","v":""},{"$f":"IF(ISBLANK(B695),\"\",VLOOKUP(B695,NSLPandADEtableFY14,2,FALSE))","v":""},"",{"$f":"IF(ISBLANK(B695),\"\",VLOOKUP(B695,NSLPandADEtableFY14,11,FALSE))","v":""},null,null,null,null,null,null,null,"Hopi Jr. / Sr. High School - 093906002"]
["",null,{"$f":"IF(ISBLANK(B696),\"\",VLOOKUP(B696,NSLPandADEtableFY14,14,FALSE))","v":""},{"$f":"IF(ISBLANK(B696),\"\",VLOOKUP(B696,NSLPandADEtableFY14,15,FALSE))","v":""},{"$f":"IF(ISBLANK(B696),\"\",VLOOKUP(B696,NSLPandADEtableFY14,2,FALSE))","v":""},"",{"$f":"IF(ISBLANK(B696),\"\",VLOOKUP(B696,NSLPandADEtableFY14,11,FALSE))","v":""},null,null,null,null,null,null,null,"Hopi Mission School - 092004001"]
["",null,{"$f":"IF(ISBLANK(B697),\"\",VLOOKUP(B697,NSLPandADEtableFY14,14,FALSE))","v":""},{"$f":"IF(ISBLANK(B697),\"\",VLOOKUP(B697,NSLPandADEtableFY14,15,FALSE))","v":""},{"$f":"IF(ISBLANK(B697),\"\",VLOOKUP(B697,NSLPandADEtableFY14,2,FALSE))","v":""},"",{"$f":"IF(ISBLANK(B697),\"\",VLOOKUP(B697,NSLPandADEtableFY14,11,FALSE))","v":""},null,null,null,null,null,null,null,"Horizon High School - 070269293"]
["",null,{"$f":"IF(ISBLANK(B698),\"\",VLOOKUP(B698,NSLPandADEtableFY14,14,FALSE))","v":""},{"$f":"IF(ISBLANK(B698),\"\",VLOOKUP(B698,NSLPandADEtableFY14,15,FALSE))","v":""},{"$f":"IF(ISBLANK(B698),\"\",VLOOKUP(B698,NSLPandADEtableFY14,2,FALSE))","v":""},"",{"$f":"IF(ISBLANK(B698),\"\",VLOOKUP(B698,NSLPandADEtableFY14,11,FALSE))","v":""},null,null,null,null,null,null,null,"Horizon School - 070440110"]
["",null,{"$f":"IF(ISBLANK(B699),\"\",VLOOKUP(B699,NSLPandADEtableFY14,14,FALSE))","v":""},{"$f":"IF(ISBLANK(B699),\"\",VLOOKUP(B699,NSLPandADEtableFY14,15,FALSE))","v":""},{"$f":"IF(ISBLANK(B699),\"\",VLOOKUP(B699,NSLPandADEtableFY14,2,FALSE))","v":""},"",{"$f":"IF(ISBLANK(B699),\"\",VLOOKUP(B699,NSLPandADEtableFY14,11,FALSE))","v":""},null,null,null,null,null,null,null,"Horseshoe Trails Elementary School - 070293708"]
["",null,{"$f":"IF(ISBLANK(B700),\"\",VLOOKUP(B700,NSLPandADEtableFY14,14,FALSE))","v":""},{"$f":"IF(ISBLANK(B700),\"\",VLOOKUP(B700,NSLPandADEtableFY14,15,FALSE))","v":""},{"$f":"IF(ISBLANK(B700),\"\",VLOOKUP(B700,NSLPandADEtableFY14,2,FALSE))","v":""},"",{"$f":"IF(ISBLANK(B700),\"\",VLOOKUP(B700,NSLPandADEtableFY14,11,FALSE))","v":""},null,null,null,null,null,null,null,"Hotevilla Bacavi Community School - 093906006"]
["",null,{"$f":"IF(ISBLANK(B701),\"\",VLOOKUP(B701,NSLPandADEtableFY14,14,FALSE))","v":""},{"$f":"IF(ISBLANK(B701),\"\",VLOOKUP(B701,NSLPandADEtableFY14,15,FALSE))","v":""},{"$f":"IF(ISBLANK(B701),\"\",VLOOKUP(B701,NSLPandADEtableFY14,2,FALSE))","v":""},"",{"$f":"IF(ISBLANK(B701),\"\",VLOOKUP(B701,NSLPandADEtableFY14,11,FALSE))","v":""},null,null,null,null,null,null,null,"Houston Elementary School - 070241146"]
["",null,{"$f":"IF(ISBLANK(B702),\"\",VLOOKUP(B702,NSLPandADEtableFY14,14,FALSE))","v":""},{"$f":"IF(ISBLANK(B702),\"\",VLOOKUP(B702,NSLPandADEtableFY14,15,FALSE))","v":""},{"$f":"IF(ISBLANK(B702),\"\",VLOOKUP(B702,NSLPandADEtableFY14,2,FALSE))","v":""},"",{"$f":"IF(ISBLANK(B702),\"\",VLOOKUP(B702,NSLPandADEtableFY14,11,FALSE))","v":""},null,null,null,null,null,null,null,"Howell Peter Elementary - 100201245"]
["",null,{"$f":"IF(ISBLANK(B703),\"\",VLOOKUP(B703,NSLPandADEtableFY14,14,FALSE))","v":""},{"$f":"IF(ISBLANK(B703),\"\",VLOOKUP(B703,NSLPandADEtableFY14,15,FALSE))","v":""},{"$f":"IF(ISBLANK(B703),\"\",VLOOKUP(B703,NSLPandADEtableFY14,2,FALSE))","v":""},"",{"$f":"IF(ISBLANK(B703),\"\",VLOOKUP(B703,NSLPandADEtableFY14,11,FALSE))","v":""},null,null,null,null,null,null,null,"Howenstine High School - 100201680"]
["",null,{"$f":"IF(ISBLANK(B704),\"\",VLOOKUP(B704,NSLPandADEtableFY14,14,FALSE))","v":""},{"$f":"IF(ISBLANK(B704),\"\",VLOOKUP(B704,NSLPandADEtableFY14,15,FALSE))","v":""},{"$f":"IF(ISBLANK(B704),\"\",VLOOKUP(B704,NSLPandADEtableFY14,2,FALSE))","v":""},"",{"$f":"IF(ISBLANK(B704),\"\",VLOOKUP(B704,NSLPandADEtableFY14,11,FALSE))","v":""},null,null,null,null,null,null,null,"Huachuca City School - 020201101"]
["",null,{"$f":"IF(ISBLANK(B705),\"\",VLOOKUP(B705,NSLPandADEtableFY14,14,FALSE))","v":""},{"$f":"IF(ISBLANK(B705),\"\",VLOOKUP(B705,NSLPandADEtableFY14,15,FALSE))","v":""},{"$f":"IF(ISBLANK(B705),\"\",VLOOKUP(B705,NSLPandADEtableFY14,2,FALSE))","v":""},"",{"$f":"IF(ISBLANK(B705),\"\",VLOOKUP(B705,NSLPandADEtableFY14,11,FALSE))","v":""},null,null,null,null,null,null,null,"Huachuca Mountain Elementary School - 020268120"]
["",null,{"$f":"IF(ISBLANK(B706),\"\",VLOOKUP(B706,NSLPandADEtableFY14,14,FALSE))","v":""},{"$f":"IF(ISBLANK(B706),\"\",VLOOKUP(B706,NSLPandADEtableFY14,15,FALSE))","v":""},{"$f":"IF(ISBLANK(B706),\"\",VLOOKUP(B706,NSLPandADEtableFY14,2,FALSE))","v":""},"",{"$f":"IF(ISBLANK(B706),\"\",VLOOKUP(B706,NSLPandADEtableFY14,11,FALSE))","v":""},null,null,null,null,null,null,null,"Hualapai Elementary - 080220110"]
["",null,{"$f":"IF(ISBLANK(B707),\"\",VLOOKUP(B707,NSLPandADEtableFY14,14,FALSE))","v":""},{"$f":"IF(ISBLANK(B707),\"\",VLOOKUP(B707,NSLPandADEtableFY14,15,FALSE))","v":""},{"$f":"IF(ISBLANK(B707),\"\",VLOOKUP(B707,NSLPandADEtableFY14,2,FALSE))","v":""},"",{"$f":"IF(ISBLANK(B707),\"\",VLOOKUP(B707,NSLPandADEtableFY14,11,FALSE))","v":""},null,null,null,null,null,null,null,"Hudlow Elementary School - 100201251"]
["",null,{"$f":"IF(ISBLANK(B708),\"\",VLOOKUP(B708,NSLPandADEtableFY14,14,FALSE))","v":""},{"$f":"IF(ISBLANK(B708),\"\",VLOOKUP(B708,NSLPandADEtableFY14,15,FALSE))","v":""},{"$f":"IF(ISBLANK(B708),\"\",VLOOKUP(B708,NSLPandADEtableFY14,2,FALSE))","v":""},"",{"$f":"IF(ISBLANK(B708),\"\",VLOOKUP(B708,NSLPandADEtableFY14,11,FALSE))","v":""},null,null,null,null,null,null,null,"Hudson Elementary School - 070403120"]
["",null,{"$f":"IF(ISBLANK(B709),\"\",VLOOKUP(B709,NSLPandADEtableFY14,14,FALSE))","v":""},{"$f":"IF(ISBLANK(B709),\"\",VLOOKUP(B709,NSLPandADEtableFY14,15,FALSE))","v":""},{"$f":"IF(ISBLANK(B709),\"\",VLOOKUP(B709,NSLPandADEtableFY14,2,FALSE))","v":""},"",{"$f":"IF(ISBLANK(B709),\"\",VLOOKUP(B709,NSLPandADEtableFY14,11,FALSE))","v":""},null,null,null,null,null,null,null,"Hulet Elementary School - 090203102"]
["",null,{"$f":"IF(ISBLANK(B710),\"\",VLOOKUP(B710,NSLPandADEtableFY14,14,FALSE))","v":""},{"$f":"IF(ISBLANK(B710),\"\",VLOOKUP(B710,NSLPandADEtableFY14,15,FALSE))","v":""},{"$f":"IF(ISBLANK(B710),\"\",VLOOKUP(B710,NSLPandADEtableFY14,2,FALSE))","v":""},"",{"$f":"IF(ISBLANK(B710),\"\",VLOOKUP(B710,NSLPandADEtableFY14,11,FALSE))","v":""},null,null,null,null,null,null,null,"Humboldt Elementary School - 130222131"]
["",null,{"$f":"IF(ISBLANK(B711),\"\",VLOOKUP(B711,NSLPandADEtableFY14,14,FALSE))","v":""},{"$f":"IF(ISBLANK(B711),\"\",VLOOKUP(B711,NSLPandADEtableFY14,15,FALSE))","v":""},{"$f":"IF(ISBLANK(B711),\"\",VLOOKUP(B711,NSLPandADEtableFY14,2,FALSE))","v":""},"",{"$f":"IF(ISBLANK(B711),\"\",VLOOKUP(B711,NSLPandADEtableFY14,11,FALSE))","v":""},null,null,null,null,null,null,null,"Hunters Point Boarding School - 014012002"]
["",null,{"$f":"IF(ISBLANK(B712),\"\",VLOOKUP(B712,NSLPandADEtableFY14,14,FALSE))","v":""},{"$f":"IF(ISBLANK(B712),\"\",VLOOKUP(B712,NSLPandADEtableFY14,15,FALSE))","v":""},{"$f":"IF(ISBLANK(B712),\"\",VLOOKUP(B712,NSLPandADEtableFY14,2,FALSE))","v":""},"",{"$f":"IF(ISBLANK(B712),\"\",VLOOKUP(B712,NSLPandADEtableFY14,11,FALSE))","v":""},null,null,null,null,null,null,null,"Hurley Ranch Elementary - 070462102"]
["",null,{"$f":"IF(ISBLANK(B713),\"\",VLOOKUP(B713,NSLPandADEtableFY14,14,FALSE))","v":""},{"$f":"IF(ISBLANK(B713),\"\",VLOOKUP(B713,NSLPandADEtableFY14,15,FALSE))","v":""},{"$f":"IF(ISBLANK(B713),\"\",VLOOKUP(B713,NSLPandADEtableFY14,2,FALSE))","v":""},"",{"$f":"IF(ISBLANK(B713),\"\",VLOOKUP(B713,NSLPandADEtableFY14,11,FALSE))","v":""},null,null,null,null,null,null,null,"Ida Flood Dodge Traditional Middle Magnet School - 100201502"]
["",null,{"$f":"IF(ISBLANK(B714),\"\",VLOOKUP(B714,NSLPandADEtableFY14,14,FALSE))","v":""},{"$f":"IF(ISBLANK(B714),\"\",VLOOKUP(B714,NSLPandADEtableFY14,15,FALSE))","v":""},{"$f":"IF(ISBLANK(B714),\"\",VLOOKUP(B714,NSLPandADEtableFY14,2,FALSE))","v":""},"",{"$f":"IF(ISBLANK(B714),\"\",VLOOKUP(B714,NSLPandADEtableFY14,11,FALSE))","v":""},null,null,null,null,null,null,null,"Ignacio Conchos School - 070466017"]
["",null,{"$f":"IF(ISBLANK(B715),\"\",VLOOKUP(B715,NSLPandADEtableFY14,14,FALSE))","v":""},{"$f":"IF(ISBLANK(B715),\"\",VLOOKUP(B715,NSLPandADEtableFY14,15,FALSE))","v":""},{"$f":"IF(ISBLANK(B715),\"\",VLOOKUP(B715,NSLPandADEtableFY14,2,FALSE))","v":""},"",{"$f":"IF(ISBLANK(B715),\"\",VLOOKUP(B715,NSLPandADEtableFY14,11,FALSE))","v":""},null,null,null,null,null,null,null,"Imagine Avondale Elementary - 078535101"]
[{"$f":"IF(ISBLANK(B716),\"\",\"Q-Public School\")","v":""},null,{"$f":"IF(ISBLANK(B716),\"\",VLOOKUP(B716,NSLPandADEtableFY14,14,FALSE))","v":""},{"$f":"IF(ISBLANK(B716),\"\",VLOOKUP(B716,NSLPandADEtableFY14,15,FALSE))","v":""},{"$f":"IF(ISBLANK(B716),\"\",VLOOKUP(B716,NSLPandADEtableFY14,2,FALSE))","v":""},{"$f":"IF(ISBLANK(B716),\"\",\"Free & Reduced Lunch Data (NSLP) March 2013\")","v":""},{"$f":"IF(ISBLANK(B716),\"\",VLOOKUP(B716,NSLPandADEtableFY14,11,FALSE))","v":""},null,null,null,null,null,null,null,"Imagine Avondale Middle - 078553001"]
["",null,{"$f":"IF(ISBLANK(B717),\"\",VLOOKUP(B717,NSLPandADEtableFY14,14,FALSE))","v":""},{"$f":"IF(ISBLANK(B717),\"\",VLOOKUP(B717,NSLPandADEtableFY14,15,FALSE))","v":""},{"$f":"IF(ISBLANK(B717),\"\",VLOOKUP(B717,NSLPandADEtableFY14,2,FALSE))","v":""},"",{"$f":"IF(ISBLANK(B717),\"\",VLOOKUP(B717,NSLPandADEtableFY14,11,FALSE))","v":""},null,null,null,null,null,null,null,"Imagine Bell Canyon - 078972101"]
["",null,{"$f":"IF(ISBLANK(B718),\"\",VLOOKUP(B718,NSLPandADEtableFY14,14,FALSE))","v":""},{"$f":"IF(ISBLANK(B718),\"\",VLOOKUP(B718,NSLPandADEtableFY14,15,FALSE))","v":""},{"$f":"IF(ISBLANK(B718),\"\",VLOOKUP(B718,NSLPandADEtableFY14,2,FALSE))","v":""},"",{"$f":"IF(ISBLANK(B718),\"\",VLOOKUP(B718,NSLPandADEtableFY14,11,FALSE))","v":""},null,null,null,null,null,null,null,"Imagine Camelback Elementary - 078519101"]
["",null,{"$f":"IF(ISBLANK(B719),\"\",VLOOKUP(B719,NSLPandADEtableFY14,14,FALSE))","v":""},{"$f":"IF(ISBLANK(B719),\"\",VLOOKUP(B719,NSLPandADEtableFY14,15,FALSE))","v":""},{"$f":"IF(ISBLANK(B719),\"\",VLOOKUP(B719,NSLPandADEtableFY14,2,FALSE))","v":""},"",{"$f":"IF(ISBLANK(B719),\"\",VLOOKUP(B719,NSLPandADEtableFY14,11,FALSE))","v":""},null,null,null,null,null,null,null,"Imagine Camelback Middle - 078531101"]
["",null,{"$f":"IF(ISBLANK(B720),\"\",VLOOKUP(B720,NSLPandADEtableFY14,14,FALSE))","v":""},{"$f":"IF(ISBLANK(B720),\"\",VLOOKUP(B720,NSLPandADEtableFY14,15,FALSE))","v":""},{"$f":"IF(ISBLANK(B720),\"\",VLOOKUP(B720,NSLPandADEtableFY14,2,FALSE))","v":""},"",{"$f":"IF(ISBLANK(B720),\"\",VLOOKUP(B720,NSLPandADEtableFY14,11,FALSE))","v":""},null,null,null,null,null,null,null,"Imagine Coolidge Elementary - 078536101"]
["",null,{"$f":"IF(ISBLANK(B721),\"\",VLOOKUP(B721,NSLPandADEtableFY14,14,FALSE))","v":""},{"$f":"IF(ISBLANK(B721),\"\",VLOOKUP(B721,NSLPandADEtableFY14,15,FALSE))","v":""},{"$f":"IF(ISBLANK(B721),\"\",VLOOKUP(B721,NSLPandADEtableFY14,2,FALSE))","v":""},"",{"$f":"IF(ISBLANK(B721),\"\",VLOOKUP(B721,NSLPandADEtableFY14,11,FALSE))","v":""},null,null,null,null,null,null,null,"Imagine Cortez Park Elementary - 078792101"]
["",null,{"$f":"IF(ISBLANK(B722),\"\",VLOOKUP(B722,NSLPandADEtableFY14,14,FALSE))","v":""},{"$f":"IF(ISBLANK(B722),\"\",VLOOKUP(B722,NSLPandADEtableFY14,15,FALSE))","v":""},{"$f":"IF(ISBLANK(B722),\"\",VLOOKUP(B722,NSLPandADEtableFY14,2,FALSE))","v":""},"",{"$f":"IF(ISBLANK(B722),\"\",VLOOKUP(B722,NSLPandADEtableFY14,11,FALSE))","v":""},null,null,null,null,null,null,null,"Imagine Cortez Park Middle - 078975101"]
["",null,{"$f":"IF(ISBLANK(B723),\"\",VLOOKUP(B723,NSLPandADEtableFY14,14,FALSE))","v":""},{"$f":"IF(ISBLANK(B723),\"\",VLOOKUP(B723,NSLPandADEtableFY14,15,FALSE))","v":""},{"$f":"IF(ISBLANK(B723),\"\",VLOOKUP(B723,NSLPandADEtableFY14,2,FALSE))","v":""},"",{"$f":"IF(ISBLANK(B723),\"\",VLOOKUP(B723,NSLPandADEtableFY14,11,FALSE))","v":""},null,null,null,null,null,null,null,"Imagine Desert West Elementary - 078520101"]
["",null,{"$f":"IF(ISBLANK(B724),\"\",VLOOKUP(B724,NSLPandADEtableFY14,14,FALSE))","v":""},{"$f":"IF(ISBLANK(B724),\"\",VLOOKUP(B724,NSLPandADEtableFY14,15,FALSE))","v":""},{"$f":"IF(ISBLANK(B724),\"\",VLOOKUP(B724,NSLPandADEtableFY14,2,FALSE))","v":""},"",{"$f":"IF(ISBLANK(B724),\"\",VLOOKUP(B724,NSLPandADEtableFY14,11,FALSE))","v":""},null,null,null,null,null,null,null,"Imagine Desert West Middle - 078532101"]
["",null,{"$f":"IF(ISBLANK(B725),\"\",VLOOKUP(B725,NSLPandADEtableFY14,14,FALSE))","v":""},{"$f":"IF(ISBLANK(B725),\"\",VLOOKUP(B725,NSLPandADEtableFY14,15,FALSE))","v":""},{"$f":"IF(ISBLANK(B725),\"\",VLOOKUP(B725,NSLPandADEtableFY14,2,FALSE))","v":""},"",{"$f":"IF(ISBLANK(B725),\"\",VLOOKUP(B725,NSLPandADEtableFY14,11,FALSE))","v":""},null,null,null,null,null,null,null,"Imagine East Mesa Elementary - 078509101"]
["",null,{"$f":"IF(ISBLANK(B726),\"\",VLOOKUP(B726,NSLPandADEtableFY14,14,FALSE))","v":""},{"$f":"IF(ISBLANK(B726),\"\",VLOOKUP(B726,NSLPandADEtableFY14,15,FALSE))","v":""},{"$f":"IF(ISBLANK(B726),\"\",VLOOKUP(B726,NSLPandADEtableFY14,2,FALSE))","v":""},"",{"$f":"IF(ISBLANK(B726),\"\",VLOOKUP(B726,NSLPandADEtableFY14,11,FALSE))","v":""},null,null,null,null,null,null,null,"Imagine East Mesa Middle - 078521001"]
["",null,{"$f":"IF(ISBLANK(B727),\"\",VLOOKUP(B727,NSLPandADEtableFY14,14,FALSE))","v":""},{"$f":"IF(ISBLANK(B727),\"\",VLOOKUP(B727,NSLPandADEtableFY14,15,FALSE))","v":""},{"$f":"IF(ISBLANK(B727),\"\",VLOOKUP(B727,NSLPandADEtableFY14,2,FALSE))","v":""},"",{"$f":"IF(ISBLANK(B727),\"\",VLOOKUP(B727,NSLPandADEtableFY14,11,FALSE))","v":""},null,null,null,null,null,null,null,"Imagine Prep Coolidge - 078547101"]
["",null,{"$f":"IF(ISBLANK(B728),\"\",VLOOKUP(B728,NSLPandADEtableFY14,14,FALSE))","v":""},{"$f":"IF(ISBLANK(B728),\"\",VLOOKUP(B728,NSLPandADEtableFY14,15,FALSE))","v":""},{"$f":"IF(ISBLANK(B728),\"\",VLOOKUP(B728,NSLPandADEtableFY14,2,FALSE))","v":""},"",{"$f":"IF(ISBLANK(B728),\"\",VLOOKUP(B728,NSLPandADEtableFY14,11,FALSE))","v":""},null,null,null,null,null,null,null,"Imagine Prep Superstition - 078537101"]
["",null,{"$f":"IF(ISBLANK(B729),\"\",VLOOKUP(B729,NSLPandADEtableFY14,14,FALSE))","v":""},{"$f":"IF(ISBLANK(B729),\"\",VLOOKUP(B729,NSLPandADEtableFY14,15,FALSE))","v":""},{"$f":"IF(ISBLANK(B729),\"\",VLOOKUP(B729,NSLPandADEtableFY14,2,FALSE))","v":""},"",{"$f":"IF(ISBLANK(B729),\"\",VLOOKUP(B729,NSLPandADEtableFY14,11,FALSE))","v":""},null,null,null,null,null,null,null,"Imagine Prep Surprise - 078538101"]
["",null,{"$f":"IF(ISBLANK(B730),\"\",VLOOKUP(B730,NSLPandADEtableFY14,14,FALSE))","v":""},{"$f":"IF(ISBLANK(B730),\"\",VLOOKUP(B730,NSLPandADEtableFY14,15,FALSE))","v":""},{"$f":"IF(ISBLANK(B730),\"\",VLOOKUP(B730,NSLPandADEtableFY14,2,FALSE))","v":""},"",{"$f":"IF(ISBLANK(B730),\"\",VLOOKUP(B730,NSLPandADEtableFY14,11,FALSE))","v":""},null,null,null,null,null,null,null,"Imagine Rosefield - 078508101"]
["",null,{"$f":"IF(ISBLANK(B731),\"\",VLOOKUP(B731,NSLPandADEtableFY14,14,FALSE))","v":""},{"$f":"IF(ISBLANK(B731),\"\",VLOOKUP(B731,NSLPandADEtableFY14,15,FALSE))","v":""},{"$f":"IF(ISBLANK(B731),\"\",VLOOKUP(B731,NSLPandADEtableFY14,2,FALSE))","v":""},"",{"$f":"IF(ISBLANK(B731),\"\",VLOOKUP(B731,NSLPandADEtableFY14,11,FALSE))","v":""},null,null,null,null,null,null,null,"Imagine Sierra Vista - 078973101"]
["",null,{"$f":"IF(ISBLANK(B732),\"\",VLOOKUP(B732,NSLPandADEtableFY14,14,FALSE))","v":""},{"$f":"IF(ISBLANK(B732),\"\",VLOOKUP(B732,NSLPandADEtableFY14,15,FALSE))","v":""},{"$f":"IF(ISBLANK(B732),\"\",VLOOKUP(B732,NSLPandADEtableFY14,2,FALSE))","v":""},"",{"$f":"IF(ISBLANK(B732),\"\",VLOOKUP(B732,NSLPandADEtableFY14,11,FALSE))","v":""},null,null,null,null,null,null,null,"Imagine Superstition Middle - 078552001"]
["",null,{"$f":"IF(ISBLANK(B733),\"\",VLOOKUP(B733,NSLPandADEtableFY14,14,FALSE))","v":""},{"$f":"IF(ISBLANK(B733),\"\",VLOOKUP(B733,NSLPandADEtableFY14,15,FALSE))","v":""},{"$f":"IF(ISBLANK(B733),\"\",VLOOKUP(B733,NSLPandADEtableFY14,2,FALSE))","v":""},"",{"$f":"IF(ISBLANK(B733),\"\",VLOOKUP(B733,NSLPandADEtableFY14,11,FALSE))","v":""},null,null,null,null,null,null,null,"Imagine Surprise Middle - 078522101"]
["",null,{"$f":"IF(ISBLANK(B734),\"\",VLOOKUP(B734,NSLPandADEtableFY14,14,FALSE))","v":""},{"$f":"IF(ISBLANK(B734),\"\",VLOOKUP(B734,NSLPandADEtableFY14,15,FALSE))","v":""},{"$f":"IF(ISBLANK(B734),\"\",VLOOKUP(B734,NSLPandADEtableFY14,2,FALSE))","v":""},"",{"$f":"IF(ISBLANK(B734),\"\",VLOOKUP(B734,NSLPandADEtableFY14,11,FALSE))","v":""},null,null,null,null,null,null,null,"Imagine Tempe - 078523101"]
["",null,{"$f":"IF(ISBLANK(B735),\"\",VLOOKUP(B735,NSLPandADEtableFY14,14,FALSE))","v":""},{"$f":"IF(ISBLANK(B735),\"\",VLOOKUP(B735,NSLPandADEtableFY14,15,FALSE))","v":""},{"$f":"IF(ISBLANK(B735),\"\",VLOOKUP(B735,NSLPandADEtableFY14,2,FALSE))","v":""},"",{"$f":"IF(ISBLANK(B735),\"\",VLOOKUP(B735,NSLPandADEtableFY14,11,FALSE))","v":""},null,null,null,null,null,null,null,"Imagine West Gilbert Elementary - 078935102"]
["",null,{"$f":"IF(ISBLANK(B736),\"\",VLOOKUP(B736,NSLPandADEtableFY14,14,FALSE))","v":""},{"$f":"IF(ISBLANK(B736),\"\",VLOOKUP(B736,NSLPandADEtableFY14,15,FALSE))","v":""},{"$f":"IF(ISBLANK(B736),\"\",VLOOKUP(B736,NSLPandADEtableFY14,2,FALSE))","v":""},"",{"$f":"IF(ISBLANK(B736),\"\",VLOOKUP(B736,NSLPandADEtableFY14,11,FALSE))","v":""},null,null,null,null,null,null,null,"Imagine West Gilbert Middle - 078974101"]
["",null,{"$f":"IF(ISBLANK(B737),\"\",VLOOKUP(B737,NSLPandADEtableFY14,14,FALSE))","v":""},{"$f":"IF(ISBLANK(B737),\"\",VLOOKUP(B737,NSLPandADEtableFY14,15,FALSE))","v":""},{"$f":"IF(ISBLANK(B737),\"\",VLOOKUP(B737,NSLPandADEtableFY14,2,FALSE))","v":""},"",{"$f":"IF(ISBLANK(B737),\"\",VLOOKUP(B737,NSLPandADEtableFY14,11,FALSE))","v":""},null,null,null,null,null,null,null,"Imago Dei Middle School - 102039001"]
["",null,{"$f":"IF(ISBLANK(B738),\"\",VLOOKUP(B738,NSLPandADEtableFY14,14,FALSE))","v":""},{"$f":"IF(ISBLANK(B738),\"\",VLOOKUP(B738,NSLPandADEtableFY14,15,FALSE))","v":""},{"$f":"IF(ISBLANK(B738),\"\",VLOOKUP(B738,NSLPandADEtableFY14,2,FALSE))","v":""},"",{"$f":"IF(ISBLANK(B738),\"\",VLOOKUP(B738,NSLPandADEtableFY14,11,FALSE))","v":""},null,null,null,null,null,null,null,"Immaculate Conception School - 142002001"]
["",null,{"$f":"IF(ISBLANK(B739),\"\",VLOOKUP(B739,NSLPandADEtableFY14,14,FALSE))","v":""},{"$f":"IF(ISBLANK(B739),\"\",VLOOKUP(B739,NSLPandADEtableFY14,15,FALSE))","v":""},{"$f":"IF(ISBLANK(B739),\"\",VLOOKUP(B739,NSLPandADEtableFY14,2,FALSE))","v":""},"",{"$f":"IF(ISBLANK(B739),\"\",VLOOKUP(B739,NSLPandADEtableFY14,11,FALSE))","v":""},null,null,null,null,null,null,null,"Immanuel Mision School - 012001001"]
["",null,{"$f":"IF(ISBLANK(B740),\"\",VLOOKUP(B740,NSLPandADEtableFY14,14,FALSE))","v":""},{"$f":"IF(ISBLANK(B740),\"\",VLOOKUP(B740,NSLPandADEtableFY14,15,FALSE))","v":""},{"$f":"IF(ISBLANK(B740),\"\",VLOOKUP(B740,NSLPandADEtableFY14,2,FALSE))","v":""},"",{"$f":"IF(ISBLANK(B740),\"\",VLOOKUP(B740,NSLPandADEtableFY14,11,FALSE))","v":""},null,null,null,null,null,null,null,"Inca Elementary School - 070433107"]
["",null,{"$f":"IF(ISBLANK(B741),\"\",VLOOKUP(B741,NSLPandADEtableFY14,14,FALSE))","v":""},{"$f":"IF(ISBLANK(B741),\"\",VLOOKUP(B741,NSLPandADEtableFY14,15,FALSE))","v":""},{"$f":"IF(ISBLANK(B741),\"\",VLOOKUP(B741,NSLPandADEtableFY14,2,FALSE))","v":""},"",{"$f":"IF(ISBLANK(B741),\"\",VLOOKUP(B741,NSLPandADEtableFY14,11,FALSE))","v":""},null,null,null,null,null,null,null,"Independence High School - 070505209"]
["",null,{"$f":"IF(ISBLANK(B742),\"\",VLOOKUP(B742,NSLPandADEtableFY14,14,FALSE))","v":""},{"$f":"IF(ISBLANK(B742),\"\",VLOOKUP(B742,NSLPandADEtableFY14,15,FALSE))","v":""},{"$f":"IF(ISBLANK(B742),\"\",VLOOKUP(B742,NSLPandADEtableFY14,2,FALSE))","v":""},"",{"$f":"IF(ISBLANK(B742),\"\",VLOOKUP(B742,NSLPandADEtableFY14,11,FALSE))","v":""},null,null,null,null,null,null,null,"Indian Bend Elementary School - 070269135"]
["",null,{"$f":"IF(ISBLANK(B743),\"\",VLOOKUP(B743,NSLPandADEtableFY14,14,FALSE))","v":""},{"$f":"IF(ISBLANK(B743),\"\",VLOOKUP(B743,NSLPandADEtableFY14,15,FALSE))","v":""},{"$f":"IF(ISBLANK(B743),\"\",VLOOKUP(B743,NSLPandADEtableFY14,2,FALSE))","v":""},"",{"$f":"IF(ISBLANK(B743),\"\",VLOOKUP(B743,NSLPandADEtableFY14,11,FALSE))","v":""},null,null,null,null,null,null,null,"Indian Oasis Elementary School - 100240101"]
["",null,{"$f":"IF(ISBLANK(B744),\"\",VLOOKUP(B744,NSLPandADEtableFY14,14,FALSE))","v":""},{"$f":"IF(ISBLANK(B744),\"\",VLOOKUP(B744,NSLPandADEtableFY14,15,FALSE))","v":""},{"$f":"IF(ISBLANK(B744),\"\",VLOOKUP(B744,NSLPandADEtableFY14,2,FALSE))","v":""},"",{"$f":"IF(ISBLANK(B744),\"\",VLOOKUP(B744,NSLPandADEtableFY14,11,FALSE))","v":""},null,null,null,null,null,null,null,"Indian Oasis Intermediate School to Baboquivari Middle School - Closed - 100240102"]
["",null,{"$f":"IF(ISBLANK(B745),\"\",VLOOKUP(B745,NSLPandADEtableFY14,14,FALSE))","v":""},{"$f":"IF(ISBLANK(B745),\"\",VLOOKUP(B745,NSLPandADEtableFY14,15,FALSE))","v":""},{"$f":"IF(ISBLANK(B745),\"\",VLOOKUP(B745,NSLPandADEtableFY14,2,FALSE))","v":""},"",{"$f":"IF(ISBLANK(B745),\"\",VLOOKUP(B745,NSLPandADEtableFY14,11,FALSE))","v":""},null,null,null,null,null,null,null,"Indian Wells Elementary - 090203104"]
["",null,{"$f":"IF(ISBLANK(B746),\"\",VLOOKUP(B746,NSLPandADEtableFY14,14,FALSE))","v":""},{"$f":"IF(ISBLANK(B746),\"\",VLOOKUP(B746,NSLPandADEtableFY14,15,FALSE))","v":""},{"$f":"IF(ISBLANK(B746),\"\",VLOOKUP(B746,NSLPandADEtableFY14,2,FALSE))","v":""},"",{"$f":"IF(ISBLANK(B746),\"\",VLOOKUP(B746,NSLPandADEtableFY14,11,FALSE))","v":""},null,null,null,null,null,null,null,"Ingleside Middle School - 070248165"]
["",null,{"$f":"IF(ISBLANK(B747),\"\",VLOOKUP(B747,NSLPandADEtableFY14,14,FALSE))","v":""},{"$f":"IF(ISBLANK(B747),\"\",VLOOKUP(B747,NSLPandADEtableFY14,15,FALSE))","v":""},{"$f":"IF(ISBLANK(B747),\"\",VLOOKUP(B747,NSLPandADEtableFY14,2,FALSE))","v":""},"",{"$f":"IF(ISBLANK(B747),\"\",VLOOKUP(B747,NSLPandADEtableFY14,11,FALSE))","v":""},null,null,null,null,null,null,null,"Inspire Education, A Mission Charter School - 078904102"]
["",null,{"$f":"IF(ISBLANK(B748),\"\",VLOOKUP(B748,NSLPandADEtableFY14,14,FALSE))","v":""},{"$f":"IF(ISBLANK(B748),\"\",VLOOKUP(B748,NSLPandADEtableFY14,15,FALSE))","v":""},{"$f":"IF(ISBLANK(B748),\"\",VLOOKUP(B748,NSLPandADEtableFY14,2,FALSE))","v":""},"",{"$f":"IF(ISBLANK(B748),\"\",VLOOKUP(B748,NSLPandADEtableFY14,11,FALSE))","v":""},null,null,null,null,null,null,null,"Integrity Education Centre - 078751001"]
["",null,{"$f":"IF(ISBLANK(B749),\"\",VLOOKUP(B749,NSLPandADEtableFY14,14,FALSE))","v":""},{"$f":"IF(ISBLANK(B749),\"\",VLOOKUP(B749,NSLPandADEtableFY14,15,FALSE))","v":""},{"$f":"IF(ISBLANK(B749),\"\",VLOOKUP(B749,NSLPandADEtableFY14,2,FALSE))","v":""},"",{"$f":"IF(ISBLANK(B749),\"\",VLOOKUP(B749,NSLPandADEtableFY14,11,FALSE))","v":""},null,null,null,null,null,null,null,"Intermountain Academy - 102142001"]
["",null,{"$f":"IF(ISBLANK(B750),\"\",VLOOKUP(B750,NSLPandADEtableFY14,14,FALSE))","v":""},{"$f":"IF(ISBLANK(B750),\"\",VLOOKUP(B750,NSLPandADEtableFY14,15,FALSE))","v":""},{"$f":"IF(ISBLANK(B750),\"\",VLOOKUP(B750,NSLPandADEtableFY14,2,FALSE))","v":""},"",{"$f":"IF(ISBLANK(B750),\"\",VLOOKUP(B750,NSLPandADEtableFY14,11,FALSE))","v":""},null,null,null,null,null,null,null,"Ira A Murphy - 070211102"]
["",null,{"$f":"IF(ISBLANK(B751),\"\",VLOOKUP(B751,NSLPandADEtableFY14,14,FALSE))","v":""},{"$f":"IF(ISBLANK(B751),\"\",VLOOKUP(B751,NSLPandADEtableFY14,15,FALSE))","v":""},{"$f":"IF(ISBLANK(B751),\"\",VLOOKUP(B751,NSLPandADEtableFY14,2,FALSE))","v":""},"",{"$f":"IF(ISBLANK(B751),\"\",VLOOKUP(B751,NSLPandADEtableFY14,11,FALSE))","v":""},null,null,null,null,null,null,null,"Ira A. Fulton Elementary - 070280138"]
["",null,{"$f":"IF(ISBLANK(B752),\"\",VLOOKUP(B752,NSLPandADEtableFY14,14,FALSE))","v":""},{"$f":"IF(ISBLANK(B752),\"\",VLOOKUP(B752,NSLPandADEtableFY14,15,FALSE))","v":""},{"$f":"IF(ISBLANK(B752),\"\",VLOOKUP(B752,NSLPandADEtableFY14,2,FALSE))","v":""},"",{"$f":"IF(ISBLANK(B752),\"\",VLOOKUP(B752,NSLPandADEtableFY14,11,FALSE))","v":""},null,null,null,null,null,null,null,"Ira H. Hayes High School - 118702201"]
["",null,{"$f":"IF(ISBLANK(B753),\"\",VLOOKUP(B753,NSLPandADEtableFY14,14,FALSE))","v":""},{"$f":"IF(ISBLANK(B753),\"\",VLOOKUP(B753,NSLPandADEtableFY14,15,FALSE))","v":""},{"$f":"IF(ISBLANK(B753),\"\",VLOOKUP(B753,NSLPandADEtableFY14,2,FALSE))","v":""},"",{"$f":"IF(ISBLANK(B753),\"\",VLOOKUP(B753,NSLPandADEtableFY14,11,FALSE))","v":""},null,null,null,null,null,null,null,"Irene Erickson Elementary School - 100201215"]
["",null,{"$f":"IF(ISBLANK(B754),\"\",VLOOKUP(B754,NSLPandADEtableFY14,14,FALSE))","v":""},{"$f":"IF(ISBLANK(B754),\"\",VLOOKUP(B754,NSLPandADEtableFY14,15,FALSE))","v":""},{"$f":"IF(ISBLANK(B754),\"\",VLOOKUP(B754,NSLPandADEtableFY14,2,FALSE))","v":""},"",{"$f":"IF(ISBLANK(B754),\"\",VLOOKUP(B754,NSLPandADEtableFY14,11,FALSE))","v":""},null,null,null,null,null,null,null,"Ironwood Elementary School - 100206117"]
["",null,{"$f":"IF(ISBLANK(B755),\"\",VLOOKUP(B755,NSLPandADEtableFY14,14,FALSE))","v":""},{"$f":"IF(ISBLANK(B755),\"\",VLOOKUP(B755,NSLPandADEtableFY14,15,FALSE))","v":""},{"$f":"IF(ISBLANK(B755),\"\",VLOOKUP(B755,NSLPandADEtableFY14,2,FALSE))","v":""},"",{"$f":"IF(ISBLANK(B755),\"\",VLOOKUP(B755,NSLPandADEtableFY14,11,FALSE))","v":""},null,null,null,null,null,null,null,"Ironwood Elementary School - 070406130"]
["",null,{"$f":"IF(ISBLANK(B756),\"\",VLOOKUP(B756,NSLPandADEtableFY14,14,FALSE))","v":""},{"$f":"IF(ISBLANK(B756),\"\",VLOOKUP(B756,NSLPandADEtableFY14,15,FALSE))","v":""},{"$f":"IF(ISBLANK(B756),\"\",VLOOKUP(B756,NSLPandADEtableFY14,2,FALSE))","v":""},"",{"$f":"IF(ISBLANK(B756),\"\",VLOOKUP(B756,NSLPandADEtableFY14,11,FALSE))","v":""},null,null,null,null,null,null,null,"Ironwood High School - 070211262"]
["",null,{"$f":"IF(ISBLANK(B757),\"\",VLOOKUP(B757,NSLPandADEtableFY14,14,FALSE))","v":""},{"$f":"IF(ISBLANK(B757),\"\",VLOOKUP(B757,NSLPandADEtableFY14,15,FALSE))","v":""},{"$f":"IF(ISBLANK(B757),\"\",VLOOKUP(B757,NSLPandADEtableFY14,2,FALSE))","v":""},"",{"$f":"IF(ISBLANK(B757),\"\",VLOOKUP(B757,NSLPandADEtableFY14,11,FALSE))","v":""},null,null,null,null,null,null,null,"Ironwood Ridge High School - 100210280"]
["",null,{"$f":"IF(ISBLANK(B758),\"\",VLOOKUP(B758,NSLPandADEtableFY14,14,FALSE))","v":""},{"$f":"IF(ISBLANK(B758),\"\",VLOOKUP(B758,NSLPandADEtableFY14,15,FALSE))","v":""},{"$f":"IF(ISBLANK(B758),\"\",VLOOKUP(B758,NSLPandADEtableFY14,2,FALSE))","v":""},"",{"$f":"IF(ISBLANK(B758),\"\",VLOOKUP(B758,NSLPandADEtableFY14,11,FALSE))","v":""},null,null,null,null,null,null,null,"Ironwood School - 110404108"]
["",null,{"$f":"IF(ISBLANK(B759),\"\",VLOOKUP(B759,NSLPandADEtableFY14,14,FALSE))","v":""},{"$f":"IF(ISBLANK(B759),\"\",VLOOKUP(B759,NSLPandADEtableFY14,15,FALSE))","v":""},{"$f":"IF(ISBLANK(B759),\"\",VLOOKUP(B759,NSLPandADEtableFY14,2,FALSE))","v":""},"",{"$f":"IF(ISBLANK(B759),\"\",VLOOKUP(B759,NSLPandADEtableFY14,11,FALSE))","v":""},null,null,null,null,null,null,null,"Irving Elementary School - 070204108"]
["",null,{"$f":"IF(ISBLANK(B760),\"\",VLOOKUP(B760,NSLPandADEtableFY14,14,FALSE))","v":""},{"$f":"IF(ISBLANK(B760),\"\",VLOOKUP(B760,NSLPandADEtableFY14,15,FALSE))","v":""},{"$f":"IF(ISBLANK(B760),\"\",VLOOKUP(B760,NSLPandADEtableFY14,2,FALSE))","v":""},"",{"$f":"IF(ISBLANK(B760),\"\",VLOOKUP(B760,NSLPandADEtableFY14,11,FALSE))","v":""},null,null,null,null,null,null,null,"Isaac E Imes School - 070440102"]
["",null,{"$f":"IF(ISBLANK(B761),\"\",VLOOKUP(B761,NSLPandADEtableFY14,14,FALSE))","v":""},{"$f":"IF(ISBLANK(B761),\"\",VLOOKUP(B761,NSLPandADEtableFY14,15,FALSE))","v":""},{"$f":"IF(ISBLANK(B761),\"\",VLOOKUP(B761,NSLPandADEtableFY14,2,FALSE))","v":""},"",{"$f":"IF(ISBLANK(B761),\"\",VLOOKUP(B761,NSLPandADEtableFY14,11,FALSE))","v":""},null,null,null,null,null,null,null,"Isaac Middle School - 070405101"]
["",null,{"$f":"IF(ISBLANK(B762),\"\",VLOOKUP(B762,NSLPandADEtableFY14,14,FALSE))","v":""},{"$f":"IF(ISBLANK(B762),\"\",VLOOKUP(B762,NSLPandADEtableFY14,15,FALSE))","v":""},{"$f":"IF(ISBLANK(B762),\"\",VLOOKUP(B762,NSLPandADEtableFY14,2,FALSE))","v":""},"",{"$f":"IF(ISBLANK(B762),\"\",VLOOKUP(B762,NSLPandADEtableFY14,11,FALSE))","v":""},null,null,null,null,null,null,null,"Ishikawa Elementary School - 070204140"]
["",null,{"$f":"IF(ISBLANK(B763),\"\",VLOOKUP(B763,NSLPandADEtableFY14,14,FALSE))","v":""},{"$f":"IF(ISBLANK(B763),\"\",VLOOKUP(B763,NSLPandADEtableFY14,15,FALSE))","v":""},{"$f":"IF(ISBLANK(B763),\"\",VLOOKUP(B763,NSLPandADEtableFY14,2,FALSE))","v":""},"",{"$f":"IF(ISBLANK(B763),\"\",VLOOKUP(B763,NSLPandADEtableFY14,11,FALSE))","v":""},null,null,null,null,null,null,null,"Islands Elementary School - 070241145"]
["",null,{"$f":"IF(ISBLANK(B764),\"\",VLOOKUP(B764,NSLPandADEtableFY14,14,FALSE))","v":""},{"$f":"IF(ISBLANK(B764),\"\",VLOOKUP(B764,NSLPandADEtableFY14,15,FALSE))","v":""},{"$f":"IF(ISBLANK(B764),\"\",VLOOKUP(B764,NSLPandADEtableFY14,2,FALSE))","v":""},"",{"$f":"IF(ISBLANK(B764),\"\",VLOOKUP(B764,NSLPandADEtableFY14,11,FALSE))","v":""},null,null,null,null,null,null,null,"J  Robert Hendricks Elementary School - 100208140"]
["",null,{"$f":"IF(ISBLANK(B765),\"\",VLOOKUP(B765,NSLPandADEtableFY14,14,FALSE))","v":""},{"$f":"IF(ISBLANK(B765),\"\",VLOOKUP(B765,NSLPandADEtableFY14,15,FALSE))","v":""},{"$f":"IF(ISBLANK(B765),\"\",VLOOKUP(B765,NSLPandADEtableFY14,2,FALSE))","v":""},"",{"$f":"IF(ISBLANK(B765),\"\",VLOOKUP(B765,NSLPandADEtableFY14,11,FALSE))","v":""},null,null,null,null,null,null,null,"J B Sutton Elementary School - 070405102"]
["",null,{"$f":"IF(ISBLANK(B766),\"\",VLOOKUP(B766,NSLPandADEtableFY14,14,FALSE))","v":""},{"$f":"IF(ISBLANK(B766),\"\",VLOOKUP(B766,NSLPandADEtableFY14,15,FALSE))","v":""},{"$f":"IF(ISBLANK(B766),\"\",VLOOKUP(B766,NSLPandADEtableFY14,2,FALSE))","v":""},"",{"$f":"IF(ISBLANK(B766),\"\",VLOOKUP(B766,NSLPandADEtableFY14,11,FALSE))","v":""},null,null,null,null,null,null,null,"J. O. Combs Middle School - 110244103"]
["",null,{"$f":"IF(ISBLANK(B767),\"\",VLOOKUP(B767,NSLPandADEtableFY14,14,FALSE))","v":""},{"$f":"IF(ISBLANK(B767),\"\",VLOOKUP(B767,NSLPandADEtableFY14,15,FALSE))","v":""},{"$f":"IF(ISBLANK(B767),\"\",VLOOKUP(B767,NSLPandADEtableFY14,2,FALSE))","v":""},"",{"$f":"IF(ISBLANK(B767),\"\",VLOOKUP(B767,NSLPandADEtableFY14,11,FALSE))","v":""},null,null,null,null,null,null,null,"Jack Barnes Elementary School - 070295103"]
["",null,{"$f":"IF(ISBLANK(B768),\"\",VLOOKUP(B768,NSLPandADEtableFY14,14,FALSE))","v":""},{"$f":"IF(ISBLANK(B768),\"\",VLOOKUP(B768,NSLPandADEtableFY14,15,FALSE))","v":""},{"$f":"IF(ISBLANK(B768),\"\",VLOOKUP(B768,NSLPandADEtableFY14,2,FALSE))","v":""},"",{"$f":"IF(ISBLANK(B768),\"\",VLOOKUP(B768,NSLPandADEtableFY14,11,FALSE))","v":""},null,null,null,null,null,null,null,"Jack Daley Primary School - 050204100"]
["",null,{"$f":"IF(ISBLANK(B769),\"\",VLOOKUP(B769,NSLPandADEtableFY14,14,FALSE))","v":""},{"$f":"IF(ISBLANK(B769),\"\",VLOOKUP(B769,NSLPandADEtableFY14,15,FALSE))","v":""},{"$f":"IF(ISBLANK(B769),\"\",VLOOKUP(B769,NSLPandADEtableFY14,2,FALSE))","v":""},"",{"$f":"IF(ISBLANK(B769),\"\",VLOOKUP(B769,NSLPandADEtableFY14,11,FALSE))","v":""},null,null,null,null,null,null,null,"Jack Harmon Elementary School - 110244104"]
["",null,{"$f":"IF(ISBLANK(B770),\"\",VLOOKUP(B770,NSLPandADEtableFY14,14,FALSE))","v":""},{"$f":"IF(ISBLANK(B770),\"\",VLOOKUP(B770,NSLPandADEtableFY14,15,FALSE))","v":""},{"$f":"IF(ISBLANK(B770),\"\",VLOOKUP(B770,NSLPandADEtableFY14,2,FALSE))","v":""},"",{"$f":"IF(ISBLANK(B770),\"\",VLOOKUP(B770,NSLPandADEtableFY14,11,FALSE))","v":""},null,null,null,null,null,null,null,"Jack L Kuban Elementary School - 070421102"]
["",null,{"$f":"IF(ISBLANK(B771),\"\",VLOOKUP(B771,NSLPandADEtableFY14,14,FALSE))","v":""},{"$f":"IF(ISBLANK(B771),\"\",VLOOKUP(B771,NSLPandADEtableFY14,15,FALSE))","v":""},{"$f":"IF(ISBLANK(B771),\"\",VLOOKUP(B771,NSLPandADEtableFY14,2,FALSE))","v":""},"",{"$f":"IF(ISBLANK(B771),\"\",VLOOKUP(B771,NSLPandADEtableFY14,11,FALSE))","v":""},null,null,null,null,null,null,null,"Jamaica Elementary School - 080201109"]
["",null,{"$f":"IF(ISBLANK(B772),\"\",VLOOKUP(B772,NSLPandADEtableFY14,14,FALSE))","v":""},{"$f":"IF(ISBLANK(B772),\"\",VLOOKUP(B772,NSLPandADEtableFY14,15,FALSE))","v":""},{"$f":"IF(ISBLANK(B772),\"\",VLOOKUP(B772,NSLPandADEtableFY14,2,FALSE))","v":""},"",{"$f":"IF(ISBLANK(B772),\"\",VLOOKUP(B772,NSLPandADEtableFY14,11,FALSE))","v":""},null,null,null,null,null,null,null,"James B Rolle School - 140401110"]
["",null,{"$f":"IF(ISBLANK(B773),\"\",VLOOKUP(B773,NSLPandADEtableFY14,14,FALSE))","v":""},{"$f":"IF(ISBLANK(B773),\"\",VLOOKUP(B773,NSLPandADEtableFY14,15,FALSE))","v":""},{"$f":"IF(ISBLANK(B773),\"\",VLOOKUP(B773,NSLPandADEtableFY14,2,FALSE))","v":""},"",{"$f":"IF(ISBLANK(B773),\"\",VLOOKUP(B773,NSLPandADEtableFY14,11,FALSE))","v":""},null,null,null,null,null,null,null,"James W. Rice Primary School - 070468103"]
["",null,{"$f":"IF(ISBLANK(B774),\"\",VLOOKUP(B774,NSLPandADEtableFY14,14,FALSE))","v":""},{"$f":"IF(ISBLANK(B774),\"\",VLOOKUP(B774,NSLPandADEtableFY14,15,FALSE))","v":""},{"$f":"IF(ISBLANK(B774),\"\",VLOOKUP(B774,NSLPandADEtableFY14,2,FALSE))","v":""},"",{"$f":"IF(ISBLANK(B774),\"\",VLOOKUP(B774,NSLPandADEtableFY14,11,FALSE))","v":""},null,null,null,null,null,null,null,"Jane D. Hull Elementary - 070280130"]
["",null,{"$f":"IF(ISBLANK(B775),\"\",VLOOKUP(B775,NSLPandADEtableFY14,14,FALSE))","v":""},{"$f":"IF(ISBLANK(B775),\"\",VLOOKUP(B775,NSLPandADEtableFY14,15,FALSE))","v":""},{"$f":"IF(ISBLANK(B775),\"\",VLOOKUP(B775,NSLPandADEtableFY14,2,FALSE))","v":""},"",{"$f":"IF(ISBLANK(B775),\"\",VLOOKUP(B775,NSLPandADEtableFY14,11,FALSE))","v":""},null,null,null,null,null,null,null,"Jeddito School - 090225001"]
["",null,{"$f":"IF(ISBLANK(B776),\"\",VLOOKUP(B776,NSLPandADEtableFY14,14,FALSE))","v":""},{"$f":"IF(ISBLANK(B776),\"\",VLOOKUP(B776,NSLPandADEtableFY14,15,FALSE))","v":""},{"$f":"IF(ISBLANK(B776),\"\",VLOOKUP(B776,NSLPandADEtableFY14,2,FALSE))","v":""},"",{"$f":"IF(ISBLANK(B776),\"\",VLOOKUP(B776,NSLPandADEtableFY14,11,FALSE))","v":""},null,null,null,null,null,null,null,"Jeehdeez'a Elementary - 094014001"]
["",null,{"$f":"IF(ISBLANK(B777),\"\",VLOOKUP(B777,NSLPandADEtableFY14,14,FALSE))","v":""},{"$f":"IF(ISBLANK(B777),\"\",VLOOKUP(B777,NSLPandADEtableFY14,15,FALSE))","v":""},{"$f":"IF(ISBLANK(B777),\"\",VLOOKUP(B777,NSLPandADEtableFY14,2,FALSE))","v":""},"",{"$f":"IF(ISBLANK(B777),\"\",VLOOKUP(B777,NSLPandADEtableFY14,11,FALSE))","v":""},null,null,null,null,null,null,null,"Jefferson Academy of Advanced Learning - 098750001"]
["",null,{"$f":"IF(ISBLANK(B778),\"\",VLOOKUP(B778,NSLPandADEtableFY14,14,FALSE))","v":""},{"$f":"IF(ISBLANK(B778),\"\",VLOOKUP(B778,NSLPandADEtableFY14,15,FALSE))","v":""},{"$f":"IF(ISBLANK(B778),\"\",VLOOKUP(B778,NSLPandADEtableFY14,2,FALSE))","v":""},"",{"$f":"IF(ISBLANK(B778),\"\",VLOOKUP(B778,NSLPandADEtableFY14,11,FALSE))","v":""},null,null,null,null,null,null,null,"Jefferson Elementary School - 070204109"]
["",null,{"$f":"IF(ISBLANK(B779),\"\",VLOOKUP(B779,NSLPandADEtableFY14,14,FALSE))","v":""},{"$f":"IF(ISBLANK(B779),\"\",VLOOKUP(B779,NSLPandADEtableFY14,15,FALSE))","v":""},{"$f":"IF(ISBLANK(B779),\"\",VLOOKUP(B779,NSLPandADEtableFY14,2,FALSE))","v":""},"",{"$f":"IF(ISBLANK(B779),\"\",VLOOKUP(B779,NSLPandADEtableFY14,11,FALSE))","v":""},null,null,null,null,null,null,null,"Jefferson Elementary School - 090201103"]
[{"$f":"IF(ISBLANK(B780),\"\",\"Q-Public School\")","v":""},null,{"$f":"IF(ISBLANK(B780),\"\",VLOOKUP(B780,NSLPandADEtableFY14,14,FALSE))","v":""},{"$f":"IF(ISBLANK(B780),\"\",VLOOKUP(B780,NSLPandADEtableFY14,15,FALSE))","v":""},{"$f":"IF(ISBLANK(B780),\"\",VLOOKUP(B780,NSLPandADEtableFY14,2,FALSE))","v":""},{"$f":"IF(ISBLANK(B780),\"\",\"Free & Reduced Lunch Data (NSLP) March 2013\")","v":""},{"$f":"IF(ISBLANK(B780),\"\",VLOOKUP(B780,NSLPandADEtableFY14,11,FALSE))","v":""},null,null,null,null,null,null,null,"Joe Carlson Elementary School - 020227104"]
["",null,{"$f":"IF(ISBLANK(B781),\"\",VLOOKUP(B781,NSLPandADEtableFY14,14,FALSE))","v":""},{"$f":"IF(ISBLANK(B781),\"\",VLOOKUP(B781,NSLPandADEtableFY14,15,FALSE))","v":""},{"$f":"IF(ISBLANK(B781),\"\",VLOOKUP(B781,NSLPandADEtableFY14,2,FALSE))","v":""},"",{"$f":"IF(ISBLANK(B781),\"\",VLOOKUP(B781,NSLPandADEtableFY14,11,FALSE))","v":""},null,null,null,null,null,null,null,"John & Carol Carlson Elementary - 070280142"]
["",null,{"$f":"IF(ISBLANK(B782),\"\",VLOOKUP(B782,NSLPandADEtableFY14,14,FALSE))","v":""},{"$f":"IF(ISBLANK(B782),\"\",VLOOKUP(B782,NSLPandADEtableFY14,15,FALSE))","v":""},{"$f":"IF(ISBLANK(B782),\"\",VLOOKUP(B782,NSLPandADEtableFY14,2,FALSE))","v":""},"",{"$f":"IF(ISBLANK(B782),\"\",VLOOKUP(B782,NSLPandADEtableFY14,11,FALSE))","v":""},null,null,null,null,null,null,null,"John E White Elementary School - 100201449"]
["",null,{"$f":"IF(ISBLANK(B783),\"\",VLOOKUP(B783,NSLPandADEtableFY14,14,FALSE))","v":""},{"$f":"IF(ISBLANK(B783),\"\",VLOOKUP(B783,NSLPandADEtableFY14,15,FALSE))","v":""},{"$f":"IF(ISBLANK(B783),\"\",VLOOKUP(B783,NSLPandADEtableFY14,2,FALSE))","v":""},"",{"$f":"IF(ISBLANK(B783),\"\",VLOOKUP(B783,NSLPandADEtableFY14,11,FALSE))","v":""},null,null,null,null,null,null,null,"John E Wright Elementary School - 100201461"]
["",null,{"$f":"IF(ISBLANK(B784),\"\",VLOOKUP(B784,NSLPandADEtableFY14,14,FALSE))","v":""},{"$f":"IF(ISBLANK(B784),\"\",VLOOKUP(B784,NSLPandADEtableFY14,15,FALSE))","v":""},{"$f":"IF(ISBLANK(B784),\"\",VLOOKUP(B784,NSLPandADEtableFY14,2,FALSE))","v":""},"",{"$f":"IF(ISBLANK(B784),\"\",VLOOKUP(B784,NSLPandADEtableFY14,11,FALSE))","v":""},null,null,null,null,null,null,null,"John F Kennedy Elementary School - 070466014"]
["",null,{"$f":"IF(ISBLANK(B785),\"\",VLOOKUP(B785,NSLPandADEtableFY14,14,FALSE))","v":""},{"$f":"IF(ISBLANK(B785),\"\",VLOOKUP(B785,NSLPandADEtableFY14,15,FALSE))","v":""},{"$f":"IF(ISBLANK(B785),\"\",VLOOKUP(B785,NSLPandADEtableFY14,2,FALSE))","v":""},"",{"$f":"IF(ISBLANK(B785),\"\",VLOOKUP(B785,NSLPandADEtableFY14,11,FALSE))","v":""},null,null,null,null,null,null,null,"John F Kennedy School - 110215101"]
["",null,{"$f":"IF(ISBLANK(B786),\"\",VLOOKUP(B786,NSLPandADEtableFY14,14,FALSE))","v":""},{"$f":"IF(ISBLANK(B786),\"\",VLOOKUP(B786,NSLPandADEtableFY14,15,FALSE))","v":""},{"$f":"IF(ISBLANK(B786),\"\",VLOOKUP(B786,NSLPandADEtableFY14,2,FALSE))","v":""},"",{"$f":"IF(ISBLANK(B786),\"\",VLOOKUP(B786,NSLPandADEtableFY14,11,FALSE))","v":""},null,null,null,null,null,null,null,"John F. Kennedy - 104001007"]
["",null,{"$f":"IF(ISBLANK(B787),\"\",VLOOKUP(B787,NSLPandADEtableFY14,14,FALSE))","v":""},{"$f":"IF(ISBLANK(B787),\"\",VLOOKUP(B787,NSLPandADEtableFY14,15,FALSE))","v":""},{"$f":"IF(ISBLANK(B787),\"\",VLOOKUP(B787,NSLPandADEtableFY14,2,FALSE))","v":""},"",{"$f":"IF(ISBLANK(B787),\"\",VLOOKUP(B787,NSLPandADEtableFY14,11,FALSE))","v":""},null,null,null,null,null,null,null,"John F. Long - 070483103"]
["",null,{"$f":"IF(ISBLANK(B788),\"\",VLOOKUP(B788,NSLPandADEtableFY14,14,FALSE))","v":""},{"$f":"IF(ISBLANK(B788),\"\",VLOOKUP(B788,NSLPandADEtableFY14,15,FALSE))","v":""},{"$f":"IF(ISBLANK(B788),\"\",VLOOKUP(B788,NSLPandADEtableFY14,2,FALSE))","v":""},"",{"$f":"IF(ISBLANK(B788),\"\",VLOOKUP(B788,NSLPandADEtableFY14,11,FALSE))","v":""},null,null,null,null,null,null,null,"John Jacobs Elementary School - 070406131"]
["",null,{"$f":"IF(ISBLANK(B789),\"\",VLOOKUP(B789,NSLPandADEtableFY14,14,FALSE))","v":""},{"$f":"IF(ISBLANK(B789),\"\",VLOOKUP(B789,NSLPandADEtableFY14,15,FALSE))","v":""},{"$f":"IF(ISBLANK(B789),\"\",VLOOKUP(B789,NSLPandADEtableFY14,2,FALSE))","v":""},"",{"$f":"IF(ISBLANK(B789),\"\",VLOOKUP(B789,NSLPandADEtableFY14,11,FALSE))","v":""},null,null,null,null,null,null,null,"John M Andersen Elementary School - 070280116"]
["",null,{"$f":"IF(ISBLANK(B790),\"\",VLOOKUP(B790,NSLPandADEtableFY14,14,FALSE))","v":""},{"$f":"IF(ISBLANK(B790),\"\",VLOOKUP(B790,NSLPandADEtableFY14,15,FALSE))","v":""},{"$f":"IF(ISBLANK(B790),\"\",VLOOKUP(B790,NSLPandADEtableFY14,2,FALSE))","v":""},"",{"$f":"IF(ISBLANK(B790),\"\",VLOOKUP(B790,NSLPandADEtableFY14,11,FALSE))","v":""},null,null,null,null,null,null,null,"John M Andersen Jr High School - 070280118"]
["",null,{"$f":"IF(ISBLANK(B791),\"\",VLOOKUP(B791,NSLPandADEtableFY14,14,FALSE))","v":""},{"$f":"IF(ISBLANK(B791),\"\",VLOOKUP(B791,NSLPandADEtableFY14,15,FALSE))","v":""},{"$f":"IF(ISBLANK(B791),\"\",VLOOKUP(B791,NSLPandADEtableFY14,2,FALSE))","v":""},"",{"$f":"IF(ISBLANK(B791),\"\",VLOOKUP(B791,NSLPandADEtableFY14,11,FALSE))","v":""},null,null,null,null,null,null,null,"John Q Thomas Elementary School - 030201118"]
["",null,{"$f":"IF(ISBLANK(B792),\"\",VLOOKUP(B792,NSLPandADEtableFY14,14,FALSE))","v":""},{"$f":"IF(ISBLANK(B792),\"\",VLOOKUP(B792,NSLPandADEtableFY14,15,FALSE))","v":""},{"$f":"IF(ISBLANK(B792),\"\",VLOOKUP(B792,NSLPandADEtableFY14,2,FALSE))","v":""},"",{"$f":"IF(ISBLANK(B792),\"\",VLOOKUP(B792,NSLPandADEtableFY14,11,FALSE))","v":""},null,null,null,null,null,null,null,"John R Davis School - 070466018"]
["",null,{"$f":"IF(ISBLANK(B793),\"\",VLOOKUP(B793,NSLPandADEtableFY14,14,FALSE))","v":""},{"$f":"IF(ISBLANK(B793),\"\",VLOOKUP(B793,NSLPandADEtableFY14,15,FALSE))","v":""},{"$f":"IF(ISBLANK(B793),\"\",VLOOKUP(B793,NSLPandADEtableFY14,2,FALSE))","v":""},"",{"$f":"IF(ISBLANK(B793),\"\",VLOOKUP(B793,NSLPandADEtableFY14,11,FALSE))","v":""},null,null,null,null,null,null,null,"Johnson Elementary School - 070204136"]
["",null,{"$f":"IF(ISBLANK(B794),\"\",VLOOKUP(B794,NSLPandADEtableFY14,14,FALSE))","v":""},{"$f":"IF(ISBLANK(B794),\"\",VLOOKUP(B794,NSLPandADEtableFY14,15,FALSE))","v":""},{"$f":"IF(ISBLANK(B794),\"\",VLOOKUP(B794,NSLPandADEtableFY14,2,FALSE))","v":""},"",{"$f":"IF(ISBLANK(B794),\"\",VLOOKUP(B794,NSLPandADEtableFY14,11,FALSE))","v":""},null,null,null,null,null,null,null,"Jordan Elementary School - 070204130"]
["",null,{"$f":"IF(ISBLANK(B795),\"\",VLOOKUP(B795,NSLPandADEtableFY14,14,FALSE))","v":""},{"$f":"IF(ISBLANK(B795),\"\",VLOOKUP(B795,NSLPandADEtableFY14,15,FALSE))","v":""},{"$f":"IF(ISBLANK(B795),\"\",VLOOKUP(B795,NSLPandADEtableFY14,2,FALSE))","v":""},"",{"$f":"IF(ISBLANK(B795),\"\",VLOOKUP(B795,NSLPandADEtableFY14,11,FALSE))","v":""},null,null,null,null,null,null,null,"Joseph City Elementary School - 090202001"]
["",null,{"$f":"IF(ISBLANK(B796),\"\",VLOOKUP(B796,NSLPandADEtableFY14,14,FALSE))","v":""},{"$f":"IF(ISBLANK(B796),\"\",VLOOKUP(B796,NSLPandADEtableFY14,15,FALSE))","v":""},{"$f":"IF(ISBLANK(B796),\"\",VLOOKUP(B796,NSLPandADEtableFY14,2,FALSE))","v":""},"",{"$f":"IF(ISBLANK(B796),\"\",VLOOKUP(B796,NSLPandADEtableFY14,11,FALSE))","v":""},null,null,null,null,null,null,null,"Joseph City High School - 090202002"]
["",null,{"$f":"IF(ISBLANK(B797),\"\",VLOOKUP(B797,NSLPandADEtableFY14,14,FALSE))","v":""},{"$f":"IF(ISBLANK(B797),\"\",VLOOKUP(B797,NSLPandADEtableFY14,15,FALSE))","v":""},{"$f":"IF(ISBLANK(B797),\"\",VLOOKUP(B797,NSLPandADEtableFY14,2,FALSE))","v":""},"",{"$f":"IF(ISBLANK(B797),\"\",VLOOKUP(B797,NSLPandADEtableFY14,11,FALSE))","v":""},null,null,null,null,null,null,null,"Joseph Zito Elementary School - 070405105"]
["",null,{"$f":"IF(ISBLANK(B798),\"\",VLOOKUP(B798,NSLPandADEtableFY14,14,FALSE))","v":""},{"$f":"IF(ISBLANK(B798),\"\",VLOOKUP(B798,NSLPandADEtableFY14,15,FALSE))","v":""},{"$f":"IF(ISBLANK(B798),\"\",VLOOKUP(B798,NSLPandADEtableFY14,2,FALSE))","v":""},"",{"$f":"IF(ISBLANK(B798),\"\",VLOOKUP(B798,NSLPandADEtableFY14,11,FALSE))","v":""},null,null,null,null,null,null,null,"Joyce Clark Middle School (formerly Sierra Vista Middle School) - 020268150"]
["",null,{"$f":"IF(ISBLANK(B799),\"\",VLOOKUP(B799,NSLPandADEtableFY14,14,FALSE))","v":""},{"$f":"IF(ISBLANK(B799),\"\",VLOOKUP(B799,NSLPandADEtableFY14,15,FALSE))","v":""},{"$f":"IF(ISBLANK(B799),\"\",VLOOKUP(B799,NSLPandADEtableFY14,2,FALSE))","v":""},"",{"$f":"IF(ISBLANK(B799),\"\",VLOOKUP(B799,NSLPandADEtableFY14,11,FALSE))","v":""},null,null,null,null,null,null,null,"Julia Randall Elementary School - 040210103"]
["",null,{"$f":"IF(ISBLANK(B800),\"\",VLOOKUP(B800,NSLPandADEtableFY14,14,FALSE))","v":""},{"$f":"IF(ISBLANK(B800),\"\",VLOOKUP(B800,NSLPandADEtableFY14,15,FALSE))","v":""},{"$f":"IF(ISBLANK(B800),\"\",VLOOKUP(B800,NSLPandADEtableFY14,2,FALSE))","v":""},"",{"$f":"IF(ISBLANK(B800),\"\",VLOOKUP(B800,NSLPandADEtableFY14,11,FALSE))","v":""},null,null,null,null,null,null,null,"Justine Spitalny School - 070483104"]
["",null,{"$f":"IF(ISBLANK(B801),\"\",VLOOKUP(B801,NSLPandADEtableFY14,14,FALSE))","v":""},{"$f":"IF(ISBLANK(B801),\"\",VLOOKUP(B801,NSLPandADEtableFY14,15,FALSE))","v":""},{"$f":"IF(ISBLANK(B801),\"\",VLOOKUP(B801,NSLPandADEtableFY14,2,FALSE))","v":""},"",{"$f":"IF(ISBLANK(B801),\"\",VLOOKUP(B801,NSLPandADEtableFY14,11,FALSE))","v":""},null,null,null,null,null,null,null,"Kachina Elementary School - 070211103"]
["",null,{"$f":"IF(ISBLANK(B802),\"\",VLOOKUP(B802,NSLPandADEtableFY14,14,FALSE))","v":""},{"$f":"IF(ISBLANK(B802),\"\",VLOOKUP(B802,NSLPandADEtableFY14,15,FALSE))","v":""},{"$f":"IF(ISBLANK(B802),\"\",VLOOKUP(B802,NSLPandADEtableFY14,2,FALSE))","v":""},"",{"$f":"IF(ISBLANK(B802),\"\",VLOOKUP(B802,NSLPandADEtableFY14,11,FALSE))","v":""},null,null,null,null,null,null,null,"Kaibeto Boarding School - 033904004"]
["",null,{"$f":"IF(ISBLANK(B803),\"\",VLOOKUP(B803,NSLPandADEtableFY14,14,FALSE))","v":""},{"$f":"IF(ISBLANK(B803),\"\",VLOOKUP(B803,NSLPandADEtableFY14,15,FALSE))","v":""},{"$f":"IF(ISBLANK(B803),\"\",VLOOKUP(B803,NSLPandADEtableFY14,2,FALSE))","v":""},"",{"$f":"IF(ISBLANK(B803),\"\",VLOOKUP(B803,NSLPandADEtableFY14,11,FALSE))","v":""},null,null,null,null,null,null,null,"Kaizen Education Foundation dba El Dorado High School - 078718212"]
["",null,{"$f":"IF(ISBLANK(B804),\"\",VLOOKUP(B804,NSLPandADEtableFY14,14,FALSE))","v":""},{"$f":"IF(ISBLANK(B804),\"\",VLOOKUP(B804,NSLPandADEtableFY14,15,FALSE))","v":""},{"$f":"IF(ISBLANK(B804),\"\",VLOOKUP(B804,NSLPandADEtableFY14,2,FALSE))","v":""},"",{"$f":"IF(ISBLANK(B804),\"\",VLOOKUP(B804,NSLPandADEtableFY14,11,FALSE))","v":""},null,null,null,null,null,null,null,"Kaizen Education Foundation dba Gilbert Arts Academy - 078570001"]
["",null,{"$f":"IF(ISBLANK(B805),\"\",VLOOKUP(B805,NSLPandADEtableFY14,14,FALSE))","v":""},{"$f":"IF(ISBLANK(B805),\"\",VLOOKUP(B805,NSLPandADEtableFY14,15,FALSE))","v":""},{"$f":"IF(ISBLANK(B805),\"\",VLOOKUP(B805,NSLPandADEtableFY14,2,FALSE))","v":""},"",{"$f":"IF(ISBLANK(B805),\"\",VLOOKUP(B805,NSLPandADEtableFY14,11,FALSE))","v":""},null,null,null,null,null,null,null,"Kaizen Education Foundation dba Maya High School - 078949001"]
["",null,{"$f":"IF(ISBLANK(B806),\"\",VLOOKUP(B806,NSLPandADEtableFY14,14,FALSE))","v":""},{"$f":"IF(ISBLANK(B806),\"\",VLOOKUP(B806,NSLPandADEtableFY14,15,FALSE))","v":""},{"$f":"IF(ISBLANK(B806),\"\",VLOOKUP(B806,NSLPandADEtableFY14,2,FALSE))","v":""},"",{"$f":"IF(ISBLANK(B806),\"\",VLOOKUP(B806,NSLPandADEtableFY14,11,FALSE))","v":""},null,null,null,null,null,null,null,"Kaizen Education Foundation dba Quest High School - 078954001"]
["",null,{"$f":"IF(ISBLANK(B807),\"\",VLOOKUP(B807,NSLPandADEtableFY14,14,FALSE))","v":""},{"$f":"IF(ISBLANK(B807),\"\",VLOOKUP(B807,NSLPandADEtableFY14,15,FALSE))","v":""},{"$f":"IF(ISBLANK(B807),\"\",VLOOKUP(B807,NSLPandADEtableFY14,2,FALSE))","v":""},"",{"$f":"IF(ISBLANK(B807),\"\",VLOOKUP(B807,NSLPandADEtableFY14,11,FALSE))","v":""},null,null,null,null,null,null,null,"Kaizen Education Foundation dba South Pointe Elementary School - 078999001"]
["",null,{"$f":"IF(ISBLANK(B808),\"\",VLOOKUP(B808,NSLPandADEtableFY14,14,FALSE))","v":""},{"$f":"IF(ISBLANK(B808),\"\",VLOOKUP(B808,NSLPandADEtableFY14,15,FALSE))","v":""},{"$f":"IF(ISBLANK(B808),\"\",VLOOKUP(B808,NSLPandADEtableFY14,2,FALSE))","v":""},"",{"$f":"IF(ISBLANK(B808),\"\",VLOOKUP(B808,NSLPandADEtableFY14,11,FALSE))","v":""},null,null,null,null,null,null,null,"Kaizen Education Foundation dba Summit High School - 078952001"]
["",null,{"$f":"IF(ISBLANK(B809),\"\",VLOOKUP(B809,NSLPandADEtableFY14,14,FALSE))","v":""},{"$f":"IF(ISBLANK(B809),\"\",VLOOKUP(B809,NSLPandADEtableFY14,15,FALSE))","v":""},{"$f":"IF(ISBLANK(B809),\"\",VLOOKUP(B809,NSLPandADEtableFY14,2,FALSE))","v":""},"",{"$f":"IF(ISBLANK(B809),\"\",VLOOKUP(B809,NSLPandADEtableFY14,11,FALSE))","v":""},null,null,null,null,null,null,null,"Kaizen Education Foundation dba Vista Grove Preparatory Academy Elementary - 078567001"]
["",null,{"$f":"IF(ISBLANK(B810),\"\",VLOOKUP(B810,NSLPandADEtableFY14,14,FALSE))","v":""},{"$f":"IF(ISBLANK(B810),\"\",VLOOKUP(B810,NSLPandADEtableFY14,15,FALSE))","v":""},{"$f":"IF(ISBLANK(B810),\"\",VLOOKUP(B810,NSLPandADEtableFY14,2,FALSE))","v":""},"",{"$f":"IF(ISBLANK(B810),\"\",VLOOKUP(B810,NSLPandADEtableFY14,11,FALSE))","v":""},null,null,null,null,null,null,null,"Kathryn Sue Simonton Elementary - 110244102"]
["",null,{"$f":"IF(ISBLANK(B811),\"\",VLOOKUP(B811,NSLPandADEtableFY14,14,FALSE))","v":""},{"$f":"IF(ISBLANK(B811),\"\",VLOOKUP(B811,NSLPandADEtableFY14,15,FALSE))","v":""},{"$f":"IF(ISBLANK(B811),\"\",VLOOKUP(B811,NSLPandADEtableFY14,2,FALSE))","v":""},"",{"$f":"IF(ISBLANK(B811),\"\",VLOOKUP(B811,NSLPandADEtableFY14,11,FALSE))","v":""},null,null,null,null,null,null,null,"Kayenta Community School - 033904008"]
["",null,{"$f":"IF(ISBLANK(B812),\"\",VLOOKUP(B812,NSLPandADEtableFY14,14,FALSE))","v":""},{"$f":"IF(ISBLANK(B812),\"\",VLOOKUP(B812,NSLPandADEtableFY14,15,FALSE))","v":""},{"$f":"IF(ISBLANK(B812),\"\",VLOOKUP(B812,NSLPandADEtableFY14,2,FALSE))","v":""},"",{"$f":"IF(ISBLANK(B812),\"\",VLOOKUP(B812,NSLPandADEtableFY14,11,FALSE))","v":""},null,null,null,null,null,null,null,"Kayenta Elementary School - 090227103"]
["",null,{"$f":"IF(ISBLANK(B813),\"\",VLOOKUP(B813,NSLPandADEtableFY14,14,FALSE))","v":""},{"$f":"IF(ISBLANK(B813),\"\",VLOOKUP(B813,NSLPandADEtableFY14,15,FALSE))","v":""},{"$f":"IF(ISBLANK(B813),\"\",VLOOKUP(B813,NSLPandADEtableFY14,2,FALSE))","v":""},"",{"$f":"IF(ISBLANK(B813),\"\",VLOOKUP(B813,NSLPandADEtableFY14,11,FALSE))","v":""},null,null,null,null,null,null,null,"Kayenta Middle School - 090227102"]
["",null,{"$f":"IF(ISBLANK(B814),\"\",VLOOKUP(B814,NSLPandADEtableFY14,14,FALSE))","v":""},{"$f":"IF(ISBLANK(B814),\"\",VLOOKUP(B814,NSLPandADEtableFY14,15,FALSE))","v":""},{"$f":"IF(ISBLANK(B814),\"\",VLOOKUP(B814,NSLPandADEtableFY14,2,FALSE))","v":""},"",{"$f":"IF(ISBLANK(B814),\"\",VLOOKUP(B814,NSLPandADEtableFY14,11,FALSE))","v":""},null,null,null,null,null,null,null,"Keams Canyon Elementary - 093906001"]
["",null,{"$f":"IF(ISBLANK(B815),\"\",VLOOKUP(B815,NSLPandADEtableFY14,14,FALSE))","v":""},{"$f":"IF(ISBLANK(B815),\"\",VLOOKUP(B815,NSLPandADEtableFY14,15,FALSE))","v":""},{"$f":"IF(ISBLANK(B815),\"\",VLOOKUP(B815,NSLPandADEtableFY14,2,FALSE))","v":""},"",{"$f":"IF(ISBLANK(B815),\"\",VLOOKUP(B815,NSLPandADEtableFY14,11,FALSE))","v":""},null,null,null,null,null,null,null,"Keller Elementary School - 070204128"]
["",null,{"$f":"IF(ISBLANK(B816),\"\",VLOOKUP(B816,NSLPandADEtableFY14,14,FALSE))","v":""},{"$f":"IF(ISBLANK(B816),\"\",VLOOKUP(B816,NSLPandADEtableFY14,15,FALSE))","v":""},{"$f":"IF(ISBLANK(B816),\"\",VLOOKUP(B816,NSLPandADEtableFY14,2,FALSE))","v":""},"",{"$f":"IF(ISBLANK(B816),\"\",VLOOKUP(B816,NSLPandADEtableFY14,11,FALSE))","v":""},null,null,null,null,null,null,null,"Ken 'Chief' Hill Learning Academy - 070280244"]
["",null,{"$f":"IF(ISBLANK(B817),\"\",VLOOKUP(B817,NSLPandADEtableFY14,14,FALSE))","v":""},{"$f":"IF(ISBLANK(B817),\"\",VLOOKUP(B817,NSLPandADEtableFY14,15,FALSE))","v":""},{"$f":"IF(ISBLANK(B817),\"\",VLOOKUP(B817,NSLPandADEtableFY14,2,FALSE))","v":""},"",{"$f":"IF(ISBLANK(B817),\"\",VLOOKUP(B817,NSLPandADEtableFY14,11,FALSE))","v":""},null,null,null,null,null,null,null,"Kenilworth Elementary School - 070401115"]
["",null,{"$f":"IF(ISBLANK(B818),\"\",VLOOKUP(B818,NSLPandADEtableFY14,14,FALSE))","v":""},{"$f":"IF(ISBLANK(B818),\"\",VLOOKUP(B818,NSLPandADEtableFY14,15,FALSE))","v":""},{"$f":"IF(ISBLANK(B818),\"\",VLOOKUP(B818,NSLPandADEtableFY14,2,FALSE))","v":""},"",{"$f":"IF(ISBLANK(B818),\"\",VLOOKUP(B818,NSLPandADEtableFY14,11,FALSE))","v":""},null,null,null,null,null,null,null,"Kerr Elementary School - 070204146"]
["",null,{"$f":"IF(ISBLANK(B819),\"\",VLOOKUP(B819,NSLPandADEtableFY14,14,FALSE))","v":""},{"$f":"IF(ISBLANK(B819),\"\",VLOOKUP(B819,NSLPandADEtableFY14,15,FALSE))","v":""},{"$f":"IF(ISBLANK(B819),\"\",VLOOKUP(B819,NSLPandADEtableFY14,2,FALSE))","v":""},"",{"$f":"IF(ISBLANK(B819),\"\",VLOOKUP(B819,NSLPandADEtableFY14,11,FALSE))","v":""},null,null,null,null,null,null,null,"Kids at Hope Academy - Central - 072033001"]
["",null,{"$f":"IF(ISBLANK(B820),\"\",VLOOKUP(B820,NSLPandADEtableFY14,14,FALSE))","v":""},{"$f":"IF(ISBLANK(B820),\"\",VLOOKUP(B820,NSLPandADEtableFY14,15,FALSE))","v":""},{"$f":"IF(ISBLANK(B820),\"\",VLOOKUP(B820,NSLPandADEtableFY14,2,FALSE))","v":""},"",{"$f":"IF(ISBLANK(B820),\"\",VLOOKUP(B820,NSLPandADEtableFY14,11,FALSE))","v":""},null,null,null,null,null,null,null,"Kin Dah Lichii Olta' Charter School - 018759101"]
["",null,{"$f":"IF(ISBLANK(B821),\"\",VLOOKUP(B821,NSLPandADEtableFY14,14,FALSE))","v":""},{"$f":"IF(ISBLANK(B821),\"\",VLOOKUP(B821,NSLPandADEtableFY14,15,FALSE))","v":""},{"$f":"IF(ISBLANK(B821),\"\",VLOOKUP(B821,NSLPandADEtableFY14,2,FALSE))","v":""},"",{"$f":"IF(ISBLANK(B821),\"\",VLOOKUP(B821,NSLPandADEtableFY14,11,FALSE))","v":""},null,null,null,null,null,null,null,"Kingman High School - 080220202"]
["",null,{"$f":"IF(ISBLANK(B822),\"\",VLOOKUP(B822,NSLPandADEtableFY14,14,FALSE))","v":""},{"$f":"IF(ISBLANK(B822),\"\",VLOOKUP(B822,NSLPandADEtableFY14,15,FALSE))","v":""},{"$f":"IF(ISBLANK(B822),\"\",VLOOKUP(B822,NSLPandADEtableFY14,2,FALSE))","v":""},"",{"$f":"IF(ISBLANK(B822),\"\",VLOOKUP(B822,NSLPandADEtableFY14,11,FALSE))","v":""},null,null,null,null,null,null,null,"Kingman Middle School - 080220114"]
["",null,{"$f":"IF(ISBLANK(B823),\"\",VLOOKUP(B823,NSLPandADEtableFY14,14,FALSE))","v":""},{"$f":"IF(ISBLANK(B823),\"\",VLOOKUP(B823,NSLPandADEtableFY14,15,FALSE))","v":""},{"$f":"IF(ISBLANK(B823),\"\",VLOOKUP(B823,NSLPandADEtableFY14,2,FALSE))","v":""},"",{"$f":"IF(ISBLANK(B823),\"\",VLOOKUP(B823,NSLPandADEtableFY14,11,FALSE))","v":""},null,null,null,null,null,null,null,"Kings Ridge School - 070402102"]
["",null,{"$f":"IF(ISBLANK(B824),\"\",VLOOKUP(B824,NSLPandADEtableFY14,14,FALSE))","v":""},{"$f":"IF(ISBLANK(B824),\"\",VLOOKUP(B824,NSLPandADEtableFY14,15,FALSE))","v":""},{"$f":"IF(ISBLANK(B824),\"\",VLOOKUP(B824,NSLPandADEtableFY14,2,FALSE))","v":""},"",{"$f":"IF(ISBLANK(B824),\"\",VLOOKUP(B824,NSLPandADEtableFY14,11,FALSE))","v":""},null,null,null,null,null,null,null,"Kingswood Elementary School - 070289106"]
["",null,{"$f":"IF(ISBLANK(B825),\"\",VLOOKUP(B825,NSLPandADEtableFY14,14,FALSE))","v":""},{"$f":"IF(ISBLANK(B825),\"\",VLOOKUP(B825,NSLPandADEtableFY14,15,FALSE))","v":""},{"$f":"IF(ISBLANK(B825),\"\",VLOOKUP(B825,NSLPandADEtableFY14,2,FALSE))","v":""},"",{"$f":"IF(ISBLANK(B825),\"\",VLOOKUP(B825,NSLPandADEtableFY14,11,FALSE))","v":""},null,null,null,null,null,null,null,"Kino Junior High School - 070204253"]
["",null,{"$f":"IF(ISBLANK(B826),\"\",VLOOKUP(B826,NSLPandADEtableFY14,14,FALSE))","v":""},{"$f":"IF(ISBLANK(B826),\"\",VLOOKUP(B826,NSLPandADEtableFY14,15,FALSE))","v":""},{"$f":"IF(ISBLANK(B826),\"\",VLOOKUP(B826,NSLPandADEtableFY14,2,FALSE))","v":""},"",{"$f":"IF(ISBLANK(B826),\"\",VLOOKUP(B826,NSLPandADEtableFY14,11,FALSE))","v":""},null,null,null,null,null,null,null,"Kirkland Elementary School - 130323001"]
["",null,{"$f":"IF(ISBLANK(B827),\"\",VLOOKUP(B827,NSLPandADEtableFY14,14,FALSE))","v":""},{"$f":"IF(ISBLANK(B827),\"\",VLOOKUP(B827,NSLPandADEtableFY14,15,FALSE))","v":""},{"$f":"IF(ISBLANK(B827),\"\",VLOOKUP(B827,NSLPandADEtableFY14,2,FALSE))","v":""},"",{"$f":"IF(ISBLANK(B827),\"\",VLOOKUP(B827,NSLPandADEtableFY14,11,FALSE))","v":""},null,null,null,null,null,null,null,"Kiser Elementary School - 070394001"]
["",null,{"$f":"IF(ISBLANK(B828),\"\",VLOOKUP(B828,NSLPandADEtableFY14,14,FALSE))","v":""},{"$f":"IF(ISBLANK(B828),\"\",VLOOKUP(B828,NSLPandADEtableFY14,15,FALSE))","v":""},{"$f":"IF(ISBLANK(B828),\"\",VLOOKUP(B828,NSLPandADEtableFY14,2,FALSE))","v":""},"",{"$f":"IF(ISBLANK(B828),\"\",VLOOKUP(B828,NSLPandADEtableFY14,11,FALSE))","v":""},null,null,null,null,null,null,null,"Kiva Elementary School - 070248107"]
["",null,{"$f":"IF(ISBLANK(B829),\"\",VLOOKUP(B829,NSLPandADEtableFY14,14,FALSE))","v":""},{"$f":"IF(ISBLANK(B829),\"\",VLOOKUP(B829,NSLPandADEtableFY14,15,FALSE))","v":""},{"$f":"IF(ISBLANK(B829),\"\",VLOOKUP(B829,NSLPandADEtableFY14,2,FALSE))","v":""},"",{"$f":"IF(ISBLANK(B829),\"\",VLOOKUP(B829,NSLPandADEtableFY14,11,FALSE))","v":""},null,null,null,null,null,null,null,"Knox Gifted Academy - 070280109"]
["",null,{"$f":"IF(ISBLANK(B830),\"\",VLOOKUP(B830,NSLPandADEtableFY14,14,FALSE))","v":""},{"$f":"IF(ISBLANK(B830),\"\",VLOOKUP(B830,NSLPandADEtableFY14,15,FALSE))","v":""},{"$f":"IF(ISBLANK(B830),\"\",VLOOKUP(B830,NSLPandADEtableFY14,2,FALSE))","v":""},"",{"$f":"IF(ISBLANK(B830),\"\",VLOOKUP(B830,NSLPandADEtableFY14,11,FALSE))","v":""},null,null,null,null,null,null,null,"Kofa High School - 140570202"]
["",null,{"$f":"IF(ISBLANK(B831),\"\",VLOOKUP(B831,NSLPandADEtableFY14,14,FALSE))","v":""},{"$f":"IF(ISBLANK(B831),\"\",VLOOKUP(B831,NSLPandADEtableFY14,15,FALSE))","v":""},{"$f":"IF(ISBLANK(B831),\"\",VLOOKUP(B831,NSLPandADEtableFY14,2,FALSE))","v":""},"",{"$f":"IF(ISBLANK(B831),\"\",VLOOKUP(B831,NSLPandADEtableFY14,11,FALSE))","v":""},null,null,null,null,null,null,null,"Kyrene Akimel A-Al Middle School - 070428138"]
["",null,{"$f":"IF(ISBLANK(B832),\"\",VLOOKUP(B832,NSLPandADEtableFY14,14,FALSE))","v":""},{"$f":"IF(ISBLANK(B832),\"\",VLOOKUP(B832,NSLPandADEtableFY14,15,FALSE))","v":""},{"$f":"IF(ISBLANK(B832),\"\",VLOOKUP(B832,NSLPandADEtableFY14,2,FALSE))","v":""},"",{"$f":"IF(ISBLANK(B832),\"\",VLOOKUP(B832,NSLPandADEtableFY14,11,FALSE))","v":""},null,null,null,null,null,null,null,"Kyrene Altadena Middle School - 070428137"]
["",null,{"$f":"IF(ISBLANK(B833),\"\",VLOOKUP(B833,NSLPandADEtableFY14,14,FALSE))","v":""},{"$f":"IF(ISBLANK(B833),\"\",VLOOKUP(B833,NSLPandADEtableFY14,15,FALSE))","v":""},{"$f":"IF(ISBLANK(B833),\"\",VLOOKUP(B833,NSLPandADEtableFY14,2,FALSE))","v":""},"",{"$f":"IF(ISBLANK(B833),\"\",VLOOKUP(B833,NSLPandADEtableFY14,11,FALSE))","v":""},null,null,null,null,null,null,null,"Kyrene Aprende Middle School - 070428136"]
["",null,{"$f":"IF(ISBLANK(B834),\"\",VLOOKUP(B834,NSLPandADEtableFY14,14,FALSE))","v":""},{"$f":"IF(ISBLANK(B834),\"\",VLOOKUP(B834,NSLPandADEtableFY14,15,FALSE))","v":""},{"$f":"IF(ISBLANK(B834),\"\",VLOOKUP(B834,NSLPandADEtableFY14,2,FALSE))","v":""},"",{"$f":"IF(ISBLANK(B834),\"\",VLOOKUP(B834,NSLPandADEtableFY14,11,FALSE))","v":""},null,null,null,null,null,null,null,"Kyrene Centennial Middle School - 070428139"]
["",null,{"$f":"IF(ISBLANK(B835),\"\",VLOOKUP(B835,NSLPandADEtableFY14,14,FALSE))","v":""},{"$f":"IF(ISBLANK(B835),\"\",VLOOKUP(B835,NSLPandADEtableFY14,15,FALSE))","v":""},{"$f":"IF(ISBLANK(B835),\"\",VLOOKUP(B835,NSLPandADEtableFY14,2,FALSE))","v":""},"",{"$f":"IF(ISBLANK(B835),\"\",VLOOKUP(B835,NSLPandADEtableFY14,11,FALSE))","v":""},null,null,null,null,null,null,null,"Kyrene de la Colina School - 070428148"]
["",null,{"$f":"IF(ISBLANK(B836),\"\",VLOOKUP(B836,NSLPandADEtableFY14,14,FALSE))","v":""},{"$f":"IF(ISBLANK(B836),\"\",VLOOKUP(B836,NSLPandADEtableFY14,15,FALSE))","v":""},{"$f":"IF(ISBLANK(B836),\"\",VLOOKUP(B836,NSLPandADEtableFY14,2,FALSE))","v":""},"",{"$f":"IF(ISBLANK(B836),\"\",VLOOKUP(B836,NSLPandADEtableFY14,11,FALSE))","v":""},null,null,null,null,null,null,null,"Kyrene de la Esperanza School - 070428155"]
["",null,{"$f":"IF(ISBLANK(B837),\"\",VLOOKUP(B837,NSLPandADEtableFY14,14,FALSE))","v":""},{"$f":"IF(ISBLANK(B837),\"\",VLOOKUP(B837,NSLPandADEtableFY14,15,FALSE))","v":""},{"$f":"IF(ISBLANK(B837),\"\",VLOOKUP(B837,NSLPandADEtableFY14,2,FALSE))","v":""},"",{"$f":"IF(ISBLANK(B837),\"\",VLOOKUP(B837,NSLPandADEtableFY14,11,FALSE))","v":""},null,null,null,null,null,null,null,"Kyrene de la Estrella Elementary School - 070428158"]
["",null,{"$f":"IF(ISBLANK(B838),\"\",VLOOKUP(B838,NSLPandADEtableFY14,14,FALSE))","v":""},{"$f":"IF(ISBLANK(B838),\"\",VLOOKUP(B838,NSLPandADEtableFY14,15,FALSE))","v":""},{"$f":"IF(ISBLANK(B838),\"\",VLOOKUP(B838,NSLPandADEtableFY14,2,FALSE))","v":""},"",{"$f":"IF(ISBLANK(B838),\"\",VLOOKUP(B838,NSLPandADEtableFY14,11,FALSE))","v":""},null,null,null,null,null,null,null,"Kyrene de la Mariposa School - 070428150"]
["",null,{"$f":"IF(ISBLANK(B839),\"\",VLOOKUP(B839,NSLPandADEtableFY14,14,FALSE))","v":""},{"$f":"IF(ISBLANK(B839),\"\",VLOOKUP(B839,NSLPandADEtableFY14,15,FALSE))","v":""},{"$f":"IF(ISBLANK(B839),\"\",VLOOKUP(B839,NSLPandADEtableFY14,2,FALSE))","v":""},"",{"$f":"IF(ISBLANK(B839),\"\",VLOOKUP(B839,NSLPandADEtableFY14,11,FALSE))","v":""},null,null,null,null,null,null,null,"Kyrene de la Mirada School - 070428154"]
["",null,{"$f":"IF(ISBLANK(B840),\"\",VLOOKUP(B840,NSLPandADEtableFY14,14,FALSE))","v":""},{"$f":"IF(ISBLANK(B840),\"\",VLOOKUP(B840,NSLPandADEtableFY14,15,FALSE))","v":""},{"$f":"IF(ISBLANK(B840),\"\",VLOOKUP(B840,NSLPandADEtableFY14,2,FALSE))","v":""},"",{"$f":"IF(ISBLANK(B840),\"\",VLOOKUP(B840,NSLPandADEtableFY14,11,FALSE))","v":""},null,null,null,null,null,null,null,"Kyrene de la Paloma School - 070428147"]
["",null,{"$f":"IF(ISBLANK(B841),\"\",VLOOKUP(B841,NSLPandADEtableFY14,14,FALSE))","v":""},{"$f":"IF(ISBLANK(B841),\"\",VLOOKUP(B841,NSLPandADEtableFY14,15,FALSE))","v":""},{"$f":"IF(ISBLANK(B841),\"\",VLOOKUP(B841,NSLPandADEtableFY14,2,FALSE))","v":""},"",{"$f":"IF(ISBLANK(B841),\"\",VLOOKUP(B841,NSLPandADEtableFY14,11,FALSE))","v":""},null,null,null,null,null,null,null,"Kyrene de la Sierra School - 070428153"]
["",null,{"$f":"IF(ISBLANK(B842),\"\",VLOOKUP(B842,NSLPandADEtableFY14,14,FALSE))","v":""},{"$f":"IF(ISBLANK(B842),\"\",VLOOKUP(B842,NSLPandADEtableFY14,15,FALSE))","v":""},{"$f":"IF(ISBLANK(B842),\"\",VLOOKUP(B842,NSLPandADEtableFY14,2,FALSE))","v":""},"",{"$f":"IF(ISBLANK(B842),\"\",VLOOKUP(B842,NSLPandADEtableFY14,11,FALSE))","v":""},null,null,null,null,null,null,null,"Kyrene de las Brisas School - 070428156"]
["",null,{"$f":"IF(ISBLANK(B843),\"\",VLOOKUP(B843,NSLPandADEtableFY14,14,FALSE))","v":""},{"$f":"IF(ISBLANK(B843),\"\",VLOOKUP(B843,NSLPandADEtableFY14,15,FALSE))","v":""},{"$f":"IF(ISBLANK(B843),\"\",VLOOKUP(B843,NSLPandADEtableFY14,2,FALSE))","v":""},"",{"$f":"IF(ISBLANK(B843),\"\",VLOOKUP(B843,NSLPandADEtableFY14,11,FALSE))","v":""},null,null,null,null,null,null,null,"Kyrene de las Lomas School - 070428144"]
[{"$f":"IF(ISBLANK(B844),\"\",\"Q-Public School\")","v":""},null,{"$f":"IF(ISBLANK(B844),\"\",VLOOKUP(B844,NSLPandADEtableFY14,14,FALSE))","v":""},{"$f":"IF(ISBLANK(B844),\"\",VLOOKUP(B844,NSLPandADEtableFY14,15,FALSE))","v":""},{"$f":"IF(ISBLANK(B844),\"\",VLOOKUP(B844,NSLPandADEtableFY14,2,FALSE))","v":""},{"$f":"IF(ISBLANK(B844),\"\",\"Free & Reduced Lunch Data (NSLP) March 2013\")","v":""},{"$f":"IF(ISBLANK(B844),\"\",VLOOKUP(B844,NSLPandADEtableFY14,11,FALSE))","v":""},null,null,null,null,null,null,null,"Kyrene de las Manitas School - 070428159"]
["",null,{"$f":"IF(ISBLANK(B845),\"\",VLOOKUP(B845,NSLPandADEtableFY14,14,FALSE))","v":""},{"$f":"IF(ISBLANK(B845),\"\",VLOOKUP(B845,NSLPandADEtableFY14,15,FALSE))","v":""},{"$f":"IF(ISBLANK(B845),\"\",VLOOKUP(B845,NSLPandADEtableFY14,2,FALSE))","v":""},"",{"$f":"IF(ISBLANK(B845),\"\",VLOOKUP(B845,NSLPandADEtableFY14,11,FALSE))","v":""},null,null,null,null,null,null,null,"Kyrene de los Cerritos School - 070428157"]
["",null,{"$f":"IF(ISBLANK(B846),\"\",VLOOKUP(B846,NSLPandADEtableFY14,14,FALSE))","v":""},{"$f":"IF(ISBLANK(B846),\"\",VLOOKUP(B846,NSLPandADEtableFY14,15,FALSE))","v":""},{"$f":"IF(ISBLANK(B846),\"\",VLOOKUP(B846,NSLPandADEtableFY14,2,FALSE))","v":""},"",{"$f":"IF(ISBLANK(B846),\"\",VLOOKUP(B846,NSLPandADEtableFY14,11,FALSE))","v":""},null,null,null,null,null,null,null,"Kyrene De Los Lagos School - 070428151"]
["",null,{"$f":"IF(ISBLANK(B847),\"\",VLOOKUP(B847,NSLPandADEtableFY14,14,FALSE))","v":""},{"$f":"IF(ISBLANK(B847),\"\",VLOOKUP(B847,NSLPandADEtableFY14,15,FALSE))","v":""},{"$f":"IF(ISBLANK(B847),\"\",VLOOKUP(B847,NSLPandADEtableFY14,2,FALSE))","v":""},"",{"$f":"IF(ISBLANK(B847),\"\",VLOOKUP(B847,NSLPandADEtableFY14,11,FALSE))","v":""},null,null,null,null,null,null,null,"Kyrene de los Ninos School - 070428145"]
["",null,{"$f":"IF(ISBLANK(B848),\"\",VLOOKUP(B848,NSLPandADEtableFY14,14,FALSE))","v":""},{"$f":"IF(ISBLANK(B848),\"\",VLOOKUP(B848,NSLPandADEtableFY14,15,FALSE))","v":""},{"$f":"IF(ISBLANK(B848),\"\",VLOOKUP(B848,NSLPandADEtableFY14,2,FALSE))","v":""},"",{"$f":"IF(ISBLANK(B848),\"\",VLOOKUP(B848,NSLPandADEtableFY14,11,FALSE))","v":""},null,null,null,null,null,null,null,"Kyrene del Cielo School - 070428146"]
["",null,{"$f":"IF(ISBLANK(B849),\"\",VLOOKUP(B849,NSLPandADEtableFY14,14,FALSE))","v":""},{"$f":"IF(ISBLANK(B849),\"\",VLOOKUP(B849,NSLPandADEtableFY14,15,FALSE))","v":""},{"$f":"IF(ISBLANK(B849),\"\",VLOOKUP(B849,NSLPandADEtableFY14,2,FALSE))","v":""},"",{"$f":"IF(ISBLANK(B849),\"\",VLOOKUP(B849,NSLPandADEtableFY14,11,FALSE))","v":""},null,null,null,null,null,null,null,"Kyrene del Milenio - 070428160"]
["",null,{"$f":"IF(ISBLANK(B850),\"\",VLOOKUP(B850,NSLPandADEtableFY14,14,FALSE))","v":""},{"$f":"IF(ISBLANK(B850),\"\",VLOOKUP(B850,NSLPandADEtableFY14,15,FALSE))","v":""},{"$f":"IF(ISBLANK(B850),\"\",VLOOKUP(B850,NSLPandADEtableFY14,2,FALSE))","v":""},"",{"$f":"IF(ISBLANK(B850),\"\",VLOOKUP(B850,NSLPandADEtableFY14,11,FALSE))","v":""},null,null,null,null,null,null,null,"Kyrene del Norte School - 070428143"]
["",null,{"$f":"IF(ISBLANK(B851),\"\",VLOOKUP(B851,NSLPandADEtableFY14,14,FALSE))","v":""},{"$f":"IF(ISBLANK(B851),\"\",VLOOKUP(B851,NSLPandADEtableFY14,15,FALSE))","v":""},{"$f":"IF(ISBLANK(B851),\"\",VLOOKUP(B851,NSLPandADEtableFY14,2,FALSE))","v":""},"",{"$f":"IF(ISBLANK(B851),\"\",VLOOKUP(B851,NSLPandADEtableFY14,11,FALSE))","v":""},null,null,null,null,null,null,null,"Kyrene del Pueblo Middle School - 070428140"]
["",null,{"$f":"IF(ISBLANK(B852),\"\",VLOOKUP(B852,NSLPandADEtableFY14,14,FALSE))","v":""},{"$f":"IF(ISBLANK(B852),\"\",VLOOKUP(B852,NSLPandADEtableFY14,15,FALSE))","v":""},{"$f":"IF(ISBLANK(B852),\"\",VLOOKUP(B852,NSLPandADEtableFY14,2,FALSE))","v":""},"",{"$f":"IF(ISBLANK(B852),\"\",VLOOKUP(B852,NSLPandADEtableFY14,11,FALSE))","v":""},null,null,null,null,null,null,null,"Kyrene Middle School - 070428141"]
["",null,{"$f":"IF(ISBLANK(B853),\"\",VLOOKUP(B853,NSLPandADEtableFY14,14,FALSE))","v":""},{"$f":"IF(ISBLANK(B853),\"\",VLOOKUP(B853,NSLPandADEtableFY14,15,FALSE))","v":""},{"$f":"IF(ISBLANK(B853),\"\",VLOOKUP(B853,NSLPandADEtableFY14,2,FALSE))","v":""},"",{"$f":"IF(ISBLANK(B853),\"\",VLOOKUP(B853,NSLPandADEtableFY14,11,FALSE))","v":""},null,null,null,null,null,null,null,"Kyrene Monte Vista School - 070428152"]
["",null,{"$f":"IF(ISBLANK(B854),\"\",VLOOKUP(B854,NSLPandADEtableFY14,14,FALSE))","v":""},{"$f":"IF(ISBLANK(B854),\"\",VLOOKUP(B854,NSLPandADEtableFY14,15,FALSE))","v":""},{"$f":"IF(ISBLANK(B854),\"\",VLOOKUP(B854,NSLPandADEtableFY14,2,FALSE))","v":""},"",{"$f":"IF(ISBLANK(B854),\"\",VLOOKUP(B854,NSLPandADEtableFY14,11,FALSE))","v":""},null,null,null,null,null,null,null,"Kyrene Traditional Academy at Sureno - 070428149"]
["",null,{"$f":"IF(ISBLANK(B855),\"\",VLOOKUP(B855,NSLPandADEtableFY14,14,FALSE))","v":""},{"$f":"IF(ISBLANK(B855),\"\",VLOOKUP(B855,NSLPandADEtableFY14,15,FALSE))","v":""},{"$f":"IF(ISBLANK(B855),\"\",VLOOKUP(B855,NSLPandADEtableFY14,2,FALSE))","v":""},"",{"$f":"IF(ISBLANK(B855),\"\",VLOOKUP(B855,NSLPandADEtableFY14,11,FALSE))","v":""},null,null,null,null,null,null,null,"L M Prince School - 100210111"]
["",null,{"$f":"IF(ISBLANK(B856),\"\",VLOOKUP(B856,NSLPandADEtableFY14,14,FALSE))","v":""},{"$f":"IF(ISBLANK(B856),\"\",VLOOKUP(B856,NSLPandADEtableFY14,15,FALSE))","v":""},{"$f":"IF(ISBLANK(B856),\"\",VLOOKUP(B856,NSLPandADEtableFY14,2,FALSE))","v":""},"",{"$f":"IF(ISBLANK(B856),\"\",VLOOKUP(B856,NSLPandADEtableFY14,11,FALSE))","v":""},null,null,null,null,null,null,null,"L. Thomas Heck Middle School - 070479112"]
["",null,{"$f":"IF(ISBLANK(B857),\"\",VLOOKUP(B857,NSLPandADEtableFY14,14,FALSE))","v":""},{"$f":"IF(ISBLANK(B857),\"\",VLOOKUP(B857,NSLPandADEtableFY14,15,FALSE))","v":""},{"$f":"IF(ISBLANK(B857),\"\",VLOOKUP(B857,NSLPandADEtableFY14,2,FALSE))","v":""},"",{"$f":"IF(ISBLANK(B857),\"\",VLOOKUP(B857,NSLPandADEtableFY14,11,FALSE))","v":""},null,null,null,null,null,null,null,"La Casita de Paz - 112751001"]
["",null,{"$f":"IF(ISBLANK(B858),\"\",VLOOKUP(B858,NSLPandADEtableFY14,14,FALSE))","v":""},{"$f":"IF(ISBLANK(B858),\"\",VLOOKUP(B858,NSLPandADEtableFY14,15,FALSE))","v":""},{"$f":"IF(ISBLANK(B858),\"\",VLOOKUP(B858,NSLPandADEtableFY14,2,FALSE))","v":""},"",{"$f":"IF(ISBLANK(B858),\"\",VLOOKUP(B858,NSLPandADEtableFY14,11,FALSE))","v":""},null,null,null,null,null,null,null,"La Cima Middle School - 100210165"]
["",null,{"$f":"IF(ISBLANK(B859),\"\",VLOOKUP(B859,NSLPandADEtableFY14,14,FALSE))","v":""},{"$f":"IF(ISBLANK(B859),\"\",VLOOKUP(B859,NSLPandADEtableFY14,15,FALSE))","v":""},{"$f":"IF(ISBLANK(B859),\"\",VLOOKUP(B859,NSLPandADEtableFY14,2,FALSE))","v":""},"",{"$f":"IF(ISBLANK(B859),\"\",VLOOKUP(B859,NSLPandADEtableFY14,11,FALSE))","v":""},null,null,null,null,null,null,null,"La Joya Community High School - 070514203"]
["",null,{"$f":"IF(ISBLANK(B860),\"\",VLOOKUP(B860,NSLPandADEtableFY14,14,FALSE))","v":""},{"$f":"IF(ISBLANK(B860),\"\",VLOOKUP(B860,NSLPandADEtableFY14,15,FALSE))","v":""},{"$f":"IF(ISBLANK(B860),\"\",VLOOKUP(B860,NSLPandADEtableFY14,2,FALSE))","v":""},"",{"$f":"IF(ISBLANK(B860),\"\",VLOOKUP(B860,NSLPandADEtableFY14,11,FALSE))","v":""},null,null,null,null,null,null,null,"La Paloma Academy - 108709101"]
["",null,{"$f":"IF(ISBLANK(B861),\"\",VLOOKUP(B861,NSLPandADEtableFY14,14,FALSE))","v":""},{"$f":"IF(ISBLANK(B861),\"\",VLOOKUP(B861,NSLPandADEtableFY14,15,FALSE))","v":""},{"$f":"IF(ISBLANK(B861),\"\",VLOOKUP(B861,NSLPandADEtableFY14,2,FALSE))","v":""},"",{"$f":"IF(ISBLANK(B861),\"\",VLOOKUP(B861,NSLPandADEtableFY14,11,FALSE))","v":""},null,null,null,null,null,null,null,"La Paloma Academy (Lakeside) - 108709103"]
["",null,{"$f":"IF(ISBLANK(B862),\"\",VLOOKUP(B862,NSLPandADEtableFY14,14,FALSE))","v":""},{"$f":"IF(ISBLANK(B862),\"\",VLOOKUP(B862,NSLPandADEtableFY14,15,FALSE))","v":""},{"$f":"IF(ISBLANK(B862),\"\",VLOOKUP(B862,NSLPandADEtableFY14,2,FALSE))","v":""},"",{"$f":"IF(ISBLANK(B862),\"\",VLOOKUP(B862,NSLPandADEtableFY14,11,FALSE))","v":""},null,null,null,null,null,null,null,"La Paloma Academy-South - 108709104"]
["",null,{"$f":"IF(ISBLANK(B863),\"\",VLOOKUP(B863,NSLPandADEtableFY14,14,FALSE))","v":""},{"$f":"IF(ISBLANK(B863),\"\",VLOOKUP(B863,NSLPandADEtableFY14,15,FALSE))","v":""},{"$f":"IF(ISBLANK(B863),\"\",VLOOKUP(B863,NSLPandADEtableFY14,2,FALSE))","v":""},"",{"$f":"IF(ISBLANK(B863),\"\",VLOOKUP(B863,NSLPandADEtableFY14,11,FALSE))","v":""},null,null,null,null,null,null,null,"La Senita Elementary - 080220111"]
["",null,{"$f":"IF(ISBLANK(B864),\"\",VLOOKUP(B864,NSLPandADEtableFY14,14,FALSE))","v":""},{"$f":"IF(ISBLANK(B864),\"\",VLOOKUP(B864,NSLPandADEtableFY14,15,FALSE))","v":""},{"$f":"IF(ISBLANK(B864),\"\",VLOOKUP(B864,NSLPandADEtableFY14,2,FALSE))","v":""},"",{"$f":"IF(ISBLANK(B864),\"\",VLOOKUP(B864,NSLPandADEtableFY14,11,FALSE))","v":""},null,null,null,null,null,null,null,"Lafe Nelson School - 050201101"]
["",null,{"$f":"IF(ISBLANK(B865),\"\",VLOOKUP(B865,NSLPandADEtableFY14,14,FALSE))","v":""},{"$f":"IF(ISBLANK(B865),\"\",VLOOKUP(B865,NSLPandADEtableFY14,15,FALSE))","v":""},{"$f":"IF(ISBLANK(B865),\"\",VLOOKUP(B865,NSLPandADEtableFY14,2,FALSE))","v":""},"",{"$f":"IF(ISBLANK(B865),\"\",VLOOKUP(B865,NSLPandADEtableFY14,11,FALSE))","v":""},null,null,null,null,null,null,null,"Laguna Elementary School - 100208150"]
["",null,{"$f":"IF(ISBLANK(B866),\"\",VLOOKUP(B866,NSLPandADEtableFY14,14,FALSE))","v":""},{"$f":"IF(ISBLANK(B866),\"\",VLOOKUP(B866,NSLPandADEtableFY14,15,FALSE))","v":""},{"$f":"IF(ISBLANK(B866),\"\",VLOOKUP(B866,NSLPandADEtableFY14,2,FALSE))","v":""},"",{"$f":"IF(ISBLANK(B866),\"\",VLOOKUP(B866,NSLPandADEtableFY14,11,FALSE))","v":""},null,null,null,null,null,null,null,"Laguna Elementary School - 070248123"]
["",null,{"$f":"IF(ISBLANK(B867),\"\",VLOOKUP(B867,NSLPandADEtableFY14,14,FALSE))","v":""},{"$f":"IF(ISBLANK(B867),\"\",VLOOKUP(B867,NSLPandADEtableFY14,15,FALSE))","v":""},{"$f":"IF(ISBLANK(B867),\"\",VLOOKUP(B867,NSLPandADEtableFY14,2,FALSE))","v":""},"",{"$f":"IF(ISBLANK(B867),\"\",VLOOKUP(B867,NSLPandADEtableFY14,11,FALSE))","v":""},null,null,null,null,null,null,null,"Laird Elementary School - 070403117"]
["",null,{"$f":"IF(ISBLANK(B868),\"\",VLOOKUP(B868,NSLPandADEtableFY14,14,FALSE))","v":""},{"$f":"IF(ISBLANK(B868),\"\",VLOOKUP(B868,NSLPandADEtableFY14,15,FALSE))","v":""},{"$f":"IF(ISBLANK(B868),\"\",VLOOKUP(B868,NSLPandADEtableFY14,2,FALSE))","v":""},"",{"$f":"IF(ISBLANK(B868),\"\",VLOOKUP(B868,NSLPandADEtableFY14,11,FALSE))","v":""},null,null,null,null,null,null,null,"Lake Havasu High School - 080201207"]
["",null,{"$f":"IF(ISBLANK(B869),\"\",VLOOKUP(B869,NSLPandADEtableFY14,14,FALSE))","v":""},{"$f":"IF(ISBLANK(B869),\"\",VLOOKUP(B869,NSLPandADEtableFY14,15,FALSE))","v":""},{"$f":"IF(ISBLANK(B869),\"\",VLOOKUP(B869,NSLPandADEtableFY14,2,FALSE))","v":""},"",{"$f":"IF(ISBLANK(B869),\"\",VLOOKUP(B869,NSLPandADEtableFY14,11,FALSE))","v":""},null,null,null,null,null,null,null,"Lake Pleasant Elementary - 070211131"]
["",null,{"$f":"IF(ISBLANK(B870),\"\",VLOOKUP(B870,NSLPandADEtableFY14,14,FALSE))","v":""},{"$f":"IF(ISBLANK(B870),\"\",VLOOKUP(B870,NSLPandADEtableFY14,15,FALSE))","v":""},{"$f":"IF(ISBLANK(B870),\"\",VLOOKUP(B870,NSLPandADEtableFY14,2,FALSE))","v":""},"",{"$f":"IF(ISBLANK(B870),\"\",VLOOKUP(B870,NSLPandADEtableFY14,11,FALSE))","v":""},null,null,null,null,null,null,null,"Lake Valley Elementary School - 130222110"]
["",null,{"$f":"IF(ISBLANK(B871),\"\",VLOOKUP(B871,NSLPandADEtableFY14,14,FALSE))","v":""},{"$f":"IF(ISBLANK(B871),\"\",VLOOKUP(B871,NSLPandADEtableFY14,15,FALSE))","v":""},{"$f":"IF(ISBLANK(B871),\"\",VLOOKUP(B871,NSLPandADEtableFY14,2,FALSE))","v":""},"",{"$f":"IF(ISBLANK(B871),\"\",VLOOKUP(B871,NSLPandADEtableFY14,11,FALSE))","v":""},null,null,null,null,null,null,null,"Lake View Elementary Primary - 030208102"]
["",null,{"$f":"IF(ISBLANK(B872),\"\",VLOOKUP(B872,NSLPandADEtableFY14,14,FALSE))","v":""},{"$f":"IF(ISBLANK(B872),\"\",VLOOKUP(B872,NSLPandADEtableFY14,15,FALSE))","v":""},{"$f":"IF(ISBLANK(B872),\"\",VLOOKUP(B872,NSLPandADEtableFY14,2,FALSE))","v":""},"",{"$f":"IF(ISBLANK(B872),\"\",VLOOKUP(B872,NSLPandADEtableFY14,11,FALSE))","v":""},null,null,null,null,null,null,null,"Lakeview Elementary School - 070406132"]
["",null,{"$f":"IF(ISBLANK(B873),\"\",VLOOKUP(B873,NSLPandADEtableFY14,14,FALSE))","v":""},{"$f":"IF(ISBLANK(B873),\"\",VLOOKUP(B873,NSLPandADEtableFY14,15,FALSE))","v":""},{"$f":"IF(ISBLANK(B873),\"\",VLOOKUP(B873,NSLPandADEtableFY14,2,FALSE))","v":""},"",{"$f":"IF(ISBLANK(B873),\"\",VLOOKUP(B873,NSLPandADEtableFY14,11,FALSE))","v":""},null,null,null,null,null,null,null,"Larkspur Elementary School - 070269140"]
["",null,{"$f":"IF(ISBLANK(B874),\"\",VLOOKUP(B874,NSLPandADEtableFY14,14,FALSE))","v":""},{"$f":"IF(ISBLANK(B874),\"\",VLOOKUP(B874,NSLPandADEtableFY14,15,FALSE))","v":""},{"$f":"IF(ISBLANK(B874),\"\",VLOOKUP(B874,NSLPandADEtableFY14,2,FALSE))","v":""},"",{"$f":"IF(ISBLANK(B874),\"\",VLOOKUP(B874,NSLPandADEtableFY14,11,FALSE))","v":""},null,null,null,null,null,null,null,"Larry C Kennedy School - 070414130"]
["",null,{"$f":"IF(ISBLANK(B875),\"\",VLOOKUP(B875,NSLPandADEtableFY14,14,FALSE))","v":""},{"$f":"IF(ISBLANK(B875),\"\",VLOOKUP(B875,NSLPandADEtableFY14,15,FALSE))","v":""},{"$f":"IF(ISBLANK(B875),\"\",VLOOKUP(B875,NSLPandADEtableFY14,2,FALSE))","v":""},"",{"$f":"IF(ISBLANK(B875),\"\",VLOOKUP(B875,NSLPandADEtableFY14,11,FALSE))","v":""},null,null,null,null,null,null,null,"Larry Simmons Residence - 072122006"]
["",null,{"$f":"IF(ISBLANK(B876),\"\",VLOOKUP(B876,NSLPandADEtableFY14,14,FALSE))","v":""},{"$f":"IF(ISBLANK(B876),\"\",VLOOKUP(B876,NSLPandADEtableFY14,15,FALSE))","v":""},{"$f":"IF(ISBLANK(B876),\"\",VLOOKUP(B876,NSLPandADEtableFY14,2,FALSE))","v":""},"",{"$f":"IF(ISBLANK(B876),\"\",VLOOKUP(B876,NSLPandADEtableFY14,11,FALSE))","v":""},null,null,null,null,null,null,null,"Las Brisas Elementary School - 070297131"]
["",null,{"$f":"IF(ISBLANK(B877),\"\",VLOOKUP(B877,NSLPandADEtableFY14,14,FALSE))","v":""},{"$f":"IF(ISBLANK(B877),\"\",VLOOKUP(B877,NSLPandADEtableFY14,15,FALSE))","v":""},{"$f":"IF(ISBLANK(B877),\"\",VLOOKUP(B877,NSLPandADEtableFY14,2,FALSE))","v":""},"",{"$f":"IF(ISBLANK(B877),\"\",VLOOKUP(B877,NSLPandADEtableFY14,11,FALSE))","v":""},null,null,null,null,null,null,null,"Las Lomas Elementary School - 040240103"]
["",null,{"$f":"IF(ISBLANK(B878),\"\",VLOOKUP(B878,NSLPandADEtableFY14,14,FALSE))","v":""},{"$f":"IF(ISBLANK(B878),\"\",VLOOKUP(B878,NSLPandADEtableFY14,15,FALSE))","v":""},{"$f":"IF(ISBLANK(B878),\"\",VLOOKUP(B878,NSLPandADEtableFY14,2,FALSE))","v":""},"",{"$f":"IF(ISBLANK(B878),\"\",VLOOKUP(B878,NSLPandADEtableFY14,11,FALSE))","v":""},null,null,null,null,null,null,null,"Las Sendas Elementary School - 070204150"]
["",null,{"$f":"IF(ISBLANK(B879),\"\",VLOOKUP(B879,NSLPandADEtableFY14,14,FALSE))","v":""},{"$f":"IF(ISBLANK(B879),\"\",VLOOKUP(B879,NSLPandADEtableFY14,15,FALSE))","v":""},{"$f":"IF(ISBLANK(B879),\"\",VLOOKUP(B879,NSLPandADEtableFY14,2,FALSE))","v":""},"",{"$f":"IF(ISBLANK(B879),\"\",VLOOKUP(B879,NSLPandADEtableFY14,11,FALSE))","v":""},null,null,null,null,null,null,null,"Latch School - CNP Washington ESD - 079106001"]
["",null,{"$f":"IF(ISBLANK(B880),\"\",VLOOKUP(B880,NSLPandADEtableFY14,14,FALSE))","v":""},{"$f":"IF(ISBLANK(B880),\"\",VLOOKUP(B880,NSLPandADEtableFY14,15,FALSE))","v":""},{"$f":"IF(ISBLANK(B880),\"\",VLOOKUP(B880,NSLPandADEtableFY14,2,FALSE))","v":""},"",{"$f":"IF(ISBLANK(B880),\"\",VLOOKUP(B880,NSLPandADEtableFY14,11,FALSE))","v":""},null,null,null,null,null,null,null,"Lattie Coor - 070444104"]
["",null,{"$f":"IF(ISBLANK(B881),\"\",VLOOKUP(B881,NSLPandADEtableFY14,14,FALSE))","v":""},{"$f":"IF(ISBLANK(B881),\"\",VLOOKUP(B881,NSLPandADEtableFY14,15,FALSE))","v":""},{"$f":"IF(ISBLANK(B881),\"\",VLOOKUP(B881,NSLPandADEtableFY14,2,FALSE))","v":""},"",{"$f":"IF(ISBLANK(B881),\"\",VLOOKUP(B881,NSLPandADEtableFY14,11,FALSE))","v":""},null,null,null,null,null,null,null,"Laugharn Elementary School - 060203101"]
["",null,{"$f":"IF(ISBLANK(B882),\"\",VLOOKUP(B882,NSLPandADEtableFY14,14,FALSE))","v":""},{"$f":"IF(ISBLANK(B882),\"\",VLOOKUP(B882,NSLPandADEtableFY14,15,FALSE))","v":""},{"$f":"IF(ISBLANK(B882),\"\",VLOOKUP(B882,NSLPandADEtableFY14,2,FALSE))","v":""},"",{"$f":"IF(ISBLANK(B882),\"\",VLOOKUP(B882,NSLPandADEtableFY14,11,FALSE))","v":""},null,null,null,null,null,null,null,"Laura N. Banks Elementary - 100201120"]
["",null,{"$f":"IF(ISBLANK(B883),\"\",VLOOKUP(B883,NSLPandADEtableFY14,14,FALSE))","v":""},{"$f":"IF(ISBLANK(B883),\"\",VLOOKUP(B883,NSLPandADEtableFY14,15,FALSE))","v":""},{"$f":"IF(ISBLANK(B883),\"\",VLOOKUP(B883,NSLPandADEtableFY14,2,FALSE))","v":""},"",{"$f":"IF(ISBLANK(B883),\"\",VLOOKUP(B883,NSLPandADEtableFY14,11,FALSE))","v":""},null,null,null,null,null,null,null,"Laveen Elementary School - 070459101"]
["",null,{"$f":"IF(ISBLANK(B884),\"\",VLOOKUP(B884,NSLPandADEtableFY14,14,FALSE))","v":""},{"$f":"IF(ISBLANK(B884),\"\",VLOOKUP(B884,NSLPandADEtableFY14,15,FALSE))","v":""},{"$f":"IF(ISBLANK(B884),\"\",VLOOKUP(B884,NSLPandADEtableFY14,2,FALSE))","v":""},"",{"$f":"IF(ISBLANK(B884),\"\",VLOOKUP(B884,NSLPandADEtableFY14,11,FALSE))","v":""},null,null,null,null,null,null,null,"Lavell Home - 102706003"]
["",null,{"$f":"IF(ISBLANK(B885),\"\",VLOOKUP(B885,NSLPandADEtableFY14,14,FALSE))","v":""},{"$f":"IF(ISBLANK(B885),\"\",VLOOKUP(B885,NSLPandADEtableFY14,15,FALSE))","v":""},{"$f":"IF(ISBLANK(B885),\"\",VLOOKUP(B885,NSLPandADEtableFY14,2,FALSE))","v":""},"",{"$f":"IF(ISBLANK(B885),\"\",VLOOKUP(B885,NSLPandADEtableFY14,11,FALSE))","v":""},null,null,null,null,null,null,null,"Lawrence W Cross Middle School - 100210167"]
["",null,{"$f":"IF(ISBLANK(B886),\"\",VLOOKUP(B886,NSLPandADEtableFY14,14,FALSE))","v":""},{"$f":"IF(ISBLANK(B886),\"\",VLOOKUP(B886,NSLPandADEtableFY14,15,FALSE))","v":""},{"$f":"IF(ISBLANK(B886),\"\",VLOOKUP(B886,NSLPandADEtableFY14,2,FALSE))","v":""},"",{"$f":"IF(ISBLANK(B886),\"\",VLOOKUP(B886,NSLPandADEtableFY14,11,FALSE))","v":""},null,null,null,null,null,null,null,"Le Pera Elementary School - 150227103"]
["",null,{"$f":"IF(ISBLANK(B887),\"\",VLOOKUP(B887,NSLPandADEtableFY14,14,FALSE))","v":""},{"$f":"IF(ISBLANK(B887),\"\",VLOOKUP(B887,NSLPandADEtableFY14,15,FALSE))","v":""},{"$f":"IF(ISBLANK(B887),\"\",VLOOKUP(B887,NSLPandADEtableFY14,2,FALSE))","v":""},"",{"$f":"IF(ISBLANK(B887),\"\",VLOOKUP(B887,NSLPandADEtableFY14,11,FALSE))","v":""},null,null,null,null,null,null,null,"Leading Edge Academy at East Mesa - 078968103"]
["",null,{"$f":"IF(ISBLANK(B888),\"\",VLOOKUP(B888,NSLPandADEtableFY14,14,FALSE))","v":""},{"$f":"IF(ISBLANK(B888),\"\",VLOOKUP(B888,NSLPandADEtableFY14,15,FALSE))","v":""},{"$f":"IF(ISBLANK(B888),\"\",VLOOKUP(B888,NSLPandADEtableFY14,2,FALSE))","v":""},"",{"$f":"IF(ISBLANK(B888),\"\",VLOOKUP(B888,NSLPandADEtableFY14,11,FALSE))","v":""},null,null,null,null,null,null,null,"Leading Edge Academy Gilbert - 078968101"]
["",null,{"$f":"IF(ISBLANK(B889),\"\",VLOOKUP(B889,NSLPandADEtableFY14,14,FALSE))","v":""},{"$f":"IF(ISBLANK(B889),\"\",VLOOKUP(B889,NSLPandADEtableFY14,15,FALSE))","v":""},{"$f":"IF(ISBLANK(B889),\"\",VLOOKUP(B889,NSLPandADEtableFY14,2,FALSE))","v":""},"",{"$f":"IF(ISBLANK(B889),\"\",VLOOKUP(B889,NSLPandADEtableFY14,11,FALSE))","v":""},null,null,null,null,null,null,null,"Leading Edge Academy Maricopa - 118708001"]
["",null,{"$f":"IF(ISBLANK(B890),\"\",VLOOKUP(B890,NSLPandADEtableFY14,14,FALSE))","v":""},{"$f":"IF(ISBLANK(B890),\"\",VLOOKUP(B890,NSLPandADEtableFY14,15,FALSE))","v":""},{"$f":"IF(ISBLANK(B890),\"\",VLOOKUP(B890,NSLPandADEtableFY14,2,FALSE))","v":""},"",{"$f":"IF(ISBLANK(B890),\"\",VLOOKUP(B890,NSLPandADEtableFY14,11,FALSE))","v":""},null,null,null,null,null,null,null,"Leading Edge Academy Queen Creek - 078101001"]
["",null,{"$f":"IF(ISBLANK(B891),\"\",VLOOKUP(B891,NSLPandADEtableFY14,14,FALSE))","v":""},{"$f":"IF(ISBLANK(B891),\"\",VLOOKUP(B891,NSLPandADEtableFY14,15,FALSE))","v":""},{"$f":"IF(ISBLANK(B891),\"\",VLOOKUP(B891,NSLPandADEtableFY14,2,FALSE))","v":""},"",{"$f":"IF(ISBLANK(B891),\"\",VLOOKUP(B891,NSLPandADEtableFY14,11,FALSE))","v":""},null,null,null,null,null,null,null,"Leading Edge Academy San Tan - 078101002"]
["",null,{"$f":"IF(ISBLANK(B892),\"\",VLOOKUP(B892,NSLPandADEtableFY14,14,FALSE))","v":""},{"$f":"IF(ISBLANK(B892),\"\",VLOOKUP(B892,NSLPandADEtableFY14,15,FALSE))","v":""},{"$f":"IF(ISBLANK(B892),\"\",VLOOKUP(B892,NSLPandADEtableFY14,2,FALSE))","v":""},"",{"$f":"IF(ISBLANK(B892),\"\",VLOOKUP(B892,NSLPandADEtableFY14,11,FALSE))","v":""},null,null,null,null,null,null,null,"Learning Foundation - 098749002"]
["",null,{"$f":"IF(ISBLANK(B893),\"\",VLOOKUP(B893,NSLPandADEtableFY14,14,FALSE))","v":""},{"$f":"IF(ISBLANK(B893),\"\",VLOOKUP(B893,NSLPandADEtableFY14,15,FALSE))","v":""},{"$f":"IF(ISBLANK(B893),\"\",VLOOKUP(B893,NSLPandADEtableFY14,2,FALSE))","v":""},"",{"$f":"IF(ISBLANK(B893),\"\",VLOOKUP(B893,NSLPandADEtableFY14,11,FALSE))","v":""},null,null,null,null,null,null,null,"Learning Foundation and Performing Arts Alta Mesa - 078565001"]
["",null,{"$f":"IF(ISBLANK(B894),\"\",VLOOKUP(B894,NSLPandADEtableFY14,14,FALSE))","v":""},{"$f":"IF(ISBLANK(B894),\"\",VLOOKUP(B894,NSLPandADEtableFY14,15,FALSE))","v":""},{"$f":"IF(ISBLANK(B894),\"\",VLOOKUP(B894,NSLPandADEtableFY14,2,FALSE))","v":""},"",{"$f":"IF(ISBLANK(B894),\"\",VLOOKUP(B894,NSLPandADEtableFY14,11,FALSE))","v":""},null,null,null,null,null,null,null,"Learning Foundation and Performing Arts Gilbert - 078564001"]
["",null,{"$f":"IF(ISBLANK(B895),\"\",VLOOKUP(B895,NSLPandADEtableFY14,14,FALSE))","v":""},{"$f":"IF(ISBLANK(B895),\"\",VLOOKUP(B895,NSLPandADEtableFY14,15,FALSE))","v":""},{"$f":"IF(ISBLANK(B895),\"\",VLOOKUP(B895,NSLPandADEtableFY14,2,FALSE))","v":""},"",{"$f":"IF(ISBLANK(B895),\"\",VLOOKUP(B895,NSLPandADEtableFY14,11,FALSE))","v":""},null,null,null,null,null,null,null,"Lee Williams High School - 080220203"]
["",null,{"$f":"IF(ISBLANK(B896),\"\",VLOOKUP(B896,NSLPandADEtableFY14,14,FALSE))","v":""},{"$f":"IF(ISBLANK(B896),\"\",VLOOKUP(B896,NSLPandADEtableFY14,15,FALSE))","v":""},{"$f":"IF(ISBLANK(B896),\"\",VLOOKUP(B896,NSLPandADEtableFY14,2,FALSE))","v":""},"",{"$f":"IF(ISBLANK(B896),\"\",VLOOKUP(B896,NSLPandADEtableFY14,11,FALSE))","v":""},null,null,null,null,null,null,null,"Legacy Elementary School - 078685101"]
["",null,{"$f":"IF(ISBLANK(B897),\"\",VLOOKUP(B897,NSLPandADEtableFY14,14,FALSE))","v":""},{"$f":"IF(ISBLANK(B897),\"\",VLOOKUP(B897,NSLPandADEtableFY14,15,FALSE))","v":""},{"$f":"IF(ISBLANK(B897),\"\",VLOOKUP(B897,NSLPandADEtableFY14,2,FALSE))","v":""},"",{"$f":"IF(ISBLANK(B897),\"\",VLOOKUP(B897,NSLPandADEtableFY14,11,FALSE))","v":""},null,null,null,null,null,null,null,"Legend Springs Elementary - 070297138"]
["",null,{"$f":"IF(ISBLANK(B898),\"\",VLOOKUP(B898,NSLPandADEtableFY14,14,FALSE))","v":""},{"$f":"IF(ISBLANK(B898),\"\",VLOOKUP(B898,NSLPandADEtableFY14,15,FALSE))","v":""},{"$f":"IF(ISBLANK(B898),\"\",VLOOKUP(B898,NSLPandADEtableFY14,2,FALSE))","v":""},"",{"$f":"IF(ISBLANK(B898),\"\",VLOOKUP(B898,NSLPandADEtableFY14,11,FALSE))","v":""},null,null,null,null,null,null,null,"Lehi Elementary School - 070204110"]
["",null,{"$f":"IF(ISBLANK(B899),\"\",VLOOKUP(B899,NSLPandADEtableFY14,14,FALSE))","v":""},{"$f":"IF(ISBLANK(B899),\"\",VLOOKUP(B899,NSLPandADEtableFY14,15,FALSE))","v":""},{"$f":"IF(ISBLANK(B899),\"\",VLOOKUP(B899,NSLPandADEtableFY14,2,FALSE))","v":""},"",{"$f":"IF(ISBLANK(B899),\"\",VLOOKUP(B899,NSLPandADEtableFY14,11,FALSE))","v":""},null,null,null,null,null,null,null,"Leupp Public School - 030201120"]
["",null,{"$f":"IF(ISBLANK(B900),\"\",VLOOKUP(B900,NSLPandADEtableFY14,14,FALSE))","v":""},{"$f":"IF(ISBLANK(B900),\"\",VLOOKUP(B900,NSLPandADEtableFY14,15,FALSE))","v":""},{"$f":"IF(ISBLANK(B900),\"\",VLOOKUP(B900,NSLPandADEtableFY14,2,FALSE))","v":""},"",{"$f":"IF(ISBLANK(B900),\"\",VLOOKUP(B900,NSLPandADEtableFY14,11,FALSE))","v":""},null,null,null,null,null,null,null,"Leupp Schools - 033904010"]
["",null,{"$f":"IF(ISBLANK(B901),\"\",VLOOKUP(B901,NSLPandADEtableFY14,14,FALSE))","v":""},{"$f":"IF(ISBLANK(B901),\"\",VLOOKUP(B901,NSLPandADEtableFY14,15,FALSE))","v":""},{"$f":"IF(ISBLANK(B901),\"\",VLOOKUP(B901,NSLPandADEtableFY14,2,FALSE))","v":""},"",{"$f":"IF(ISBLANK(B901),\"\",VLOOKUP(B901,NSLPandADEtableFY14,11,FALSE))","v":""},null,null,null,null,null,null,null,"Liberty Arts Academy - 078571001"]
["",null,{"$f":"IF(ISBLANK(B902),\"\",VLOOKUP(B902,NSLPandADEtableFY14,14,FALSE))","v":""},{"$f":"IF(ISBLANK(B902),\"\",VLOOKUP(B902,NSLPandADEtableFY14,15,FALSE))","v":""},{"$f":"IF(ISBLANK(B902),\"\",VLOOKUP(B902,NSLPandADEtableFY14,2,FALSE))","v":""},"",{"$f":"IF(ISBLANK(B902),\"\",VLOOKUP(B902,NSLPandADEtableFY14,11,FALSE))","v":""},null,null,null,null,null,null,null,"Liberty Elementary School - 070425101"]
["",null,{"$f":"IF(ISBLANK(B903),\"\",VLOOKUP(B903,NSLPandADEtableFY14,14,FALSE))","v":""},{"$f":"IF(ISBLANK(B903),\"\",VLOOKUP(B903,NSLPandADEtableFY14,15,FALSE))","v":""},{"$f":"IF(ISBLANK(B903),\"\",VLOOKUP(B903,NSLPandADEtableFY14,2,FALSE))","v":""},"",{"$f":"IF(ISBLANK(B903),\"\",VLOOKUP(B903,NSLPandADEtableFY14,11,FALSE))","v":""},null,null,null,null,null,null,null,"Liberty Elementary School - 070269143"]
["",null,{"$f":"IF(ISBLANK(B904),\"\",VLOOKUP(B904,NSLPandADEtableFY14,14,FALSE))","v":""},{"$f":"IF(ISBLANK(B904),\"\",VLOOKUP(B904,NSLPandADEtableFY14,15,FALSE))","v":""},{"$f":"IF(ISBLANK(B904),\"\",VLOOKUP(B904,NSLPandADEtableFY14,2,FALSE))","v":""},"",{"$f":"IF(ISBLANK(B904),\"\",VLOOKUP(B904,NSLPandADEtableFY14,11,FALSE))","v":""},null,null,null,null,null,null,null,"Liberty Elementary School - 100212116"]
["",null,{"$f":"IF(ISBLANK(B905),\"\",VLOOKUP(B905,NSLPandADEtableFY14,14,FALSE))","v":""},{"$f":"IF(ISBLANK(B905),\"\",VLOOKUP(B905,NSLPandADEtableFY14,15,FALSE))","v":""},{"$f":"IF(ISBLANK(B905),\"\",VLOOKUP(B905,NSLPandADEtableFY14,2,FALSE))","v":""},"",{"$f":"IF(ISBLANK(B905),\"\",VLOOKUP(B905,NSLPandADEtableFY14,11,FALSE))","v":""},null,null,null,null,null,null,null,"Liberty High School - 070211267"]
["",null,{"$f":"IF(ISBLANK(B906),\"\",VLOOKUP(B906,NSLPandADEtableFY14,14,FALSE))","v":""},{"$f":"IF(ISBLANK(B906),\"\",VLOOKUP(B906,NSLPandADEtableFY14,15,FALSE))","v":""},{"$f":"IF(ISBLANK(B906),\"\",VLOOKUP(B906,NSLPandADEtableFY14,2,FALSE))","v":""},"",{"$f":"IF(ISBLANK(B906),\"\",VLOOKUP(B906,NSLPandADEtableFY14,11,FALSE))","v":""},null,null,null,null,null,null,null,"Liberty Traditional Charter School - 078784101"]
["",null,{"$f":"IF(ISBLANK(B907),\"\",VLOOKUP(B907,NSLPandADEtableFY14,14,FALSE))","v":""},{"$f":"IF(ISBLANK(B907),\"\",VLOOKUP(B907,NSLPandADEtableFY14,15,FALSE))","v":""},{"$f":"IF(ISBLANK(B907),\"\",VLOOKUP(B907,NSLPandADEtableFY14,2,FALSE))","v":""},"",{"$f":"IF(ISBLANK(B907),\"\",VLOOKUP(B907,NSLPandADEtableFY14,11,FALSE))","v":""},null,null,null,null,null,null,null,"Liberty Traditional Charter School - Saddleback - 078784104"]
[{"$f":"IF(ISBLANK(B908),\"\",\"Q-Public School\")","v":""},null,{"$f":"IF(ISBLANK(B908),\"\",VLOOKUP(B908,NSLPandADEtableFY14,14,FALSE))","v":""},{"$f":"IF(ISBLANK(B908),\"\",VLOOKUP(B908,NSLPandADEtableFY14,15,FALSE))","v":""},{"$f":"IF(ISBLANK(B908),\"\",VLOOKUP(B908,NSLPandADEtableFY14,2,FALSE))","v":""},{"$f":"IF(ISBLANK(B908),\"\",\"Free & Reduced Lunch Data (NSLP) March 2013\")","v":""},{"$f":"IF(ISBLANK(B908),\"\",VLOOKUP(B908,NSLPandADEtableFY14,11,FALSE))","v":""},null,null,null,null,null,null,null,"Liberty Traditional School - 130222134"]
["",null,{"$f":"IF(ISBLANK(B909),\"\",VLOOKUP(B909,NSLPandADEtableFY14,14,FALSE))","v":""},{"$f":"IF(ISBLANK(B909),\"\",VLOOKUP(B909,NSLPandADEtableFY14,15,FALSE))","v":""},{"$f":"IF(ISBLANK(B909),\"\",VLOOKUP(B909,NSLPandADEtableFY14,2,FALSE))","v":""},"",{"$f":"IF(ISBLANK(B909),\"\",VLOOKUP(B909,NSLPandADEtableFY14,11,FALSE))","v":""},null,null,null,null,null,null,null,"Lifelong Learning Academy - 108708001"]
["",null,{"$f":"IF(ISBLANK(B910),\"\",VLOOKUP(B910,NSLPandADEtableFY14,14,FALSE))","v":""},{"$f":"IF(ISBLANK(B910),\"\",VLOOKUP(B910,NSLPandADEtableFY14,15,FALSE))","v":""},{"$f":"IF(ISBLANK(B910),\"\",VLOOKUP(B910,NSLPandADEtableFY14,2,FALSE))","v":""},"",{"$f":"IF(ISBLANK(B910),\"\",VLOOKUP(B910,NSLPandADEtableFY14,11,FALSE))","v":""},null,null,null,null,null,null,null,"Lighthouse - 072781002"]
["",null,{"$f":"IF(ISBLANK(B911),\"\",VLOOKUP(B911,NSLPandADEtableFY14,14,FALSE))","v":""},{"$f":"IF(ISBLANK(B911),\"\",VLOOKUP(B911,NSLPandADEtableFY14,15,FALSE))","v":""},{"$f":"IF(ISBLANK(B911),\"\",VLOOKUP(B911,NSLPandADEtableFY14,2,FALSE))","v":""},"",{"$f":"IF(ISBLANK(B911),\"\",VLOOKUP(B911,NSLPandADEtableFY14,11,FALSE))","v":""},null,null,null,null,null,null,null,"Lincoln Elementary School - 070204111"]
["",null,{"$f":"IF(ISBLANK(B912),\"\",VLOOKUP(B912,NSLPandADEtableFY14,14,FALSE))","v":""},{"$f":"IF(ISBLANK(B912),\"\",VLOOKUP(B912,NSLPandADEtableFY14,15,FALSE))","v":""},{"$f":"IF(ISBLANK(B912),\"\",VLOOKUP(B912,NSLPandADEtableFY14,2,FALSE))","v":""},"",{"$f":"IF(ISBLANK(B912),\"\",VLOOKUP(B912,NSLPandADEtableFY14,11,FALSE))","v":""},null,null,null,null,null,null,null,"Lincoln Elementary School - 120201113"]
["",null,{"$f":"IF(ISBLANK(B913),\"\",VLOOKUP(B913,NSLPandADEtableFY14,14,FALSE))","v":""},{"$f":"IF(ISBLANK(B913),\"\",VLOOKUP(B913,NSLPandADEtableFY14,15,FALSE))","v":""},{"$f":"IF(ISBLANK(B913),\"\",VLOOKUP(B913,NSLPandADEtableFY14,2,FALSE))","v":""},"",{"$f":"IF(ISBLANK(B913),\"\",VLOOKUP(B913,NSLPandADEtableFY14,11,FALSE))","v":""},null,null,null,null,null,null,null,"Lincoln Elementary School - 130201012"]
["",null,{"$f":"IF(ISBLANK(B914),\"\",VLOOKUP(B914,NSLPandADEtableFY14,14,FALSE))","v":""},{"$f":"IF(ISBLANK(B914),\"\",VLOOKUP(B914,NSLPandADEtableFY14,15,FALSE))","v":""},{"$f":"IF(ISBLANK(B914),\"\",VLOOKUP(B914,NSLPandADEtableFY14,2,FALSE))","v":""},"",{"$f":"IF(ISBLANK(B914),\"\",VLOOKUP(B914,NSLPandADEtableFY14,11,FALSE))","v":""},null,null,null,null,null,null,null,"Lindbergh Elementary School - 070204122"]
["",null,{"$f":"IF(ISBLANK(B915),\"\",VLOOKUP(B915,NSLPandADEtableFY14,14,FALSE))","v":""},{"$f":"IF(ISBLANK(B915),\"\",VLOOKUP(B915,NSLPandADEtableFY14,15,FALSE))","v":""},{"$f":"IF(ISBLANK(B915),\"\",VLOOKUP(B915,NSLPandADEtableFY14,2,FALSE))","v":""},"",{"$f":"IF(ISBLANK(B915),\"\",VLOOKUP(B915,NSLPandADEtableFY14,11,FALSE))","v":""},null,null,null,null,null,null,null,"Linden Elementary School - 090210116"]
["",null,{"$f":"IF(ISBLANK(B916),\"\",VLOOKUP(B916,NSLPandADEtableFY14,14,FALSE))","v":""},{"$f":"IF(ISBLANK(B916),\"\",VLOOKUP(B916,NSLPandADEtableFY14,15,FALSE))","v":""},{"$f":"IF(ISBLANK(B916),\"\",VLOOKUP(B916,NSLPandADEtableFY14,2,FALSE))","v":""},"",{"$f":"IF(ISBLANK(B916),\"\",VLOOKUP(B916,NSLPandADEtableFY14,11,FALSE))","v":""},null,null,null,null,null,null,null,"Linden Shelter - 102703007"]
["",null,{"$f":"IF(ISBLANK(B917),\"\",VLOOKUP(B917,NSLPandADEtableFY14,14,FALSE))","v":""},{"$f":"IF(ISBLANK(B917),\"\",VLOOKUP(B917,NSLPandADEtableFY14,15,FALSE))","v":""},{"$f":"IF(ISBLANK(B917),\"\",VLOOKUP(B917,NSLPandADEtableFY14,2,FALSE))","v":""},"",{"$f":"IF(ISBLANK(B917),\"\",VLOOKUP(B917,NSLPandADEtableFY14,11,FALSE))","v":""},null,null,null,null,null,null,null,"Lineweaver Elementary School - 100201281"]
["",null,{"$f":"IF(ISBLANK(B918),\"\",VLOOKUP(B918,NSLPandADEtableFY14,14,FALSE))","v":""},{"$f":"IF(ISBLANK(B918),\"\",VLOOKUP(B918,NSLPandADEtableFY14,15,FALSE))","v":""},{"$f":"IF(ISBLANK(B918),\"\",VLOOKUP(B918,NSLPandADEtableFY14,2,FALSE))","v":""},"",{"$f":"IF(ISBLANK(B918),\"\",VLOOKUP(B918,NSLPandADEtableFY14,11,FALSE))","v":""},null,null,null,null,null,null,null,"Litchfield Elementary School - 070479101"]
["",null,{"$f":"IF(ISBLANK(B919),\"\",VLOOKUP(B919,NSLPandADEtableFY14,14,FALSE))","v":""},{"$f":"IF(ISBLANK(B919),\"\",VLOOKUP(B919,NSLPandADEtableFY14,15,FALSE))","v":""},{"$f":"IF(ISBLANK(B919),\"\",VLOOKUP(B919,NSLPandADEtableFY14,2,FALSE))","v":""},"",{"$f":"IF(ISBLANK(B919),\"\",VLOOKUP(B919,NSLPandADEtableFY14,11,FALSE))","v":""},null,null,null,null,null,null,null,"Little Red Schoolhouse - 120328101"]
["",null,{"$f":"IF(ISBLANK(B920),\"\",VLOOKUP(B920,NSLPandADEtableFY14,14,FALSE))","v":""},{"$f":"IF(ISBLANK(B920),\"\",VLOOKUP(B920,NSLPandADEtableFY14,15,FALSE))","v":""},{"$f":"IF(ISBLANK(B920),\"\",VLOOKUP(B920,NSLPandADEtableFY14,2,FALSE))","v":""},"",{"$f":"IF(ISBLANK(B920),\"\",VLOOKUP(B920,NSLPandADEtableFY14,11,FALSE))","v":""},null,null,null,null,null,null,null,"Little Singer Community Junior High School - 098748101"]
["",null,{"$f":"IF(ISBLANK(B921),\"\",VLOOKUP(B921,NSLPandADEtableFY14,14,FALSE))","v":""},{"$f":"IF(ISBLANK(B921),\"\",VLOOKUP(B921,NSLPandADEtableFY14,15,FALSE))","v":""},{"$f":"IF(ISBLANK(B921),\"\",VLOOKUP(B921,NSLPandADEtableFY14,2,FALSE))","v":""},"",{"$f":"IF(ISBLANK(B921),\"\",VLOOKUP(B921,NSLPandADEtableFY14,11,FALSE))","v":""},null,null,null,null,null,null,null,"Littleton Elementary School - 070465101"]
["",null,{"$f":"IF(ISBLANK(B922),\"\",VLOOKUP(B922,NSLPandADEtableFY14,14,FALSE))","v":""},{"$f":"IF(ISBLANK(B922),\"\",VLOOKUP(B922,NSLPandADEtableFY14,15,FALSE))","v":""},{"$f":"IF(ISBLANK(B922),\"\",VLOOKUP(B922,NSLPandADEtableFY14,2,FALSE))","v":""},"",{"$f":"IF(ISBLANK(B922),\"\",VLOOKUP(B922,NSLPandADEtableFY14,11,FALSE))","v":""},null,null,null,null,null,null,null,"Loma Linda Elementary School - 070414140"]
["",null,{"$f":"IF(ISBLANK(B923),\"\",VLOOKUP(B923,NSLPandADEtableFY14,14,FALSE))","v":""},{"$f":"IF(ISBLANK(B923),\"\",VLOOKUP(B923,NSLPandADEtableFY14,15,FALSE))","v":""},{"$f":"IF(ISBLANK(B923),\"\",VLOOKUP(B923,NSLPandADEtableFY14,2,FALSE))","v":""},"",{"$f":"IF(ISBLANK(B923),\"\",VLOOKUP(B923,NSLPandADEtableFY14,11,FALSE))","v":""},null,null,null,null,null,null,null,"Lone Mountain Elementary School - 070293707"]
["",null,{"$f":"IF(ISBLANK(B924),\"\",VLOOKUP(B924,NSLPandADEtableFY14,14,FALSE))","v":""},{"$f":"IF(ISBLANK(B924),\"\",VLOOKUP(B924,NSLPandADEtableFY14,15,FALSE))","v":""},{"$f":"IF(ISBLANK(B924),\"\",VLOOKUP(B924,NSLPandADEtableFY14,2,FALSE))","v":""},"",{"$f":"IF(ISBLANK(B924),\"\",VLOOKUP(B924,NSLPandADEtableFY14,11,FALSE))","v":""},null,null,null,null,null,null,null,"Longfellow Elementary School - 070204112"]
["",null,{"$f":"IF(ISBLANK(B925),\"\",VLOOKUP(B925,NSLPandADEtableFY14,14,FALSE))","v":""},{"$f":"IF(ISBLANK(B925),\"\",VLOOKUP(B925,NSLPandADEtableFY14,15,FALSE))","v":""},{"$f":"IF(ISBLANK(B925),\"\",VLOOKUP(B925,NSLPandADEtableFY14,2,FALSE))","v":""},"",{"$f":"IF(ISBLANK(B925),\"\",VLOOKUP(B925,NSLPandADEtableFY14,11,FALSE))","v":""},null,null,null,null,null,null,null,"Longview Elementary School - 070408107"]
["",null,{"$f":"IF(ISBLANK(B926),\"\",VLOOKUP(B926,NSLPandADEtableFY14,14,FALSE))","v":""},{"$f":"IF(ISBLANK(B926),\"\",VLOOKUP(B926,NSLPandADEtableFY14,15,FALSE))","v":""},{"$f":"IF(ISBLANK(B926),\"\",VLOOKUP(B926,NSLPandADEtableFY14,2,FALSE))","v":""},"",{"$f":"IF(ISBLANK(B926),\"\",VLOOKUP(B926,NSLPandADEtableFY14,11,FALSE))","v":""},null,null,null,null,null,null,null,"Lookout Mountain School - 070406134"]
["",null,{"$f":"IF(ISBLANK(B927),\"\",VLOOKUP(B927,NSLPandADEtableFY14,14,FALSE))","v":""},{"$f":"IF(ISBLANK(B927),\"\",VLOOKUP(B927,NSLPandADEtableFY14,15,FALSE))","v":""},{"$f":"IF(ISBLANK(B927),\"\",VLOOKUP(B927,NSLPandADEtableFY14,2,FALSE))","v":""},"",{"$f":"IF(ISBLANK(B927),\"\",VLOOKUP(B927,NSLPandADEtableFY14,11,FALSE))","v":""},null,null,null,null,null,null,null,"Los Amigos Elementary School - 100212119"]
["",null,{"$f":"IF(ISBLANK(B928),\"\",VLOOKUP(B928,NSLPandADEtableFY14,14,FALSE))","v":""},{"$f":"IF(ISBLANK(B928),\"\",VLOOKUP(B928,NSLPandADEtableFY14,15,FALSE))","v":""},{"$f":"IF(ISBLANK(B928),\"\",VLOOKUP(B928,NSLPandADEtableFY14,2,FALSE))","v":""},"",{"$f":"IF(ISBLANK(B928),\"\",VLOOKUP(B928,NSLPandADEtableFY14,11,FALSE))","v":""},null,null,null,null,null,null,null,"Los Ninos Elementary School - 100212118"]
["",null,{"$f":"IF(ISBLANK(B929),\"\",VLOOKUP(B929,NSLPandADEtableFY14,14,FALSE))","v":""},{"$f":"IF(ISBLANK(B929),\"\",VLOOKUP(B929,NSLPandADEtableFY14,15,FALSE))","v":""},{"$f":"IF(ISBLANK(B929),\"\",VLOOKUP(B929,NSLPandADEtableFY14,2,FALSE))","v":""},"",{"$f":"IF(ISBLANK(B929),\"\",VLOOKUP(B929,NSLPandADEtableFY14,11,FALSE))","v":""},null,null,null,null,null,null,null,"Los Ranchitos Elementary School - 100212120"]
["",null,{"$f":"IF(ISBLANK(B930),\"\",VLOOKUP(B930,NSLPandADEtableFY14,14,FALSE))","v":""},{"$f":"IF(ISBLANK(B930),\"\",VLOOKUP(B930,NSLPandADEtableFY14,15,FALSE))","v":""},{"$f":"IF(ISBLANK(B930),\"\",VLOOKUP(B930,NSLPandADEtableFY14,2,FALSE))","v":""},"",{"$f":"IF(ISBLANK(B930),\"\",VLOOKUP(B930,NSLPandADEtableFY14,11,FALSE))","v":""},null,null,null,null,null,null,null,"Lourdes Catholic School - 122001001"]
["",null,{"$f":"IF(ISBLANK(B931),\"\",VLOOKUP(B931,NSLPandADEtableFY14,14,FALSE))","v":""},{"$f":"IF(ISBLANK(B931),\"\",VLOOKUP(B931,NSLPandADEtableFY14,15,FALSE))","v":""},{"$f":"IF(ISBLANK(B931),\"\",VLOOKUP(B931,NSLPandADEtableFY14,2,FALSE))","v":""},"",{"$f":"IF(ISBLANK(B931),\"\",VLOOKUP(B931,NSLPandADEtableFY14,11,FALSE))","v":""},null,null,null,null,null,null,null,"Lowell Elementary School - 070204113"]
["",null,{"$f":"IF(ISBLANK(B932),\"\",VLOOKUP(B932,NSLPandADEtableFY14,14,FALSE))","v":""},{"$f":"IF(ISBLANK(B932),\"\",VLOOKUP(B932,NSLPandADEtableFY14,15,FALSE))","v":""},{"$f":"IF(ISBLANK(B932),\"\",VLOOKUP(B932,NSLPandADEtableFY14,2,FALSE))","v":""},"",{"$f":"IF(ISBLANK(B932),\"\",VLOOKUP(B932,NSLPandADEtableFY14,11,FALSE))","v":""},null,null,null,null,null,null,null,"Lowell Elementary School - 070401118"]
["",null,{"$f":"IF(ISBLANK(B933),\"\",VLOOKUP(B933,NSLPandADEtableFY14,14,FALSE))","v":""},{"$f":"IF(ISBLANK(B933),\"\",VLOOKUP(B933,NSLPandADEtableFY14,15,FALSE))","v":""},{"$f":"IF(ISBLANK(B933),\"\",VLOOKUP(B933,NSLPandADEtableFY14,2,FALSE))","v":""},"",{"$f":"IF(ISBLANK(B933),\"\",VLOOKUP(B933,NSLPandADEtableFY14,11,FALSE))","v":""},null,null,null,null,null,null,null,"Lowell School - 020202105"]
["",null,{"$f":"IF(ISBLANK(B934),\"\",VLOOKUP(B934,NSLPandADEtableFY14,14,FALSE))","v":""},{"$f":"IF(ISBLANK(B934),\"\",VLOOKUP(B934,NSLPandADEtableFY14,15,FALSE))","v":""},{"$f":"IF(ISBLANK(B934),\"\",VLOOKUP(B934,NSLPandADEtableFY14,2,FALSE))","v":""},"",{"$f":"IF(ISBLANK(B934),\"\",VLOOKUP(B934,NSLPandADEtableFY14,11,FALSE))","v":""},null,null,null,null,null,null,null,"Lukachukai Community School - 014005005"]
["",null,{"$f":"IF(ISBLANK(B935),\"\",VLOOKUP(B935,NSLPandADEtableFY14,14,FALSE))","v":""},{"$f":"IF(ISBLANK(B935),\"\",VLOOKUP(B935,NSLPandADEtableFY14,15,FALSE))","v":""},{"$f":"IF(ISBLANK(B935),\"\",VLOOKUP(B935,NSLPandADEtableFY14,2,FALSE))","v":""},"",{"$f":"IF(ISBLANK(B935),\"\",VLOOKUP(B935,NSLPandADEtableFY14,11,FALSE))","v":""},null,null,null,null,null,null,null,"Luke School - 070289103"]
["",null,{"$f":"IF(ISBLANK(B936),\"\",VLOOKUP(B936,NSLPandADEtableFY14,14,FALSE))","v":""},{"$f":"IF(ISBLANK(B936),\"\",VLOOKUP(B936,NSLPandADEtableFY14,15,FALSE))","v":""},{"$f":"IF(ISBLANK(B936),\"\",VLOOKUP(B936,NSLPandADEtableFY14,2,FALSE))","v":""},"",{"$f":"IF(ISBLANK(B936),\"\",VLOOKUP(B936,NSLPandADEtableFY14,11,FALSE))","v":""},null,null,null,null,null,null,null,"Lulu Walker School - 100210112"]
["",null,{"$f":"IF(ISBLANK(B937),\"\",VLOOKUP(B937,NSLPandADEtableFY14,14,FALSE))","v":""},{"$f":"IF(ISBLANK(B937),\"\",VLOOKUP(B937,NSLPandADEtableFY14,15,FALSE))","v":""},{"$f":"IF(ISBLANK(B937),\"\",VLOOKUP(B937,NSLPandADEtableFY14,2,FALSE))","v":""},"",{"$f":"IF(ISBLANK(B937),\"\",VLOOKUP(B937,NSLPandADEtableFY14,11,FALSE))","v":""},null,null,null,null,null,null,null,"Lura Kinsey Elementary School - 030201112"]
["",null,{"$f":"IF(ISBLANK(B938),\"\",VLOOKUP(B938,NSLPandADEtableFY14,14,FALSE))","v":""},{"$f":"IF(ISBLANK(B938),\"\",VLOOKUP(B938,NSLPandADEtableFY14,15,FALSE))","v":""},{"$f":"IF(ISBLANK(B938),\"\",VLOOKUP(B938,NSLPandADEtableFY14,2,FALSE))","v":""},"",{"$f":"IF(ISBLANK(B938),\"\",VLOOKUP(B938,NSLPandADEtableFY14,11,FALSE))","v":""},null,null,null,null,null,null,null,"Luz-Guerrero Early College High School - 108702001"]
["",null,{"$f":"IF(ISBLANK(B939),\"\",VLOOKUP(B939,NSLPandADEtableFY14,14,FALSE))","v":""},{"$f":"IF(ISBLANK(B939),\"\",VLOOKUP(B939,NSLPandADEtableFY14,15,FALSE))","v":""},{"$f":"IF(ISBLANK(B939),\"\",VLOOKUP(B939,NSLPandADEtableFY14,2,FALSE))","v":""},"",{"$f":"IF(ISBLANK(B939),\"\",VLOOKUP(B939,NSLPandADEtableFY14,11,FALSE))","v":""},null,null,null,null,null,null,null,"Lynn Urquides - 100201287"]
["",null,{"$f":"IF(ISBLANK(B940),\"\",VLOOKUP(B940,NSLPandADEtableFY14,14,FALSE))","v":""},{"$f":"IF(ISBLANK(B940),\"\",VLOOKUP(B940,NSLPandADEtableFY14,15,FALSE))","v":""},{"$f":"IF(ISBLANK(B940),\"\",VLOOKUP(B940,NSLPandADEtableFY14,2,FALSE))","v":""},"",{"$f":"IF(ISBLANK(B940),\"\",VLOOKUP(B940,NSLPandADEtableFY14,11,FALSE))","v":""},null,null,null,null,null,null,null,"Mabel Padgett Elementary School - 070479114"]
["",null,{"$f":"IF(ISBLANK(B941),\"\",VLOOKUP(B941,NSLPandADEtableFY14,14,FALSE))","v":""},{"$f":"IF(ISBLANK(B941),\"\",VLOOKUP(B941,NSLPandADEtableFY14,15,FALSE))","v":""},{"$f":"IF(ISBLANK(B941),\"\",VLOOKUP(B941,NSLPandADEtableFY14,2,FALSE))","v":""},"",{"$f":"IF(ISBLANK(B941),\"\",VLOOKUP(B941,NSLPandADEtableFY14,11,FALSE))","v":""},null,null,null,null,null,null,null,"MacArthur Elementary School - 070204129"]
["",null,{"$f":"IF(ISBLANK(B942),\"\",VLOOKUP(B942,NSLPandADEtableFY14,14,FALSE))","v":""},{"$f":"IF(ISBLANK(B942),\"\",VLOOKUP(B942,NSLPandADEtableFY14,15,FALSE))","v":""},{"$f":"IF(ISBLANK(B942),\"\",VLOOKUP(B942,NSLPandADEtableFY14,2,FALSE))","v":""},"",{"$f":"IF(ISBLANK(B942),\"\",VLOOKUP(B942,NSLPandADEtableFY14,11,FALSE))","v":""},null,null,null,null,null,null,null,"Madison #1 Elementary School - 070438110"]
["",null,{"$f":"IF(ISBLANK(B943),\"\",VLOOKUP(B943,NSLPandADEtableFY14,14,FALSE))","v":""},{"$f":"IF(ISBLANK(B943),\"\",VLOOKUP(B943,NSLPandADEtableFY14,15,FALSE))","v":""},{"$f":"IF(ISBLANK(B943),\"\",VLOOKUP(B943,NSLPandADEtableFY14,2,FALSE))","v":""},"",{"$f":"IF(ISBLANK(B943),\"\",VLOOKUP(B943,NSLPandADEtableFY14,11,FALSE))","v":""},null,null,null,null,null,null,null,"Madison Camelview Elementary - 070438120"]
["",null,{"$f":"IF(ISBLANK(B944),\"\",VLOOKUP(B944,NSLPandADEtableFY14,14,FALSE))","v":""},{"$f":"IF(ISBLANK(B944),\"\",VLOOKUP(B944,NSLPandADEtableFY14,15,FALSE))","v":""},{"$f":"IF(ISBLANK(B944),\"\",VLOOKUP(B944,NSLPandADEtableFY14,2,FALSE))","v":""},"",{"$f":"IF(ISBLANK(B944),\"\",VLOOKUP(B944,NSLPandADEtableFY14,11,FALSE))","v":""},null,null,null,null,null,null,null,"Madison Elementary School - 070204141"]
["",null,{"$f":"IF(ISBLANK(B945),\"\",VLOOKUP(B945,NSLPandADEtableFY14,14,FALSE))","v":""},{"$f":"IF(ISBLANK(B945),\"\",VLOOKUP(B945,NSLPandADEtableFY14,15,FALSE))","v":""},{"$f":"IF(ISBLANK(B945),\"\",VLOOKUP(B945,NSLPandADEtableFY14,2,FALSE))","v":""},"",{"$f":"IF(ISBLANK(B945),\"\",VLOOKUP(B945,NSLPandADEtableFY14,11,FALSE))","v":""},null,null,null,null,null,null,null,"Madison Heights Elementary School - 070438180"]
["",null,{"$f":"IF(ISBLANK(B946),\"\",VLOOKUP(B946,NSLPandADEtableFY14,14,FALSE))","v":""},{"$f":"IF(ISBLANK(B946),\"\",VLOOKUP(B946,NSLPandADEtableFY14,15,FALSE))","v":""},{"$f":"IF(ISBLANK(B946),\"\",VLOOKUP(B946,NSLPandADEtableFY14,2,FALSE))","v":""},"",{"$f":"IF(ISBLANK(B946),\"\",VLOOKUP(B946,NSLPandADEtableFY14,11,FALSE))","v":""},null,null,null,null,null,null,null,"Madison House - 072711003"]
["",null,{"$f":"IF(ISBLANK(B947),\"\",VLOOKUP(B947,NSLPandADEtableFY14,14,FALSE))","v":""},{"$f":"IF(ISBLANK(B947),\"\",VLOOKUP(B947,NSLPandADEtableFY14,15,FALSE))","v":""},{"$f":"IF(ISBLANK(B947),\"\",VLOOKUP(B947,NSLPandADEtableFY14,2,FALSE))","v":""},"",{"$f":"IF(ISBLANK(B947),\"\",VLOOKUP(B947,NSLPandADEtableFY14,11,FALSE))","v":""},null,null,null,null,null,null,null,"Madison Meadows School - 070438160"]
["",null,{"$f":"IF(ISBLANK(B948),\"\",VLOOKUP(B948,NSLPandADEtableFY14,14,FALSE))","v":""},{"$f":"IF(ISBLANK(B948),\"\",VLOOKUP(B948,NSLPandADEtableFY14,15,FALSE))","v":""},{"$f":"IF(ISBLANK(B948),\"\",VLOOKUP(B948,NSLPandADEtableFY14,2,FALSE))","v":""},"",{"$f":"IF(ISBLANK(B948),\"\",VLOOKUP(B948,NSLPandADEtableFY14,11,FALSE))","v":""},null,null,null,null,null,null,null,"Madison Park School - 070438150"]
["",null,{"$f":"IF(ISBLANK(B949),\"\",VLOOKUP(B949,NSLPandADEtableFY14,14,FALSE))","v":""},{"$f":"IF(ISBLANK(B949),\"\",VLOOKUP(B949,NSLPandADEtableFY14,15,FALSE))","v":""},{"$f":"IF(ISBLANK(B949),\"\",VLOOKUP(B949,NSLPandADEtableFY14,2,FALSE))","v":""},"",{"$f":"IF(ISBLANK(B949),\"\",VLOOKUP(B949,NSLPandADEtableFY14,11,FALSE))","v":""},null,null,null,null,null,null,null,"Madison Richard Simis School - 070438130"]
["",null,{"$f":"IF(ISBLANK(B950),\"\",VLOOKUP(B950,NSLPandADEtableFY14,14,FALSE))","v":""},{"$f":"IF(ISBLANK(B950),\"\",VLOOKUP(B950,NSLPandADEtableFY14,15,FALSE))","v":""},{"$f":"IF(ISBLANK(B950),\"\",VLOOKUP(B950,NSLPandADEtableFY14,2,FALSE))","v":""},"",{"$f":"IF(ISBLANK(B950),\"\",VLOOKUP(B950,NSLPandADEtableFY14,11,FALSE))","v":""},null,null,null,null,null,null,null,"Madison Rose Lane School - 070438140"]
["",null,{"$f":"IF(ISBLANK(B951),\"\",VLOOKUP(B951,NSLPandADEtableFY14,14,FALSE))","v":""},{"$f":"IF(ISBLANK(B951),\"\",VLOOKUP(B951,NSLPandADEtableFY14,15,FALSE))","v":""},{"$f":"IF(ISBLANK(B951),\"\",VLOOKUP(B951,NSLPandADEtableFY14,2,FALSE))","v":""},"",{"$f":"IF(ISBLANK(B951),\"\",VLOOKUP(B951,NSLPandADEtableFY14,11,FALSE))","v":""},null,null,null,null,null,null,null,"Madison Traditional Academy - 070438111"]
["",null,{"$f":"IF(ISBLANK(B952),\"\",VLOOKUP(B952,NSLPandADEtableFY14,14,FALSE))","v":""},{"$f":"IF(ISBLANK(B952),\"\",VLOOKUP(B952,NSLPandADEtableFY14,15,FALSE))","v":""},{"$f":"IF(ISBLANK(B952),\"\",VLOOKUP(B952,NSLPandADEtableFY14,2,FALSE))","v":""},"",{"$f":"IF(ISBLANK(B952),\"\",VLOOKUP(B952,NSLPandADEtableFY14,11,FALSE))","v":""},null,null,null,null,null,null,null,"Magee Middle School - 100201515"]
["",null,{"$f":"IF(ISBLANK(B953),\"\",VLOOKUP(B953,NSLPandADEtableFY14,14,FALSE))","v":""},{"$f":"IF(ISBLANK(B953),\"\",VLOOKUP(B953,NSLPandADEtableFY14,15,FALSE))","v":""},{"$f":"IF(ISBLANK(B953),\"\",VLOOKUP(B953,NSLPandADEtableFY14,2,FALSE))","v":""},"",{"$f":"IF(ISBLANK(B953),\"\",VLOOKUP(B953,NSLPandADEtableFY14,11,FALSE))","v":""},null,null,null,null,null,null,null,"Magma Ranch K8 School - 110201107"]
["",null,{"$f":"IF(ISBLANK(B954),\"\",VLOOKUP(B954,NSLPandADEtableFY14,14,FALSE))","v":""},{"$f":"IF(ISBLANK(B954),\"\",VLOOKUP(B954,NSLPandADEtableFY14,15,FALSE))","v":""},{"$f":"IF(ISBLANK(B954),\"\",VLOOKUP(B954,NSLPandADEtableFY14,2,FALSE))","v":""},"",{"$f":"IF(ISBLANK(B954),\"\",VLOOKUP(B954,NSLPandADEtableFY14,11,FALSE))","v":""},null,null,null,null,null,null,null,"Magnet Traditional School - 070401109"]
["",null,{"$f":"IF(ISBLANK(B955),\"\",VLOOKUP(B955,NSLPandADEtableFY14,14,FALSE))","v":""},{"$f":"IF(ISBLANK(B955),\"\",VLOOKUP(B955,NSLPandADEtableFY14,15,FALSE))","v":""},{"$f":"IF(ISBLANK(B955),\"\",VLOOKUP(B955,NSLPandADEtableFY14,2,FALSE))","v":""},"",{"$f":"IF(ISBLANK(B955),\"\",VLOOKUP(B955,NSLPandADEtableFY14,11,FALSE))","v":""},null,null,null,null,null,null,null,"Mahnah Wing a Satellite Home - 072708002"]
["",null,{"$f":"IF(ISBLANK(B956),\"\",VLOOKUP(B956,NSLPandADEtableFY14,14,FALSE))","v":""},{"$f":"IF(ISBLANK(B956),\"\",VLOOKUP(B956,NSLPandADEtableFY14,15,FALSE))","v":""},{"$f":"IF(ISBLANK(B956),\"\",VLOOKUP(B956,NSLPandADEtableFY14,2,FALSE))","v":""},"",{"$f":"IF(ISBLANK(B956),\"\",VLOOKUP(B956,NSLPandADEtableFY14,11,FALSE))","v":""},null,null,null,null,null,null,null,"Maie Bartlett Heard School - 070401112"]
["",null,{"$f":"IF(ISBLANK(B957),\"\",VLOOKUP(B957,NSLPandADEtableFY14,14,FALSE))","v":""},{"$f":"IF(ISBLANK(B957),\"\",VLOOKUP(B957,NSLPandADEtableFY14,15,FALSE))","v":""},{"$f":"IF(ISBLANK(B957),\"\",VLOOKUP(B957,NSLPandADEtableFY14,2,FALSE))","v":""},"",{"$f":"IF(ISBLANK(B957),\"\",VLOOKUP(B957,NSLPandADEtableFY14,11,FALSE))","v":""},null,null,null,null,null,null,null,"Maine Consolidated School - 030310101"]
["",null,{"$f":"IF(ISBLANK(B958),\"\",VLOOKUP(B958,NSLPandADEtableFY14,14,FALSE))","v":""},{"$f":"IF(ISBLANK(B958),\"\",VLOOKUP(B958,NSLPandADEtableFY14,15,FALSE))","v":""},{"$f":"IF(ISBLANK(B958),\"\",VLOOKUP(B958,NSLPandADEtableFY14,2,FALSE))","v":""},"",{"$f":"IF(ISBLANK(B958),\"\",VLOOKUP(B958,NSLPandADEtableFY14,11,FALSE))","v":""},null,null,null,null,null,null,null,"Maldonado Amelia Elementary School - 100201290"]
["",null,{"$f":"IF(ISBLANK(B959),\"\",VLOOKUP(B959,NSLPandADEtableFY14,14,FALSE))","v":""},{"$f":"IF(ISBLANK(B959),\"\",VLOOKUP(B959,NSLPandADEtableFY14,15,FALSE))","v":""},{"$f":"IF(ISBLANK(B959),\"\",VLOOKUP(B959,NSLPandADEtableFY14,2,FALSE))","v":""},"",{"$f":"IF(ISBLANK(B959),\"\",VLOOKUP(B959,NSLPandADEtableFY14,11,FALSE))","v":""},null,null,null,null,null,null,null,"Mammoth Elementary School - 110208106"]
["",null,{"$f":"IF(ISBLANK(B960),\"\",VLOOKUP(B960,NSLPandADEtableFY14,14,FALSE))","v":""},{"$f":"IF(ISBLANK(B960),\"\",VLOOKUP(B960,NSLPandADEtableFY14,15,FALSE))","v":""},{"$f":"IF(ISBLANK(B960),\"\",VLOOKUP(B960,NSLPandADEtableFY14,2,FALSE))","v":""},"",{"$f":"IF(ISBLANK(B960),\"\",VLOOKUP(B960,NSLPandADEtableFY14,11,FALSE))","v":""},null,null,null,null,null,null,null,"Mansfeld Middle School - 100201520"]
["",null,{"$f":"IF(ISBLANK(B961),\"\",VLOOKUP(B961,NSLPandADEtableFY14,14,FALSE))","v":""},{"$f":"IF(ISBLANK(B961),\"\",VLOOKUP(B961,NSLPandADEtableFY14,15,FALSE))","v":""},{"$f":"IF(ISBLANK(B961),\"\",VLOOKUP(B961,NSLPandADEtableFY14,2,FALSE))","v":""},"",{"$f":"IF(ISBLANK(B961),\"\",VLOOKUP(B961,NSLPandADEtableFY14,11,FALSE))","v":""},null,null,null,null,null,null,null,"Manuel DeMiguel Elementary School - 030201110"]
["",null,{"$f":"IF(ISBLANK(B962),\"\",VLOOKUP(B962,NSLPandADEtableFY14,14,FALSE))","v":""},{"$f":"IF(ISBLANK(B962),\"\",VLOOKUP(B962,NSLPandADEtableFY14,15,FALSE))","v":""},{"$f":"IF(ISBLANK(B962),\"\",VLOOKUP(B962,NSLPandADEtableFY14,2,FALSE))","v":""},"",{"$f":"IF(ISBLANK(B962),\"\",VLOOKUP(B962,NSLPandADEtableFY14,11,FALSE))","v":""},null,null,null,null,null,null,null,"Manuel Pena Jr. School - 070483123"]
["",null,{"$f":"IF(ISBLANK(B963),\"\",VLOOKUP(B963,NSLPandADEtableFY14,14,FALSE))","v":""},{"$f":"IF(ISBLANK(B963),\"\",VLOOKUP(B963,NSLPandADEtableFY14,15,FALSE))","v":""},{"$f":"IF(ISBLANK(B963),\"\",VLOOKUP(B963,NSLPandADEtableFY14,2,FALSE))","v":""},"",{"$f":"IF(ISBLANK(B963),\"\",VLOOKUP(B963,NSLPandADEtableFY14,11,FALSE))","v":""},null,null,null,null,null,null,null,"Many Farms Community School - 013903001"]
["",null,{"$f":"IF(ISBLANK(B964),\"\",VLOOKUP(B964,NSLPandADEtableFY14,14,FALSE))","v":""},{"$f":"IF(ISBLANK(B964),\"\",VLOOKUP(B964,NSLPandADEtableFY14,15,FALSE))","v":""},{"$f":"IF(ISBLANK(B964),\"\",VLOOKUP(B964,NSLPandADEtableFY14,2,FALSE))","v":""},"",{"$f":"IF(ISBLANK(B964),\"\",VLOOKUP(B964,NSLPandADEtableFY14,11,FALSE))","v":""},null,null,null,null,null,null,null,"Many Farms Elementary School - 010224160"]
["",null,{"$f":"IF(ISBLANK(B965),\"\",VLOOKUP(B965,NSLPandADEtableFY14,14,FALSE))","v":""},{"$f":"IF(ISBLANK(B965),\"\",VLOOKUP(B965,NSLPandADEtableFY14,15,FALSE))","v":""},{"$f":"IF(ISBLANK(B965),\"\",VLOOKUP(B965,NSLPandADEtableFY14,2,FALSE))","v":""},"",{"$f":"IF(ISBLANK(B965),\"\",VLOOKUP(B965,NSLPandADEtableFY14,11,FALSE))","v":""},null,null,null,null,null,null,null,"Many Farms High School - 014005006"]
["",null,{"$f":"IF(ISBLANK(B966),\"\",VLOOKUP(B966,NSLPandADEtableFY14,14,FALSE))","v":""},{"$f":"IF(ISBLANK(B966),\"\",VLOOKUP(B966,NSLPandADEtableFY14,15,FALSE))","v":""},{"$f":"IF(ISBLANK(B966),\"\",VLOOKUP(B966,NSLPandADEtableFY14,2,FALSE))","v":""},"",{"$f":"IF(ISBLANK(B966),\"\",VLOOKUP(B966,NSLPandADEtableFY14,11,FALSE))","v":""},null,null,null,null,null,null,null,"Manzanita Elementary - 080220112"]
["",null,{"$f":"IF(ISBLANK(B967),\"\",VLOOKUP(B967,NSLPandADEtableFY14,14,FALSE))","v":""},{"$f":"IF(ISBLANK(B967),\"\",VLOOKUP(B967,NSLPandADEtableFY14,15,FALSE))","v":""},{"$f":"IF(ISBLANK(B967),\"\",VLOOKUP(B967,NSLPandADEtableFY14,2,FALSE))","v":""},"",{"$f":"IF(ISBLANK(B967),\"\",VLOOKUP(B967,NSLPandADEtableFY14,11,FALSE))","v":""},null,null,null,null,null,null,null,"Manzanita Elementary School - 070406136"]
["",null,{"$f":"IF(ISBLANK(B968),\"\",VLOOKUP(B968,NSLPandADEtableFY14,14,FALSE))","v":""},{"$f":"IF(ISBLANK(B968),\"\",VLOOKUP(B968,NSLPandADEtableFY14,15,FALSE))","v":""},{"$f":"IF(ISBLANK(B968),\"\",VLOOKUP(B968,NSLPandADEtableFY14,2,FALSE))","v":""},"",{"$f":"IF(ISBLANK(B968),\"\",VLOOKUP(B968,NSLPandADEtableFY14,11,FALSE))","v":""},null,null,null,null,null,null,null,"Manzanita School - 100216102"]
["",null,{"$f":"IF(ISBLANK(B969),\"\",VLOOKUP(B969,NSLPandADEtableFY14,14,FALSE))","v":""},{"$f":"IF(ISBLANK(B969),\"\",VLOOKUP(B969,NSLPandADEtableFY14,15,FALSE))","v":""},{"$f":"IF(ISBLANK(B969),\"\",VLOOKUP(B969,NSLPandADEtableFY14,2,FALSE))","v":""},"",{"$f":"IF(ISBLANK(B969),\"\",VLOOKUP(B969,NSLPandADEtableFY14,11,FALSE))","v":""},null,null,null,null,null,null,null,"Manzo Elementary School - 100201293"]
["",null,{"$f":"IF(ISBLANK(B970),\"\",VLOOKUP(B970,NSLPandADEtableFY14,14,FALSE))","v":""},{"$f":"IF(ISBLANK(B970),\"\",VLOOKUP(B970,NSLPandADEtableFY14,15,FALSE))","v":""},{"$f":"IF(ISBLANK(B970),\"\",VLOOKUP(B970,NSLPandADEtableFY14,2,FALSE))","v":""},"",{"$f":"IF(ISBLANK(B970),\"\",VLOOKUP(B970,NSLPandADEtableFY14,11,FALSE))","v":""},null,null,null,null,null,null,null,"Marana High School - 100206240"]
["",null,{"$f":"IF(ISBLANK(B971),\"\",VLOOKUP(B971,NSLPandADEtableFY14,14,FALSE))","v":""},{"$f":"IF(ISBLANK(B971),\"\",VLOOKUP(B971,NSLPandADEtableFY14,15,FALSE))","v":""},{"$f":"IF(ISBLANK(B971),\"\",VLOOKUP(B971,NSLPandADEtableFY14,2,FALSE))","v":""},"",{"$f":"IF(ISBLANK(B971),\"\",VLOOKUP(B971,NSLPandADEtableFY14,11,FALSE))","v":""},null,null,null,null,null,null,null,"Marana Middle School - 100206130"]
[{"$f":"IF(ISBLANK(B972),\"\",\"Q-Public School\")","v":""},null,{"$f":"IF(ISBLANK(B972),\"\",VLOOKUP(B972,NSLPandADEtableFY14,14,FALSE))","v":""},{"$f":"IF(ISBLANK(B972),\"\",VLOOKUP(B972,NSLPandADEtableFY14,15,FALSE))","v":""},{"$f":"IF(ISBLANK(B972),\"\",VLOOKUP(B972,NSLPandADEtableFY14,2,FALSE))","v":""},{"$f":"IF(ISBLANK(B972),\"\",\"Free & Reduced Lunch Data (NSLP) March 2013\")","v":""},{"$f":"IF(ISBLANK(B972),\"\",VLOOKUP(B972,NSLPandADEtableFY14,11,FALSE))","v":""},null,null,null,null,null,null,null,"Marc T. Atkinson Middle School - 070483121"]
["",null,{"$f":"IF(ISBLANK(B973),\"\",VLOOKUP(B973,NSLPandADEtableFY14,14,FALSE))","v":""},{"$f":"IF(ISBLANK(B973),\"\",VLOOKUP(B973,NSLPandADEtableFY14,15,FALSE))","v":""},{"$f":"IF(ISBLANK(B973),\"\",VLOOKUP(B973,NSLPandADEtableFY14,2,FALSE))","v":""},"",{"$f":"IF(ISBLANK(B973),\"\",VLOOKUP(B973,NSLPandADEtableFY14,11,FALSE))","v":""},null,null,null,null,null,null,null,"Marcos De Niza High School - 070513093"]
["",null,{"$f":"IF(ISBLANK(B974),\"\",VLOOKUP(B974,NSLPandADEtableFY14,14,FALSE))","v":""},{"$f":"IF(ISBLANK(B974),\"\",VLOOKUP(B974,NSLPandADEtableFY14,15,FALSE))","v":""},{"$f":"IF(ISBLANK(B974),\"\",VLOOKUP(B974,NSLPandADEtableFY14,2,FALSE))","v":""},"",{"$f":"IF(ISBLANK(B974),\"\",VLOOKUP(B974,NSLPandADEtableFY14,11,FALSE))","v":""},null,null,null,null,null,null,null,"MARICOPA DET-H - 071001001"]
["",null,{"$f":"IF(ISBLANK(B975),\"\",VLOOKUP(B975,NSLPandADEtableFY14,14,FALSE))","v":""},{"$f":"IF(ISBLANK(B975),\"\",VLOOKUP(B975,NSLPandADEtableFY14,15,FALSE))","v":""},{"$f":"IF(ISBLANK(B975),\"\",VLOOKUP(B975,NSLPandADEtableFY14,2,FALSE))","v":""},"",{"$f":"IF(ISBLANK(B975),\"\",VLOOKUP(B975,NSLPandADEtableFY14,11,FALSE))","v":""},null,null,null,null,null,null,null,"Maricopa Elementary - 110220101"]
["",null,{"$f":"IF(ISBLANK(B976),\"\",VLOOKUP(B976,NSLPandADEtableFY14,14,FALSE))","v":""},{"$f":"IF(ISBLANK(B976),\"\",VLOOKUP(B976,NSLPandADEtableFY14,15,FALSE))","v":""},{"$f":"IF(ISBLANK(B976),\"\",VLOOKUP(B976,NSLPandADEtableFY14,2,FALSE))","v":""},"",{"$f":"IF(ISBLANK(B976),\"\",VLOOKUP(B976,NSLPandADEtableFY14,11,FALSE))","v":""},null,null,null,null,null,null,null,"Maricopa High School - 110220202"]
["",null,{"$f":"IF(ISBLANK(B977),\"\",VLOOKUP(B977,NSLPandADEtableFY14,14,FALSE))","v":""},{"$f":"IF(ISBLANK(B977),\"\",VLOOKUP(B977,NSLPandADEtableFY14,15,FALSE))","v":""},{"$f":"IF(ISBLANK(B977),\"\",VLOOKUP(B977,NSLPandADEtableFY14,2,FALSE))","v":""},"",{"$f":"IF(ISBLANK(B977),\"\",VLOOKUP(B977,NSLPandADEtableFY14,11,FALSE))","v":""},null,null,null,null,null,null,null,"Maricopa Online - 110220110"]
["",null,{"$f":"IF(ISBLANK(B978),\"\",VLOOKUP(B978,NSLPandADEtableFY14,14,FALSE))","v":""},{"$f":"IF(ISBLANK(B978),\"\",VLOOKUP(B978,NSLPandADEtableFY14,15,FALSE))","v":""},{"$f":"IF(ISBLANK(B978),\"\",VLOOKUP(B978,NSLPandADEtableFY14,2,FALSE))","v":""},"",{"$f":"IF(ISBLANK(B978),\"\",VLOOKUP(B978,NSLPandADEtableFY14,11,FALSE))","v":""},null,null,null,null,null,null,null,"Maricopa Wells Middle School - 110220133"]
["",null,{"$f":"IF(ISBLANK(B979),\"\",VLOOKUP(B979,NSLPandADEtableFY14,14,FALSE))","v":""},{"$f":"IF(ISBLANK(B979),\"\",VLOOKUP(B979,NSLPandADEtableFY14,15,FALSE))","v":""},{"$f":"IF(ISBLANK(B979),\"\",VLOOKUP(B979,NSLPandADEtableFY14,2,FALSE))","v":""},"",{"$f":"IF(ISBLANK(B979),\"\",VLOOKUP(B979,NSLPandADEtableFY14,11,FALSE))","v":""},null,null,null,null,null,null,null,"Marion Donaldson Elementary School - 100210106"]
["",null,{"$f":"IF(ISBLANK(B980),\"\",VLOOKUP(B980,NSLPandADEtableFY14,14,FALSE))","v":""},{"$f":"IF(ISBLANK(B980),\"\",VLOOKUP(B980,NSLPandADEtableFY14,15,FALSE))","v":""},{"$f":"IF(ISBLANK(B980),\"\",VLOOKUP(B980,NSLPandADEtableFY14,2,FALSE))","v":""},"",{"$f":"IF(ISBLANK(B980),\"\",VLOOKUP(B980,NSLPandADEtableFY14,11,FALSE))","v":""},null,null,null,null,null,null,null,"Marjorie W Estes Elementary School - 100206112"]
["",null,{"$f":"IF(ISBLANK(B981),\"\",VLOOKUP(B981,NSLPandADEtableFY14,14,FALSE))","v":""},{"$f":"IF(ISBLANK(B981),\"\",VLOOKUP(B981,NSLPandADEtableFY14,15,FALSE))","v":""},{"$f":"IF(ISBLANK(B981),\"\",VLOOKUP(B981,NSLPandADEtableFY14,2,FALSE))","v":""},"",{"$f":"IF(ISBLANK(B981),\"\",VLOOKUP(B981,NSLPandADEtableFY14,11,FALSE))","v":""},null,null,null,null,null,null,null,"Marley Park Elementary - 070289116"]
["",null,{"$f":"IF(ISBLANK(B982),\"\",VLOOKUP(B982,NSLPandADEtableFY14,14,FALSE))","v":""},{"$f":"IF(ISBLANK(B982),\"\",VLOOKUP(B982,NSLPandADEtableFY14,15,FALSE))","v":""},{"$f":"IF(ISBLANK(B982),\"\",VLOOKUP(B982,NSLPandADEtableFY14,2,FALSE))","v":""},"",{"$f":"IF(ISBLANK(B982),\"\",VLOOKUP(B982,NSLPandADEtableFY14,11,FALSE))","v":""},null,null,null,null,null,null,null,"Marshall Elementary School - 100201295"]
["",null,{"$f":"IF(ISBLANK(B983),\"\",VLOOKUP(B983,NSLPandADEtableFY14,14,FALSE))","v":""},{"$f":"IF(ISBLANK(B983),\"\",VLOOKUP(B983,NSLPandADEtableFY14,15,FALSE))","v":""},{"$f":"IF(ISBLANK(B983),\"\",VLOOKUP(B983,NSLPandADEtableFY14,2,FALSE))","v":""},"",{"$f":"IF(ISBLANK(B983),\"\",VLOOKUP(B983,NSLPandADEtableFY14,11,FALSE))","v":""},null,null,null,null,null,null,null,"Marshall Ranch Elementary School - 070211120"]
["",null,{"$f":"IF(ISBLANK(B984),\"\",VLOOKUP(B984,NSLPandADEtableFY14,14,FALSE))","v":""},{"$f":"IF(ISBLANK(B984),\"\",VLOOKUP(B984,NSLPandADEtableFY14,15,FALSE))","v":""},{"$f":"IF(ISBLANK(B984),\"\",VLOOKUP(B984,NSLPandADEtableFY14,2,FALSE))","v":""},"",{"$f":"IF(ISBLANK(B984),\"\",VLOOKUP(B984,NSLPandADEtableFY14,11,FALSE))","v":""},null,null,null,null,null,null,null,"Martin Luther King Jr Elementary School - 070466011"]
["",null,{"$f":"IF(ISBLANK(B985),\"\",VLOOKUP(B985,NSLPandADEtableFY14,14,FALSE))","v":""},{"$f":"IF(ISBLANK(B985),\"\",VLOOKUP(B985,NSLPandADEtableFY14,15,FALSE))","v":""},{"$f":"IF(ISBLANK(B985),\"\",VLOOKUP(B985,NSLPandADEtableFY14,2,FALSE))","v":""},"",{"$f":"IF(ISBLANK(B985),\"\",VLOOKUP(B985,NSLPandADEtableFY14,11,FALSE))","v":""},null,null,null,null,null,null,null,"Mary A Otondo Elementary School - 140401112"]
["",null,{"$f":"IF(ISBLANK(B986),\"\",VLOOKUP(B986,NSLPandADEtableFY14,14,FALSE))","v":""},{"$f":"IF(ISBLANK(B986),\"\",VLOOKUP(B986,NSLPandADEtableFY14,15,FALSE))","v":""},{"$f":"IF(ISBLANK(B986),\"\",VLOOKUP(B986,NSLPandADEtableFY14,2,FALSE))","v":""},"",{"$f":"IF(ISBLANK(B986),\"\",VLOOKUP(B986,NSLPandADEtableFY14,11,FALSE))","v":""},null,null,null,null,null,null,null,"Mary C  O'Brien Elementary School - 110100001"]
["",null,{"$f":"IF(ISBLANK(B987),\"\",VLOOKUP(B987,NSLPandADEtableFY14,14,FALSE))","v":""},{"$f":"IF(ISBLANK(B987),\"\",VLOOKUP(B987,NSLPandADEtableFY14,15,FALSE))","v":""},{"$f":"IF(ISBLANK(B987),\"\",VLOOKUP(B987,NSLPandADEtableFY14,2,FALSE))","v":""},"",{"$f":"IF(ISBLANK(B987),\"\",VLOOKUP(B987,NSLPandADEtableFY14,11,FALSE))","v":""},null,null,null,null,null,null,null,"Mary L Welty Elementary School - 120201115"]
["",null,{"$f":"IF(ISBLANK(B988),\"\",VLOOKUP(B988,NSLPandADEtableFY14,14,FALSE))","v":""},{"$f":"IF(ISBLANK(B988),\"\",VLOOKUP(B988,NSLPandADEtableFY14,15,FALSE))","v":""},{"$f":"IF(ISBLANK(B988),\"\",VLOOKUP(B988,NSLPandADEtableFY14,2,FALSE))","v":""},"",{"$f":"IF(ISBLANK(B988),\"\",VLOOKUP(B988,NSLPandADEtableFY14,11,FALSE))","v":""},null,null,null,null,null,null,null,"Mary Mcleod Bethune School - 070401101"]
["",null,{"$f":"IF(ISBLANK(B989),\"\",VLOOKUP(B989,NSLPandADEtableFY14,14,FALSE))","v":""},{"$f":"IF(ISBLANK(B989),\"\",VLOOKUP(B989,NSLPandADEtableFY14,15,FALSE))","v":""},{"$f":"IF(ISBLANK(B989),\"\",VLOOKUP(B989,NSLPandADEtableFY14,2,FALSE))","v":""},"",{"$f":"IF(ISBLANK(B989),\"\",VLOOKUP(B989,NSLPandADEtableFY14,11,FALSE))","v":""},null,null,null,null,null,null,null,"Mary Meredith K-12 School - 100201195"]
["",null,{"$f":"IF(ISBLANK(B990),\"\",VLOOKUP(B990,NSLPandADEtableFY14,14,FALSE))","v":""},{"$f":"IF(ISBLANK(B990),\"\",VLOOKUP(B990,NSLPandADEtableFY14,15,FALSE))","v":""},{"$f":"IF(ISBLANK(B990),\"\",VLOOKUP(B990,NSLPandADEtableFY14,2,FALSE))","v":""},"",{"$f":"IF(ISBLANK(B990),\"\",VLOOKUP(B990,NSLPandADEtableFY14,11,FALSE))","v":""},null,null,null,null,null,null,null,"Maryland Elementary School - 070406138"]
["",null,{"$f":"IF(ISBLANK(B991),\"\",VLOOKUP(B991,NSLPandADEtableFY14,14,FALSE))","v":""},{"$f":"IF(ISBLANK(B991),\"\",VLOOKUP(B991,NSLPandADEtableFY14,15,FALSE))","v":""},{"$f":"IF(ISBLANK(B991),\"\",VLOOKUP(B991,NSLPandADEtableFY14,2,FALSE))","v":""},"",{"$f":"IF(ISBLANK(B991),\"\",VLOOKUP(B991,NSLPandADEtableFY14,11,FALSE))","v":""},null,null,null,null,null,null,null,"Mary's Mission - 112778001"]
["",null,{"$f":"IF(ISBLANK(B992),\"\",VLOOKUP(B992,NSLPandADEtableFY14,14,FALSE))","v":""},{"$f":"IF(ISBLANK(B992),\"\",VLOOKUP(B992,NSLPandADEtableFY14,15,FALSE))","v":""},{"$f":"IF(ISBLANK(B992),\"\",VLOOKUP(B992,NSLPandADEtableFY14,2,FALSE))","v":""},"",{"$f":"IF(ISBLANK(B992),\"\",VLOOKUP(B992,NSLPandADEtableFY14,11,FALSE))","v":""},null,null,null,null,null,null,null,"Mary's Mission - Boys Unit - Main Office - 112778003"]
["",null,{"$f":"IF(ISBLANK(B993),\"\",VLOOKUP(B993,NSLPandADEtableFY14,14,FALSE))","v":""},{"$f":"IF(ISBLANK(B993),\"\",VLOOKUP(B993,NSLPandADEtableFY14,15,FALSE))","v":""},{"$f":"IF(ISBLANK(B993),\"\",VLOOKUP(B993,NSLPandADEtableFY14,2,FALSE))","v":""},"",{"$f":"IF(ISBLANK(B993),\"\",VLOOKUP(B993,NSLPandADEtableFY14,11,FALSE))","v":""},null,null,null,null,null,null,null,"Mary's Mission - Hereford Girls Unit - 112778002"]
["",null,{"$f":"IF(ISBLANK(B994),\"\",VLOOKUP(B994,NSLPandADEtableFY14,14,FALSE))","v":""},{"$f":"IF(ISBLANK(B994),\"\",VLOOKUP(B994,NSLPandADEtableFY14,15,FALSE))","v":""},{"$f":"IF(ISBLANK(B994),\"\",VLOOKUP(B994,NSLPandADEtableFY14,2,FALSE))","v":""},"",{"$f":"IF(ISBLANK(B994),\"\",VLOOKUP(B994,NSLPandADEtableFY14,11,FALSE))","v":""},null,null,null,null,null,null,null,"Maryvale High School - 070510250"]
["",null,{"$f":"IF(ISBLANK(B995),\"\",VLOOKUP(B995,NSLPandADEtableFY14,14,FALSE))","v":""},{"$f":"IF(ISBLANK(B995),\"\",VLOOKUP(B995,NSLPandADEtableFY14,15,FALSE))","v":""},{"$f":"IF(ISBLANK(B995),\"\",VLOOKUP(B995,NSLPandADEtableFY14,2,FALSE))","v":""},"",{"$f":"IF(ISBLANK(B995),\"\",VLOOKUP(B995,NSLPandADEtableFY14,11,FALSE))","v":""},null,null,null,null,null,null,null,"Math and Science Success Academy - 108798101"]
["",null,{"$f":"IF(ISBLANK(B996),\"\",VLOOKUP(B996,NSLPandADEtableFY14,14,FALSE))","v":""},{"$f":"IF(ISBLANK(B996),\"\",VLOOKUP(B996,NSLPandADEtableFY14,15,FALSE))","v":""},{"$f":"IF(ISBLANK(B996),\"\",VLOOKUP(B996,NSLPandADEtableFY14,2,FALSE))","v":""},"",{"$f":"IF(ISBLANK(B996),\"\",VLOOKUP(B996,NSLPandADEtableFY14,11,FALSE))","v":""},null,null,null,null,null,null,null,"Maurice C. Cash Elementary School - 070459102"]
["",null,{"$f":"IF(ISBLANK(B997),\"\",VLOOKUP(B997,NSLPandADEtableFY14,14,FALSE))","v":""},{"$f":"IF(ISBLANK(B997),\"\",VLOOKUP(B997,NSLPandADEtableFY14,15,FALSE))","v":""},{"$f":"IF(ISBLANK(B997),\"\",VLOOKUP(B997,NSLPandADEtableFY14,2,FALSE))","v":""},"",{"$f":"IF(ISBLANK(B997),\"\",VLOOKUP(B997,NSLPandADEtableFY14,11,FALSE))","v":""},null,null,null,null,null,null,null,"Maxine O Bush Elementary School - 070466019"]
["",null,{"$f":"IF(ISBLANK(B998),\"\",VLOOKUP(B998,NSLPandADEtableFY14,14,FALSE))","v":""},{"$f":"IF(ISBLANK(B998),\"\",VLOOKUP(B998,NSLPandADEtableFY14,15,FALSE))","v":""},{"$f":"IF(ISBLANK(B998),\"\",VLOOKUP(B998,NSLPandADEtableFY14,2,FALSE))","v":""},"",{"$f":"IF(ISBLANK(B998),\"\",VLOOKUP(B998,NSLPandADEtableFY14,11,FALSE))","v":""},null,null,null,null,null,null,null,"Maxwell Middle School - 100201522"]
["",null,{"$f":"IF(ISBLANK(B999),\"\",VLOOKUP(B999,NSLPandADEtableFY14,14,FALSE))","v":""},{"$f":"IF(ISBLANK(B999),\"\",VLOOKUP(B999,NSLPandADEtableFY14,15,FALSE))","v":""},{"$f":"IF(ISBLANK(B999),\"\",VLOOKUP(B999,NSLPandADEtableFY14,2,FALSE))","v":""},"",{"$f":"IF(ISBLANK(B999),\"\",VLOOKUP(B999,NSLPandADEtableFY14,11,FALSE))","v":""},null,null,null,null,null,null,null,"Mayer Elementary School - 130243101"]
["",null,{"$f":"IF(ISBLANK(B1000),\"\",VLOOKUP(B1000,NSLPandADEtableFY14,14,FALSE))","v":""},{"$f":"IF(ISBLANK(B1000),\"\",VLOOKUP(B1000,NSLPandADEtableFY14,15,FALSE))","v":""},{"$f":"IF(ISBLANK(B1000),\"\",VLOOKUP(B1000,NSLPandADEtableFY14,2,FALSE))","v":""},"",{"$f":"IF(ISBLANK(B1000),\"\",VLOOKUP(B1000,NSLPandADEtableFY14,11,FALSE))","v":""},null,null,null,null,null,null,null,"Mayer High School - 130243203"]
["",null,{"$f":"IF(ISBLANK(B1001),\"\",VLOOKUP(B1001,NSLPandADEtableFY14,14,FALSE))","v":""},{"$f":"IF(ISBLANK(B1001),\"\",VLOOKUP(B1001,NSLPandADEtableFY14,15,FALSE))","v":""},{"$f":"IF(ISBLANK(B1001),\"\",VLOOKUP(B1001,NSLPandADEtableFY14,2,FALSE))","v":""},"",{"$f":"IF(ISBLANK(B1001),\"\",VLOOKUP(B1001,NSLPandADEtableFY14,11,FALSE))","v":""},null,null,null,null,null,null,null,"McCartney Ranch Elementary School - 110404132"]
["",null,{"$f":"IF(ISBLANK(B1002),\"\",VLOOKUP(B1002,NSLPandADEtableFY14,14,FALSE))","v":""},{"$f":"IF(ISBLANK(B1002),\"\",VLOOKUP(B1002,NSLPandADEtableFY14,15,FALSE))","v":""},{"$f":"IF(ISBLANK(B1002),\"\",VLOOKUP(B1002,NSLPandADEtableFY14,2,FALSE))","v":""},"",{"$f":"IF(ISBLANK(B1002),\"\",VLOOKUP(B1002,NSLPandADEtableFY14,11,FALSE))","v":""},null,null,null,null,null,null,null,"Mcclintock High School - 070513092"]
["",null,{"$f":"IF(ISBLANK(B1003),\"\",VLOOKUP(B1003,NSLPandADEtableFY14,14,FALSE))","v":""},{"$f":"IF(ISBLANK(B1003),\"\",VLOOKUP(B1003,NSLPandADEtableFY14,15,FALSE))","v":""},{"$f":"IF(ISBLANK(B1003),\"\",VLOOKUP(B1003,NSLPandADEtableFY14,2,FALSE))","v":""},"",{"$f":"IF(ISBLANK(B1003),\"\",VLOOKUP(B1003,NSLPandADEtableFY14,11,FALSE))","v":""},null,null,null,null,null,null,null,"McCorkle PK-8 - 100201523"]
["",null,{"$f":"IF(ISBLANK(B1004),\"\",VLOOKUP(B1004,NSLPandADEtableFY14,14,FALSE))","v":""},{"$f":"IF(ISBLANK(B1004),\"\",VLOOKUP(B1004,NSLPandADEtableFY14,15,FALSE))","v":""},{"$f":"IF(ISBLANK(B1004),\"\",VLOOKUP(B1004,NSLPandADEtableFY14,2,FALSE))","v":""},"",{"$f":"IF(ISBLANK(B1004),\"\",VLOOKUP(B1004,NSLPandADEtableFY14,11,FALSE))","v":""},null,null,null,null,null,null,null,"McDowell Mountain Elementary School - 070298102"]
["",null,{"$f":"IF(ISBLANK(B1005),\"\",VLOOKUP(B1005,NSLPandADEtableFY14,14,FALSE))","v":""},{"$f":"IF(ISBLANK(B1005),\"\",VLOOKUP(B1005,NSLPandADEtableFY14,15,FALSE))","v":""},{"$f":"IF(ISBLANK(B1005),\"\",VLOOKUP(B1005,NSLPandADEtableFY14,2,FALSE))","v":""},"",{"$f":"IF(ISBLANK(B1005),\"\",VLOOKUP(B1005,NSLPandADEtableFY14,11,FALSE))","v":""},null,null,null,null,null,null,null,"Mcnary Elementary School - 010323101"]
["",null,{"$f":"IF(ISBLANK(B1006),\"\",VLOOKUP(B1006,NSLPandADEtableFY14,14,FALSE))","v":""},{"$f":"IF(ISBLANK(B1006),\"\",VLOOKUP(B1006,NSLPandADEtableFY14,15,FALSE))","v":""},{"$f":"IF(ISBLANK(B1006),\"\",VLOOKUP(B1006,NSLPandADEtableFY14,2,FALSE))","v":""},"",{"$f":"IF(ISBLANK(B1006),\"\",VLOOKUP(B1006,NSLPandADEtableFY14,11,FALSE))","v":""},null,null,null,null,null,null,null,"Mcneal Elementary School - 020355001"]
["",null,{"$f":"IF(ISBLANK(B1007),\"\",VLOOKUP(B1007,NSLPandADEtableFY14,14,FALSE))","v":""},{"$f":"IF(ISBLANK(B1007),\"\",VLOOKUP(B1007,NSLPandADEtableFY14,15,FALSE))","v":""},{"$f":"IF(ISBLANK(B1007),\"\",VLOOKUP(B1007,NSLPandADEtableFY14,2,FALSE))","v":""},"",{"$f":"IF(ISBLANK(B1007),\"\",VLOOKUP(B1007,NSLPandADEtableFY14,11,FALSE))","v":""},null,null,null,null,null,null,null,"Melvin E Sine School - 070440104"]
["",null,{"$f":"IF(ISBLANK(B1008),\"\",VLOOKUP(B1008,NSLPandADEtableFY14,14,FALSE))","v":""},{"$f":"IF(ISBLANK(B1008),\"\",VLOOKUP(B1008,NSLPandADEtableFY14,15,FALSE))","v":""},{"$f":"IF(ISBLANK(B1008),\"\",VLOOKUP(B1008,NSLPandADEtableFY14,2,FALSE))","v":""},"",{"$f":"IF(ISBLANK(B1008),\"\",VLOOKUP(B1008,NSLPandADEtableFY14,11,FALSE))","v":""},null,null,null,null,null,null,null,"Mendoza Elementary School - 070204139"]
["",null,{"$f":"IF(ISBLANK(B1009),\"\",VLOOKUP(B1009,NSLPandADEtableFY14,14,FALSE))","v":""},{"$f":"IF(ISBLANK(B1009),\"\",VLOOKUP(B1009,NSLPandADEtableFY14,15,FALSE))","v":""},{"$f":"IF(ISBLANK(B1009),\"\",VLOOKUP(B1009,NSLPandADEtableFY14,2,FALSE))","v":""},"",{"$f":"IF(ISBLANK(B1009),\"\",VLOOKUP(B1009,NSLPandADEtableFY14,11,FALSE))","v":""},null,null,null,null,null,null,null,"Menlo Park Elementary School - 100201299"]
["",null,{"$f":"IF(ISBLANK(B1010),\"\",VLOOKUP(B1010,NSLPandADEtableFY14,14,FALSE))","v":""},{"$f":"IF(ISBLANK(B1010),\"\",VLOOKUP(B1010,NSLPandADEtableFY14,15,FALSE))","v":""},{"$f":"IF(ISBLANK(B1010),\"\",VLOOKUP(B1010,NSLPandADEtableFY14,2,FALSE))","v":""},"",{"$f":"IF(ISBLANK(B1010),\"\",VLOOKUP(B1010,NSLPandADEtableFY14,11,FALSE))","v":""},null,null,null,null,null,null,null,"Menninger - 102133006"]
[null,null,null,null,null,null,null,null,null,null,null,null,null,null,"Mercury Mine Elementary School - 070269145"]
[null,null,null,null,null,null,null,null,null,null,null,null,null,null,"Meridian - 070241165"]
[null,null,null,null,null,null,null,null,null,null,null,null,null,null,"Mesa Academy for Advanced Studies - 070204192"]
[null,null,null,null,null,null,null,null,null,null,null,null,null,null,"Mesa Arts Academy - 078613101"]
[null,null,null,null,null,null,null,null,null,null,null,null,null,null,"Mesa High School - 070204271"]
[null,null,null,null,null,null,null,null,null,null,null,null,null,null,"Mesa Verde Elementary School - 100210116"]
[null,null,null,null,null,null,null,null,null,null,null,null,null,null,"Mesa View Elementary - 010224170"]
[null,null,null,null,null,null,null,null,null,null,null,null,null,null,"Mesquite Elementary - 140413130"]
[null,null,null,null,null,null,null,null,null,null,null,null,null,null,"Mesquite Elementary School - 110404109"]
[null,null,null,null,null,null,null,null,null,null,null,null,null,null,"Mesquite Elementary School - 070241149"]
[null,null,null,null,null,null,null,null,null,null,null,null,null,null,"Mesquite Elementary School - 100220712"]
[null,null,null,null,null,null,null,null,null,null,null,null,null,null,"Mesquite High School - 070241212"]
[null,null,null,null,null,null,null,null,null,null,null,null,null,null,"Mesquite Jr High School - 070241121"]
[null,null,null,null,null,null,null,null,null,null,null,null,null,null,"Metro Tech High School - 070510212"]
[null,null,null,null,null,null,null,null,null,null,null,null,null,null,"Mexicayotl Charter School - 128703001"]
[null,null,null,null,null,null,null,null,null,null,null,null,null,null,"Miami High School - 040240206"]
[null,null,null,null,null,null,null,null,null,null,null,null,null,null,"Miami Junior High - 040240105"]
[null,null,null,null,null,null,null,null,null,null,null,null,null,null,"Michael Anderson - 070444102"]
[null,null,null,null,null,null,null,null,null,null,null,null,null,null,"Midtown Primary School - 078976101"]
[null,null,null,null,null,null,null,null,null,null,null,null,null,null,"Miles-Exploratory Learning Center - 100201305"]
[null,null,null,null,null,null,null,null,null,null,null,null,null,null,"Milestones Charter School - 078791101"]
[null,null,null,null,null,null,null,null,null,null,null,null,null,null,"Millennium High School - 070516202"]
[null,null,null,null,null,null,null,null,null,null,null,null,null,null,"Miller Elementary School - 100201308"]
[null,null,null,null,null,null,null,null,null,null,null,null,null,null,"Miller Valley School - 130201013"]
[null,null,null,null,null,null,null,null,null,null,null,null,null,null,"Mingus Mountain Academy - 132116001"]
[null,null,null,null,null,null,null,null,null,null,null,null,null,null,"Mingus Springs Charter School - 138712101"]
[null,null,null,null,null,null,null,null,null,null,null,null,null,null,"Mingus Union High School - 130504201"]
[null,null,null,null,null,null,null,null,null,null,null,null,null,null,"Mirage Elementary School - 070297120"]
[null,null,null,null,null,null,null,null,null,null,null,null,null,null,"Mission Academy High School - 078904201"]
[null,null,null,null,null,null,null,null,null,null,null,null,null,null,"Mission Heights Preparatory High School - 078576001"]
[null,null,null,null,null,null,null,null,null,null,null,null,null,null,"Mission Manor Elementary School - 100212122"]
[null,null,null,null,null,null,null,null,null,null,null,null,null,null,"Mission View Elementary School - 100201311"]
[null,null,null,null,null,null,null,null,null,null,null,null,null,null,"Mitchell Elementary School - 070405106"]
[null,null,null,null,null,null,null,null,null,null,null,null,null,null,"Mobile Elementary School - 070386101"]
[null,null,null,null,null,null,null,null,null,null,null,null,null,null,"Moencopi Day School - 093906007"]
[null,null,null,null,null,null,null,null,null,null,null,null,null,null,"Mogollon High School - 090206201"]
[null,null,null,null,null,null,null,null,null,null,null,null,null,null,"Mohave Accelerated Elementary School East - 088703102"]
[null,null,null,null,null,null,null,null,null,null,null,null,null,null,"Mohave Accelerated Learning Center - 088758001"]
[null,null,null,null,null,null,null,null,null,null,null,null,null,null,"Mohave High School - 080502001"]
[null,null,null,null,null,null,null,null,null,null,null,null,null,null,"Mohave Middle School - 070248167"]
[null,null,null,null,null,null,null,null,null,null,null,null,null,null,"Mohave Valley Elementary - 080416101"]
[null,null,null,null,null,null,null,null,null,null,null,null,null,null,"Mohave Valley Junior High School - 080416103"]
[null,null,null,null,null,null,null,null,null,null,null,null,null,null,"Mohawk Valley School - 140417101"]
[null,null,null,null,null,null,null,null,null,null,null,null,null,null,"Monte Vista Elementary School - 070414160"]
[null,null,null,null,null,null,null,null,null,null,null,null,null,null,"Montebello School - 070468111"]
[null,null,null,null,null,null,null,null,null,null,null,null,null,null,"Monument Valley High School - 090227201"]
[null,null,null,null,null,null,null,null,null,null,null,null,null,null,"Moon Mountain School - 070406140"]
[null,null,null,null,null,null,null,null,null,null,null,null,null,null,"Moon Valley High School - 070505205"]
[null,null,null,null,null,null,null,null,null,null,null,null,null,null,"Morenci Jr.-Sr. High School - 060218002"]
[null,null,null,null,null,null,null,null,null,null,null,null,null,null,"Morris K. Udall Escuela de Bellas Artes - 070405112"]
[null,null,null,null,null,null,null,null,null,null,null,null,null,null,"Morristown Elementary School - 070375101"]
[null,null,null,null,null,null,null,null,null,null,null,null,null,null,"Mosaica Preparatory Academy of Chandler - 078501001"]
[null,null,null,null,null,null,null,null,null,null,null,null,null,null,"Most Holy Trinity Catholic School - 072032001"]
[null,null,null,null,null,null,null,null,null,null,null,null,null,null,"Mount Elden Middle School - 030201124"]
[null,null,null,null,null,null,null,null,null,null,null,null,null,null,"Mountain Meadows Primary - 090206101"]
[null,null,null,null,null,null,null,null,null,null,null,null,null,null,"Mountain Pointe High School - 070513095"]
[null,null,null,null,null,null,null,null,null,null,null,null,null,null,"Mountain Ridge High School - 070297233"]
[null,null,null,null,null,null,null,null,null,null,null,null,null,null,"Mountain Shadows Education Center - 110243153"]
[null,null,null,null,null,null,null,null,null,null,null,null,null,null,"Mountain Shadows Elementary School - 070297125"]
[null,null,null,null,null,null,null,null,null,null,null,null,null,null,"Mountain Sky Middle School - 070406141"]
[null,null,null,null,null,null,null,null,null,null,null,null,null,null,"Mountain Trail Middle School - 070269173"]
[null,null,null,null,null,null,null,null,null,null,null,null,null,null,"Mountain View - 070289123"]
[null,null,null,null,null,null,null,null,null,null,null,null,null,null,"Mountain View Elementary School - 130222132"]
[null,null,null,null,null,null,null,null,null,null,null,null,null,null,"Mountain View Elementary School - 070406142"]
[null,null,null,null,null,null,null,null,null,null,null,null,null,null,"Mountain View High School - 100206241"]
[null,null,null,null,null,null,null,null,null,null,null,null,null,null,"Mountain View High School - 070204273"]
[null,null,null,null,null,null,null,null,null,null,null,null,null,null,"Mountain View Preparatory - 130406106"]
[null,null,null,null,null,null,null,null,null,null,null,null,null,null,"Mountain View School - 120235120"]
[null,null,null,null,null,null,null,null,null,null,null,null,null,null,"Mountain Vista Middle School - 110221009"]
[null,null,null,null,null,null,null,null,null,null,null,null,null,null,"Mountain Vista School - 110302102"]
[null,null,null,null,null,null,null,null,null,null,null,null,null,null,"Mountainside Middle School - 070248166"]
[null,null,null,null,null,null,null,null,null,null,null,null,null,null,"Moya Elementary - 070405114"]
[null,null,null,null,null,null,null,null,null,null,null,null,null,null,"Mt Graham High School - 050201201"]
[null,null,null,null,null,null,null,null,null,null,null,null,null,null,"Mt Tipton Elementary School - 080220117"]
[null,null,null,null,null,null,null,null,null,null,null,null,null,null,"Mt. Turnbull Academy - 050207701"]
[null,null,null,null,null,null,null,null,null,null,null,null,null,null,"Myers-Ganoung Elementary School - 100201317"]
[null,null,null,null,null,null,null,null,null,null,null,null,null,null,"Myrtle - 072781003"]
[null,null,null,null,null,null,null,null,null,null,null,null,null,null,"Naco Elementary School - 020323001"]
[null,null,null,null,null,null,null,null,null,null,null,null,null,null,"Nadaburg Elementary School - 070381101"]
[null,null,null,null,null,null,null,null,null,null,null,null,null,null,"Nan Lyons Elementary School - 100201288"]
[null,null,null,null,null,null,null,null,null,null,null,null,null,null,"Nautilus Elementary School - 080201105"]
[null,null,null,null,null,null,null,null,null,null,null,null,null,null,"Navajo Elementary School - 070248113"]
[null,null,null,null,null,null,null,null,null,null,null,null,null,null,"Navajo Lutheran Mission School - 012002001"]
[null,null,null,null,null,null,null,null,null,null,null,null,null,null,"Navarrete Elementary - 070280132"]
[null,null,null,null,null,null,null,null,null,null,null,null,null,null,"Naylor Middle School - 100201525"]
[null,null,null,null,null,null,null,null,null,null,null,null,null,null,"Nazlini Charter School - 018760101"]
[null,null,null,null,null,null,null,null,null,null,null,null,null,null,"Neely Traditional Academy - 070241143"]
[null,null,null,null,null,null,null,null,null,null,null,null,null,null,"Nevitt Elementary School - 070403126"]
[null,null,null,null,null,null,null,null,null,null,null,null,null,null,"New Horizon School for the Performing Arts - 078771001"]
[null,null,null,null,null,null,null,null,null,null,null,null,null,null,"New River Elementary School - 070297113"]
[null,null,null,null,null,null,null,null,null,null,null,null,null,null,"New Visions Academy - 138654001"]
[null,null,null,null,null,null,null,null,null,null,null,null,null,null,"Newell Barney Middle School - 070295121"]
[null,null,null,null,null,null,null,null,null,null,null,null,null,null,"NFL YET College Prep Academy - 078711001"]
[null,null,null,null,null,null,null,null,null,null,null,null,null,null,"Nikolaus Homestead Elementary School - 090210115"]
[null,null,null,null,null,null,null,null,null,null,null,null,null,null,"Noah Webster Basic School - 078930101"]
[null,null,null,null,null,null,null,null,null,null,null,null,null,null,"Nogales High School - 120201210"]
[null,null,null,null,null,null,null,null,null,null,null,null,null,null,"Norterra Canyon K-8 - 070297149"]
[null,null,null,null,null,null,null,null,null,null,null,null,null,null,"North Canyon High School - 070269294"]
[null,null,null,null,null,null,null,null,null,null,null,null,null,null,"North High School - 070510255"]
[null,null,null,null,null,null,null,null,null,null,null,null,null,null,"North Ranch Elementary School - 070269122"]
[null,null,null,null,null,null,null,null,null,null,null,null,null,null,"Northern AZ Academy for Career Dev. - Taylor - 098745204"]
[null,null,null,null,null,null,null,null,null,null,null,null,null,null,"Northern AZ Academy for Career Dev. - Winslow - 098745201"]
[null,null,null,null,null,null,null,null,null,null,null,null,null,null,"Nosotros Academy - 108707001"]
[null,null,null,null,null,null,null,null,null,null,null,null,null,null,"O C Johnson School - 140401106"]
[null,null,null,null,null,null,null,null,null,null,null,null,null,null,"Oak Creek School - 130406103"]
[null,null,null,null,null,null,null,null,null,null,null,null,null,null,"Oak Tree Elementary - 070241157"]
[null,null,null,null,null,null,null,null,null,null,null,null,null,null,"Oakwood Elementary School - 070211112"]
[null,null,null,null,null,null,null,null,null,null,null,null,null,null,"Oasis Elementary School - 070211115"]
[null,null,null,null,null,null,null,null,null,null,null,null,null,null,"Oasis High School - 078603002"]
[null,null,null,null,null,null,null,null,null,null,null,null,null,null,"Ochoa Elementary School - 100201323"]
[null,null,null,null,null,null,null,null,null,null,null,null,null,null,"O'Connor Elementary School - 070204137"]
[null,null,null,null,null,null,null,null,null,null,null,null,null,null,"Ocotillo Early Learning Center - 100212134"]
[null,null,null,null,null,null,null,null,null,null,null,null,null,null,"Ocotillo Ridge Elementary - 100220112"]
[null,null,null,null,null,null,null,null,null,null,null,null,null,null,"Ocotillo School - 070406144"]
[null,null,null,null,null,null,null,null,null,null,null,null,null,null,"Old Vail Middle School - 100220104"]
[null,null,null,null,null,null,null,null,null,null,null,null,null,null,"Omega Alpha Academy School - 028751002"]
[null,null,null,null,null,null,null,null,null,null,null,null,null,null,"Oracle Ridge School - 110302101"]
[null,null,null,null,null,null,null,null,null,null,null,null,null,null,"Orange Grove Elementary School - 140411102"]
[null,null,null,null,null,null,null,null,null,null,null,null,null,null,"Orange Grove Middle School - 100216103"]
[null,null,null,null,null,null,null,null,null,null,null,null,null,null,"Orangedale Junior High Prep Academy - 070431104"]
[null,null,null,null,null,null,null,null,null,null,null,null,null,null,"Orangewood Elementary School - 070406146"]
[null,null,null,null,null,null,null,null,null,null,null,null,null,null,"Oro Grande Elementary School - 080201106"]
[null,null,null,null,null,null,null,null,null,null,null,null,null,null,"Osborn Middle School - 070408104"]
[null,null,null,null,null,null,null,null,null,null,null,null,null,null,"Our Lady of Perpetual Help School - 072008001"]
[null,null,null,null,null,null,null,null,null,null,null,null,null,null,"Owens Elementary School - 080306101"]
[null,null,null,null,null,null,null,null,null,null,null,null,null,null,"P T Coe Elementary School - 070405104"]
[null,null,null,null,null,null,null,null,null,null,null,null,null,null,"Page High School - 030208209"]
[null,null,null,null,null,null,null,null,null,null,null,null,null,null,"Page Middle School - 030208106"]
[null,null,null,null,null,null,null,null,null,null,null,null,null,null,"Painted Sky Elementary School - 100210114"]
[null,null,null,null,null,null,null,null,null,null,null,null,null,null,"Palm Lane - 070483115"]
[null,null,null,null,null,null,null,null,null,null,null,null,null,null,"Palm Valley Elementary - 070479104"]
[null,null,null,null,null,null,null,null,null,null,null,null,null,null,"Palmcroft Elementary School - 140401107"]
[null,null,null,null,null,null,null,null,null,null,null,null,null,null,"Palo Christi Elementary - 080220113"]
[null,null,null,null,null,null,null,null,null,null,null,null,null,null,"Palo Verde Elementary School - 070449101"]
[null,null,null,null,null,null,null,null,null,null,null,null,null,null,"Palo Verde High Magnet School - 100201620"]
[null,null,null,null,null,null,null,null,null,null,null,null,null,null,"Palo Verde Middle School - 070406148"]
[null,null,null,null,null,null,null,null,null,null,null,null,null,null,"Palo Verde School - 110404104"]
[null,null,null,null,null,null,null,null,null,null,null,null,null,null,"Palominas Elementary School - 020349101"]
[null,null,null,null,null,null,null,null,null,null,null,null,null,null,"Palomino Intermediate School - 070269151"]
[null,null,null,null,null,null,null,null,null,null,null,null,null,null,"Palomino Primary School - 070269150"]
[null,null,null,null,null,null,null,null,null,null,null,null,null,null,"Pan-American Charter School - 078940101"]
[null,null,null,null,null,null,null,null,null,null,null,null,null,null,"Papago School - 070414170"]
[null,null,null,null,null,null,null,null,null,null,null,null,null,null,"Paradise Education Center - 078912101"]
[null,null,null,null,null,null,null,null,null,null,null,null,null,null,"Paradise Honors High School - 078912103"]
[null,null,null,null,null,null,null,null,null,null,null,null,null,null,"Paradise Valley High School - 070269290"]
[null,null,null,null,null,null,null,null,null,null,null,null,null,null,"Paragon Science Academy - 078544101"]
[null,null,null,null,null,null,null,null,null,null,null,null,null,null,"Paramount Academy - 078905102"]
[null,null,null,null,null,null,null,null,null,null,null,null,null,null,"Park Elementary School - 090203103"]
[null,null,null,null,null,null,null,null,null,null,null,null,null,null,"Park Meadows Elementary School - 070297114"]
[null,null,null,null,null,null,null,null,null,null,null,null,null,null,"Park View Middle School - 138755101"]
[null,null,null,null,null,null,null,null,null,null,null,null,null,null,"Parker High School - 150227204"]
[null,null,null,null,null,null,null,null,null,null,null,null,null,null,"Parkridge Elementary - 070211129"]
[null,null,null,null,null,null,null,null,null,null,null,null,null,null,"Parkview Elementary - 070289122"]
[null,null,null,null,null,null,null,null,null,null,null,null,null,null,"Paseo Hills Elementary - 070297135"]
[null,null,null,null,null,null,null,null,null,null,null,null,null,null,"Paseo Verde Elementary School - 070211122"]
[null,null,null,null,null,null,null,null,null,null,null,null,null,null,"Patagonia Elementary School - 120406101"]
[null,null,null,null,null,null,null,null,null,null,null,null,null,null,"Patagonia Union High School - 120520201"]
[null,null,null,null,null,null,null,null,null,null,null,null,null,null,"Patterson Elementary - 070204153"]
[null,null,null,null,null,null,null,null,null,null,null,null,null,null,"Patterson Elementary School - 070241142"]
[null,null,null,null,null,null,null,null,null,null,null,null,null,null,"Paul Dunbar Lawrence School - 070401104"]
[null,null,null,null,null,null,null,null,null,null,null,null,null,null,"Paul H Huber Jr High School - 020227109"]
[null,null,null,null,null,null,null,null,null,null,null,null,null,null,"Paulden Community School - 078560001"]
[null,null,null,null,null,null,null,null,null,null,null,null,null,null,"Payson Center for Success High School - 040210701"]
[null,null,null,null,null,null,null,null,null,null,null,null,null,null,"Payson Elementary School - 040210104"]
[null,null,null,null,null,null,null,null,null,null,null,null,null,null,"Payson High School - 040210201"]
[null,null,null,null,null,null,null,null,null,null,null,null,null,null,"Peach Springs School - 080208001"]
[null,null,null,null,null,null,null,null,null,null,null,null,null,null,"Pearce Elementary School - 020422001"]
[null,null,null,null,null,null,null,null,null,null,null,null,null,null,"Pecan Grove Elementary School - 140401108"]
[null,null,null,null,null,null,null,null,null,null,null,null,null,null,"Pena Blanca Elementary School - 120235115"]
[null,null,null,null,null,null,null,null,null,null,null,null,null,null,"Pendergast Elementary School - 070492012"]
[null,null,null,null,null,null,null,null,null,null,null,null,null,null,"Peoria Accelerated High School - 078951001"]
[null,null,null,null,null,null,null,null,null,null,null,null,null,null,"Peoria Elementary School - 070211101"]
[null,null,null,null,null,null,null,null,null,null,null,null,null,null,"Peoria High School - 070211260"]
[null,null,null,null,null,null,null,null,null,null,null,null,null,null,"Peoria Traditional School - 070211132"]
[null,null,null,null,null,null,null,null,null,null,null,null,null,null,"Peoria Transition Center - 070211266"]
[null,null,null,null,null,null,null,null,null,null,null,null,null,null,"Peralta School - 070483116"]
[null,null,null,null,null,null,null,null,null,null,null,null,null,null,"Peralta Trail Elementary School - 110243105"]
[null,null,null,null,null,null,null,null,null,null,null,null,null,null,"Percy L Julian School - 070466003"]
[null,null,null,null,null,null,null,null,null,null,null,null,null,null,"Peridot Lutheran Elementary School - 042002001"]
[null,null,null,null,null,null,null,null,null,null,null,null,null,null,"Perry High School - 070280228"]
[null,null,null,null,null,null,null,null,null,null,null,null,null,null,"Phoenix Advantage Charter School - 078714001"]
[null,null,null,null,null,null,null,null,null,null,null,null,null,null,"Phoenix Collegiate Academy Charter School - 078559001"]
[null,null,null,null,null,null,null,null,null,null,null,null,null,null,"Phoenix Union Bioscience High School - 070510284"]
[null,null,null,null,null,null,null,null,null,null,null,null,null,null,"PHX DAY SCH/MD - Closed - 001202041"]
[null,null,null,null,null,null,null,null,null,null,null,null,null,null,"Picacho School - 110433133"]
[null,null,null,null,null,null,null,null,null,null,null,null,null,null,"Picture Rocks Intermediate School - 100206120"]
[null,null,null,null,null,null,null,null,null,null,null,null,null,null,"Pierson Vocational High School - 120201209"]
[null,null,null,null,null,null,null,null,null,null,null,null,null,null,"Pima Butte - 110220105"]
[null,null,null,null,null,null,null,null,null,null,null,null,null,null,"Pima County Jail - 101002001"]
[null,null,null,null,null,null,null,null,null,null,null,null,null,null,"Pima County Juvenile Court - 101001001"]
[null,null,null,null,null,null,null,null,null,null,null,null,null,null,"Pima Elementary School - 050206101"]
[null,null,null,null,null,null,null,null,null,null,null,null,null,null,"Pima Elementary School - 070248110"]
[null,null,null,null,null,null,null,null,null,null,null,null,null,null,"Pima High School - 050206202"]
[null,null,null,null,null,null,null,null,null,null,null,null,null,null,"Pima Partnership Academy - 108799101"]
[null,null,null,null,null,null,null,null,null,null,null,null,null,null,"Pima Partnership School - 108711201"]
[null,null,null,null,null,null,null,null,null,null,null,null,null,null,"Pine Springs Day School - 014012001"]
[null,null,null,null,null,null,null,null,null,null,null,null,null,null,"Pine Strawberry Elementary School - 040312001"]
[null,null,null,null,null,null,null,null,null,null,null,null,null,null,"Pinnacle High School - 070269292"]
[null,null,null,null,null,null,null,null,null,null,null,null,null,null,"Pinnacle Peak Elementary - 070269148"]
[null,null,null,null,null,null,null,null,null,null,null,null,null,null,"Pinon Community School - 093915001"]
[null,null,null,null,null,null,null,null,null,null,null,null,null,null,"Pinon Elementary School - 090204101"]
[null,null,null,null,null,null,null,null,null,null,null,null,null,null,"Pinon High School - 090204203"]
[null,null,null,null,null,null,null,null,null,null,null,null,null,null,"Pinon Middle School - 090204102"]
[null,null,null,null,null,null,null,null,null,null,null,null,null,null,"Pioneer Elementary School - 070241144"]
[null,null,null,null,null,null,null,null,null,null,null,null,null,null,"Pioneer Elementary School - 070211105"]
[null,null,null,null,null,null,null,null,null,null,null,null,null,null,"Pioneer Preparatory - A Challenge Foundation - 078550001"]
[null,null,null,null,null,null,null,null,null,null,null,null,null,null,"Pistor Middle School - 100201527"]
[null,null,null,null,null,null,null,null,null,null,null,null,null,null,"Playa del Rey Elementary School - 070241151"]
[null,null,null,null,null,null,null,null,null,null,null,null,null,null,"Polaris High School - 070269296"]
[null,null,null,null,null,null,null,null,null,null,null,null,null,null,"Pomerene Elementary School - 020364101"]
[null,null,null,null,null,null,null,null,null,null,null,null,null,null,"Pomeroy Elementary School - 070204131"]
[null,null,null,null,null,null,null,null,null,null,null,null,null,null,"Porfirio H. Gonzales Elementary School - 070417101"]
[null,null,null,null,null,null,null,null,null,null,null,null,null,null,"Porter Elementary School - 070204145"]
[null,null,null,null,null,null,null,null,null,null,null,null,null,null,"Poston Butte High School - 110201202"]
[null,null,null,null,null,null,null,null,null,null,null,null,null,null,"Poston Junior High School - 070204256"]
[null,null,null,null,null,null,null,null,null,null,null,null,null,null,"Power Ranch Elementary - 070260104"]
[null,null,null,null,null,null,null,null,null,null,null,null,null,null,"PPEP TEC - Celestino Fernandez Learning Center - 108744201"]
[null,null,null,null,null,null,null,null,null,null,null,null,null,null,"PPEP TEC - Cesar Chavez Learning Center - 108744206"]
[null,null,null,null,null,null,null,null,null,null,null,null,null,null,"PPEP TEC - Jose Yepez Learning Center - 108744207"]
[null,null,null,null,null,null,null,null,null,null,null,null,null,null,"PPEP TEC - Raul H. Castro Learning Center - 108744205"]
[null,null,null,null,null,null,null,null,null,null,null,null,null,null,"PPEP TEC - Victor Soltero Learning Center - 108744210"]
[null,null,null,null,null,null,null,null,null,null,null,null,null,null,"Precision Academy System Charter School - 078670201"]
[null,null,null,null,null,null,null,null,null,null,null,null,null,null,"Prescott High School - 130201070"]
[null,null,null,null,null,null,null,null,null,null,null,null,null,null,"Prescott Mile High Middle School - 130201050"]
[null,null,null,null,null,null,null,null,null,null,null,null,null,null,"Prescott Valley School - 078516002"]
[null,null,null,null,null,null,null,null,null,null,null,null,null,null,"Presidio de las Sierras - 108509301"]
[null,null,null,null,null,null,null,null,null,null,null,null,null,null,"Presidio School - 108778201"]
[null,null,null,null,null,null,null,null,null,null,null,null,null,null,"Project More High School - 100201674"]
[null,null,null,null,null,null,null,null,null,null,null,null,null,null,"Pueblo Del Sol Elementary School - 020268125"]
[null,null,null,null,null,null,null,null,null,null,null,null,null,null,"Pueblo Del Sol Middle School - 070405111"]
[null,null,null,null,null,null,null,null,null,null,null,null,null,null,"Pueblo Elementary School - 140413101"]
[null,null,null,null,null,null,null,null,null,null,null,null,null,null,"Pueblo Elementary School - 070248120"]
[null,null,null,null,null,null,null,null,null,null,null,null,null,null,"Pueblo Gardens Elementary - 100201329"]
[null,null,null,null,null,null,null,null,null,null,null,null,null,null,"Pueblo High Magnet School - 100201630"]
[null,null,null,null,null,null,null,null,null,null,null,null,null,null,"Quail Run Elementary School - 100206118"]
[null,null,null,null,null,null,null,null,null,null,null,null,null,null,"Quail Run Elementary School - 070269126"]
[null,null,null,null,null,null,null,null,null,null,null,null,null,null,"Quartz Hill Elementary - 070241167"]
[null,null,null,null,null,null,null,null,null,null,null,null,null,null,"Quartzsite Elementary School - 150404102"]
[null,null,null,null,null,null,null,null,null,null,null,null,null,null,"Queen Creek Elementary School - 070295101"]
[null,null,null,null,null,null,null,null,null,null,null,null,null,null,"Queen Creek High School - 070295201"]
[null,null,null,null,null,null,null,null,null,null,null,null,null,null,"Queen Creek Middle School - 070295106"]
[null,null,null,null,null,null,null,null,null,null,null,null,null,null,"Queen of Peace School - 072026001"]
[null,null,null,null,null,null,null,null,null,null,null,null,null,null,"Quentin Elementary School - 070465105"]
[null,null,null,null,null,null,null,null,null,null,null,null,null,null,"R E Simpson School - 070468113"]
[null,null,null,null,null,null,null,null,null,null,null,null,null,null,"R Pete Woodard Jr High School - 140401123"]
[null,null,null,null,null,null,null,null,null,null,null,null,null,null,"Rainbow Valley Elementary School - 070425103"]
[null,null,null,null,null,null,null,null,null,null,null,null,null,null,"Ralph Waldo Emerson Elementary School - 070401106"]
[null,null,null,null,null,null,null,null,null,null,null,null,null,null,"Ranch Elementary School - 110244106"]
[null,null,null,null,null,null,null,null,null,null,null,null,null,null,"Rancho Gabriela - 070289119"]
[null,null,null,null,null,null,null,null,null,null,null,null,null,null,"Rancho Santa Fe Elementary School - 070479105"]
[null,null,null,null,null,null,null,null,null,null,null,null,null,null,"Rancho Viejo Elementary School - 140413102"]
[null,null,null,null,null,null,null,null,null,null,null,null,null,null,"Rattlesnake Ridge Elementary - 100206122"]
[null,null,null,null,null,null,null,null,null,null,null,null,null,null,"Raul Grijalva Elementary School - 100201231"]
[null,null,null,null,null,null,null,null,null,null,null,null,null,null,"Raul H. Castro Middle School - 070483129"]
[null,null,null,null,null,null,null,null,null,null,null,null,null,null,"Ray Borane Middle School - 020227108"]
[null,null,null,null,null,null,null,null,null,null,null,null,null,null,"Ray Elementary School - 110203101"]
[null,null,null,null,null,null,null,null,null,null,null,null,null,null,"Ray High School - 110203202"]
[null,null,null,null,null,null,null,null,null,null,null,null,null,null,"Raymond S. Kellis - 070211265"]
[null,null,null,null,null,null,null,null,null,null,null,null,null,null,"RCB Medical Arts Academy - 078793201"]
[null,null,null,null,null,null,null,null,null,null,null,null,null,null,"Red Mesa Elementary School - 010227101"]
[null,null,null,null,null,null,null,null,null,null,null,null,null,null,"Red Mountain High School - 070204275"]
[null,null,null,null,null,null,null,null,null,null,null,null,null,null,"Red Mountain Ranch Elementary - 070204148"]
[null,null,null,null,null,null,null,null,null,null,null,null,null,null,"Red Rock Elementary School - 110405101"]
[null,null,null,null,null,null,null,null,null,null,null,null,null,null,"Red Valley/Cove High School - 010227205"]
[null,null,null,null,null,null,null,null,null,null,null,null,null,null,"Redbird Elementary School - 070204123"]
[null,null,null,null,null,null,null,null,null,null,null,null,null,null,"Redfield Elementary School - 070248125"]
[null,null,null,null,null,null,null,null,null,null,null,null,null,null,"Reyes Maria Ruiz Leadership Academy - 078711004"]
[null,null,null,null,null,null,null,null,null,null,null,null,null,null,"Rhodes Junior High School - 070204257"]
[null,null,null,null,null,null,null,null,null,null,null,null,null,null,"Rice Elementary School - 040220104"]
[null,null,null,null,null,null,null,null,null,null,null,null,null,null,"Richard B Wilson Jr School - 100210168"]
[null,null,null,null,null,null,null,null,null,null,null,null,null,null,"Richard E Miller School - 070406150"]
[null,null,null,null,null,null,null,null,null,null,null,null,null,null,"Riggs Elementary - 070280139"]
[null,null,null,null,null,null,null,null,null,null,null,null,null,null,"Rillito Center - 100210125"]
[null,null,null,null,null,null,null,null,null,null,null,null,null,null,"Rim Country Middle School - 040210102"]
[null,null,null,null,null,null,null,null,null,null,null,null,null,null,"Rincon High School - 100201640"]
[null,null,null,null,null,null,null,null,null,null,null,null,null,null,"Rincon Vista Middle School - 100220114"]
[null,null,null,null,null,null,null,null,null,null,null,null,null,null,"Rio Colorado Elementary School - 140432102"]
[null,null,null,null,null,null,null,null,null,null,null,null,null,null,"Rio Rico High School - 120235200"]
[null,null,null,null,null,null,null,null,null,null,null,null,null,null,"Rio Vista Elementary - 070492021"]
[null,null,null,null,null,null,null,null,null,null,null,null,null,null,"Rio Vista Elementary School - 100210117"]
[null,null,null,null,null,null,null,null,null,null,null,null,null,null,"River Valley High School - 080502002"]
[null,null,null,null,null,null,null,null,null,null,null,null,null,null,"Rivera Elementary - 100212124"]
[null,null,null,null,null,null,null,null,null,null,null,null,null,null,"Riverbend Prep - 078548101"]
[null,null,null,null,null,null,null,null,null,null,null,null,null,null,"Riverside Traditional School - 070402101"]
[null,null,null,null,null,null,null,null,null,null,null,null,null,null,"Riverview High School - 070204184"]
[null,null,null,null,null,null,null,null,null,null,null,null,null,null,"Riverview School - 070289127"]
[null,null,null,null,null,null,null,null,null,null,null,null,null,null,"Roadrunner Elementary School - 100206115"]
[null,null,null,null,null,null,null,null,null,null,null,null,null,null,"Roadrunner Elementary School - 070406152"]
[null,null,null,null,null,null,null,null,null,null,null,null,null,null,"Roadrunner Home - 102706004"]
[null,null,null,null,null,null,null,null,null,null,null,null,null,null,"Roadrunner School - 070269055"]
[null,null,null,null,null,null,null,null,null,null,null,null,null,null,"Roanoke House - 072785001"]
[null,null,null,null,null,null,null,null,null,null,null,null,null,null,"Robert and Danell Tarwater Elementary - 070280127"]
[null,null,null,null,null,null,null,null,null,null,null,null,null,null,"Robert Bracker Elementary - 120201103"]
[null,null,null,null,null,null,null,null,null,null,null,null,null,null,"Robert Richardson Elementary School - 100208160"]
[null,null,null,null,null,null,null,null,null,null,null,null,null,null,"Robins Elementary School - 100201351"]
[null,null,null,null,null,null,null,null,null,null,null,null,null,null,"Robison Elementary School - 100201353"]
[null,null,null,null,null,null,null,null,null,null,null,null,null,null,"Robles Elementary School - 100351100"]
[null,null,null,null,null,null,null,null,null,null,null,null,null,null,"Robson Elementary School - 070204134"]
[null,null,null,null,null,null,null,null,null,null,null,null,null,null,"Rock Point Community School - 013904001"]
[null,null,null,null,null,null,null,null,null,null,null,null,null,null,"Rocky Ridge Boarding School - 033904006"]
[null,null,null,null,null,null,null,null,null,null,null,null,null,null,"Rogers Ranch School - 070459107"]
[null,null,null,null,null,null,null,null,null,null,null,null,null,null,"Ron Watson Middle School - 140401125"]
[null,null,null,null,null,null,null,null,null,null,null,null,null,null,"Ronald Reagan Fundamental School - 140413104"]
[null,null,null,null,null,null,null,null,null,null,null,null,null,null,"Roosevelt Elementary School - 070204121"]
[null,null,null,null,null,null,null,null,null,null,null,null,null,null,"Roosevelt School - 140401109"]
[null,null,null,null,null,null,null,null,null,null,null,null,null,null,"Rose Linda School - 070466009"]
[null,null,null,null,null,null,null,null,null,null,null,null,null,null,"Roskruge Bilingual Magnet Middle School - 100201595"]
[null,null,null,null,null,null,null,null,null,null,null,null,null,null,"Rough Rock High School - 014001201"]
[null,null,null,null,null,null,null,null,null,null,null,null,null,null,"Round Rock Elementary School - 010227102"]
[null,null,null,null,null,null,null,null,null,null,null,null,null,null,"Round Valley Elementary School - 010210102"]
[null,null,null,null,null,null,null,null,null,null,null,null,null,null,"Round Valley High School - 010210210"]
[null,null,null,null,null,null,null,null,null,null,null,null,null,null,"Round Valley Middle School - 010210103"]
[null,null,null,null,null,null,null,null,null,null,null,null,null,null,"Rover Elementary School - 070403129"]
[null,null,null,null,null,null,null,null,null,null,null,null,null,null,"Royal Palm Middle School - 070406154"]
[null,null,null,null,null,null,null,null,null,null,null,null,null,null,"Rudy G Bologna Elementary - 070280124"]
[null,null,null,null,null,null,null,null,null,null,null,null,null,null,"Ruth Fisher Elementary School - 070290101"]
[null,null,null,null,null,null,null,null,null,null,null,null,null,null,"Ruth Powell Elementary School - 050201103"]
[null,null,null,null,null,null,null,null,null,null,null,null,null,null,"S H A R P - 070204183"]
[null,null,null,null,null,null,null,null,null,null,null,null,null,null,"S.T.A.R. Academic Center - 100212513"]
[null,null,null,null,null,null,null,null,null,null,null,null,null,null,"Sabino High School - 100201645"]
[null,null,null,null,null,null,null,null,null,null,null,null,null,null,"SABIS International - 078716001"]
[null,null,null,null,null,null,null,null,null,null,null,null,null,null,"Sacaton Elementary - 110418001"]
[null,null,null,null,null,null,null,null,null,null,null,null,null,null,"Sacaton Middle School - 110418002"]
[null,null,null,null,null,null,null,null,null,null,null,null,null,null,"Sacred Heart Parish School - 139101017"]
[null,null,null,null,null,null,null,null,null,null,null,null,null,null,"Sacred Heart School - 122002001"]
[null,null,null,null,null,null,null,null,null,null,null,null,null,null,"Saddleback Elementary School - 110220109"]
[null,null,null,null,null,null,null,null,null,null,null,null,null,null,"Safford Engineering/Technology Magnet Middle School - 100201535"]
[null,null,null,null,null,null,null,null,null,null,null,null,null,null,"Safford High School - 050201200"]
[null,null,null,null,null,null,null,null,null,null,null,null,null,null,"Safford Middle School - 050201102"]
[null,null,null,null,null,null,null,null,null,null,null,null,null,null,"Sage Academy - 078688101"]
[null,null,null,null,null,null,null,null,null,null,null,null,null,null,"Saguaro Elementary School - 110404105"]
[null,null,null,null,null,null,null,null,null,null,null,null,null,null,"Saguaro High School - 070248294"]
[null,null,null,null,null,null,null,null,null,null,null,null,null,null,"Sahuarita High School - 100230204"]
[null,null,null,null,null,null,null,null,null,null,null,null,null,null,"Sahuarita Primary School - 100230101"]
[null,null,null,null,null,null,null,null,null,null,null,null,null,null,"Sahuaro High School - 100201650"]
[null,null,null,null,null,null,null,null,null,null,null,null,null,null,"Sahuaro Ranch Elementary School - 070211114"]
[null,null,null,null,null,null,null,null,null,null,null,null,null,null,"Sahuaro School - 070406156"]
[null,null,null,null,null,null,null,null,null,null,null,null,null,null,"Salida Del Sol Elementary - 140413109"]
[null,null,null,null,null,null,null,null,null,null,null,null,null,null,"Salk Elementary School - 070204124"]
[null,null,null,null,null,null,null,null,null,null,null,null,null,null,"Salome Elementary School - 150430101"]
[null,null,null,null,null,null,null,null,null,null,null,null,null,null,"Salome High School - 150576201"]
[null,null,null,null,null,null,null,null,null,null,null,null,null,null,"Salpointe Catholic High School - 102006001"]
[null,null,null,null,null,null,null,null,null,null,null,null,null,null,"Salt River Accelerated Learning Academy - 078656002"]
[null,null,null,null,null,null,null,null,null,null,null,null,null,null,"Salt River Elementary School - 104001010"]
[null,null,null,null,null,null,null,null,null,null,null,null,null,null,"Salt River High School - 078656001"]
[null,null,null,null,null,null,null,null,null,null,null,null,null,null,"Sam Hughes Elementary - 100201257"]
[null,null,null,null,null,null,null,null,null,null,null,null,null,null,"San Carlos High School - 040220202"]
[null,null,null,null,null,null,null,null,null,null,null,null,null,null,"San Cayetano Elementary School - 120235110"]
[null,null,null,null,null,null,null,null,null,null,null,null,null,null,"San Luis High School - 140570205"]
[null,null,null,null,null,null,null,null,null,null,null,null,null,null,"San Luis Middle School - 140432103"]
[null,null,null,null,null,null,null,null,null,null,null,null,null,null,"San Manuel High School - 110208281"]
[null,null,null,null,null,null,null,null,null,null,null,null,null,null,"San Marcos Elementary School - 070280105"]
[null,null,null,null,null,null,null,null,null,null,null,null,null,null,"San Miguel Catholic High School - 101908001"]
[null,null,null,null,null,null,null,null,null,null,null,null,null,null,"San Pedro Valley High School - 020209701"]
[null,null,null,null,null,null,null,null,null,null,null,null,null,null,"San Simon School - 104001001"]
[null,null,null,null,null,null,null,null,null,null,null,null,null,null,"San Simon School - 020218001"]
[null,null,null,null,null,null,null,null,null,null,null,null,null,null,"San Tan Elementary - 070260103"]
[null,null,null,null,null,null,null,null,null,null,null,null,null,null,"San Tan Foothills High School - 110221011"]
[null,null,null,null,null,null,null,null,null,null,null,null,null,null,"San Tan Heights Elementary - 110221008"]
[null,null,null,null,null,null,null,null,null,null,null,null,null,null,"San Xavier Mission School - 102007001"]
[null,null,null,null,null,null,null,null,null,null,null,null,null,null,"Sanborn Elementary School - 070280113"]
[null,null,null,null,null,null,null,null,null,null,null,null,null,null,"Sanders Elementary School - 010218001"]
[null,null,null,null,null,null,null,null,null,null,null,null,null,null,"Sanders Middle School - 010218002"]
[null,null,null,null,null,null,null,null,null,null,null,null,null,null,"Sandpiper Elementary School - 070269156"]
[null,null,null,null,null,null,null,null,null,null,null,null,null,null,"Sandra Day O'Connor High School - 070297241"]
[null,null,null,null,null,null,null,null,null,null,null,null,null,null,"Santa Clara Elementary School - 100212126"]
[null,null,null,null,null,null,null,null,null,null,null,null,null,null,"Santa Cruz Elementary - 110220106"]
[null,null,null,null,null,null,null,null,null,null,null,null,null,null,"Santa Cruz Valley Union High School - 110540001"]
[null,null,null,null,null,null,null,null,null,null,null,null,null,null,"Santa Fe Elementary School - 070211121"]
[null,null,null,null,null,null,null,null,null,null,null,null,null,null,"Santa Maria Middle School - 070445103"]
[null,null,null,null,null,null,null,null,null,null,null,null,null,null,"Santa Rita High School - 100201655"]
[null,null,null,null,null,null,null,null,null,null,null,null,null,null,"Santa Rosa Boarding/Day School - 104001002"]
[null,null,null,null,null,null,null,null,null,null,null,null,null,null,"Santa Rosa Elementary School - 110220104"]
[null,null,null,null,null,null,null,null,null,null,null,null,null,null,"Santan Elementary - 070280137"]
[null,null,null,null,null,null,null,null,null,null,null,null,null,null,"Santan Junior High School - 070280121"]
[null,null,null,null,null,null,null,null,null,null,null,null,null,null,"Sarah Marley School - 020227106"]
[null,null,null,null,null,null,null,null,null,null,null,null,null,null,"Satori Charter School - 108719101"]
[null,null,null,null,null,null,null,null,null,null,null,null,null,null,"Sawmill Elementary School - 010208117"]
[null,null,null,null,null,null,null,null,null,null,null,null,null,null,"Scales Technology Academy - 070403121"]
[null,null,null,null,null,null,null,null,null,null,null,null,null,null,"Schumaker Elementary School - 100201389"]
[null,null,null,null,null,null,null,null,null,null,null,null,null,null,"Scott L Libby Elementary School - 070479102"]
[null,null,null,null,null,null,null,null,null,null,null,null,null,null,"Seba Dalkai School - 014012005"]
[null,null,null,null,null,null,null,null,null,null,null,null,null,null,"Second Mesa Day - 093906003"]
[null,null,null,null,null,null,null,null,null,null,null,null,null,null,"Secrist Middle School - 100201537"]
[null,null,null,null,null,null,null,null,null,null,null,null,null,null,"Sedona Red Rock High School - 130209210"]
[null,null,null,null,null,null,null,null,null,null,null,null,null,null,"Seligman High School - 130240202"]
[null,null,null,null,null,null,null,null,null,null,null,null,null,null,"Senita Valley Elementary School - 100220113"]
[null,null,null,null,null,null,null,null,null,null,null,null,null,null,"Sentinel Elementary School - 070371101"]
[null,null,null,null,null,null,null,null,null,null,null,null,null,null,"Sentinel Peak High School - 100208020"]
[null,null,null,null,null,null,null,null,null,null,null,null,null,null,"Sequoia Academics and Arts Charter School - 078916003"]
[null,null,null,null,null,null,null,null,null,null,null,null,null,null,"Sequoia Academics and Arts Elementary Charter School - 078916001"]
[null,null,null,null,null,null,null,null,null,null,null,null,null,null,"Sequoia Charter Elementary School - 078915005"]
[null,null,null,null,null,null,null,null,null,null,null,null,null,null,"Sequoia Pathway Academy - 138705005"]
[null,null,null,null,null,null,null,null,null,null,null,null,null,null,"Sequoia Redwood Charter School - 078740101"]
[null,null,null,null,null,null,null,null,null,null,null,null,null,null,"Sequoia School for the Deaf and Hard of Hearing - 078744001"]
[null,null,null,null,null,null,null,null,null,null,null,null,null,null,"Sequoia Secondary School - 078915001"]
[null,null,null,null,null,null,null,null,null,null,null,null,null,null,"Sequoia Village School - 078917001"]
[null,null,null,null,null,null,null,null,null,null,null,null,null,null,"Sequoya Elementary School - 070248124"]
[null,null,null,null,null,null,null,null,null,null,null,null,null,null,"Settlers Point Elementary - 070241158"]
[null,null,null,null,null,null,null,null,null,null,null,null,null,null,"Seven Mile School - 090220107"]
[null,null,null,null,null,null,null,null,null,null,null,null,null,null,"Sevilla Primary School - 070468112"]
[null,null,null,null,null,null,null,null,null,null,null,null,null,null,"Sevilla West School - 070468115"]
[null,null,null,null,null,null,null,null,null,null,null,null,null,null,"Shadow Mountain High School - 070269295"]
[null,null,null,null,null,null,null,null,null,null,null,null,null,null,"Shadow Ridge High School - 070289225"]
[null,null,null,null,null,null,null,null,null,null,null,null,null,null,"Shaw Butte School - 070406160"]
[null,null,null,null,null,null,null,null,null,null,null,null,null,null,"Shea Middle School - 070269180"]
[null,null,null,null,null,null,null,null,null,null,null,null,null,null,"Sheely Farms Elementary School - 070417103"]
[null,null,null,null,null,null,null,null,null,null,null,null,null,null,"Shepherd Junior High School - 070204260"]
[null,null,null,null,null,null,null,null,null,null,null,null,null,null,"Shonto Preparatory School - 093917001"]
[null,null,null,null,null,null,null,null,null,null,null,null,null,null,"Shonto Preparatory Technology High School - 098746001"]
[null,null,null,null,null,null,null,null,null,null,null,null,null,null,"Show Low High School - 090210225"]
[null,null,null,null,null,null,null,null,null,null,null,null,null,null,"Show Low Junior High School - 090210120"]
[null,null,null,null,null,null,null,null,null,null,null,null,null,null,"Shumway Elementary School - 070280119"]
[null,null,null,null,null,null,null,null,null,null,null,null,null,null,"Sierra Linda High School - 070514205"]
[null,null,null,null,null,null,null,null,null,null,null,null,null,null,"Sierra Middle School - 100212131"]
[null,null,null,null,null,null,null,null,null,null,null,null,null,null,"Sierra Verde Elementary - 070297139"]
[null,null,null,null,null,null,null,null,null,null,null,null,null,null,"Silvestre S Herrera School - 070401113"]
[null,null,null,null,null,null,null,null,null,null,null,null,null,null,"Sinagua Middle School - 030201126"]
[null,null,null,null,null,null,null,null,null,null,null,null,null,null,"Sirrine Elementary School - 070204135"]
[null,null,null,null,null,null,null,null,null,null,null,null,null,null,"Skull Valley Elementary School - 130315101"]
[null,null,null,null,null,null,null,null,null,null,null,null,null,null,"Sky View Elementary School - 070211117"]
[null,null,null,null,null,null,null,null,null,null,null,null,null,null,"Skyline D5 - 078566001"]
[null,null,null,null,null,null,null,null,null,null,null,null,null,null,"Skyline High School - 070204276"]
[null,null,null,null,null,null,null,null,null,null,null,null,null,null,"Skyline Prep High School - 078914201"]
[null,null,null,null,null,null,null,null,null,null,null,null,null,null,"Skyline Ranch Elementary School - 110201104"]
[null,null,null,null,null,null,null,null,null,null,null,null,null,null,"Skyview High School - 108706001"]
[null,null,null,null,null,null,null,null,null,null,null,null,null,null,"Smith Junior High School - 070204263"]
[null,null,null,null,null,null,null,null,null,null,null,null,null,null,"Smoketree Elementary School - 080201101"]
[null,null,null,null,null,null,null,null,null,null,null,null,null,null,"Snowflake High School - 090205005"]
[null,null,null,null,null,null,null,null,null,null,null,null,null,null,"Snowflake Intermediate School - 090205001"]
[null,null,null,null,null,null,null,null,null,null,null,null,null,null,"Snowflake Junior High School - 090205003"]
[null,null,null,null,null,null,null,null,null,null,null,null,null,null,"Solano School - 070408106"]
[null,null,null,null,null,null,null,null,null,null,null,null,null,null,"Soleng Tom Elementary School - 100201410"]
[null,null,null,null,null,null,null,null,null,null,null,null,null,null,"Solomon Elementary School - 050305101"]
[null,null,null,null,null,null,null,null,null,null,null,null,null,null,"Somerton Middle School - 140411101"]
[null,null,null,null,null,null,null,null,null,null,null,null,null,null,"Sonoma Ranch Elementary School - 070241154"]
[null,null,null,null,null,null,null,null,null,null,null,null,null,null,"Sonoran Heights Elementary - 070289120"]
[null,null,null,null,null,null,null,null,null,null,null,null,null,null,"Sonoran Science Academy - Ahwatukee - 078569001"]
[null,null,null,null,null,null,null,null,null,null,null,null,null,null,"Sonoran Science Academy - Broadway - 108503101"]
[null,null,null,null,null,null,null,null,null,null,null,null,null,null,"Sonoran Science Academy - Davis Monthan - 108504001"]
[null,null,null,null,null,null,null,null,null,null,null,null,null,null,"Sonoran Science Academy - Phoenix - 108502101"]
[null,null,null,null,null,null,null,null,null,null,null,null,null,null,"Sonoran Science Academy - Phoenix Metro - 078577001"]
[null,null,null,null,null,null,null,null,null,null,null,null,null,null,"Sonoran Science Academy - Tucson - 108666001"]
[null,null,null,null,null,null,null,null,null,null,null,null,null,null,"Sonoran Sky Elementary School - 070269129"]
[null,null,null,null,null,null,null,null,null,null,null,null,null,null,"Sonoran Sky Elementary School - 070492020"]
[null,null,null,null,null,null,null,null,null,null,null,null,null,null,"Sonoran Trails Middle School - 070293101"]
[null,null,null,null,null,null,null,null,null,null,null,null,null,null,"Sopori Elementary School - 100230102"]
[null,null,null,null,null,null,null,null,null,null,null,null,null,null,"Sousa Elementary School - 070204142"]
[null,null,null,null,null,null,null,null,null,null,null,null,null,null,"South Mountain High School - 070510260"]
[null,null,null,null,null,null,null,null,null,null,null,null,null,null,"South Phoenix Prep and Arts Academy - 078599301"]
[null,null,null,null,null,null,null,null,null,null,null,null,null,null,"South Pointe High School - 078983201"]
[null,null,null,null,null,null,null,null,null,null,null,null,null,null,"South Pointe Junior High School - 078765103"]
[null,null,null,null,null,null,null,null,null,null,null,null,null,null,"South Ridge High School - 078517201"]
[null,null,null,null,null,null,null,null,null,null,null,null,null,null,"South Valley Jr. High - 070241125"]
[null,null,null,null,null,null,null,null,null,null,null,null,null,null,"South Valley Prep and Arts School - 078578301"]
[null,null,null,null,null,null,null,null,null,null,null,null,null,null,"Southern Arizona Community High School - 108772201"]
[null,null,null,null,null,null,null,null,null,null,null,null,null,null,"Southgate Academy - 108779101"]
[null,null,null,null,null,null,null,null,null,null,null,null,null,null,"Southside Community School - 108785001"]
[null,null,null,null,null,null,null,null,null,null,null,null,null,null,"Southwest Alternative Middle School - 100201580"]
[null,null,null,null,null,null,null,null,null,null,null,null,null,null,"Southwest Education Center - 072146004"]
[null,null,null,null,null,null,null,null,null,null,null,null,null,null,"Southwest Education Center - Casa Grande - 072146002"]
[null,null,null,null,null,null,null,null,null,null,null,null,null,null,"Southwest Elementary School - 070466020"]
[null,null,null,null,null,null,null,null,null,null,null,null,null,null,"Southwest Jr. High School - 140432107"]
[null,null,null,null,null,null,null,null,null,null,null,null,null,null,"Spectrum Elementary - 070241164"]
[null,null,null,null,null,null,null,null,null,null,null,null,null,null,"Splash 10 - 102707013"]
[null,null,null,null,null,null,null,null,null,null,null,null,null,null,"Splash 11 - 102707014"]
[null,null,null,null,null,null,null,null,null,null,null,null,null,null,"Splash 12 - 102707015"]
[null,null,null,null,null,null,null,null,null,null,null,null,null,null,"Splash House - 102707011"]
[null,null,null,null,null,null,null,null,null,null,null,null,null,null,"Splash House 2 - 102707003"]
[null,null,null,null,null,null,null,null,null,null,null,null,null,null,"Splash House 3 - 102707004"]
[null,null,null,null,null,null,null,null,null,null,null,null,null,null,"Splash House 4 - 102707005"]
[null,null,null,null,null,null,null,null,null,null,null,null,null,null,"Splash House 5 - 102707006"]
[null,null,null,null,null,null,null,null,null,null,null,null,null,null,"Splash House 6 - 102707007"]
[null,null,null,null,null,null,null,null,null,null,null,null,null,null,"Splash House 7 - 102707008"]
[null,null,null,null,null,null,null,null,null,null,null,null,null,null,"Splash House 8 - 102707009"]
[null,null,null,null,null,null,null,null,null,null,null,null,null,null,"Splash House 9 - 102707010"]
[null,null,null,null,null,null,null,null,null,null,null,null,null,null,"St David Elementary School - 020221101"]
[null,null,null,null,null,null,null,null,null,null,null,null,null,null,"St David High School - 020221202"]
[null,null,null,null,null,null,null,null,null,null,null,null,null,null,"St Johns High School - 010201205"]
[null,null,null,null,null,null,null,null,null,null,null,null,null,null,"St Johns Middle School - 010201104"]
[null,null,null,null,null,null,null,null,null,null,null,null,null,null,"ST MICHAELS ASSOC FOR SPEC ED - 012101001"]
[null,null,null,null,null,null,null,null,null,null,null,null,null,null,"St. Agnes School - 072034101"]
[null,null,null,null,null,null,null,null,null,null,null,null,null,null,"St. Anthony of Padua Catholic School - 112002001"]
[null,null,null,null,null,null,null,null,null,null,null,null,null,null,"St. Catherine's School - 072013001"]
[null,null,null,null,null,null,null,null,null,null,null,null,null,null,"St. Charles School - 042003001"]
[null,null,null,null,null,null,null,null,null,null,null,null,null,null,"St. Jerome School - 072014001"]
[null,null,null,null,null,null,null,null,null,null,null,null,null,null,"St. John School - 102004001"]
[null,null,null,null,null,null,null,null,null,null,null,null,null,null,"St. John Vianney Catholic School - 072084001"]
[null,null,null,null,null,null,null,null,null,null,null,null,null,null,"St. Louis the King Catholic School - 072094001"]
[null,null,null,null,null,null,null,null,null,null,null,null,null,null,"St. Mary's Roman Catholic High School - 072093001"]
[null,null,null,null,null,null,null,null,null,null,null,null,null,null,"St. Matthew School - 072015001"]
[null,null,null,null,null,null,null,null,null,null,null,null,null,null,"St. Michaels School - 012003001"]
[null,null,null,null,null,null,null,null,null,null,null,null,null,null,"St. Peter Indian Mission School - 112001001"]
[null,null,null,null,null,null,null,null,null,null,null,null,null,null,"St. Thomas the Apostle - 072017001"]
[null,null,null,null,null,null,null,null,null,null,null,null,null,null,"St. Vincent de Paul - 079083593"]
[null,null,null,null,null,null,null,null,null,null,null,null,null,null,"Stanfield Elementary School - 110424001"]
[null,null,null,null,null,null,null,null,null,null,null,null,null,null,"Stapley Junior High School - 070204262"]
[null,null,null,null,null,null,null,null,null,null,null,null,null,null,"STAR Charter School - 038753101"]
[null,null,null,null,null,null,null,null,null,null,null,null,null,null,"Starlight Park School - 070483107"]
[null,null,null,null,null,null,null,null,null,null,null,null,null,null,"Starline Elementary School - 080201104"]
[null,null,null,null,null,null,null,null,null,null,null,null,null,null,"StarShine Academy - 078992001"]
[null,null,null,null,null,null,null,null,null,null,null,null,null,null,"STEP UP SCHOOL - 078634202"]
[null,null,null,null,null,null,null,null,null,null,null,null,null,null,"Stetson Hills Elementary - 070297140"]
[null,null,null,null,null,null,null,null,null,null,null,null,null,null,"Steven R. Jasinski Elementary School - 070433104"]
[null,null,null,null,null,null,null,null,null,null,null,null,null,null,"Stevenson Elementary School - 020227107"]
[null,null,null,null,null,null,null,null,null,null,null,null,null,null,"Stevenson Elementary School - 070204127"]
[null,null,null,null,null,null,null,null,null,null,null,null,null,null,"Sturgeon Cromer Elementary School - 030201111"]
[null,null,null,null,null,null,null,null,null,null,null,null,null,null,"Successful Beginnings Charter School - 098751001"]
[null,null,null,null,null,null,null,null,null,null,null,null,null,null,"Summit Academy - 070204193"]
[null,null,null,null,null,null,null,null,null,null,null,null,null,null,"Summit High School - 030201066"]
[null,null,null,null,null,null,null,null,null,null,null,null,null,null,"Summit View Elementary - 100212123"]
[null,null,null,null,null,null,null,null,null,null,null,null,null,null,"Sun Canyon School - 070445104"]
[null,null,null,null,null,null,null,null,null,null,null,null,null,null,"Sun Valley Charter School - 078556001"]
[null,null,null,null,null,null,null,null,null,null,null,null,null,null,"Sun Valley Elementary School - 070211116"]
[null,null,null,null,null,null,null,null,null,null,null,null,null,null,"Sun Valley High School - 078953001"]
[null,null,null,null,null,null,null,null,null,null,null,null,null,null,"Sun Valley Indian School - 092006001"]
[null,null,null,null,null,null,null,null,null,null,null,null,null,null,"Sunburst School - 070406162"]
[null,null,null,null,null,null,null,null,null,null,null,null,null,null,"Sundance Elementary - 070433105"]
[null,null,null,null,null,null,null,null,null,null,null,null,null,null,"Sundance Elementary School - 070211110"]
[null,null,null,null,null,null,null,null,null,null,null,null,null,null,"Sunland Elementary School - 070466004"]
[null,null,null,null,null,null,null,null,null,null,null,null,null,null,"Sunnyside Charter and Montessori School - 138767001"]
[null,null,null,null,null,null,null,null,null,null,null,null,null,null,"Sunnyside High School - 100212230"]
[null,null,null,null,null,null,null,null,null,null,null,null,null,null,"Sunnyslope Elementary School - 070406164"]
[null,null,null,null,null,null,null,null,null,null,null,null,null,null,"Sunnyslope High School - 070505202"]
[null,null,null,null,null,null,null,null,null,null,null,null,null,null,"Sunridge Elementary School - 070445102"]
[null,null,null,null,null,null,null,null,null,null,null,null,null,null,"Sunrise Drive Elementary School - 100216101"]
[null,null,null,null,null,null,null,null,null,null,null,null,null,null,"Sunrise Elementary - 080415104"]
[null,null,null,null,null,null,null,null,null,null,null,null,null,null,"Sunrise Elementary School - 070297117"]
[null,null,null,null,null,null,null,null,null,null,null,null,null,null,"Sunrise Elementary School - 140401114"]
[null,null,null,null,null,null,null,null,null,null,null,null,null,null,"Sunrise Middle School - 070269178"]
[null,null,null,null,null,null,null,null,null,null,null,null,null,null,"Sunrise Mountain High School - 070211264"]
[null,null,null,null,null,null,null,null,null,null,null,null,null,null,"Suns-Diamondbacks Education Academy - 070510280"]
[null,null,null,null,null,null,null,null,null,null,null,null,null,null,"Sunset Canyon School - 070269142"]
[null,null,null,null,null,null,null,null,null,null,null,null,null,null,"Sunset Hills Elementary - 070289118"]
[null,null,null,null,null,null,null,null,null,null,null,null,null,null,"Sunset House - 072785003"]
[null,null,null,null,null,null,null,null,null,null,null,null,null,null,"Sunset Ridge Elementary - 070297144"]
[null,null,null,null,null,null,null,null,null,null,null,null,null,null,"Sunset Ridge Elementary School - 070492022"]
[null,null,null,null,null,null,null,null,null,null,null,null,null,null,"Sunset School - 070483106"]
[null,null,null,null,null,null,null,null,null,null,null,null,null,null,"Sunset School - 070406165"]
[null,null,null,null,null,null,null,null,null,null,null,null,null,null,"Sunset Vista - 070440117"]
[null,null,null,null,null,null,null,null,null,null,null,null,null,null,"Supai Middle School - 070248161"]
[null,null,null,null,null,null,null,null,null,null,null,null,null,null,"Superior Junior High School - 110215102"]
[null,null,null,null,null,null,null,null,null,null,null,null,null,null,"Superior Senior High School - 110215205"]
[null,null,null,null,null,null,null,null,null,null,null,null,null,null,"Superstition High School - 070204280"]
[null,null,null,null,null,null,null,null,null,null,null,null,null,null,"Superstition Mountain Elementary School - 110243101"]
[null,null,null,null,null,null,null,null,null,null,null,null,null,null,"Superstition Springs Elementary - 070241155"]
[null,null,null,null,null,null,null,null,null,null,null,null,null,null,"Surprise Elementary School - 070289104"]
[null,null,null,null,null,null,null,null,null,null,null,null,null,null,"Sweetwater School - 070406163"]
[null,null,null,null,null,null,null,null,null,null,null,null,null,null,"Sycamore Canyon Ctr for Youth - 072107002"]
[null,null,null,null,null,null,null,null,null,null,null,null,null,null,"Sycamore Elementary School - 100220109"]
[null,null,null,null,null,null,null,null,null,null,null,null,null,null,"T G Barr School - 070466012"]
[null,null,null,null,null,null,null,null,null,null,null,null,null,null,"T. Dale Hancock Elementary School - 070280131"]
[null,null,null,null,null,null,null,null,null,null,null,null,null,null,"Taft Elementary School - 070204118"]
[null,null,null,null,null,null,null,null,null,null,null,null,null,null,"Tanque Verde Elementary School - 100213103"]
[null,null,null,null,null,null,null,null,null,null,null,null,null,null,"Tanque Verde High School - 100213201"]
[null,null,null,null,null,null,null,null,null,null,null,null,null,null,"Tartesso Elementary School - 070290102"]
[null,null,null,null,null,null,null,null,null,null,null,null,null,null,"Tavan Elementary School - 070248103"]
[null,null,null,null,null,null,null,null,null,null,null,null,null,null,"Taylor Elementary School - 090205002"]
[null,null,null,null,null,null,null,null,null,null,null,null,null,null,"Taylor Hicks School - 130201014"]
[null,null,null,null,null,null,null,null,null,null,null,null,null,null,"Taylor Intermediate School - 090205004"]
[null,null,null,null,null,null,null,null,null,null,null,null,null,null,"Taylor Junior High School - 070204258"]
[null,null,null,null,null,null,null,null,null,null,null,null,null,null,"Teenage Parent Program - TAPP - 100201676"]
[null,null,null,null,null,null,null,null,null,null,null,null,null,null,"Telesis Preparatory Academy - 088702001"]
[null,null,null,null,null,null,null,null,null,null,null,null,null,null,"Tempe High School - 070513091"]
[null,null,null,null,null,null,null,null,null,null,null,null,null,null,"Terramar Elementary - 070297143"]
[null,null,null,null,null,null,null,null,null,null,null,null,null,null,"Territorial Elementary School - 130251103"]
[null,null,null,null,null,null,null,null,null,null,null,null,null,null,"Thatcher Elementary School - 050204101"]
[null,null,null,null,null,null,null,null,null,null,null,null,null,null,"Thatcher High School - 050204200"]
[null,null,null,null,null,null,null,null,null,null,null,null,null,null,"Thatcher Middle School - 050204102"]
[null,null,null,null,null,null,null,null,null,null,null,null,null,null,"THE ACES - 072190001"]
[null,null,null,null,null,null,null,null,null,null,null,null,null,null,"The ACES-East - 072190002"]
[null,null,null,null,null,null,null,null,null,null,null,null,null,null,"THE ACES-LITTLETON - 072190003"]
[null,null,null,null,null,null,null,null,null,null,null,null,null,null,"The Berean Schools - 028701001"]
[null,null,null,null,null,null,null,null,null,null,null,null,null,null,"The Childrens Center for Neurodevelopmental Studies - 072167001"]
[null,null,null,null,null,null,null,null,null,null,null,null,null,null,"The Gloria Dusek Compass School - 211019001"]
[null,null,null,null,null,null,null,null,null,null,null,null,null,null,"THE NEW FOUNDATION - 072135001"]
[null,null,null,null,null,null,null,null,null,null,null,null,null,null,"The Paideia Academy of South Phoenix - 078206001"]
[null,null,null,null,null,null,null,null,null,null,null,null,null,null,"The Peak School - 038702101"]
[null,null,null,null,null,null,null,null,null,null,null,null,null,null,"Theodore Roosevelt - 104001006"]
[null,null,null,null,null,null,null,null,null,null,null,null,null,null,"Theresa Wing a Satellite Home - 072708003"]
[null,null,null,null,null,null,null,null,null,null,null,null,null,null,"Thomas A Edison School - 070401105"]
[null,null,null,null,null,null,null,null,null,null,null,null,null,null,"Thomas M Knoles Elementary School - 030201122"]
[null,null,null,null,null,null,null,null,null,null,null,null,null,null,"Thompson Ranch Elementary - 070289117"]
[null,null,null,null,null,null,null,null,null,null,null,null,null,null,"Thornydale Elementary School - 100206113"]
[null,null,null,null,null,null,null,null,null,null,null,null,null,null,"Thunderbird High School - 070505207"]
[null,null,null,null,null,null,null,null,null,null,null,null,null,null,"Thunderbolt Middle School - 080201102"]
[null,null,null,null,null,null,null,null,null,null,null,null,null,null,"TIA East - 108714103"]
[null,null,null,null,null,null,null,null,null,null,null,null,null,null,"TIA West - 108714104"]
[null,null,null,null,null,null,null,null,null,null,null,null,null,null,"Tierra Del Sol Elementary School - 140411104"]
[null,null,null,null,null,null,null,null,null,null,null,null,null,null,"Tiisyaakin Residential Hall Inc. - 094012001"]
[null,null,null,null,null,null,null,null,null,null,null,null,null,null,"Tolleson Union High School - 070514201"]
[null,null,null,null,null,null,null,null,null,null,null,null,null,null,"Tolson Elementary School - 100201417"]
[null,null,null,null,null,null,null,null,null,null,null,null,null,null,"Toltec Elementary School - 110422102"]
[null,null,null,null,null,null,null,null,null,null,null,null,null,null,"Toltec Middle School - 110422101"]
[null,null,null,null,null,null,null,null,null,null,null,null,null,null,"Toltecali High School - 108793201"]
[null,null,null,null,null,null,null,null,null,null,null,null,null,null,"Tomahawk School - 070483118"]
[null,null,null,null,null,null,null,null,null,null,null,null,null,null,"Tombstone High School - 020201207"]
[null,null,null,null,null,null,null,null,null,null,null,null,null,null,"Tonalea Elementary School - 070248109"]
[null,null,null,null,null,null,null,null,null,null,null,null,null,null,"Tonalea School - 033904005"]
[null,null,null,null,null,null,null,null,null,null,null,null,null,null,"Tonopah Valley High School - 070290002"]
[null,null,null,null,null,null,null,null,null,null,null,null,null,null,"Tonto Basin Elementary - 040333101"]
[null,null,null,null,null,null,null,null,null,null,null,null,null,null,"Topock Elementary School - 080412012"]
[null,null,null,null,null,null,null,null,null,null,null,null,null,null,"Tortolita Middle School - 100206131"]
[null,null,null,null,null,null,null,null,null,null,null,null,null,null,"Town & Country Elementary School - 020268130"]
[null,null,null,null,null,null,null,null,null,null,null,null,null,null,"Towne Meadows Elementary School - 070241152"]
[null,null,null,null,null,null,null,null,null,null,null,null,null,null,"Townsend Middle School - 100201545"]
[null,null,null,null,null,null,null,null,null,null,null,null,null,null,"Trailside Point Elementary - 070459105"]
[null,null,null,null,null,null,null,null,null,null,null,null,null,null,"Tres Rios Elementary School - 070465108"]
[null,null,null,null,null,null,null,null,null,null,null,null,null,null,"Trevor Browne High School - 070510220"]
[null,null,null,null,null,null,null,null,null,null,null,null,null,null,"Trinity Lutheran Church and School - 072059001"]
[null,null,null,null,null,null,null,null,null,null,null,null,null,null,"Tsaile Elementary School - 010224165"]
[null,null,null,null,null,null,null,null,null,null,null,null,null,null,"Tse Ho Tso Primary Learning Center - 010208112"]
[null,null,null,null,null,null,null,null,null,null,null,null,null,null,"Tsehootsooi Middle School - 010208115"]
[null,null,null,null,null,null,null,null,null,null,null,null,null,null,"Tse'yaato' High School - 030199006"]
[null,null,null,null,null,null,null,null,null,null,null,null,null,null,"Tuba City Alternative School - 030215140"]
[null,null,null,null,null,null,null,null,null,null,null,null,null,null,"Tuba City Boarding School - 033904007"]
[null,null,null,null,null,null,null,null,null,null,null,null,null,null,"Tuba City High School - 030215240"]
[null,null,null,null,null,null,null,null,null,null,null,null,null,null,"Tuba City Junior High School - 030215130"]
[null,null,null,null,null,null,null,null,null,null,null,null,null,null,"Tuba City Primary School - 030215110"]
[null,null,null,null,null,null,null,null,null,null,null,null,null,null,"Tucson International Academy - 108714101"]
[null,null,null,null,null,null,null,null,null,null,null,null,null,null,"Tucson International Academy Midvale - 108714102"]
[null,null,null,null,null,null,null,null,null,null,null,null,null,null,"Tucson Magnet High School - 100201660"]
[null,null,null,null,null,null,null,null,null,null,null,null,null,null,"Tully Elementary Accelerated Magnet School - 100201419"]
[null,null,null,null,null,null,null,null,null,null,null,null,null,null,"Tumbleweed Elementary School - 070406166"]
[null,null,null,null,null,null,null,null,null,null,null,null,null,null,"Tumbleweed Group Home I - 072704001"]
[null,null,null,null,null,null,null,null,null,null,null,null,null,null,"Tumbleweed Group Home II - 072704002"]
[null,null,null,null,null,null,null,null,null,null,null,null,null,null,"Tumbleweed Group Home III - 072704003"]
[null,null,null,null,null,null,null,null,null,null,null,null,null,null,"Tumbleweed Group Home IV - 072704004"]
[null,null,null,null,null,null,null,null,null,null,null,null,null,null,"Tumbleweed Shelter - 072704005"]
[null,null,null,null,null,null,null,null,null,null,null,null,null,null,"Turning Point Shelter - 102703009"]
[null,null,null,null,null,null,null,null,null,null,null,null,null,null,"Tuscano Elementary School - 070445107"]
[null,null,null,null,null,null,null,null,null,null,null,null,null,null,"Twin Peaks Elementary School - 100206121"]
[null,null,null,null,null,null,null,null,null,null,null,null,null,null,"Union Elementary School - 070462101"]
[null,null,null,null,null,null,null,null,null,null,null,null,null,null,"Unity House - 072785005"]
[null,null,null,null,null,null,null,null,null,null,null,null,null,null,"Utterback Middle School - 100201550"]
[null,null,null,null,null,null,null,null,null,null,null,null,null,null,"V H Lassen Elementary School - 070466013"]
[null,null,null,null,null,null,null,null,null,null,null,null,null,null,"Vail Academy & High School - 100220701"]
[null,null,null,null,null,null,null,null,null,null,null,null,null,null,"Val Vista Lakes Elementary School - 070241148"]
[null,null,null,null,null,null,null,null,null,null,null,null,null,null,"Valencia Middle School - 100201557"]
[null,null,null,null,null,null,null,null,null,null,null,null,null,null,"Valle Del Encanto Learning Center - 140411105"]
[null,null,null,null,null,null,null,null,null,null,null,null,null,null,"Valley High School - 010218003"]
[null,null,null,null,null,null,null,null,null,null,null,null,null,null,"Valley Horizon Elementary School - 140413106"]
[null,null,null,null,null,null,null,null,null,null,null,null,null,null,"Valley Union High School - 020522201"]
[null,null,null,null,null,null,null,null,null,null,null,null,null,null,"Valley View Elementary School - 020349103"]
[null,null,null,null,null,null,null,null,null,null,null,null,null,null,"Valley View School - 070466006"]
[null,null,null,null,null,null,null,null,null,null,null,null,null,null,"Valley Vista High School - 070289220"]
[null,null,null,null,null,null,null,null,null,null,null,null,null,null,"Valor Group Home - 072102003"]
[null,null,null,null,null,null,null,null,null,null,null,null,null,null,"Van Buskirk Elementary School - 100201431"]
[null,null,null,null,null,null,null,null,null,null,null,null,null,null,"Vasquez De Coronado Francisco School - 120201108"]
[null,null,null,null,null,null,null,null,null,null,null,null,null,null,"Vechij Himdag MashchamakuD - 118707001"]
[null,null,null,null,null,null,null,null,null,null,null,null,null,null,"Vector Prep and Arts Academy - 078562001"]
[null,null,null,null,null,null,null,null,null,null,null,null,null,null,"Ventana Vista Elementary School - 100216108"]
[null,null,null,null,null,null,null,null,null,null,null,null,null,null,"Vernon Elementary School - 010309101"]
[null,null,null,null,null,null,null,null,null,null,null,null,null,null,"Verrado Elementary School - 070479113"]
[null,null,null,null,null,null,null,null,null,null,null,null,null,null,"Verrado High School - 070516204"]
[null,null,null,null,null,null,null,null,null,null,null,null,null,null,"Verrado Middle School - 070479110"]
[null,null,null,null,null,null,null,null,null,null,null,null,null,null,"Vesey Elementary School - 100201435"]
[null,null,null,null,null,null,null,null,null,null,null,null,null,null,"Victoria - 102133009"]
[null,null,null,null,null,null,null,null,null,null,null,null,null,null,"Victory High School - Campus - 078757202"]
[null,null,null,null,null,null,null,null,null,null,null,null,null,null,"Villa De Paz Elementary School - 070492015"]
[null,null,null,null,null,null,null,null,null,null,null,null,null,null,"Villa Oasis Interscholastic Center For Education (voice) - 110100003"]
[null,null,null,null,null,null,null,null,null,null,null,null,null,null,"Village Meadows Elementary School - 070297112"]
[null,null,null,null,null,null,null,null,null,null,null,null,null,null,"Village Meadows Elementary School - 020268135"]
[null,null,null,null,null,null,null,null,null,null,null,null,null,null,"Village Vista Elementary School - 070269158"]
[null,null,null,null,null,null,null,null,null,null,null,null,null,null,"Villago Middle School - 110404131"]
[null,null,null,null,null,null,null,null,null,null,null,null,null,null,"Vineyard Place - 072770002"]
[null,null,null,null,null,null,null,null,null,null,null,null,null,null,"Vista Alternative School - 140570204"]
[null,null,null,null,null,null,null,null,null,null,null,null,null,null,"Vista Del Sur Traditional School - 070459103"]
[null,null,null,null,null,null,null,null,null,null,null,null,null,null,"Vista Grande High School - 110502004"]
[null,null,null,null,null,null,null,null,null,null,null,null,null,null,"Vista Grove Preparatory Academy Middle School - 078946001"]
[null,null,null,null,null,null,null,null,null,null,null,null,null,null,"Vista Verde Middle School - 070269171"]
[null,null,null,null,null,null,null,null,null,null,null,null,null,null,"Vistancia Elementary School - 070211130"]
[null,null,null,null,null,null,null,null,null,null,null,null,null,null,"Vulture Peak School - 070209103"]
[null,null,null,null,null,null,null,null,null,null,null,null,null,null,"W Arthur Sewel Elementary School - 100201395"]
[null,null,null,null,null,null,null,null,null,null,null,null,null,null,"W F Killip Elementary School - 030201114"]
[null,null,null,null,null,null,null,null,null,null,null,null,null,null,"W V Whitmore Elementary School - 100201455"]
[null,null,null,null,null,null,null,null,null,null,null,null,null,null,"Wade Carpenter Middle School - 120201111"]
[null,null,null,null,null,null,null,null,null,null,null,null,null,null,"Wakefield Middle School - 100201560"]
[null,null,null,null,null,null,null,null,null,null,null,null,null,null,"Walden Grove High School - 100230205"]
[null,null,null,null,null,null,null,null,null,null,null,null,null,null,"Walker Butte K-8 - 110201102"]
[null,null,null,null,null,null,null,null,null,null,null,null,null,null,"Wallace Elementary School - 150227102"]
[null,null,null,null,null,null,null,null,null,null,null,null,null,null,"Walter Douglas Elementary School - 100208130"]
[null,null,null,null,null,null,null,null,null,null,null,null,null,null,"Walter J Meyer School - 020201102"]
[null,null,null,null,null,null,null,null,null,null,null,null,null,null,"Ward Traditional Academy - 070403161"]
[null,null,null,null,null,null,null,null,null,null,null,null,null,null,"Washington Elementary School - 070204126"]
[null,null,null,null,null,null,null,null,null,null,null,null,null,null,"Washington Elementary School - 070406168"]
[null,null,null,null,null,null,null,null,null,null,null,null,null,null,"Washington High School - 070505203"]
[null,null,null,null,null,null,null,null,null,null,null,null,null,null,"Washington School - 090201104"]
[null,null,null,null,null,null,null,null,null,null,null,null,null,null,"Washington Traditional School - 130201015"]
[null,null,null,null,null,null,null,null,null,null,null,null,null,null,"Webster Elementary School - 070204115"]
[null,null,null,null,null,null,null,null,null,null,null,null,null,null,"Weinberg Elementary School - 070280115"]
[null,null,null,null,null,null,null,null,null,null,null,null,null,null,"Weitzel's Puente de Hozho Bilingual Magnet School - 030201121"]
[null,null,null,null,null,null,null,null,null,null,null,null,null,null,"Wellton Elementary School - 140424101"]
[null,null,null,null,null,null,null,null,null,null,null,null,null,null,"Wenden Elementary School - 150419101"]
[null,null,null,null,null,null,null,null,null,null,null,null,null,null,"West Elementary School - 110221001"]
[null,null,null,null,null,null,null,null,null,null,null,null,null,null,"West Phoenix High School - 078956001"]
[null,null,null,null,null,null,null,null,null,null,null,null,null,null,"West Point Elementary - 070289108"]
[null,null,null,null,null,null,null,null,null,null,null,null,null,null,"West Sedona Elementary School - 130209120"]
[null,null,null,null,null,null,null,null,null,null,null,null,null,null,"West Wing Elementary - 070297147"]
[null,null,null,null,null,null,null,null,null,null,null,null,null,null,"Westar Elementary School - 070425104"]
[null,null,null,null,null,null,null,null,null,null,null,null,null,null,"Western Peaks Elementary - 070289121"]
[null,null,null,null,null,null,null,null,null,null,null,null,null,null,"Western Sky Middle School - 070479103"]
[null,null,null,null,null,null,null,null,null,null,null,null,null,null,"Western Valley Elementary School - 070445105"]
[null,null,null,null,null,null,null,null,null,null,null,null,null,null,"Western Valley Middle School - 070445106"]
[null,null,null,null,null,null,null,null,null,null,null,null,null,null,"Westland School - 078995001"]
[null,null,null,null,null,null,null,null,null,null,null,null,null,null,"Westpark Elementary School - 070433103"]
[null,null,null,null,null,null,null,null,null,null,null,null,null,null,"Westview High School - 070514202"]
[null,null,null,null,null,null,null,null,null,null,null,null,null,null,"Westwind Elementary School - 070492023"]
[null,null,null,null,null,null,null,null,null,null,null,null,null,null,"Westwood High School - 070204272"]
[null,null,null,null,null,null,null,null,null,null,null,null,null,null,"Westwood Primary School - 070468114"]
[null,null,null,null,null,null,null,null,null,null,null,null,null,null,"Wheeler Elementary School - 100201443"]
[null,null,null,null,null,null,null,null,null,null,null,null,null,null,"Whipple Ranch Elementary School - 090210111"]
[null,null,null,null,null,null,null,null,null,null,null,null,null,null,"Whispering Wind Academy - 070269139"]
[null,null,null,null,null,null,null,null,null,null,null,null,null,null,"White Cliffs Middle School - 080220118"]
[null,null,null,null,null,null,null,null,null,null,null,null,null,null,"Whiteriver Elementary - 090220101"]
[null,null,null,null,null,null,null,null,null,null,null,null,null,null,"Whitman Elementary School - 070204117"]
[null,null,null,null,null,null,null,null,null,null,null,null,null,null,"Whittier Elementary School - 070204116"]
[null,null,null,null,null,null,null,null,null,null,null,null,null,null,"Whittier Elementary School - 070401125"]
[null,null,null,null,null,null,null,null,null,null,null,null,null,null,"Wickenburg High School - 070209201"]
[null,null,null,null,null,null,null,null,null,null,null,null,null,null,"Wide Ruins Community School - 014012003"]
[null,null,null,null,null,null,null,null,null,null,null,null,null,null,"Wigwam Creek Middle School - 070479107"]
[null,null,null,null,null,null,null,null,null,null,null,null,null,null,"Wildcat School - 108729101"]
[null,null,null,null,null,null,null,null,null,null,null,null,null,null,"Wildfire Elementary School - 070269132"]
[null,null,null,null,null,null,null,null,null,null,null,null,null,null,"Wildflower School - 070444106"]
[null,null,null,null,null,null,null,null,null,null,null,null,null,null,"Willcox Elementary School - 020213101"]
[null,null,null,null,null,null,null,null,null,null,null,null,null,null,"Willcox High School - 020213201"]
[null,null,null,null,null,null,null,null,null,null,null,null,null,null,"Willcox Middle School - 020213102"]
[null,null,null,null,null,null,null,null,null,null,null,null,null,null,"William C Jack School - 070440105"]
[null,null,null,null,null,null,null,null,null,null,null,null,null,null,"William R Sullivan Elementary School - 070421103"]
[null,null,null,null,null,null,null,null,null,null,null,null,null,null,"William T Machan Elementary School - 070414150"]
[null,null,null,null,null,null,null,null,null,null,null,null,null,null,"Williams Elementary/Middle School - 030202102"]
[null,null,null,null,null,null,null,null,null,null,null,null,null,null,"Williams Field High School - 070260202"]
[null,null,null,null,null,null,null,null,null,null,null,null,null,null,"Williams High School - 030202201"]
[null,null,null,null,null,null,null,null,null,null,null,null,null,null,"Willie & Coy Payne Jr. High - 070280110"]
[null,null,null,null,null,null,null,null,null,null,null,null,null,null,"Willis Junior High School - 070280104"]
[null,null,null,null,null,null,null,null,null,null,null,null,null,null,"Willow Canyon High School - 070289210"]
[null,null,null,null,null,null,null,null,null,null,null,null,null,null,"Wilson Elementary School - 070204151"]
[null,null,null,null,null,null,null,null,null,null,null,null,null,null,"Wilson Elementary School - 070407101"]
[null,null,null,null,null,null,null,null,null,null,null,null,null,null,"Wilson Primary School - 070407102"]
[null,null,null,null,null,null,null,null,null,null,null,null,null,null,"Window Rock Elementary School - 010208105"]
[null,null,null,null,null,null,null,null,null,null,null,null,null,null,"Window Rock High School - 010208201"]
[null,null,null,null,null,null,null,null,null,null,null,null,null,null,"Winifred Harelson Elementary School - 100210107"]
[null,null,null,null,null,null,null,null,null,null,null,null,null,null,"Winkelman Elementary School - 040241001"]
[null,null,null,null,null,null,null,null,null,null,null,null,null,null,"Winslow High School - 090201206"]
[null,null,null,null,null,null,null,null,null,null,null,null,null,null,"Winslow Junior High School - 090201105"]
[null,null,null,null,null,null,null,null,null,null,null,null,null,null,"Winslow Residential Hall - 092701001"]
[null,null,null,null,null,null,null,null,null,null,null,null,null,null,"Wood School - 070403127"]
[null,null,null,null,null,null,null,null,null,null,null,null,null,null,"Yarnell Elementary School - 130352101"]
[null,null,null,null,null,null,null,null,null,null,null,null,null,null,"Yavapai Elementary School - 070248115"]
[null,null,null,null,null,null,null,null,null,null,null,null,null,null,"Young Elementary School - 040305001"]
[null,null,null,null,null,null,null,null,null,null,null,null,null,null,"Young High School - 040305002"]
[null,null,null,null,null,null,null,null,null,null,null,null,null,null,"Youngker High School - 070501204"]
[null,null,null,null,null,null,null,null,null,null,null,null,null,null,"YOUTH DEVELOPMENT INSTITUTE - 072155001"]
[null,null,null,null,null,null,null,null,null,null,null,null,null,null,"Yucca Elementary School - 080313101"]
[null,null,null,null,null,null,null,null,null,null,null,null,null,null,"Yuma County Juvenile Court Center - 141001001"]
[null,null,null,null,null,null,null,null,null,null,null,null,null,null,"Yuma High School - 140570201"]
[null,null,null,null,null,null,null,null,null,null,null,null,null,null,"Zaharis Elementary - 070204157"]
[null,null,null,null,null,null,null,null,null,null,null,null,null,null,"Zuni Hills Elementary School - 070211128"]

{"sheet":"Sites - Potentially-Non-Schools","index":8,"n_rows":22,"n_cols":18,"rows_kept":22,"cut":false,"hidden":false,"merged":[[8,13,8,14],[8,5,9,5],[8,6,9,6],[8,7,8,8],[8,9,8,10],[8,11,8,12],[1,1,1,4],[7,5,7,6],[8,2,9,2],[8,3,9,3],[8,4,9,4],[8,1,9,1]]}
[null,null,null,null,null,null,null,null,null,null,null,null,null,null,null,null,"Site Type","County"]
[null,"Target Audience Eligibility and Reach by Category",null,null,null,null,null,null,null,null,null,null,null,null,null,null,"A-Adult Education & Job Training Site","Apache"]
[null,null,null,null,null,null,null,null,null,null,null,null,null,null,null,null,"B-Adult Rehabilitation Center","Cochise"]
[null,"Category: All Other Potentially Eligible Sites",null,null,null,null,null,null,null,null,null,null,null,null,null,null,"C-Church","Coconino"]
[null,null,null,null,null,null,null,null,null,null,null,null,null,null,null,null,"D-Community Center","Gila"]
[null,"Total Number of Potentially Eligible Participants:",{"$f":"SUM(H11:H1010,J11:J1010,L11:L1010,N11:N1010)","v":0},null,null,null,null,null,null,null,null,null,null,null,null,null,"E-Elderly Service Center","Graham"]
[null,null,null,null,null,null,null,null,null,null,null,null,null,null,null,null,"F-Emergency Food Assistance","Greenlee"]
[null,null,null,null,null,"NON-SCHOOLS",null,null,null,null,null,null,null,null,null,null,"G-Extension Office","La Paz"]
["Site Type","Site Name","Street","City, State, Zip","County","Low Income Documentation","Participant Data (%)","Reach - Adults",null,"Reach - K-8",null,"Reach - CACFP",null,"Reach - Gardens",null,null,"H-Farmers Market","Maricopa"]
["NO - Q-Public School",null,null,null,null,null,null,"Participants (Unduplicated)","Contacts","Participants (Unduplicated)","Contacts","Participants (Unduplicated)","Contacts","Participants (Unduplicated)","Contacts",null,"I-SNAP Office","Mohave"]
["","",null,null,null,null,null,null,null,null,null,null,null,null,null,null,"J-Food Store","Navajo"]
[null,null,null,null,null,null,null,null,null,null,null,null,null,null,null,null,"K-Head Start Program","Pima"]
[null,null,null,null,null,null,null,null,null,null,null,null,null,null,null,null,"L-Individual Home","Pinal"]
[null,null,null,null,null,null,null,null,null,null,null,null,null,null,null,null,"M-Library","Santa Cruz"]
[null,null,null,null,null,null,null,null,null,null,null,null,null,null,null,null,"N-Other Youth Education Site (incl Parks and Rec)","Yavapai"]
[null,null,null,null,null,null,null,null,null,null,null,null,null,null,null,null,"O-Public/Community Health Center ","Yuma"]
[null,null,null,null,null,null,null,null,null,null,null,null,null,null,null,null,"P-Public Housing"]
[null,null,null,null,null,null,null,null,null,null,null,null,null,null,null,null,"Q-Public School"]
[null,null,null,null,null,null,null,null,null,null,null,null,null,null,null,null,"R-Shelter"]
[null,null,null,null,null,null,null,null,null,null,null,null,null,null,null,null,"S-WIC Program"]
[null,null,null,null,null,null,null,null,null,null,null,null,null,null,null,null,"T-Worksite"]
[null,null,null,null,null,null,null,null,null,null,null,null,null,null,null,null,"U-Other (Specify)"]